{"text_format":"1","workbook":"xlsx","n_sheets":4,"sheets":["1. Instructions","2. Staff Training Log","3. Training Progress","4. FAQs"],"not_rendered":{"charts":2,"images":8,"macros":0,"external_links":0,"defined_names":15,"comments":0,"pivot_tables":0},"unopened":[],"bounds":{"document_bytes":16777216,"sheet_cells":100000,"rows_first":2000,"rows_last":500,"rows_between":2000,"halvings":0,"cell_chars":16384,"cell_head_chars":4096},"cells_cut":0,"cells_raw":0,"read":"whole","date_system":"1900"}

{"sheet":"1. Instructions","index":0,"n_rows":120,"n_cols":14,"rows_kept":120,"cut":false,"hidden":false,"merged":[[15,1,15,14],[1,1,1,14],[4,2,4,13],[6,2,7,13],[12,4,12,13],[10,4,10,13],[12,2,12,3],[10,2,10,3],[11,2,11,3],[11,4,11,13]]}
[]
[null,"Instructions"]
[]
[]
[null,null,"The following instructions will lead you through the process of how to input your data into this workbook in order to track your staff training."]
[]
[null,null,"As you read through these instructions, you will see that they reference the tabs of the spreadsheet throughout. The table below shows the names and functions of each tab."]
[]
[]
[]
[null,null,"Tab",null,"Function"]
[null,null,"Staff Training Log",null,"This worksheet is used to enter and keep track of staff training."]
[null,null,"Training Progress",null,"This tab is where your run chart and other display items will be shown. They will update automatically as you enter data into the “Staff Training Log” tab."]
[]
[]
[null,"Step-by-Step Instructions for the EMPower Training Tracker"]
[]
[null,"HOW TO ADD STAFF AND VIEW YOUR PROGRESS:"]
[]
[]
[]
[]
[]
[]
[]
[]
[]
[]
[]
[]
[]
[]
[]
[]
[]
[]
[]
[]
[]
[]
[]
[]
[]
[]
[]
[]
[]
[]
[]
[]
[]
[]
[]
[]
[]
[]
[]
[]
[]
[]
[]
[]
[]
[]
[]
[]
[null,"HOW TO REMOVE STAFF:"]
[]
[]
[]
[]
[]
[]
[]
[]
[]
[]
[]
[]
[]
[]
[]
[]
[]
[]
[]
[]
[]
[]
[]
[]
[]
[]
[]
[]
[]
[]
[]
[null,"HOW TO SORT STAFF:"]
[]
[null,"1. Use filters located in each column at the top of the table."]
[]
[]
[]
[]
[]
[]
[]
[]
[]
[]
[]
[]
[]
[]
[]
[]
[]
[]
[null,null,null,null,null,null,null,null,null,null,null,null,null,"Updated: 8/8/2019"]

{"sheet":"2. Staff Training Log","index":1,"n_rows":1010,"n_cols":85,"rows_kept":1010,"cut":false,"hidden":false,"merged":[[0,14,3,14],[1,1,1,10],[4,8,7,8],[4,9,7,9],[4,10,7,10],[4,3,7,3],[4,4,7,4],[4,5,7,5],[4,6,7,6],[4,7,7,7],[4,1,7,1],[4,2,7,2]]}
[null,null,null,null,null,null,null,null,null,null,null,null,null,null,null,null,null,null,null,null,null,null,null,null,null,{"$f":"IF(M9=\"\",IF(COUNTA(B9:K9)>0,1,0),IF(OR(EOMONTH(M9,0)<$Z$7,AND(EOMONTH(Z7,-1)+1<=M9,EOMONTH(Z7,0)>=M9)),0,IF(COUNTA(B9:K9)>0,1,0)))","v":0}]
[null,"Staff Training Log"]
[null,null,null,null,null,"Please see \"Instructions\" tab for additional guidance"]
[null,null,null,"Include Staff With Hire Dates Before:"]
[null,"Last Name","First Name","Specified Unit\n\n(e.g., LD/Nursery/ Mother-Baby, Postpartum)","Date of\n Hire\n\n(mm/dd/yyyy)","Date Completed:\nSkills Competency \n#1 \n\n(Communicating with pregnant and postpartum women about infant feeding)\n\n(mm/dd/yyyy)","Date Completed:\nSkills Competency\n #2\n \n(Observing, assessing and assisting with breastfeeding)\n\n(mm/dd/yyyy)","Date Completed: \nSkills Competency \n#3\n\n(Teaching Hand Expression & Safe Storage of Breast Milk)\n\n(mm/dd/yyyy)","Date Completed:\nSkills Competency \n#4\n \n(Teaching Safe Infant Formula Preparation  & Feeding)\n\n(mm/dd/yyyy)","Date Completed \nall 5-Hours of Skills Competency Training\n \n(outlined in Appendix A of BFHI Guidelines and Criteria)\n\n(mm/dd/yyyy)","Skills Training Method Utilized\n\n(e.g., skills lab, simulation lab)",null,null,null,null,null,null,null,null,null,null,"Month 1","Month 2","Month 3","Month 4","Month 5","Month 6","Month 7","Month 8","Month 9","Month 10","Month 11","Month 12","Month 13","Month 14","Month 15","Month 16","Month 17","Month 18","Month 19","Month 20","Month 21","Month 22","Month 23","Month 24","Month 25","Month 26","Month 27","Month 28","Month 29","Month 30","Month 31","Month 32","Month 33","Month 34","Month 35","Month 36","Month 37","Month 38","Month 39","Month 40","Month 41","Month 42","Month 43","Month 44","Month 45","Month 46","Month 47","Month 48"]
[]
[null,null,null,null,null,null,null,null,null,null,null,null,null,null,null,null,null,null,null,null,null,{"$f":"IFERROR(EOMONTH(MIN($J$9:$J$305),-1)+1,TODAY())","v":"2019-08-08"},{"$f":"EOMONTH(V7,0)+1","v":"2019-09-01"},{"$f":"EOMONTH(W7,0)+1","v":"2019-10-01"},"2019-11-01","2019-12-01","2020-01-01","2020-02-01","2020-03-01","2020-04-01","2020-05-01","2020-06-01","2020-07-01",{"$f":"EOMONTH(AG7,0)+1","v":"2020-08-01"},"2020-09-01","2020-10-01","2020-11-01","2020-12-01","2021-01-01","2021-02-01",{"$f":"EOMONTH(AN7,0)+1","v":"2021-03-01"},"2021-04-01","2021-05-01","2021-06-01","2021-07-01","2021-08-01","2021-09-01","2021-10-01","2021-11-01","2021-12-01","2022-01-01","2022-02-01","2022-03-01","2022-04-01","2022-05-01","2022-06-01","2022-07-01","2022-08-01","2022-09-01","2022-10-01","2022-11-01","2022-12-01","2023-01-01","2023-02-01","2023-03-01","2023-04-01","2023-05-01","2023-06-01","2023-07-01"]
[null,null,null,null,null,null,null,null,null,null,null,null,"Date Staff Removed\n\n(mm/dd/yyyy)","Reason for \nRemoval\n \n(i.e., retirement, maternity, etc.)",null,"Data Validation",null,null,"Hire Date Less Than \"3/1/2019\"","Formula to use if want a hire date less than \"xx/xx/xxxx\"",null,"Denominator\n# Total Staff","Denominator\n# Total Staff","Denominator\n# Total Staff","Denominator\n# Total Staff","Denominator\n# Total Staff","Denominator\n# Total Staff","Denominator\n# Total Staff","Denominator\n# Total Staff","Denominator\n# Total Staff","Denominator\n# Total Staff","Denominator\n# Total Staff","Denominator\n# Total Staff","Denominator\n# Total Staff","Denominator\n# Total Staff","Denominator\n# Total Staff","Denominator\n# Total Staff","Denominator\n# Total Staff","Denominator\n# Total Staff","Denominator\n# Total Staff","Denominator\n# Total Staff","Denominator\n# Total Staff","Denominator\n# Total Staff","Denominator\n# Total Staff","Denominator\n# Total Staff","Denominator\n# Total Staff","Denominator\n# Total Staff","Denominator\n# Total Staff","Denominator\n# Total Staff","Denominator\n# Total Staff","Denominator\n# Total Staff","Denominator\n# Total Staff","Denominator\n# Total Staff","Denominator\n# Total Staff","Denominator\n# Total Staff","Denominator\n# Total Staff","Denominator\n# Total Staff","Denominator\n# Total Staff","Denominator\n# Total Staff","Denominator\n# Total Staff","Denominator\n# Total Staff","Denominator\n# Total Staff","Denominator\n# Total Staff","Denominator\n# Total Staff","Denominator\n# Total Staff","Denominator\n# Total Staff","Denominator\n# Total Staff","Denominator\n# Total Staff","Denominator\n# Total Staff",null,"Numerator\nCompetency 1\nComplete","Numerator\nCompetency 2\nComplete","Numerator\nCompetency 3\nComplete","Numerator\nCompetency 4\nComplete",null,"Denominator # Specified Unit","Numerator\nSpecified Unit\n# Complete",null,null,null,"Private Sub Worksheet_Calculate()",null,null,null,"Sub Sort_This()"]
[1,null,null,null,null,null,null,null,null,null,null,null,null,null,null,"Start Date:",{"$f":"MIN(E9:E305)","v":"00:00:00"},null,{"$f":"IF(E9=\"\",0,IF(VALUE(E9)>VALUE($E$4),0,1))","v":0},{"$f":"IF(S9=0,0,IF(M9=\"\",IF(COUNTA(B9:K9)>0,1,0),IF(EOMONTH(M9,0)<$V$7,0,IF(COUNTA(B9:K9)>0,1,0))))","v":0},null,{"$f":"IF(M9=\"\",IF(COUNTA(B9:K9)>0,1,0),IF(OR(EOMONTH(M9,0)<$V$7,AND(EOMONTH($V$7,-1)+1<=M9,EOMONTH($V$7,0)>=M9)),0,IF(COUNTA(B9:K9)>0,1,0)))","v":0},{"$f":"IF(M9=\"\",IF(COUNTA(B9:K9)>0,1,0),IF(OR(EOMONTH(M9,0)<$W$7,AND(EOMONTH($W$7,-1)+1<=M9,EOMONTH($W$7,0)>=M9)),0,IF(COUNTA(B9:K9)>0,1,0)))","v":0},{"$f":"IF(M9=\"\",IF(COUNTA(B9:K9)>0,1,0),IF(OR(EOMONTH(M9,0)<$X$7,AND(EOMONTH($X$7,-1)+1<=M9,EOMONTH($X$7,0)>=M9)),0,IF(COUNTA(B9:K9)>0,1,0)))","v":0},{"$f":"IF(M9=\"\",IF(COUNTA(B9:K9)>0,1,0),IF(OR(EOMONTH(M9,0)<$Y$7,AND(EOMONTH($Y$7,-1)+1<=M9,EOMONTH($Y$7,0)>=M9)),0,IF(COUNTA(B9:K9)>0,1,0)))","v":0},{"$f":"IF(M9=\"\",IF(COUNTA(B9:K9)>0,1,0),IF(OR(EOMONTH(M9,0)<$Z$7,AND(EOMONTH($Z$7,-1)+1<=M9,EOMONTH($Z$7,0)>=M9)),0,IF(COUNTA(B9:K9)>0,1,0)))","v":0},{"$f":"IF(M9=\"\",IF(COUNTA(B9:K9)>0,1,0),IF(OR(EOMONTH(M9,0)<$AA$7,AND(EOMONTH($AA$7,-1)+1<=M9,EOMONTH($AA$7,0)>=M9)),0,IF(COUNTA(B9:K9)>0,1,0)))","v":0},{"$f":"IF(M9=\"\",IF(COUNTA(B9:K9)>0,1,0),IF(OR(EOMONTH(M9,0)<$AB$7,AND(EOMONTH($AB$7,-1)+1<=M9,EOMONTH($AB$7,0)>=M9)),0,IF(COUNTA(B9:K9)>0,1,0)))","v":0},{"$f":"IF(M9=\"\",IF(COUNTA(B9:K9)>0,1,0),IF(OR(EOMONTH(M9,0)<$AC$7,AND(EOMONTH($AC$7,-1)+1<=M9,EOMONTH($AC$7,0)>=M9)),0,IF(COUNTA(B9:K9)>0,1,0)))","v":0},{"$f":"IF(M9=\"\",IF(COUNTA(B9:K9)>0,1,0),IF(OR(EOMONTH(M9,0)<$AD$7,AND(EOMONTH($AD$7,-1)+1<=M9,EOMONTH($AD$7,0)>=M9)),0,IF(COUNTA(B9:K9)>0,1,0)))","v":0},{"$f":"IF(M9=\"\",IF(COUNTA(B9:K9)>0,1,0),IF(OR(EOMONTH(M9,0)<$AE$7,AND(EOMONTH($AE$7,-1)+1<=M9,EOMONTH($AE$7,0)>=M9)),0,IF(COUNTA(B9:K9)>0,1,0)))","v":0},{"$f":"IF(M9=\"\",IF(COUNTA(B9:K9)>0,1,0),IF(OR(EOMONTH(M9,0)<$AF$7,AND(EOMONTH($AF$7,-1)+1<=M9,EOMONTH($AF$7,0)>=M9)),0,IF(COUNTA(B9:K9)>0,1,0)))","v":0},{"$f":"IF(M9=\"\",IF(COUNTA(B9:K9)>0,1,0),IF(OR(EOMONTH(M9,0)<$AG$7,AND(EOMONTH($AG$7,-1)+1<=M9,EOMONTH($AG$7,0)>=M9)),0,IF(COUNTA(B9:K9)>0,1,0)))","v":0},{"$f":"IF(M9=\"\",IF(COUNTA(B9:K9)>0,1,0),IF(OR(EOMONTH(M9,0)<$AH$7,AND(EOMONTH($AH$7,-1)+1<=M9,EOMONTH($AH$7,0)>=M9)),0,IF(COUNTA(B9:K9)>0,1,0)))","v":0},{"$f":"IF(M9=\"\",IF(COUNTA(B9:K9)>0,1,0),IF(OR(EOMONTH(M9,0)<$AI$7,AND(EOMONTH($AI$7,-1)+1<=M9,EOMONTH($AI$7,0)>=M9)),0,IF(COUNTA(B9:K9)>0,1,0)))","v":0},{"$f":"IF(M9=\"\",IF(COUNTA(B9:K9)>0,1,0),IF(OR(EOMONTH(M9,0)<$AJ$7,AND(EOMONTH($AJ$7,-1)+1<=M9,EOMONTH($AJ$7,0)>=M9)),0,IF(COUNTA(B9:K9)>0,1,0)))","v":0},{"$f":"IF(M9=\"\",IF(COUNTA(B9:K9)>0,1,0),IF(OR(EOMONTH(M9,0)<$AK$7,AND(EOMONTH($AK$7,-1)+1<=M9,EOMONTH($AK$7,0)>=M9)),0,IF(COUNTA(B9:K9)>0,1,0)))","v":0},{"$f":"IF(M9=\"\",IF(COUNTA(B9:K9)>0,1,0),IF(OR(EOMONTH(M9,0)<$AL$7,AND(EOMONTH($AL$7,-1)+1<=M9,EOMONTH($AL$7,0)>=M9)),0,IF(COUNTA(B9:K9)>0,1,0)))","v":0},{"$f":"IF(M9=\"\",IF(COUNTA(B9:K9)>0,1,0),IF(OR(EOMONTH(M9,0)<$AM$7,AND(EOMONTH($AM$7,-1)+1<=M9,EOMONTH($AM$7,0)>=M9)),0,IF(COUNTA(B9:K9)>0,1,0)))","v":0},{"$f":"IF(M9=\"\",IF(COUNTA(B9:K9)>0,1,0),IF(OR(EOMONTH(M9,0)<$AN$7,AND(EOMONTH($AN$7,-1)+1<=M9,EOMONTH($AN$7,0)>=M9)),0,IF(COUNTA(B9:K9)>0,1,0)))","v":0},{"$f":"IF(M9=\"\",IF(COUNTA(B9:K9)>0,1,0),IF(OR(EOMONTH(M9,0)<$AO$7,AND(EOMONTH($AO$7,-1)+1<=M9,EOMONTH($AO$7,0)>=M9)),0,IF(COUNTA(B9:K9)>0,1,0)))","v":0},{"$f":"IF(M9=\"\",IF(COUNTA(B9:K9)>0,1,0),IF(OR(EOMONTH(M9,0)<$AP$7,AND(EOMONTH($AP$7,-1)+1<=M9,EOMONTH($AP$7,0)>=M9)),0,IF(COUNTA(B9:K9)>0,1,0)))","v":0},{"$f":"IF(M9=\"\",IF(COUNTA(B9:K9)>0,1,0),IF(OR(EOMONTH(M9,0)<$AQ$7,AND(EOMONTH($AQ$7,-1)+1<=M9,EOMONTH($AQ$7,0)>=M9)),0,IF(COUNTA(B9:K9)>0,1,0)))","v":0},{"$f":"IF(M9=\"\",IF(COUNTA(B9:K9)>0,1,0),IF(OR(EOMONTH(M9,0)<$AR$7,AND(EOMONTH($AR$7,-1)+1<=M9,EOMONTH($AR$7,0)>=M9)),0,IF(COUNTA(B9:K9)>0,1,0)))","v":0},{"$f":"IF(M9=\"\",IF(COUNTA(B9:K9)>0,1,0),IF(OR(EOMONTH(M9,0)<$AS$7,AND(EOMONTH($AS$7,-1)+1<=M9,EOMONTH($AS$7,0)>=M9)),0,IF(COUNTA(B9:K9)>0,1,0)))","v":0},{"$f":"IF(M9=\"\",IF(COUNTA(B9:K9)>0,1,0),IF(OR(EOMONTH(M9,0)<$AT$7,AND(EOMONTH($AT$7,-1)+1<=M9,EOMONTH($AT$7,0)>=M9)),0,IF(COUNTA(B9:K9)>0,1,0)))","v":0},{"$f":"IF(M9=\"\",IF(COUNTA(B9:K9)>0,1,0),IF(OR(EOMONTH(M9,0)<$AU$7,AND(EOMONTH($AU$7,-1)+1<=M9,EOMONTH($AU$7,0)>=M9)),0,IF(COUNTA(B9:K9)>0,1,0)))","v":0},{"$f":"IF(M9=\"\",IF(COUNTA(B9:K9)>0,1,0),IF(OR(EOMONTH(M9,0)<$AV$7,AND(EOMONTH($AV$7,-1)+1<=M9,EOMONTH($AV$7,0)>=M9)),0,IF(COUNTA(B9:K9)>0,1,0)))","v":0},{"$f":"IF(M9=\"\",IF(COUNTA(B9:K9)>0,1,0),IF(OR(EOMONTH(M9,0)<$AW$7,AND(EOMONTH($AW$7,-1)+1<=M9,EOMONTH($AW$7,0)>=M9)),0,IF(COUNTA(B9:K9)>0,1,0)))","v":0},{"$f":"IF(M9=\"\",IF(COUNTA(B9:K9)>0,1,0),IF(OR(EOMONTH(M9,0)<$AX$7,AND(EOMONTH($AX$7,-1)+1<=M9,EOMONTH($AX$7,0)>=M9)),0,IF(COUNTA(B9:K9)>0,1,0)))","v":0},{"$f":"IF(M9=\"\",IF(COUNTA(B9:K9)>0,1,0),IF(OR(EOMONTH(M9,0)<$AY$7,AND(EOMONTH($AY$7,-1)+1<=M9,EOMONTH($AY$7,0)>=M9)),0,IF(COUNTA(B9:K9)>0,1,0)))","v":0},{"$f":"IF(M9=\"\",IF(COUNTA(B9:K9)>0,1,0),IF(OR(EOMONTH(M9,0)<$AZ$7,AND(EOMONTH($AZ$7,-1)+1<=M9,EOMONTH($AZ$7,0)>=M9)),0,IF(COUNTA(B9:K9)>0,1,0)))","v":0},{"$f":"IF(M9=\"\",IF(COUNTA(B9:K9)>0,1,0),IF(OR(EOMONTH(M9,0)<$BA$7,AND(EOMONTH($BA$7,-1)+1<=M9,EOMONTH($BA$7,0)>=M9)),0,IF(COUNTA(B9:K9)>0,1,0)))","v":0},{"$f":"IF(M9=\"\",IF(COUNTA(B9:K9)>0,1,0),IF(OR(EOMONTH(M9,0)<$BB$7,AND(EOMONTH($BB$7,-1)+1<=M9,EOMONTH($BB$7,0)>=M9)),0,IF(COUNTA(B9:K9)>0,1,0)))","v":0},{"$f":"IF(M9=\"\",IF(COUNTA(B9:K9)>0,1,0),IF(OR(EOMONTH(M9,0)<$BC$7,AND(EOMONTH($BC$7,-1)+1<=M9,EOMONTH($BC$7,0)>=M9)),0,IF(COUNTA(B9:K9)>0,1,0)))","v":0},{"$f":"IF(M9=\"\",IF(COUNTA(B9:K9)>0,1,0),IF(OR(EOMONTH(M9,0)<$BD$7,AND(EOMONTH($BD$7,-1)+1<=M9,EOMONTH($BD$7,0)>=M9)),0,IF(COUNTA(B9:K9)>0,1,0)))","v":0},{"$f":"IF(M9=\"\",IF(COUNTA(B9:K9)>0,1,0),IF(OR(EOMONTH(M9,0)<$BE$7,AND(EOMONTH($BE$7,-1)+1<=M9,EOMONTH($BE$7,0)>=M9)),0,IF(COUNTA(B9:K9)>0,1,0)))","v":0},{"$f":"IF(M9=\"\",IF(COUNTA(B9:K9)>0,1,0),IF(OR(EOMONTH(M9,0)<$BF$7,AND(EOMONTH($BF$7,-1)+1<=M9,EOMONTH($BF$7,0)>=M9)),0,IF(COUNTA(B9:K9)>0,1,0)))","v":0},{"$f":"IF(M9=\"\",IF(COUNTA(B9:K9)>0,1,0),IF(OR(EOMONTH(M9,0)<$BG$7,AND(EOMONTH($BG$7,-1)+1<=M9,EOMONTH($BG$7,0)>=M9)),0,IF(COUNTA(B9:K9)>0,1,0)))","v":0},{"$f":"IF(M9=\"\",IF(COUNTA(B9:K9)>0,1,0),IF(OR(EOMONTH(M9,0)<$BH$7,AND(EOMONTH($BH$7,-1)+1<=M9,EOMONTH($BH$7,0)>=M9)),0,IF(COUNTA(B9:K9)>0,1,0)))","v":0},{"$f":"IF(M9=\"\",IF(COUNTA(B9:K9)>0,1,0),IF(OR(EOMONTH(M9,0)<$BI$7,AND(EOMONTH($BI$7,-1)+1<=M9,EOMONTH($BI$7,0)>=M9)),0,IF(COUNTA(B9:K9)>0,1,0)))","v":0},{"$f":"IF(M9=\"\",IF(COUNTA(B9:K9)>0,1,0),IF(OR(EOMONTH(M9,0)<$BJ$7,AND(EOMONTH($BJ$7,-1)+1<=M9,EOMONTH($BJ$7,0)>=M9)),0,IF(COUNTA(B9:K9)>0,1,0)))","v":0},{"$f":"IF(M9=\"\",IF(COUNTA(B9:K9)>0,1,0),IF(OR(EOMONTH(M9,0)<$BK$7,AND(EOMONTH($BK$7,-1)+1<=M9,EOMONTH($BK$7,0)>=M9)),0,IF(COUNTA(B9:K9)>0,1,0)))","v":0},{"$f":"IF(M9=\"\",IF(COUNTA(B9:K9)>0,1,0),IF(OR(EOMONTH(M9,0)<$BL$7,AND(EOMONTH($BL$7,-1)+1<=M9,EOMONTH($BL$7,0)>=M9)),0,IF(COUNTA(B9:K9)>0,1,0)))","v":0},{"$f":"IF(M9=\"\",IF(COUNTA(B9:K9)>0,1,0),IF(OR(EOMONTH(M9,0)<$BM$7,AND(EOMONTH($BM$7,-1)+1<=M9,EOMONTH($BM$7,0)>=M9)),0,IF(COUNTA(B9:K9)>0,1,0)))","v":0},{"$f":"IF(M9=\"\",IF(COUNTA(B9:K9)>0,1,0),IF(OR(EOMONTH(M9,0)<$BN$7,AND(EOMONTH($BN$7,-1)+1<=M9,EOMONTH($BN$7,0)>=M9)),0,IF(COUNTA(B9:K9)>0,1,0)))","v":0},{"$f":"IF(M9=\"\",IF(COUNTA(B9:K9)>0,1,0),IF(OR(EOMONTH(M9,0)<$BO$7,AND(EOMONTH($BO$7,-1)+1<=M9,EOMONTH($BO$7,0)>=M9)),0,IF(COUNTA(B9:K9)>0,1,0)))","v":0},{"$f":"IF(M9=\"\",IF(COUNTA(B9:K9)>0,1,0),IF(OR(EOMONTH(M9,0)<$BP$7,AND(EOMONTH($BP$7,-1)+1<=M9,EOMONTH($BP$7,0)>=M9)),0,IF(COUNTA(B9:K9)>0,1,0)))","v":0},{"$f":"IF(M9=\"\",IF(COUNTA(B9:K9)>0,1,0),IF(OR(EOMONTH(M9,0)<$BQ$7,AND(EOMONTH($BQ$7,-1)+1<=M9,EOMONTH($BQ$7,0)>=M9)),0,IF(COUNTA(B9:K9)>0,1,0)))","v":0},null,{"$f":"IF(M9=\"\",IF(F9<>\"\",1,0),IF(OR(EOMONTH(M9,0)<EOMONTH(TODAY(),0),AND(EOMONTH(TODAY(),-1)+1<=M9,EOMONTH(TODAY(),0)>=M9)),0,IF(F9<>\"\",1,0)))","v":0},{"$f":"IF(M9=\"\",IF(G9<>\"\",1,0),IF(OR(EOMONTH(M9,0)<EOMONTH(TODAY(),0),AND(EOMONTH(TODAY(),-1)+1<=M9,EOMONTH(TODAY(),0)>=M9)),0,IF(G9<>\"\",1,0)))","v":0},{"$f":"IF(M9=\"\",IF(H9<>\"\",1,0),IF(OR(EOMONTH(M9,0)<EOMONTH(TODAY(),0),AND(EOMONTH(TODAY(),-1)+1<=M9,EOMONTH(TODAY(),0)>=M9)),0,IF(H9<>\"\",1,0)))","v":0},{"$f":"IF(M9=\"\",IF(I9<>\"\",1,0),IF(OR(EOMONTH(M9,0)<EOMONTH(TODAY(),0),AND(EOMONTH(TODAY(),-1)+1<=M9,EOMONTH(TODAY(),0)>=M9)),0,IF(I9<>\"\",1,0)))","v":0},null,{"$f":"SUMIFS(V9:BQ9,$V$7:$BQ$7,\">=\"&EOMONTH(TODAY(),-1)+1,$V$7:$BQ$7,\"<=\"&EOMONTH(TODAY(),0))","v":0},{"$f":"IF(M9=\"\",IF(J9>0,1,0),IF(EOMONTH(M9,0)<$BQ$7,0,IF(J9>0,1,0)))","v":0}]
[2,null,null,null,null,null,null,null,null,null,null,null,null,null,null,"End Date:",{"$f":"TODAY()","v":"2019-08-08"},null,{"$f":"IF(E10=\"\",0,IF(VALUE(E10)>VALUE($E$4),0,1))","v":0},null,null,{"$f":"IF(M10=\"\",IF(COUNTA(B10:K10)>0,1,0),IF(OR(EOMONTH(M10,0)<$V$7,AND(EOMONTH($V$7,-1)+1<=M10,EOMONTH($V$7,0)>=M10)),0,IF(COUNTA(B10:K10)>0,1,0)))","v":0},{"$f":"IF(M10=\"\",IF(COUNTA(B10:K10)>0,1,0),IF(OR(EOMONTH(M10,0)<$W$7,AND(EOMONTH($W$7,-1)+1<=M10,EOMONTH($W$7,0)>=M10)),0,IF(COUNTA(B10:K10)>0,1,0)))","v":0},{"$f":"IF(M10=\"\",IF(COUNTA(B10:K10)>0,1,0),IF(OR(EOMONTH(M10,0)<$X$7,AND(EOMONTH($X$7,-1)+1<=M10,EOMONTH($X$7,0)>=M10)),0,IF(COUNTA(B10:K10)>0,1,0)))","v":0},{"$f":"IF(M10=\"\",IF(COUNTA(B10:K10)>0,1,0),IF(OR(EOMONTH(M10,0)<$Y$7,AND(EOMONTH($Y$7,-1)+1<=M10,EOMONTH($Y$7,0)>=M10)),0,IF(COUNTA(B10:K10)>0,1,0)))","v":0},{"$f":"IF(M10=\"\",IF(COUNTA(B10:K10)>0,1,0),IF(OR(EOMONTH(M10,0)<$Z$7,AND(EOMONTH($Z$7,-1)+1<=M10,EOMONTH($Z$7,0)>=M10)),0,IF(COUNTA(B10:K10)>0,1,0)))","v":0},{"$f":"IF(M10=\"\",IF(COUNTA(B10:K10)>0,1,0),IF(OR(EOMONTH(M10,0)<$AA$7,AND(EOMONTH($AA$7,-1)+1<=M10,EOMONTH($AA$7,0)>=M10)),0,IF(COUNTA(B10:K10)>0,1,0)))","v":0},{"$f":"IF(M10=\"\",IF(COUNTA(B10:K10)>0,1,0),IF(OR(EOMONTH(M10,0)<$AB$7,AND(EOMONTH($AB$7,-1)+1<=M10,EOMONTH($AB$7,0)>=M10)),0,IF(COUNTA(B10:K10)>0,1,0)))","v":0},{"$f":"IF(M10=\"\",IF(COUNTA(B10:K10)>0,1,0),IF(OR(EOMONTH(M10,0)<$AC$7,AND(EOMONTH($AC$7,-1)+1<=M10,EOMONTH($AC$7,0)>=M10)),0,IF(COUNTA(B10:K10)>0,1,0)))","v":0},{"$f":"IF(M10=\"\",IF(COUNTA(B10:K10)>0,1,0),IF(OR(EOMONTH(M10,0)<$AD$7,AND(EOMONTH($AD$7,-1)+1<=M10,EOMONTH($AD$7,0)>=M10)),0,IF(COUNTA(B10:K10)>0,1,0)))","v":0},{"$f":"IF(M10=\"\",IF(COUNTA(B10:K10)>0,1,0),IF(OR(EOMONTH(M10,0)<$AE$7,AND(EOMONTH($AE$7,-1)+1<=M10,EOMONTH($AE$7,0)>=M10)),0,IF(COUNTA(B10:K10)>0,1,0)))","v":0},{"$f":"IF(M10=\"\",IF(COUNTA(B10:K10)>0,1,0),IF(OR(EOMONTH(M10,0)<$AF$7,AND(EOMONTH($AF$7,-1)+1<=M10,EOMONTH($AF$7,0)>=M10)),0,IF(COUNTA(B10:K10)>0,1,0)))","v":0},{"$f":"IF(M10=\"\",IF(COUNTA(B10:K10)>0,1,0),IF(OR(EOMONTH(M10,0)<$AG$7,AND(EOMONTH($AG$7,-1)+1<=M10,EOMONTH($AG$7,0)>=M10)),0,IF(COUNTA(B10:K10)>0,1,0)))","v":0},{"$f":"IF(M10=\"\",IF(COUNTA(B10:K10)>0,1,0),IF(OR(EOMONTH(M10,0)<$AH$7,AND(EOMONTH($AH$7,-1)+1<=M10,EOMONTH($AH$7,0)>=M10)),0,IF(COUNTA(B10:K10)>0,1,0)))","v":0},{"$f":"IF(M10=\"\",IF(COUNTA(B10:K10)>0,1,0),IF(OR(EOMONTH(M10,0)<$AI$7,AND(EOMONTH($AI$7,-1)+1<=M10,EOMONTH($AI$7,0)>=M10)),0,IF(COUNTA(B10:K10)>0,1,0)))","v":0},{"$f":"IF(M10=\"\",IF(COUNTA(B10:K10)>0,1,0),IF(OR(EOMONTH(M10,0)<$AJ$7,AND(EOMONTH($AJ$7,-1)+1<=M10,EOMONTH($AJ$7,0)>=M10)),0,IF(COUNTA(B10:K10)>0,1,0)))","v":0},{"$f":"IF(M10=\"\",IF(COUNTA(B10:K10)>0,1,0),IF(OR(EOMONTH(M10,0)<$AK$7,AND(EOMONTH($AK$7,-1)+1<=M10,EOMONTH($AK$7,0)>=M10)),0,IF(COUNTA(B10:K10)>0,1,0)))","v":0},{"$f":"IF(M10=\"\",IF(COUNTA(B10:K10)>0,1,0),IF(OR(EOMONTH(M10,0)<$AL$7,AND(EOMONTH($AL$7,-1)+1<=M10,EOMONTH($AL$7,0)>=M10)),0,IF(COUNTA(B10:K10)>0,1,0)))","v":0},{"$f":"IF(M10=\"\",IF(COUNTA(B10:K10)>0,1,0),IF(OR(EOMONTH(M10,0)<$AM$7,AND(EOMONTH($AM$7,-1)+1<=M10,EOMONTH($AM$7,0)>=M10)),0,IF(COUNTA(B10:K10)>0,1,0)))","v":0},{"$f":"IF(M10=\"\",IF(COUNTA(B10:K10)>0,1,0),IF(OR(EOMONTH(M10,0)<$AN$7,AND(EOMONTH($AN$7,-1)+1<=M10,EOMONTH($AN$7,0)>=M10)),0,IF(COUNTA(B10:K10)>0,1,0)))","v":0},{"$f":"IF(M10=\"\",IF(COUNTA(B10:K10)>0,1,0),IF(OR(EOMONTH(M10,0)<$AO$7,AND(EOMONTH($AO$7,-1)+1<=M10,EOMONTH($AO$7,0)>=M10)),0,IF(COUNTA(B10:K10)>0,1,0)))","v":0},{"$f":"IF(M10=\"\",IF(COUNTA(B10:K10)>0,1,0),IF(OR(EOMONTH(M10,0)<$AP$7,AND(EOMONTH($AP$7,-1)+1<=M10,EOMONTH($AP$7,0)>=M10)),0,IF(COUNTA(B10:K10)>0,1,0)))","v":0},{"$f":"IF(M10=\"\",IF(COUNTA(B10:K10)>0,1,0),IF(OR(EOMONTH(M10,0)<$AQ$7,AND(EOMONTH($AQ$7,-1)+1<=M10,EOMONTH($AQ$7,0)>=M10)),0,IF(COUNTA(B10:K10)>0,1,0)))","v":0},{"$f":"IF(M10=\"\",IF(COUNTA(B10:K10)>0,1,0),IF(OR(EOMONTH(M10,0)<$AR$7,AND(EOMONTH($AR$7,-1)+1<=M10,EOMONTH($AR$7,0)>=M10)),0,IF(COUNTA(B10:K10)>0,1,0)))","v":0},{"$f":"IF(M10=\"\",IF(COUNTA(B10:K10)>0,1,0),IF(OR(EOMONTH(M10,0)<$AS$7,AND(EOMONTH($AS$7,-1)+1<=M10,EOMONTH($AS$7,0)>=M10)),0,IF(COUNTA(B10:K10)>0,1,0)))","v":0},{"$f":"IF(M10=\"\",IF(COUNTA(B10:K10)>0,1,0),IF(OR(EOMONTH(M10,0)<$AT$7,AND(EOMONTH($AT$7,-1)+1<=M10,EOMONTH($AT$7,0)>=M10)),0,IF(COUNTA(B10:K10)>0,1,0)))","v":0},{"$f":"IF(M10=\"\",IF(COUNTA(B10:K10)>0,1,0),IF(OR(EOMONTH(M10,0)<$AU$7,AND(EOMONTH($AU$7,-1)+1<=M10,EOMONTH($AU$7,0)>=M10)),0,IF(COUNTA(B10:K10)>0,1,0)))","v":0},{"$f":"IF(M10=\"\",IF(COUNTA(B10:K10)>0,1,0),IF(OR(EOMONTH(M10,0)<$AV$7,AND(EOMONTH($AV$7,-1)+1<=M10,EOMONTH($AV$7,0)>=M10)),0,IF(COUNTA(B10:K10)>0,1,0)))","v":0},{"$f":"IF(M10=\"\",IF(COUNTA(B10:K10)>0,1,0),IF(OR(EOMONTH(M10,0)<$AW$7,AND(EOMONTH($AW$7,-1)+1<=M10,EOMONTH($AW$7,0)>=M10)),0,IF(COUNTA(B10:K10)>0,1,0)))","v":0},{"$f":"IF(M10=\"\",IF(COUNTA(B10:K10)>0,1,0),IF(OR(EOMONTH(M10,0)<$AX$7,AND(EOMONTH($AX$7,-1)+1<=M10,EOMONTH($AX$7,0)>=M10)),0,IF(COUNTA(B10:K10)>0,1,0)))","v":0},{"$f":"IF(M10=\"\",IF(COUNTA(B10:K10)>0,1,0),IF(OR(EOMONTH(M10,0)<$AY$7,AND(EOMONTH($AY$7,-1)+1<=M10,EOMONTH($AY$7,0)>=M10)),0,IF(COUNTA(B10:K10)>0,1,0)))","v":0},{"$f":"IF(M10=\"\",IF(COUNTA(B10:K10)>0,1,0),IF(OR(EOMONTH(M10,0)<$AZ$7,AND(EOMONTH($AZ$7,-1)+1<=M10,EOMONTH($AZ$7,0)>=M10)),0,IF(COUNTA(B10:K10)>0,1,0)))","v":0},{"$f":"IF(M10=\"\",IF(COUNTA(B10:K10)>0,1,0),IF(OR(EOMONTH(M10,0)<$BA$7,AND(EOMONTH($BA$7,-1)+1<=M10,EOMONTH($BA$7,0)>=M10)),0,IF(COUNTA(B10:K10)>0,1,0)))","v":0},{"$f":"IF(M10=\"\",IF(COUNTA(B10:K10)>0,1,0),IF(OR(EOMONTH(M10,0)<$BB$7,AND(EOMONTH($BB$7,-1)+1<=M10,EOMONTH($BB$7,0)>=M10)),0,IF(COUNTA(B10:K10)>0,1,0)))","v":0},{"$f":"IF(M10=\"\",IF(COUNTA(B10:K10)>0,1,0),IF(OR(EOMONTH(M10,0)<$BC$7,AND(EOMONTH($BC$7,-1)+1<=M10,EOMONTH($BC$7,0)>=M10)),0,IF(COUNTA(B10:K10)>0,1,0)))","v":0},{"$f":"IF(M10=\"\",IF(COUNTA(B10:K10)>0,1,0),IF(OR(EOMONTH(M10,0)<$BD$7,AND(EOMONTH($BD$7,-1)+1<=M10,EOMONTH($BD$7,0)>=M10)),0,IF(COUNTA(B10:K10)>0,1,0)))","v":0},{"$f":"IF(M10=\"\",IF(COUNTA(B10:K10)>0,1,0),IF(OR(EOMONTH(M10,0)<$BE$7,AND(EOMONTH($BE$7,-1)+1<=M10,EOMONTH($BE$7,0)>=M10)),0,IF(COUNTA(B10:K10)>0,1,0)))","v":0},{"$f":"IF(M10=\"\",IF(COUNTA(B10:K10)>0,1,0),IF(OR(EOMONTH(M10,0)<$BF$7,AND(EOMONTH($BF$7,-1)+1<=M10,EOMONTH($BF$7,0)>=M10)),0,IF(COUNTA(B10:K10)>0,1,0)))","v":0},{"$f":"IF(M10=\"\",IF(COUNTA(B10:K10)>0,1,0),IF(OR(EOMONTH(M10,0)<$BG$7,AND(EOMONTH($BG$7,-1)+1<=M10,EOMONTH($BG$7,0)>=M10)),0,IF(COUNTA(B10:K10)>0,1,0)))","v":0},{"$f":"IF(M10=\"\",IF(COUNTA(B10:K10)>0,1,0),IF(OR(EOMONTH(M10,0)<$BH$7,AND(EOMONTH($BH$7,-1)+1<=M10,EOMONTH($BH$7,0)>=M10)),0,IF(COUNTA(B10:K10)>0,1,0)))","v":0},{"$f":"IF(M10=\"\",IF(COUNTA(B10:K10)>0,1,0),IF(OR(EOMONTH(M10,0)<$BI$7,AND(EOMONTH($BI$7,-1)+1<=M10,EOMONTH($BI$7,0)>=M10)),0,IF(COUNTA(B10:K10)>0,1,0)))","v":0},{"$f":"IF(M10=\"\",IF(COUNTA(B10:K10)>0,1,0),IF(OR(EOMONTH(M10,0)<$BJ$7,AND(EOMONTH($BJ$7,-1)+1<=M10,EOMONTH($BJ$7,0)>=M10)),0,IF(COUNTA(B10:K10)>0,1,0)))","v":0},{"$f":"IF(M10=\"\",IF(COUNTA(B10:K10)>0,1,0),IF(OR(EOMONTH(M10,0)<$BK$7,AND(EOMONTH($BK$7,-1)+1<=M10,EOMONTH($BK$7,0)>=M10)),0,IF(COUNTA(B10:K10)>0,1,0)))","v":0},{"$f":"IF(M10=\"\",IF(COUNTA(B10:K10)>0,1,0),IF(OR(EOMONTH(M10,0)<$BL$7,AND(EOMONTH($BL$7,-1)+1<=M10,EOMONTH($BL$7,0)>=M10)),0,IF(COUNTA(B10:K10)>0,1,0)))","v":0},{"$f":"IF(M10=\"\",IF(COUNTA(B10:K10)>0,1,0),IF(OR(EOMONTH(M10,0)<$BM$7,AND(EOMONTH($BM$7,-1)+1<=M10,EOMONTH($BM$7,0)>=M10)),0,IF(COUNTA(B10:K10)>0,1,0)))","v":0},{"$f":"IF(M10=\"\",IF(COUNTA(B10:K10)>0,1,0),IF(OR(EOMONTH(M10,0)<$BN$7,AND(EOMONTH($BN$7,-1)+1<=M10,EOMONTH($BN$7,0)>=M10)),0,IF(COUNTA(B10:K10)>0,1,0)))","v":0},{"$f":"IF(M10=\"\",IF(COUNTA(B10:K10)>0,1,0),IF(OR(EOMONTH(M10,0)<$BO$7,AND(EOMONTH($BO$7,-1)+1<=M10,EOMONTH($BO$7,0)>=M10)),0,IF(COUNTA(B10:K10)>0,1,0)))","v":0},{"$f":"IF(M10=\"\",IF(COUNTA(B10:K10)>0,1,0),IF(OR(EOMONTH(M10,0)<$BP$7,AND(EOMONTH($BP$7,-1)+1<=M10,EOMONTH($BP$7,0)>=M10)),0,IF(COUNTA(B10:K10)>0,1,0)))","v":0},{"$f":"IF(M10=\"\",IF(COUNTA(B10:K10)>0,1,0),IF(OR(EOMONTH(M10,0)<$BQ$7,AND(EOMONTH($BQ$7,-1)+1<=M10,EOMONTH($BQ$7,0)>=M10)),0,IF(COUNTA(B10:K10)>0,1,0)))","v":0},null,{"$f":"IF(M10=\"\",IF(F10<>\"\",1,0),IF(OR(EOMONTH(M10,0)<EOMONTH(TODAY(),0),AND(EOMONTH(TODAY(),-1)+1<=M10,EOMONTH(TODAY(),0)>=M10)),0,IF(F10<>\"\",1,0)))","v":0},{"$f":"IF(M10=\"\",IF(G10<>\"\",1,0),IF(OR(EOMONTH(M10,0)<EOMONTH(TODAY(),0),AND(EOMONTH(TODAY(),-1)+1<=M10,EOMONTH(TODAY(),0)>=M10)),0,IF(G10<>\"\",1,0)))","v":0},{"$f":"IF(M10=\"\",IF(H10<>\"\",1,0),IF(OR(EOMONTH(M10,0)<EOMONTH(TODAY(),0),AND(EOMONTH(TODAY(),-1)+1<=M10,EOMONTH(TODAY(),0)>=M10)),0,IF(H10<>\"\",1,0)))","v":0},{"$f":"IF(M10=\"\",IF(I10<>\"\",1,0),IF(OR(EOMONTH(M10,0)<EOMONTH(TODAY(),0),AND(EOMONTH(TODAY(),-1)+1<=M10,EOMONTH(TODAY(),0)>=M10)),0,IF(I10<>\"\",1,0)))","v":0},null,{"$f":"SUMIFS(V10:BQ10,$V$7:$BQ$7,\">=\"&EOMONTH(TODAY(),-1)+1,$V$7:$BQ$7,\"<=\"&EOMONTH(TODAY(),0))","v":0},{"$f":"IF(M10=\"\",IF(J10>0,1,0),IF(EOMONTH(M10,0)<$BQ$7,0,IF(J10>0,1,0)))","v":0},null,null,null,null,null,null,null,"ActiveSheet.Sort.SortFields.Clear"]
[3,null,null,null,null,null,null,null,null,null,null,null,null,null,null,null,null,null,0,null,null,0,0,0,0,{"$f":"IF(M11=\"\",IF(COUNTA(B11:K11)>0,1,0),IF(OR(EOMONTH(M11,0)<$Z$7,AND(EOMONTH($Z$7,-1)+1<=M11,EOMONTH($Z$7,0)>=M11)),0,IF(COUNTA(B11:K11)>0,1,0)))","v":0},0,0,0,0,0,0,0,0,0,0,0,0,0,0,0,0,0,0,0,0,0,0,0,0,0,0,0,0,0,0,0,0,0,0,0,0,0,0,0,0,0,0,0,null,0,0,0,0,null,0,0,null,null,null,"    Me.Protect UserInterfaceOnly:=True",null,null,null,"ActiveSheet.Sort.SortFields.Add Key:=Range(\"D8:D\" & Cells(Rows.Count, 1).End(xlUp).Row), _"]
[4,null,null,null,null,null,null,null,null,null,null,null,null,null,null,null,null,null,0,null,null,0,0,0,0,0,0,0,0,0,0,0,0,0,0,0,0,0,0,0,0,0,0,0,0,0,0,0,0,0,0,0,0,0,0,0,0,0,0,0,0,0,0,0,0,0,0,0,0,null,{"$f":"IF(M12=\"\",IF(F12<>\"\",1,0),IF(OR(EOMONTH(M12,0)<EOMONTH(TODAY(),0),AND(EOMONTH(TODAY(),-1)+1<=M12,EOMONTH(TODAY(),0)>=M12)),0,IF(F12<>\"\",1,0)))","v":0},0,0,0,null,0,0,null,null,null,null,null,null,null,"    SortOn:=xlSortOnValues, Order:=xlAscending"]
[5,null,null,null,null,null,null,null,null,null,null,null,null,null,null,null,null,null,0,null,null,0,0,0,0,0,0,0,0,0,0,0,0,0,0,0,0,0,0,0,0,0,0,0,0,0,0,0,0,0,0,0,0,0,0,0,0,0,0,0,0,0,0,0,0,0,0,0,0,null,{"$f":"IF(M13=\"\",IF(F13<>\"\",1,0),IF(OR(EOMONTH(M13,0)<EOMONTH(TODAY(),0),AND(EOMONTH(TODAY(),-1)+1<=M13,EOMONTH(TODAY(),0)>=M13)),0,IF(F13<>\"\",1,0)))","v":0},0,0,0,null,0,0,null,null,null,"Dim LastRow As Long, c As Range",null,null,null,"ActiveSheet.Sort.SortFields.Add Key:=Range(\"B8:B\" & Cells(Rows.Count, 2).End(xlUp).Row), _"]
[6,null,null,null,null,null,null,null,null,null,null,null,null,null,null,null,null,null,0,null,null,0,0,0,0,0,{"$f":"IF(M14=\"\",IF(COUNTA(B14:K14)>0,1,0),IF(OR(EOMONTH(M14,0)<$AA$7,AND(EOMONTH($AA$7,-1)+1<=M14,EOMONTH($AA$7,0)>=M14)),0,IF(COUNTA(B14:K14)>0,1,0)))","v":0},{"$f":"IF(M14=\"\",IF(COUNTA(B14:K14)>0,1,0),IF(OR(EOMONTH(M14,0)<$AB$7,AND(EOMONTH($AB$7,-1)+1<=M14,EOMONTH($AB$7,0)>=M14)),0,IF(COUNTA(B14:K14)>0,1,0)))","v":0},{"$f":"IF(M14=\"\",IF(COUNTA(B14:K14)>0,1,0),IF(OR(EOMONTH(M14,0)<$AC$7,AND(EOMONTH($AC$7,-1)+1<=M14,EOMONTH($AC$7,0)>=M14)),0,IF(COUNTA(B14:K14)>0,1,0)))","v":0},{"$f":"IF(M14=\"\",IF(COUNTA(B14:K14)>0,1,0),IF(OR(EOMONTH(M14,0)<$AD$7,AND(EOMONTH($AD$7,-1)+1<=M14,EOMONTH($AD$7,0)>=M14)),0,IF(COUNTA(B14:K14)>0,1,0)))","v":0},{"$f":"IF(M14=\"\",IF(COUNTA(B14:K14)>0,1,0),IF(OR(EOMONTH(M14,0)<$AE$7,AND(EOMONTH($AE$7,-1)+1<=M14,EOMONTH($AE$7,0)>=M14)),0,IF(COUNTA(B14:K14)>0,1,0)))","v":0},{"$f":"IF(M14=\"\",IF(COUNTA(B14:K14)>0,1,0),IF(OR(EOMONTH(M14,0)<$AF$7,AND(EOMONTH($AF$7,-1)+1<=M14,EOMONTH($AF$7,0)>=M14)),0,IF(COUNTA(B14:K14)>0,1,0)))","v":0},{"$f":"IF(M14=\"\",IF(COUNTA(B14:K14)>0,1,0),IF(OR(EOMONTH(M14,0)<$AG$7,AND(EOMONTH($AG$7,-1)+1<=M14,EOMONTH($AG$7,0)>=M14)),0,IF(COUNTA(B14:K14)>0,1,0)))","v":0},0,0,0,0,0,0,0,0,0,0,0,0,0,0,0,0,0,0,0,0,0,0,0,0,0,0,0,0,0,0,0,0,0,0,0,0,null,0,0,0,0,null,0,0,null,null,null,null,null,null,null,"    SortOn:=xlSortOnValues, Order:=xlAscending"]
[7,null,null,null,null,null,null,null,null,null,null,null,null,null,null,null,null,null,0,null,null,0,0,0,0,0,0,0,0,0,0,0,0,0,0,0,0,0,0,0,0,0,0,0,0,0,0,0,0,{"$f":"IF(M15=\"\",IF(COUNTA(B15:K15)>0,1,0),IF(OR(EOMONTH(M15,0)<$AX$7,AND(EOMONTH($AX$7,-1)+1<=M15,EOMONTH($AX$7,0)>=M15)),0,IF(COUNTA(B15:K15)>0,1,0)))","v":0},{"$f":"IF(M15=\"\",IF(COUNTA(B15:K15)>0,1,0),IF(OR(EOMONTH(M15,0)<$AY$7,AND(EOMONTH($AY$7,-1)+1<=M15,EOMONTH($AY$7,0)>=M15)),0,IF(COUNTA(B15:K15)>0,1,0)))","v":0},{"$f":"IF(M15=\"\",IF(COUNTA(B15:K15)>0,1,0),IF(OR(EOMONTH(M15,0)<$AZ$7,AND(EOMONTH($AZ$7,-1)+1<=M15,EOMONTH($AZ$7,0)>=M15)),0,IF(COUNTA(B15:K15)>0,1,0)))","v":0},{"$f":"IF(M15=\"\",IF(COUNTA(B15:K15)>0,1,0),IF(OR(EOMONTH(M15,0)<$BA$7,AND(EOMONTH($BA$7,-1)+1<=M15,EOMONTH($BA$7,0)>=M15)),0,IF(COUNTA(B15:K15)>0,1,0)))","v":0},{"$f":"IF(M15=\"\",IF(COUNTA(B15:K15)>0,1,0),IF(OR(EOMONTH(M15,0)<$BB$7,AND(EOMONTH($BB$7,-1)+1<=M15,EOMONTH($BB$7,0)>=M15)),0,IF(COUNTA(B15:K15)>0,1,0)))","v":0},{"$f":"IF(M15=\"\",IF(COUNTA(B15:K15)>0,1,0),IF(OR(EOMONTH(M15,0)<$BC$7,AND(EOMONTH($BC$7,-1)+1<=M15,EOMONTH($BC$7,0)>=M15)),0,IF(COUNTA(B15:K15)>0,1,0)))","v":0},{"$f":"IF(M15=\"\",IF(COUNTA(B15:K15)>0,1,0),IF(OR(EOMONTH(M15,0)<$BD$7,AND(EOMONTH($BD$7,-1)+1<=M15,EOMONTH($BD$7,0)>=M15)),0,IF(COUNTA(B15:K15)>0,1,0)))","v":0},{"$f":"IF(M15=\"\",IF(COUNTA(B15:K15)>0,1,0),IF(OR(EOMONTH(M15,0)<$BE$7,AND(EOMONTH($BE$7,-1)+1<=M15,EOMONTH($BE$7,0)>=M15)),0,IF(COUNTA(B15:K15)>0,1,0)))","v":0},{"$f":"IF(M15=\"\",IF(COUNTA(B15:K15)>0,1,0),IF(OR(EOMONTH(M15,0)<$BF$7,AND(EOMONTH($BF$7,-1)+1<=M15,EOMONTH($BF$7,0)>=M15)),0,IF(COUNTA(B15:K15)>0,1,0)))","v":0},{"$f":"IF(M15=\"\",IF(COUNTA(B15:K15)>0,1,0),IF(OR(EOMONTH(M15,0)<$BG$7,AND(EOMONTH($BG$7,-1)+1<=M15,EOMONTH($BG$7,0)>=M15)),0,IF(COUNTA(B15:K15)>0,1,0)))","v":0},{"$f":"IF(M15=\"\",IF(COUNTA(B15:K15)>0,1,0),IF(OR(EOMONTH(M15,0)<$BH$7,AND(EOMONTH($BH$7,-1)+1<=M15,EOMONTH($BH$7,0)>=M15)),0,IF(COUNTA(B15:K15)>0,1,0)))","v":0},{"$f":"IF(M15=\"\",IF(COUNTA(B15:K15)>0,1,0),IF(OR(EOMONTH(M15,0)<$BI$7,AND(EOMONTH($BI$7,-1)+1<=M15,EOMONTH($BI$7,0)>=M15)),0,IF(COUNTA(B15:K15)>0,1,0)))","v":0},{"$f":"IF(M15=\"\",IF(COUNTA(B15:K15)>0,1,0),IF(OR(EOMONTH(M15,0)<$BJ$7,AND(EOMONTH($BJ$7,-1)+1<=M15,EOMONTH($BJ$7,0)>=M15)),0,IF(COUNTA(B15:K15)>0,1,0)))","v":0},{"$f":"IF(M15=\"\",IF(COUNTA(B15:K15)>0,1,0),IF(OR(EOMONTH(M15,0)<$BK$7,AND(EOMONTH($BK$7,-1)+1<=M15,EOMONTH($BK$7,0)>=M15)),0,IF(COUNTA(B15:K15)>0,1,0)))","v":0},{"$f":"IF(M15=\"\",IF(COUNTA(B15:K15)>0,1,0),IF(OR(EOMONTH(M15,0)<$BL$7,AND(EOMONTH($BL$7,-1)+1<=M15,EOMONTH($BL$7,0)>=M15)),0,IF(COUNTA(B15:K15)>0,1,0)))","v":0},{"$f":"IF(M15=\"\",IF(COUNTA(B15:K15)>0,1,0),IF(OR(EOMONTH(M15,0)<$BM$7,AND(EOMONTH($BM$7,-1)+1<=M15,EOMONTH($BM$7,0)>=M15)),0,IF(COUNTA(B15:K15)>0,1,0)))","v":0},{"$f":"IF(M15=\"\",IF(COUNTA(B15:K15)>0,1,0),IF(OR(EOMONTH(M15,0)<$BN$7,AND(EOMONTH($BN$7,-1)+1<=M15,EOMONTH($BN$7,0)>=M15)),0,IF(COUNTA(B15:K15)>0,1,0)))","v":0},{"$f":"IF(M15=\"\",IF(COUNTA(B15:K15)>0,1,0),IF(OR(EOMONTH(M15,0)<$BO$7,AND(EOMONTH($BO$7,-1)+1<=M15,EOMONTH($BO$7,0)>=M15)),0,IF(COUNTA(B15:K15)>0,1,0)))","v":0},{"$f":"IF(M15=\"\",IF(COUNTA(B15:K15)>0,1,0),IF(OR(EOMONTH(M15,0)<$BP$7,AND(EOMONTH($BP$7,-1)+1<=M15,EOMONTH($BP$7,0)>=M15)),0,IF(COUNTA(B15:K15)>0,1,0)))","v":0},{"$f":"IF(M15=\"\",IF(COUNTA(B15:K15)>0,1,0),IF(OR(EOMONTH(M15,0)<$BQ$7,AND(EOMONTH($BQ$7,-1)+1<=M15,EOMONTH($BQ$7,0)>=M15)),0,IF(COUNTA(B15:K15)>0,1,0)))","v":0},null,0,0,0,0,null,0,0,null,null,null,"With Application",null,null,null,"    With ActiveSheet.Sort"]
[8,null,null,null,null,null,null,null,null,null,null,null,null,null,null,null,null,null,0,null,null,0,0,0,0,0,0,0,0,0,0,0,0,0,0,0,0,0,0,0,0,0,0,0,0,0,0,0,0,0,0,0,0,0,0,0,0,0,0,0,0,0,0,0,0,0,0,0,0,null,0,0,0,0,null,0,0,null,null,null,"    .Calculation = xlCalculationManual",null,null,null,"        .SetRange Range(\"B7:P\" & Cells(Rows.Count, 2).End(xlUp).Row)"]
[9,null,null,null,null,null,null,null,null,null,null,null,null,null,null,null,null,null,0,null,null,0,0,0,0,0,0,0,0,0,0,0,0,0,0,0,0,0,0,0,0,0,0,0,0,0,0,0,0,0,0,0,0,0,0,0,0,0,0,0,0,0,0,0,0,0,0,0,0,null,0,0,0,0,null,0,0,null,null,null,"    .ScreenUpdating = False",null,null,null,"        .Header = xlYes"]
[10,null,null,null,null,null,null,null,null,null,null,null,null,null,null,null,null,null,0,null,null,0,0,0,0,0,0,0,0,0,0,0,0,0,0,0,0,0,0,0,0,0,0,0,0,0,0,0,0,0,0,0,0,0,0,0,0,0,0,0,0,0,0,0,0,0,0,0,0,null,0,0,0,0,null,0,0,null,null,null,"    .DisplayStatusBar = False",null,null,null,"        .MatchCase = False"]
[11,null,null,null,null,null,null,null,null,null,null,null,null,null,null,null,null,null,0,null,null,0,0,0,0,0,0,0,0,0,0,0,0,0,0,0,0,0,0,0,0,0,0,0,0,0,0,0,0,0,0,0,0,0,0,0,0,0,0,0,0,0,0,0,0,0,0,0,0,null,0,0,0,0,null,0,0,null,null,null,"    .EnableEvents = False",null,null,null,"        .Orientation = xlTopToBottom"]
[12,null,null,null,null,null,null,null,null,null,null,null,null,null,null,null,null,null,0,null,null,0,0,0,0,0,0,0,0,0,0,0,0,0,0,0,0,0,0,0,0,0,0,0,0,0,0,0,0,0,0,0,0,0,0,0,0,0,0,0,0,0,0,0,0,0,0,0,0,null,0,0,0,0,null,0,0,null,null,null,"End With",null,null,null,"        .SortMethod = xlPinYin"]
[13,null,null,null,null,null,null,null,null,null,null,null,null,null,null,null,null,null,0,null,null,0,0,0,0,0,0,0,0,0,0,0,0,0,0,0,0,0,0,0,0,0,0,0,0,0,0,0,0,0,0,0,0,0,0,0,0,0,0,0,0,0,0,0,0,0,0,0,0,null,0,0,0,0,null,0,0,null,null,null,null,null,null,null,"        .Apply"]
[14,null,null,null,null,null,null,null,null,null,null,null,null,null,null,null,null,null,0,null,null,0,0,0,0,0,0,0,0,0,0,0,0,0,0,0,0,0,0,0,0,0,0,0,0,0,0,0,0,0,0,0,0,0,0,0,0,0,0,0,0,0,0,0,0,0,0,0,0,null,0,0,0,0,null,0,0,null,null,null,null,null,null,null,"    End With"]
[15,null,null,null,null,null,null,null,null,null,null,null,null,null,null,null,null,null,0,null,null,0,0,0,0,0,0,0,0,0,0,0,0,0,0,0,0,0,0,0,0,0,0,0,0,0,0,0,0,0,0,0,0,0,0,0,0,0,0,0,0,0,0,0,0,0,0,0,0,null,0,0,0,0,null,0,0,null,null,null,"LastRow = Cells(Cells.Rows.Count, \"Q\").End(xlUp).Row",null,null,null,"End Sub"]
[16,null,null,null,null,null,null,null,null,null,null,null,null,null,null,null,null,null,0,null,null,0,0,0,0,0,0,0,0,0,0,0,0,0,0,0,0,0,0,0,0,0,0,0,0,0,0,0,0,0,0,0,0,0,0,0,0,0,0,0,0,0,0,0,0,0,0,0,0,null,0,0,0,0,null,0,0,null,null,null,"On Error Resume Next"]
[17,null,null,null,null,null,null,null,null,null,null,null,null,null,null,null,null,null,0,null,null,0,0,0,0,0,0,0,0,0,0,0,0,0,0,0,0,0,0,0,0,0,0,0,0,0,0,0,0,0,0,0,0,0,0,0,0,0,0,0,0,0,0,0,0,0,0,0,0,null,0,0,0,0,null,0,0,null,null,null,"For Each c In Range(\"Q1:Q\" & LastRow)"]
[18,null,null,null,null,null,null,null,null,null,null,null,null,null,null,null,null,null,0,null,null,0,0,0,0,0,0,0,0,0,0,0,0,0,0,0,0,0,0,0,0,0,0,0,0,0,0,0,0,0,0,0,0,0,0,0,0,0,0,0,0,0,0,0,0,0,0,0,0,null,0,0,0,0,null,0,0,null,null,null,"   If c.Value = 0 Then",null,null,null,"Private Sub Worksheet_Change(ByVal Target As Range)"]
[19,null,null,null,null,null,null,null,null,null,null,null,null,null,null,null,null,null,0,null,null,0,0,0,0,0,0,0,0,0,0,0,0,0,0,0,0,0,0,0,0,0,0,0,0,0,0,0,0,0,0,0,0,0,0,0,0,0,0,0,0,0,0,0,0,0,0,0,0,null,0,0,0,0,null,0,0,null,null,null,"        c.EntireRow.Hidden = True",null,null,null,"If Not Intersect(Target, Range(\"D8:D304\")) Is Nothing Then"]
[20,null,null,null,null,null,null,null,null,null,null,null,null,null,null,null,null,null,0,null,null,0,0,0,0,0,0,0,0,0,0,0,0,0,0,0,0,0,0,0,0,0,0,0,0,0,0,0,0,0,0,0,0,0,0,0,0,0,0,0,0,0,0,0,0,0,0,0,0,null,0,0,0,0,null,0,0,null,null,null,"    ElseIf c.Value = 1 Then",null,null,null,"Call Sort_This"]
[21,null,null,null,null,null,null,null,null,null,null,null,null,null,null,null,null,null,0,null,null,0,0,0,0,0,0,0,0,0,0,0,0,0,0,0,0,0,0,0,0,0,0,0,0,0,0,0,0,0,0,0,0,0,0,0,0,0,0,0,0,0,0,0,0,0,0,0,0,null,0,0,0,0,null,0,0,null,null,null,"        c.EntireRow.Hidden = False",null,null,null,"End If"]
[22,null,null,null,null,null,null,null,null,null,null,null,null,null,null,null,null,null,0,null,null,0,0,0,0,0,0,0,0,0,0,0,0,0,0,0,0,0,0,0,0,0,0,0,0,0,0,0,0,0,0,0,0,0,0,0,0,0,0,0,0,0,0,0,0,0,0,0,0,null,0,0,0,0,null,0,0,null,null,null,"    End If",null,null,null,"End Sub"]
[23,null,null,null,null,null,null,null,null,null,null,null,null,null,null,null,null,null,0,null,null,0,0,0,0,0,0,0,0,0,0,0,0,0,0,0,0,0,0,0,0,0,0,0,0,0,0,0,0,0,0,0,0,0,0,0,0,0,0,0,0,0,0,0,0,0,0,0,0,null,0,0,0,0,null,0,0,null,null,null,"Next"]
[24,null,null,null,null,null,null,null,null,null,null,null,null,null,null,null,null,null,0,null,null,0,0,0,0,0,0,0,0,0,0,0,0,0,0,0,0,0,0,0,0,0,0,0,0,0,0,0,0,0,0,0,0,0,0,0,0,0,0,0,0,0,0,0,0,0,0,0,0,null,0,0,0,0,null,0,0]
[25,null,null,null,null,null,null,null,null,null,null,null,null,null,null,null,null,null,0,null,null,0,0,0,0,0,0,0,0,0,0,0,0,0,0,0,0,0,0,0,0,0,0,0,0,0,0,0,0,0,0,0,0,0,0,0,0,0,0,0,0,0,0,0,0,0,0,0,0,null,0,0,0,0,null,0,0,null,null,null,"With Application"]
[26,null,null,null,null,null,null,null,null,null,null,null,null,null,null,null,null,null,0,null,null,0,0,0,0,0,0,0,0,0,0,0,0,0,0,0,0,0,0,0,0,0,0,0,0,0,0,0,0,0,0,0,0,0,0,0,0,0,0,0,0,0,0,0,0,0,0,0,0,null,0,0,0,0,null,0,0,null,null,null,"    .Calculation = xlCalculationAutomatic"]
[27,null,null,null,null,null,null,null,null,null,null,null,null,null,null,null,null,null,0,null,null,0,0,0,0,0,0,0,0,0,0,0,0,0,0,0,0,0,0,0,0,0,0,0,0,0,0,0,0,0,0,0,0,0,0,0,0,0,0,0,0,0,0,0,0,0,0,0,0,null,0,0,0,0,null,0,0,null,null,null,"    .ScreenUpdating = True"]
[28,null,null,null,null,null,null,null,null,null,null,null,null,null,null,null,null,null,0,null,null,0,0,0,0,0,0,0,0,0,0,0,0,0,0,0,0,0,0,0,0,0,0,0,0,0,0,0,0,0,0,0,0,0,0,0,0,0,0,0,0,0,0,0,0,0,0,0,0,null,0,0,0,0,null,0,0,null,null,null,"    .DisplayStatusBar = True"]
[29,null,null,null,null,null,null,null,null,null,null,null,null,null,null,null,null,null,0,null,null,0,0,0,0,0,0,0,0,0,0,0,0,0,0,0,0,0,0,0,0,0,0,0,0,0,0,0,0,0,0,0,0,0,0,0,0,0,0,0,0,0,0,0,0,0,0,0,0,null,0,0,0,0,null,0,0,null,null,null,"    .EnableEvents = True"]
[30,null,null,null,null,null,null,null,null,null,null,null,null,null,null,null,null,null,0,null,null,0,0,0,0,0,0,0,0,0,0,0,0,0,0,0,0,0,0,0,0,0,0,0,0,0,0,0,0,0,0,0,0,0,0,0,0,0,0,0,0,0,0,0,0,0,0,0,0,null,0,0,0,0,null,0,0,null,null,null,"End With"]
[31,null,null,null,null,null,null,null,null,null,null,null,null,null,null,null,null,null,0,null,null,0,0,0,0,0,0,0,0,0,0,0,0,0,0,0,0,0,0,0,0,0,0,0,0,0,0,0,0,0,0,0,0,0,0,0,0,0,0,0,0,0,0,0,0,0,0,0,0,null,0,0,0,0,null,0,0]
[32,null,null,null,null,null,null,null,null,null,null,null,null,null,null,null,null,null,0,null,null,0,0,0,0,0,0,0,0,0,0,0,0,0,0,0,0,0,0,0,0,0,0,0,0,0,0,0,0,0,0,0,0,0,0,0,0,0,0,0,0,0,0,0,0,0,0,0,0,null,0,0,0,0,null,0,0,null,null,null,"On Error GoTo 0"]
[33,null,null,null,null,null,null,null,null,null,null,null,null,null,null,null,null,null,0,null,null,0,0,0,0,0,0,0,0,0,0,0,0,0,0,0,0,0,0,0,0,0,0,0,0,0,0,0,0,0,0,0,0,0,0,0,0,0,0,0,0,0,0,0,0,0,0,0,0,null,0,0,0,0,null,0,0]
[34,null,null,null,null,null,null,null,null,null,null,null,null,null,null,null,null,null,0,null,null,0,0,0,0,0,0,0,0,0,0,0,0,0,0,0,0,0,0,0,0,0,0,0,0,0,0,0,0,0,0,0,0,0,0,0,0,0,0,0,0,0,0,0,0,0,0,0,0,null,0,0,0,0,null,0,0,null,null,null,"End Sub"]
[35,null,null,null,null,null,null,null,null,null,null,null,null,null,null,null,null,null,0,null,null,0,0,0,0,0,0,0,0,0,0,0,0,0,0,0,0,0,0,0,0,0,0,0,0,0,0,0,0,0,0,0,0,0,0,0,0,0,0,0,0,0,0,0,0,0,0,0,0,null,0,0,0,0,null,0,0]
[36,null,null,null,null,null,null,null,null,null,null,null,null,null,null,null,null,null,0,null,null,0,0,0,0,0,0,0,0,0,0,0,0,0,0,0,0,0,0,0,0,0,0,0,0,0,0,0,0,0,0,0,0,0,0,0,0,0,0,0,0,0,0,0,0,0,0,0,0,null,0,0,0,0,null,0,0]
[37,null,null,null,null,null,null,null,null,null,null,null,null,null,null,null,null,null,0,null,null,0,0,0,0,0,0,0,0,0,0,0,0,0,0,0,0,0,0,0,0,0,0,0,0,0,0,0,0,0,0,0,0,0,0,0,0,0,0,0,0,0,0,0,0,0,0,0,0,null,0,0,0,0,null,0,0,null,null,"End Sub"]
[38,null,null,null,null,null,null,null,null,null,null,null,null,null,null,null,null,null,0,null,null,0,0,0,0,0,0,0,0,0,0,0,0,0,0,0,0,0,0,0,0,0,0,0,0,0,0,0,0,0,0,0,0,0,0,0,0,0,0,0,0,0,0,0,0,0,0,0,0,null,0,0,0,0,null,0,0]
[39,null,null,null,null,null,null,null,null,null,null,null,null,null,null,null,null,null,0,null,null,0,0,0,0,0,0,0,0,0,0,0,0,0,0,0,0,0,0,0,0,0,0,0,0,0,0,0,0,0,0,0,0,0,0,0,0,0,0,0,0,0,0,0,0,0,0,0,0,null,0,0,0,0,null,0,0]
[40,null,null,null,null,null,null,null,null,null,null,null,null,null,null,null,null,null,0,null,null,0,0,0,0,0,0,0,0,0,0,0,0,0,0,0,0,0,0,0,0,0,0,0,0,0,0,0,0,0,0,0,0,0,0,0,0,0,0,0,0,0,0,0,0,0,0,0,0,null,0,0,0,0,null,0,0]
[41,null,null,null,null,null,null,null,null,null,null,null,null,null,null,null,null,null,0,null,null,0,0,0,0,0,0,0,0,0,0,0,0,0,0,0,0,0,0,0,0,0,0,0,0,0,0,0,0,0,0,0,0,0,0,0,0,0,0,0,0,0,0,0,0,0,0,0,0,null,0,0,0,0,null,0,0]
[42,null,null,null,null,null,null,null,null,null,null,null,null,null,null,null,null,null,0,null,null,0,0,0,0,0,0,0,0,0,0,0,0,0,0,0,0,0,0,0,0,0,0,0,0,0,0,0,0,0,0,0,0,0,0,0,0,0,0,0,0,0,0,0,0,0,0,0,0,null,0,0,0,0,null,0,0]
[43,null,null,null,null,null,null,null,null,null,null,null,null,null,null,null,null,null,0,null,null,0,0,0,0,0,0,0,0,0,0,0,0,0,0,0,0,0,0,0,0,0,0,0,0,0,0,0,0,0,0,0,0,0,0,0,0,0,0,0,0,0,0,0,0,0,0,0,0,null,0,0,0,0,null,0,0]
[44,null,null,null,null,null,null,null,null,null,null,null,null,null,null,null,null,null,0,null,null,0,0,0,0,0,0,0,0,0,0,0,0,0,0,0,0,0,0,0,0,0,0,0,0,0,0,0,0,0,0,0,0,0,0,0,0,0,0,0,0,0,0,0,0,0,0,0,0,null,0,0,0,0,null,0,0]
[45,null,null,null,null,null,null,null,null,null,null,null,null,null,null,null,null,null,0,null,null,0,0,0,0,0,0,0,0,0,0,0,0,0,0,0,0,0,0,0,0,0,0,0,0,0,0,0,0,0,0,0,0,0,0,0,0,0,0,0,0,0,0,0,0,0,0,0,0,null,0,0,0,0,null,0,0]
[46,null,null,null,null,null,null,null,null,null,null,null,null,null,null,null,null,null,0,null,null,0,0,0,0,0,0,0,0,0,0,0,0,0,0,0,0,0,0,0,0,0,0,0,0,0,0,0,0,0,0,0,0,0,0,0,0,0,0,0,0,0,0,0,0,0,0,0,0,null,0,0,0,0,null,0,0]
[47,null,null,null,null,null,null,null,null,null,null,null,null,null,null,null,null,null,0,null,null,0,0,0,0,0,0,0,0,0,0,0,0,0,0,0,0,0,0,0,0,0,0,0,0,0,0,0,0,0,0,0,0,0,0,0,0,0,0,0,0,0,0,0,0,0,0,0,0,null,0,0,0,0,null,0,0]
[48,null,null,null,null,null,null,null,null,null,null,null,null,null,null,null,null,null,0,null,null,0,0,0,0,0,0,0,0,0,0,0,0,0,0,0,0,0,0,0,0,0,0,0,0,0,0,0,0,0,0,0,0,0,0,0,0,0,0,0,0,0,0,0,0,0,0,0,0,null,0,0,0,0,null,0,0]
[49,null,null,null,null,null,null,null,null,null,null,null,null,null,null,null,null,null,0,null,null,0,0,0,0,0,0,0,0,0,0,0,0,0,0,0,0,0,0,0,0,0,0,0,0,0,0,0,0,0,0,0,0,0,0,0,0,0,0,0,0,0,0,0,0,0,0,0,0,null,0,0,0,0,null,0,0]
[50,null,null,null,null,null,null,null,null,null,null,null,null,null,null,null,null,null,0,null,null,0,0,0,0,0,0,0,0,0,0,0,0,0,0,0,0,0,0,0,0,0,0,0,0,0,0,0,0,0,0,0,0,0,0,0,0,0,0,0,0,0,0,0,0,0,0,0,0,null,0,0,0,0,null,0,0]
[51,null,null,null,null,null,null,null,null,null,null,null,null,null,null,null,null,null,0,null,null,0,0,0,0,0,0,0,0,0,0,0,0,0,0,0,0,0,0,0,0,0,0,0,0,0,0,0,0,0,0,0,0,0,0,0,0,0,0,0,0,0,0,0,0,0,0,0,0,null,0,0,0,0,null,0,0]
[52,null,null,null,null,null,null,null,null,null,null,null,null,null,null,null,null,null,0,null,null,0,0,0,0,0,0,0,0,0,0,0,0,0,0,0,0,0,0,0,0,0,0,0,0,0,0,0,0,0,0,0,0,0,0,0,0,0,0,0,0,0,0,0,0,0,0,0,0,null,0,0,0,0,null,0,0]
[53,null,null,null,null,null,null,null,null,null,null,null,null,null,null,null,null,null,0,null,null,0,0,0,0,0,0,0,0,0,0,0,0,0,0,0,0,0,0,0,0,0,0,0,0,0,0,0,0,0,0,0,0,0,0,0,0,0,0,0,0,0,0,0,0,0,0,0,0,null,0,0,0,0,null,0,0]
[54,null,null,null,null,null,null,null,null,null,null,null,null,null,null,null,null,null,0,null,null,0,0,0,0,0,0,0,0,0,0,0,0,0,0,0,0,0,0,0,0,0,0,0,0,0,0,0,0,0,0,0,0,0,0,0,0,0,0,0,0,0,0,0,0,0,0,0,0,null,0,0,0,0,null,0,0]
[55,null,null,null,null,null,null,null,null,null,null,null,null,null,null,null,null,null,0,null,null,0,0,0,0,0,0,0,0,0,0,0,0,0,0,0,0,0,0,0,0,0,0,0,0,0,0,0,0,0,0,0,0,0,0,0,0,0,0,0,0,0,0,0,0,0,0,0,0,null,0,0,0,0,null,0,0]
[56,null,null,null,null,null,null,null,null,null,null,null,null,null,null,null,null,null,0,null,null,0,0,0,0,0,0,0,0,0,0,0,0,0,0,0,0,0,0,0,0,0,0,0,0,0,0,0,0,0,0,0,0,0,0,0,0,0,0,0,0,0,0,0,0,0,0,0,0,null,0,0,0,0,null,0,0]
[57,null,null,null,null,null,null,null,null,null,null,null,null,null,null,null,null,null,0,null,null,0,0,0,0,0,0,0,0,0,0,0,0,0,0,0,0,0,0,0,0,0,0,0,0,0,0,0,0,0,0,0,0,0,0,0,0,0,0,0,0,0,0,0,0,0,0,0,0,null,0,0,0,0,null,0,0]
[58,null,null,null,null,null,null,null,null,null,null,null,null,null,null,null,null,null,0,null,null,0,0,0,0,0,0,0,0,0,0,0,0,0,0,0,0,0,0,0,0,0,0,0,0,0,0,0,0,0,0,0,0,0,0,0,0,0,0,0,0,0,0,0,0,0,0,0,0,null,0,0,0,0,null,0,0]
[59,null,null,null,null,null,null,null,null,null,null,null,null,null,null,null,null,null,0,null,null,0,0,0,0,0,0,0,0,0,0,0,0,0,0,0,0,0,0,0,0,0,0,0,0,0,0,0,0,0,0,0,0,0,0,0,0,0,0,0,0,0,0,0,0,0,0,0,0,null,0,0,0,0,null,0,0]
[60,null,null,null,null,null,null,null,null,null,null,null,null,null,null,null,null,null,0,null,null,0,0,0,0,0,0,0,0,0,0,0,0,0,0,0,0,0,0,0,0,0,0,0,0,0,0,0,0,0,0,0,0,0,0,0,0,0,0,0,0,0,0,0,0,0,0,0,0,null,0,0,0,0,null,0,0]
[61,null,null,null,null,null,null,null,null,null,null,null,null,null,null,null,null,null,0,null,null,0,0,0,0,0,0,0,0,0,0,0,0,0,0,0,0,0,0,0,0,0,0,0,0,0,0,0,0,0,0,0,0,0,0,0,0,0,0,0,0,0,0,0,0,0,0,0,0,null,0,0,0,0,null,0,0]
[62,null,null,null,null,null,null,null,null,null,null,null,null,null,null,null,null,null,0,null,null,0,0,0,0,0,0,0,0,0,0,0,0,0,0,0,0,0,0,0,0,0,0,0,0,0,0,0,0,0,0,0,0,0,0,0,0,0,0,0,0,0,0,0,0,0,0,0,0,null,0,0,0,0,null,0,0]
[63,null,null,null,null,null,null,null,null,null,null,null,null,null,null,null,null,null,0,null,null,0,0,0,0,0,0,0,0,0,0,0,0,0,0,0,0,0,0,0,0,0,0,0,0,0,0,0,0,0,0,0,0,0,0,0,0,0,0,0,0,0,0,0,0,0,0,0,0,null,0,0,0,0,null,0,0]
[64,null,null,null,null,null,null,null,null,null,null,null,null,null,null,null,null,null,0,null,null,0,0,0,0,0,0,0,0,0,0,0,0,0,0,0,0,0,0,0,0,0,0,0,0,0,0,0,0,0,0,0,0,0,0,0,0,0,0,0,0,0,0,0,0,0,0,0,0,null,0,0,0,0,null,0,0]
[65,null,null,null,null,null,null,null,null,null,null,null,null,null,null,null,null,null,0,null,null,0,0,0,0,0,0,0,0,0,0,0,0,0,0,0,0,0,0,0,0,0,0,0,0,0,0,0,0,0,0,0,0,0,0,0,0,0,0,0,0,0,0,0,0,0,0,0,0,null,0,0,0,0,null,0,0]
[66,null,null,null,null,null,null,null,null,null,null,null,null,null,null,null,null,null,{"$f":"IF(E74=\"\",0,IF(VALUE(E74)>VALUE($E$4),0,1))","v":0},null,null,{"$f":"IF(M74=\"\",IF(COUNTA(B74:K74)>0,1,0),IF(OR(EOMONTH(M74,0)<$V$7,AND(EOMONTH($V$7,-1)+1<=M74,EOMONTH($V$7,0)>=M74)),0,IF(COUNTA(B74:K74)>0,1,0)))","v":0},{"$f":"IF(M74=\"\",IF(COUNTA(B74:K74)>0,1,0),IF(OR(EOMONTH(M74,0)<$W$7,AND(EOMONTH($W$7,-1)+1<=M74,EOMONTH($W$7,0)>=M74)),0,IF(COUNTA(B74:K74)>0,1,0)))","v":0},{"$f":"IF(M74=\"\",IF(COUNTA(B74:K74)>0,1,0),IF(OR(EOMONTH(M74,0)<$X$7,AND(EOMONTH($X$7,-1)+1<=M74,EOMONTH($X$7,0)>=M74)),0,IF(COUNTA(B74:K74)>0,1,0)))","v":0},{"$f":"IF(M74=\"\",IF(COUNTA(B74:K74)>0,1,0),IF(OR(EOMONTH(M74,0)<$Y$7,AND(EOMONTH($Y$7,-1)+1<=M74,EOMONTH($Y$7,0)>=M74)),0,IF(COUNTA(B74:K74)>0,1,0)))","v":0},0,0,0,0,0,0,0,0,{"$f":"IF(M74=\"\",IF(COUNTA(B74:K74)>0,1,0),IF(OR(EOMONTH(M74,0)<$AH$7,AND(EOMONTH($AH$7,-1)+1<=M74,EOMONTH($AH$7,0)>=M74)),0,IF(COUNTA(B74:K74)>0,1,0)))","v":0},{"$f":"IF(M74=\"\",IF(COUNTA(B74:K74)>0,1,0),IF(OR(EOMONTH(M74,0)<$AI$7,AND(EOMONTH($AI$7,-1)+1<=M74,EOMONTH($AI$7,0)>=M74)),0,IF(COUNTA(B74:K74)>0,1,0)))","v":0},{"$f":"IF(M74=\"\",IF(COUNTA(B74:K74)>0,1,0),IF(OR(EOMONTH(M74,0)<$AJ$7,AND(EOMONTH($AJ$7,-1)+1<=M74,EOMONTH($AJ$7,0)>=M74)),0,IF(COUNTA(B74:K74)>0,1,0)))","v":0},{"$f":"IF(M74=\"\",IF(COUNTA(B74:K74)>0,1,0),IF(OR(EOMONTH(M74,0)<$AK$7,AND(EOMONTH($AK$7,-1)+1<=M74,EOMONTH($AK$7,0)>=M74)),0,IF(COUNTA(B74:K74)>0,1,0)))","v":0},{"$f":"IF(M74=\"\",IF(COUNTA(B74:K74)>0,1,0),IF(OR(EOMONTH(M74,0)<$AL$7,AND(EOMONTH($AL$7,-1)+1<=M74,EOMONTH($AL$7,0)>=M74)),0,IF(COUNTA(B74:K74)>0,1,0)))","v":0},{"$f":"IF(M74=\"\",IF(COUNTA(B74:K74)>0,1,0),IF(OR(EOMONTH(M74,0)<$AM$7,AND(EOMONTH($AM$7,-1)+1<=M74,EOMONTH($AM$7,0)>=M74)),0,IF(COUNTA(B74:K74)>0,1,0)))","v":0},{"$f":"IF(M74=\"\",IF(COUNTA(B74:K74)>0,1,0),IF(OR(EOMONTH(M74,0)<$AN$7,AND(EOMONTH($AN$7,-1)+1<=M74,EOMONTH($AN$7,0)>=M74)),0,IF(COUNTA(B74:K74)>0,1,0)))","v":0},{"$f":"IF(M74=\"\",IF(COUNTA(B74:K74)>0,1,0),IF(OR(EOMONTH(M74,0)<$AO$7,AND(EOMONTH($AO$7,-1)+1<=M74,EOMONTH($AO$7,0)>=M74)),0,IF(COUNTA(B74:K74)>0,1,0)))","v":0},{"$f":"IF(M74=\"\",IF(COUNTA(B74:K74)>0,1,0),IF(OR(EOMONTH(M74,0)<$AP$7,AND(EOMONTH($AP$7,-1)+1<=M74,EOMONTH($AP$7,0)>=M74)),0,IF(COUNTA(B74:K74)>0,1,0)))","v":0},{"$f":"IF(M74=\"\",IF(COUNTA(B74:K74)>0,1,0),IF(OR(EOMONTH(M74,0)<$AQ$7,AND(EOMONTH($AQ$7,-1)+1<=M74,EOMONTH($AQ$7,0)>=M74)),0,IF(COUNTA(B74:K74)>0,1,0)))","v":0},{"$f":"IF(M74=\"\",IF(COUNTA(B74:K74)>0,1,0),IF(OR(EOMONTH(M74,0)<$AR$7,AND(EOMONTH($AR$7,-1)+1<=M74,EOMONTH($AR$7,0)>=M74)),0,IF(COUNTA(B74:K74)>0,1,0)))","v":0},{"$f":"IF(M74=\"\",IF(COUNTA(B74:K74)>0,1,0),IF(OR(EOMONTH(M74,0)<$AS$7,AND(EOMONTH($AS$7,-1)+1<=M74,EOMONTH($AS$7,0)>=M74)),0,IF(COUNTA(B74:K74)>0,1,0)))","v":0},{"$f":"IF(M74=\"\",IF(COUNTA(B74:K74)>0,1,0),IF(OR(EOMONTH(M74,0)<$AT$7,AND(EOMONTH($AT$7,-1)+1<=M74,EOMONTH($AT$7,0)>=M74)),0,IF(COUNTA(B74:K74)>0,1,0)))","v":0},{"$f":"IF(M74=\"\",IF(COUNTA(B74:K74)>0,1,0),IF(OR(EOMONTH(M74,0)<$AU$7,AND(EOMONTH($AU$7,-1)+1<=M74,EOMONTH($AU$7,0)>=M74)),0,IF(COUNTA(B74:K74)>0,1,0)))","v":0},{"$f":"IF(M74=\"\",IF(COUNTA(B74:K74)>0,1,0),IF(OR(EOMONTH(M74,0)<$AV$7,AND(EOMONTH($AV$7,-1)+1<=M74,EOMONTH($AV$7,0)>=M74)),0,IF(COUNTA(B74:K74)>0,1,0)))","v":0},{"$f":"IF(M74=\"\",IF(COUNTA(B74:K74)>0,1,0),IF(OR(EOMONTH(M74,0)<$AW$7,AND(EOMONTH($AW$7,-1)+1<=M74,EOMONTH($AW$7,0)>=M74)),0,IF(COUNTA(B74:K74)>0,1,0)))","v":0},0,0,0,0,0,0,0,0,0,0,0,0,0,0,0,0,0,0,0,0,null,0,{"$f":"IF(M74=\"\",IF(G74<>\"\",1,0),IF(OR(EOMONTH(M74,0)<EOMONTH(TODAY(),0),AND(EOMONTH(TODAY(),-1)+1<=M74,EOMONTH(TODAY(),0)>=M74)),0,IF(G74<>\"\",1,0)))","v":0},{"$f":"IF(M74=\"\",IF(H74<>\"\",1,0),IF(OR(EOMONTH(M74,0)<EOMONTH(TODAY(),0),AND(EOMONTH(TODAY(),-1)+1<=M74,EOMONTH(TODAY(),0)>=M74)),0,IF(H74<>\"\",1,0)))","v":0},{"$f":"IF(M74=\"\",IF(I74<>\"\",1,0),IF(OR(EOMONTH(M74,0)<EOMONTH(TODAY(),0),AND(EOMONTH(TODAY(),-1)+1<=M74,EOMONTH(TODAY(),0)>=M74)),0,IF(I74<>\"\",1,0)))","v":0},null,{"$f":"SUMIFS(V74:BQ74,$V$7:$BQ$7,\">=\"&EOMONTH(TODAY(),-1)+1,$V$7:$BQ$7,\"<=\"&EOMONTH(TODAY(),0))","v":0},{"$f":"IF(M74=\"\",IF(J74>0,1,0),IF(EOMONTH(M74,0)<$BQ$7,0,IF(J74>0,1,0)))","v":0}]
[67,null,null,null,null,null,null,null,null,null,null,null,null,null,null,null,null,null,0,null,null,0,0,0,0,{"$f":"IF(M75=\"\",IF(COUNTA(B75:K75)>0,1,0),IF(OR(EOMONTH(M75,0)<$Z$7,AND(EOMONTH($Z$7,-1)+1<=M75,EOMONTH($Z$7,0)>=M75)),0,IF(COUNTA(B75:K75)>0,1,0)))","v":0},0,0,0,0,0,0,0,0,0,0,0,0,0,0,0,0,0,0,0,0,0,0,0,0,0,0,0,0,0,0,0,0,0,0,0,0,0,0,0,0,0,0,0,null,0,0,0,0,null,0,0]
[68,null,null,null,null,null,null,null,null,null,null,null,null,null,null,null,null,null,0,null,null,0,0,0,0,0,0,0,0,0,0,0,0,0,0,0,0,0,0,0,0,0,0,0,0,0,0,0,0,0,0,0,0,0,0,0,0,0,0,0,0,0,0,0,0,0,0,0,0,null,0,0,0,0,null,0,0]
[69,null,null,null,null,null,null,null,null,null,null,null,null,null,null,null,null,null,0,null,null,0,0,0,0,0,0,0,0,0,0,0,0,0,0,0,0,0,0,0,0,0,0,0,0,0,0,0,0,0,0,0,0,0,0,0,0,0,0,0,0,0,0,0,0,0,0,0,0,null,{"$f":"IF(M77=\"\",IF(F77<>\"\",1,0),IF(OR(EOMONTH(M77,0)<EOMONTH(TODAY(),0),AND(EOMONTH(TODAY(),-1)+1<=M77,EOMONTH(TODAY(),0)>=M77)),0,IF(F77<>\"\",1,0)))","v":0},0,0,0,null,0,0]
[70,null,null,null,null,null,null,null,null,null,null,null,null,null,null,null,null,null,0,null,null,0,0,0,0,0,{"$f":"IF(M78=\"\",IF(COUNTA(B78:K78)>0,1,0),IF(OR(EOMONTH(M78,0)<$AA$7,AND(EOMONTH($AA$7,-1)+1<=M78,EOMONTH($AA$7,0)>=M78)),0,IF(COUNTA(B78:K78)>0,1,0)))","v":0},{"$f":"IF(M78=\"\",IF(COUNTA(B78:K78)>0,1,0),IF(OR(EOMONTH(M78,0)<$AB$7,AND(EOMONTH($AB$7,-1)+1<=M78,EOMONTH($AB$7,0)>=M78)),0,IF(COUNTA(B78:K78)>0,1,0)))","v":0},{"$f":"IF(M78=\"\",IF(COUNTA(B78:K78)>0,1,0),IF(OR(EOMONTH(M78,0)<$AC$7,AND(EOMONTH($AC$7,-1)+1<=M78,EOMONTH($AC$7,0)>=M78)),0,IF(COUNTA(B78:K78)>0,1,0)))","v":0},{"$f":"IF(M78=\"\",IF(COUNTA(B78:K78)>0,1,0),IF(OR(EOMONTH(M78,0)<$AD$7,AND(EOMONTH($AD$7,-1)+1<=M78,EOMONTH($AD$7,0)>=M78)),0,IF(COUNTA(B78:K78)>0,1,0)))","v":0},{"$f":"IF(M78=\"\",IF(COUNTA(B78:K78)>0,1,0),IF(OR(EOMONTH(M78,0)<$AE$7,AND(EOMONTH($AE$7,-1)+1<=M78,EOMONTH($AE$7,0)>=M78)),0,IF(COUNTA(B78:K78)>0,1,0)))","v":0},{"$f":"IF(M78=\"\",IF(COUNTA(B78:K78)>0,1,0),IF(OR(EOMONTH(M78,0)<$AF$7,AND(EOMONTH($AF$7,-1)+1<=M78,EOMONTH($AF$7,0)>=M78)),0,IF(COUNTA(B78:K78)>0,1,0)))","v":0},{"$f":"IF(M78=\"\",IF(COUNTA(B78:K78)>0,1,0),IF(OR(EOMONTH(M78,0)<$AG$7,AND(EOMONTH($AG$7,-1)+1<=M78,EOMONTH($AG$7,0)>=M78)),0,IF(COUNTA(B78:K78)>0,1,0)))","v":0},0,0,0,0,0,0,0,0,0,0,0,0,0,0,0,0,0,0,0,0,0,0,0,0,0,0,0,0,0,0,0,0,0,0,0,0,null,0,0,0,0,null,0,0]
[71,null,null,null,null,null,null,null,null,null,null,null,null,null,null,null,null,null,0,null,null,0,0,0,0,0,0,0,0,0,0,0,0,0,0,0,0,0,0,0,0,0,0,0,0,0,0,0,0,{"$f":"IF(M79=\"\",IF(COUNTA(B79:K79)>0,1,0),IF(OR(EOMONTH(M79,0)<$AX$7,AND(EOMONTH($AX$7,-1)+1<=M79,EOMONTH($AX$7,0)>=M79)),0,IF(COUNTA(B79:K79)>0,1,0)))","v":0},{"$f":"IF(M79=\"\",IF(COUNTA(B79:K79)>0,1,0),IF(OR(EOMONTH(M79,0)<$AY$7,AND(EOMONTH($AY$7,-1)+1<=M79,EOMONTH($AY$7,0)>=M79)),0,IF(COUNTA(B79:K79)>0,1,0)))","v":0},{"$f":"IF(M79=\"\",IF(COUNTA(B79:K79)>0,1,0),IF(OR(EOMONTH(M79,0)<$AZ$7,AND(EOMONTH($AZ$7,-1)+1<=M79,EOMONTH($AZ$7,0)>=M79)),0,IF(COUNTA(B79:K79)>0,1,0)))","v":0},{"$f":"IF(M79=\"\",IF(COUNTA(B79:K79)>0,1,0),IF(OR(EOMONTH(M79,0)<$BA$7,AND(EOMONTH($BA$7,-1)+1<=M79,EOMONTH($BA$7,0)>=M79)),0,IF(COUNTA(B79:K79)>0,1,0)))","v":0},{"$f":"IF(M79=\"\",IF(COUNTA(B79:K79)>0,1,0),IF(OR(EOMONTH(M79,0)<$BB$7,AND(EOMONTH($BB$7,-1)+1<=M79,EOMONTH($BB$7,0)>=M79)),0,IF(COUNTA(B79:K79)>0,1,0)))","v":0},{"$f":"IF(M79=\"\",IF(COUNTA(B79:K79)>0,1,0),IF(OR(EOMONTH(M79,0)<$BC$7,AND(EOMONTH($BC$7,-1)+1<=M79,EOMONTH($BC$7,0)>=M79)),0,IF(COUNTA(B79:K79)>0,1,0)))","v":0},{"$f":"IF(M79=\"\",IF(COUNTA(B79:K79)>0,1,0),IF(OR(EOMONTH(M79,0)<$BD$7,AND(EOMONTH($BD$7,-1)+1<=M79,EOMONTH($BD$7,0)>=M79)),0,IF(COUNTA(B79:K79)>0,1,0)))","v":0},{"$f":"IF(M79=\"\",IF(COUNTA(B79:K79)>0,1,0),IF(OR(EOMONTH(M79,0)<$BE$7,AND(EOMONTH($BE$7,-1)+1<=M79,EOMONTH($BE$7,0)>=M79)),0,IF(COUNTA(B79:K79)>0,1,0)))","v":0},{"$f":"IF(M79=\"\",IF(COUNTA(B79:K79)>0,1,0),IF(OR(EOMONTH(M79,0)<$BF$7,AND(EOMONTH($BF$7,-1)+1<=M79,EOMONTH($BF$7,0)>=M79)),0,IF(COUNTA(B79:K79)>0,1,0)))","v":0},{"$f":"IF(M79=\"\",IF(COUNTA(B79:K79)>0,1,0),IF(OR(EOMONTH(M79,0)<$BG$7,AND(EOMONTH($BG$7,-1)+1<=M79,EOMONTH($BG$7,0)>=M79)),0,IF(COUNTA(B79:K79)>0,1,0)))","v":0},{"$f":"IF(M79=\"\",IF(COUNTA(B79:K79)>0,1,0),IF(OR(EOMONTH(M79,0)<$BH$7,AND(EOMONTH($BH$7,-1)+1<=M79,EOMONTH($BH$7,0)>=M79)),0,IF(COUNTA(B79:K79)>0,1,0)))","v":0},{"$f":"IF(M79=\"\",IF(COUNTA(B79:K79)>0,1,0),IF(OR(EOMONTH(M79,0)<$BI$7,AND(EOMONTH($BI$7,-1)+1<=M79,EOMONTH($BI$7,0)>=M79)),0,IF(COUNTA(B79:K79)>0,1,0)))","v":0},{"$f":"IF(M79=\"\",IF(COUNTA(B79:K79)>0,1,0),IF(OR(EOMONTH(M79,0)<$BJ$7,AND(EOMONTH($BJ$7,-1)+1<=M79,EOMONTH($BJ$7,0)>=M79)),0,IF(COUNTA(B79:K79)>0,1,0)))","v":0},{"$f":"IF(M79=\"\",IF(COUNTA(B79:K79)>0,1,0),IF(OR(EOMONTH(M79,0)<$BK$7,AND(EOMONTH($BK$7,-1)+1<=M79,EOMONTH($BK$7,0)>=M79)),0,IF(COUNTA(B79:K79)>0,1,0)))","v":0},{"$f":"IF(M79=\"\",IF(COUNTA(B79:K79)>0,1,0),IF(OR(EOMONTH(M79,0)<$BL$7,AND(EOMONTH($BL$7,-1)+1<=M79,EOMONTH($BL$7,0)>=M79)),0,IF(COUNTA(B79:K79)>0,1,0)))","v":0},{"$f":"IF(M79=\"\",IF(COUNTA(B79:K79)>0,1,0),IF(OR(EOMONTH(M79,0)<$BM$7,AND(EOMONTH($BM$7,-1)+1<=M79,EOMONTH($BM$7,0)>=M79)),0,IF(COUNTA(B79:K79)>0,1,0)))","v":0},{"$f":"IF(M79=\"\",IF(COUNTA(B79:K79)>0,1,0),IF(OR(EOMONTH(M79,0)<$BN$7,AND(EOMONTH($BN$7,-1)+1<=M79,EOMONTH($BN$7,0)>=M79)),0,IF(COUNTA(B79:K79)>0,1,0)))","v":0},{"$f":"IF(M79=\"\",IF(COUNTA(B79:K79)>0,1,0),IF(OR(EOMONTH(M79,0)<$BO$7,AND(EOMONTH($BO$7,-1)+1<=M79,EOMONTH($BO$7,0)>=M79)),0,IF(COUNTA(B79:K79)>0,1,0)))","v":0},{"$f":"IF(M79=\"\",IF(COUNTA(B79:K79)>0,1,0),IF(OR(EOMONTH(M79,0)<$BP$7,AND(EOMONTH($BP$7,-1)+1<=M79,EOMONTH($BP$7,0)>=M79)),0,IF(COUNTA(B79:K79)>0,1,0)))","v":0},{"$f":"IF(M79=\"\",IF(COUNTA(B79:K79)>0,1,0),IF(OR(EOMONTH(M79,0)<$BQ$7,AND(EOMONTH($BQ$7,-1)+1<=M79,EOMONTH($BQ$7,0)>=M79)),0,IF(COUNTA(B79:K79)>0,1,0)))","v":0},null,0,0,0,0,null,0,0]
[72,null,null,null,null,null,null,null,null,null,null,null,null,null,null,null,null,null,0,null,null,0,0,0,0,0,0,0,0,0,0,0,0,0,0,0,0,0,0,0,0,0,0,0,0,0,0,0,0,0,0,0,0,0,0,0,0,0,0,0,0,0,0,0,0,0,0,0,0,null,0,0,0,0,null,0,0]
[73,null,null,null,null,null,null,null,null,null,null,null,null,null,null,null,null,null,0,null,null,0,0,0,0,0,0,0,0,0,0,0,0,0,0,0,0,0,0,0,0,0,0,0,0,0,0,0,0,0,0,0,0,0,0,0,0,0,0,0,0,0,0,0,0,0,0,0,0,null,0,0,0,0,null,0,0]
[74,null,null,null,null,null,null,null,null,null,null,null,null,null,null,null,null,null,0,null,null,0,0,0,0,0,0,0,0,0,0,0,0,0,0,0,0,0,0,0,0,0,0,0,0,0,0,0,0,0,0,0,0,0,0,0,0,0,0,0,0,0,0,0,0,0,0,0,0,null,0,0,0,0,null,0,0]
[75,null,null,null,null,null,null,null,null,null,null,null,null,null,null,null,null,null,0,null,null,0,0,0,0,0,0,0,0,0,0,0,0,0,0,0,0,0,0,0,0,0,0,0,0,0,0,0,0,0,0,0,0,0,0,0,0,0,0,0,0,0,0,0,0,0,0,0,0,null,0,0,0,0,null,0,0]
[76,null,null,null,null,null,null,null,null,null,null,null,null,null,null,null,null,null,0,null,null,0,0,0,0,0,0,0,0,0,0,0,0,0,0,0,0,0,0,0,0,0,0,0,0,0,0,0,0,0,0,0,0,0,0,0,0,0,0,0,0,0,0,0,0,0,0,0,0,null,0,0,0,0,null,0,0]
[77,null,null,null,null,null,null,null,null,null,null,null,null,null,null,null,null,null,0,null,null,0,0,0,0,0,0,0,0,0,0,0,0,0,0,0,0,0,0,0,0,0,0,0,0,0,0,0,0,0,0,0,0,0,0,0,0,0,0,0,0,0,0,0,0,0,0,0,0,null,0,0,0,0,null,0,0]
[78,null,null,null,null,null,null,null,null,null,null,null,null,null,null,null,null,null,0,null,null,0,0,0,0,0,0,0,0,0,0,0,0,0,0,0,0,0,0,0,0,0,0,0,0,0,0,0,0,0,0,0,0,0,0,0,0,0,0,0,0,0,0,0,0,0,0,0,0,null,0,0,0,0,null,0,0]
[79,null,null,null,null,null,null,null,null,null,null,null,null,null,null,null,null,null,0,null,null,0,0,0,0,0,0,0,0,0,0,0,0,0,0,0,0,0,0,0,0,0,0,0,0,0,0,0,0,0,0,0,0,0,0,0,0,0,0,0,0,0,0,0,0,0,0,0,0,null,0,0,0,0,null,0,0]
[80,null,null,null,null,null,null,null,null,null,null,null,null,null,null,null,null,null,0,null,null,0,0,0,0,0,0,0,0,0,0,0,0,0,0,0,0,0,0,0,0,0,0,0,0,0,0,0,0,0,0,0,0,0,0,0,0,0,0,0,0,0,0,0,0,0,0,0,0,null,0,0,0,0,null,0,0]
[81,null,null,null,null,null,null,null,null,null,null,null,null,null,null,null,null,null,0,null,null,0,0,0,0,0,0,0,0,0,0,0,0,0,0,0,0,0,0,0,0,0,0,0,0,0,0,0,0,0,0,0,0,0,0,0,0,0,0,0,0,0,0,0,0,0,0,0,0,null,0,0,0,0,null,0,0]
[82,null,null,null,null,null,null,null,null,null,null,null,null,null,null,null,null,null,0,null,null,0,0,0,0,0,0,0,0,0,0,0,0,0,0,0,0,0,0,0,0,0,0,0,0,0,0,0,0,0,0,0,0,0,0,0,0,0,0,0,0,0,0,0,0,0,0,0,0,null,0,0,0,0,null,0,0]
[83,null,null,null,null,null,null,null,null,null,null,null,null,null,null,null,null,null,0,null,null,0,0,0,0,0,0,0,0,0,0,0,0,0,0,0,0,0,0,0,0,0,0,0,0,0,0,0,0,0,0,0,0,0,0,0,0,0,0,0,0,0,0,0,0,0,0,0,0,null,0,0,0,0,null,0,0]
[84,null,null,null,null,null,null,null,null,null,null,null,null,null,null,null,null,null,0,null,null,0,0,0,0,0,0,0,0,0,0,0,0,0,0,0,0,0,0,0,0,0,0,0,0,0,0,0,0,0,0,0,0,0,0,0,0,0,0,0,0,0,0,0,0,0,0,0,0,null,0,0,0,0,null,0,0]
[85,null,null,null,null,null,null,null,null,null,null,null,null,null,null,null,null,null,0,null,null,0,0,0,0,0,0,0,0,0,0,0,0,0,0,0,0,0,0,0,0,0,0,0,0,0,0,0,0,0,0,0,0,0,0,0,0,0,0,0,0,0,0,0,0,0,0,0,0,null,0,0,0,0,null,0,0]
[86,null,null,null,null,null,null,null,null,null,null,null,null,null,null,null,null,null,0,null,null,0,0,0,0,0,0,0,0,0,0,0,0,0,0,0,0,0,0,0,0,0,0,0,0,0,0,0,0,0,0,0,0,0,0,0,0,0,0,0,0,0,0,0,0,0,0,0,0,null,0,0,0,0,null,0,0]
[87,null,null,null,null,null,null,null,null,null,null,null,null,null,null,null,null,null,0,null,null,0,0,0,0,0,0,0,0,0,0,0,0,0,0,0,0,0,0,0,0,0,0,0,0,0,0,0,0,0,0,0,0,0,0,0,0,0,0,0,0,0,0,0,0,0,0,0,0,null,0,0,0,0,null,0,0]
[88,null,null,null,null,null,null,null,null,null,null,null,null,null,null,null,null,null,0,null,null,0,0,0,0,0,0,0,0,0,0,0,0,0,0,0,0,0,0,0,0,0,0,0,0,0,0,0,0,0,0,0,0,0,0,0,0,0,0,0,0,0,0,0,0,0,0,0,0,null,0,0,0,0,null,0,0]
[89,null,null,null,null,null,null,null,null,null,null,null,null,null,null,null,null,null,0,null,null,0,0,0,0,0,0,0,0,0,0,0,0,0,0,0,0,0,0,0,0,0,0,0,0,0,0,0,0,0,0,0,0,0,0,0,0,0,0,0,0,0,0,0,0,0,0,0,0,null,0,0,0,0,null,0,0]
[90,null,null,null,null,null,null,null,null,null,null,null,null,null,null,null,null,null,0,null,null,0,0,0,0,0,0,0,0,0,0,0,0,0,0,0,0,0,0,0,0,0,0,0,0,0,0,0,0,0,0,0,0,0,0,0,0,0,0,0,0,0,0,0,0,0,0,0,0,null,0,0,0,0,null,0,0]
[91,null,null,null,null,null,null,null,null,null,null,null,null,null,null,null,null,null,0,null,null,0,0,0,0,0,0,0,0,0,0,0,0,0,0,0,0,0,0,0,0,0,0,0,0,0,0,0,0,0,0,0,0,0,0,0,0,0,0,0,0,0,0,0,0,0,0,0,0,null,0,0,0,0,null,0,0]
[92,null,null,null,null,null,null,null,null,null,null,null,null,null,null,null,null,null,0,null,null,0,0,0,0,0,0,0,0,0,0,0,0,0,0,0,0,0,0,0,0,0,0,0,0,0,0,0,0,0,0,0,0,0,0,0,0,0,0,0,0,0,0,0,0,0,0,0,0,null,0,0,0,0,null,0,0]
[93,null,null,null,null,null,null,null,null,null,null,null,null,null,null,null,null,null,0,null,null,0,0,0,0,0,0,0,0,0,0,0,0,0,0,0,0,0,0,0,0,0,0,0,0,0,0,0,0,0,0,0,0,0,0,0,0,0,0,0,0,0,0,0,0,0,0,0,0,null,0,0,0,0,null,0,0]
[94,null,null,null,null,null,null,null,null,null,null,null,null,null,null,null,null,null,0,null,null,0,0,0,0,0,0,0,0,0,0,0,0,0,0,0,0,0,0,0,0,0,0,0,0,0,0,0,0,0,0,0,0,0,0,0,0,0,0,0,0,0,0,0,0,0,0,0,0,null,0,0,0,0,null,0,0]
[95,null,null,null,null,null,null,null,null,null,null,null,null,null,null,null,null,null,0,null,null,0,0,0,0,0,0,0,0,0,0,0,0,0,0,0,0,0,0,0,0,0,0,0,0,0,0,0,0,0,0,0,0,0,0,0,0,0,0,0,0,0,0,0,0,0,0,0,0,null,0,0,0,0,null,0,0]
[96,null,null,null,null,null,null,null,null,null,null,null,null,null,null,null,null,null,0,null,null,0,0,0,0,0,0,0,0,0,0,0,0,0,0,0,0,0,0,0,0,0,0,0,0,0,0,0,0,0,0,0,0,0,0,0,0,0,0,0,0,0,0,0,0,0,0,0,0,null,0,0,0,0,null,0,0]
[97,null,null,null,null,null,null,null,null,null,null,null,null,null,null,null,null,null,0,null,null,0,0,0,0,0,0,0,0,0,0,0,0,0,0,0,0,0,0,0,0,0,0,0,0,0,0,0,0,0,0,0,0,0,0,0,0,0,0,0,0,0,0,0,0,0,0,0,0,null,0,0,0,0,null,0,0]
[98,null,null,null,null,null,null,null,null,null,null,null,null,null,null,null,null,null,0,null,null,0,0,0,0,0,0,0,0,0,0,0,0,0,0,0,0,0,0,0,0,0,0,0,0,0,0,0,0,0,0,0,0,0,0,0,0,0,0,0,0,0,0,0,0,0,0,0,0,null,0,0,0,0,null,0,0]
[99,null,null,null,null,null,null,null,null,null,null,null,null,null,null,null,null,null,0,null,null,0,0,0,0,0,0,0,0,0,0,0,0,0,0,0,0,0,0,0,0,0,0,0,0,0,0,0,0,0,0,0,0,0,0,0,0,0,0,0,0,0,0,0,0,0,0,0,0,null,0,0,0,0,null,0,0]
[100,null,null,null,null,null,null,null,null,null,null,null,null,null,null,null,null,null,0,null,null,0,0,0,0,0,0,0,0,0,0,0,0,0,0,0,0,0,0,0,0,0,0,0,0,0,0,0,0,0,0,0,0,0,0,0,0,0,0,0,0,0,0,0,0,0,0,0,0,null,0,0,0,0,null,0,0]
[101,null,null,null,null,null,null,null,null,null,null,null,null,null,null,null,null,null,0,null,null,0,0,0,0,0,0,0,0,0,0,0,0,0,0,0,0,0,0,0,0,0,0,0,0,0,0,0,0,0,0,0,0,0,0,0,0,0,0,0,0,0,0,0,0,0,0,0,0,null,0,0,0,0,null,0,0]
[102,null,null,null,null,null,null,null,null,null,null,null,null,null,null,null,null,null,0,null,null,0,0,0,0,0,0,0,0,0,0,0,0,0,0,0,0,0,0,0,0,0,0,0,0,0,0,0,0,0,0,0,0,0,0,0,0,0,0,0,0,0,0,0,0,0,0,0,0,null,0,0,0,0,null,0,0]
[103,null,null,null,null,null,null,null,null,null,null,null,null,null,null,null,null,null,0,null,null,0,0,0,0,0,0,0,0,0,0,0,0,0,0,0,0,0,0,0,0,0,0,0,0,0,0,0,0,0,0,0,0,0,0,0,0,0,0,0,0,0,0,0,0,0,0,0,0,null,0,0,0,0,null,0,0]
[104,null,null,null,null,null,null,null,null,null,null,null,null,null,null,null,null,null,0,null,null,0,0,0,0,0,0,0,0,0,0,0,0,0,0,0,0,0,0,0,0,0,0,0,0,0,0,0,0,0,0,0,0,0,0,0,0,0,0,0,0,0,0,0,0,0,0,0,0,null,0,0,0,0,null,0,0]
[105,null,null,null,null,null,null,null,null,null,null,null,null,null,null,null,null,null,0,null,null,0,0,0,0,0,0,0,0,0,0,0,0,0,0,0,0,0,0,0,0,0,0,0,0,0,0,0,0,0,0,0,0,0,0,0,0,0,0,0,0,0,0,0,0,0,0,0,0,null,0,0,0,0,null,0,0]
[106,null,null,null,null,null,null,null,null,null,null,null,null,null,null,null,null,null,0,null,null,0,0,0,0,0,0,0,0,0,0,0,0,0,0,0,0,0,0,0,0,0,0,0,0,0,0,0,0,0,0,0,0,0,0,0,0,0,0,0,0,0,0,0,0,0,0,0,0,null,0,0,0,0,null,0,0]
[107,null,null,null,null,null,null,null,null,null,null,null,null,null,null,null,null,null,0,null,null,0,0,0,0,0,0,0,0,0,0,0,0,0,0,0,0,0,0,0,0,0,0,0,0,0,0,0,0,0,0,0,0,0,0,0,0,0,0,0,0,0,0,0,0,0,0,0,0,null,0,0,0,0,null,0,0]
[108,null,null,null,null,null,null,null,null,null,null,null,null,null,null,null,null,null,0,null,null,0,0,0,0,0,0,0,0,0,0,0,0,0,0,0,0,0,0,0,0,0,0,0,0,0,0,0,0,0,0,0,0,0,0,0,0,0,0,0,0,0,0,0,0,0,0,0,0,null,0,0,0,0,null,0,0]
[109,null,null,null,null,null,null,null,null,null,null,null,null,null,null,null,null,null,0,null,null,0,0,0,0,0,0,0,0,0,0,0,0,0,0,0,0,0,0,0,0,0,0,0,0,0,0,0,0,0,0,0,0,0,0,0,0,0,0,0,0,0,0,0,0,0,0,0,0,null,0,0,0,0,null,0,0]
[110,null,null,null,null,null,null,null,null,null,null,null,null,null,null,null,null,null,0,null,null,0,0,0,0,0,0,0,0,0,0,0,0,0,0,0,0,0,0,0,0,0,0,0,0,0,0,0,0,0,0,0,0,0,0,0,0,0,0,0,0,0,0,0,0,0,0,0,0,null,0,0,0,0,null,0,0]
[111,null,null,null,null,null,null,null,null,null,null,null,null,null,null,null,null,null,0,null,null,0,0,0,0,0,0,0,0,0,0,0,0,0,0,0,0,0,0,0,0,0,0,0,0,0,0,0,0,0,0,0,0,0,0,0,0,0,0,0,0,0,0,0,0,0,0,0,0,null,0,0,0,0,null,0,0]
[112,null,null,null,null,null,null,null,null,null,null,null,null,null,null,null,null,null,0,null,null,0,0,0,0,0,0,0,0,0,0,0,0,0,0,0,0,0,0,0,0,0,0,0,0,0,0,0,0,0,0,0,0,0,0,0,0,0,0,0,0,0,0,0,0,0,0,0,0,null,0,0,0,0,null,0,0]
[113,null,null,null,null,null,null,null,null,null,null,null,null,null,null,null,null,null,0,null,null,0,0,0,0,0,0,0,0,0,0,0,0,0,0,0,0,0,0,0,0,0,0,0,0,0,0,0,0,0,0,0,0,0,0,0,0,0,0,0,0,0,0,0,0,0,0,0,0,null,0,0,0,0,null,0,0]
[114,null,null,null,null,null,null,null,null,null,null,null,null,null,null,null,null,null,0,null,null,0,0,0,0,0,0,0,0,0,0,0,0,0,0,0,0,0,0,0,0,0,0,0,0,0,0,0,0,0,0,0,0,0,0,0,0,0,0,0,0,0,0,0,0,0,0,0,0,null,0,0,0,0,null,0,0]
[115,null,null,null,null,null,null,null,null,null,null,null,null,null,null,null,null,null,0,null,null,0,0,0,0,0,0,0,0,0,0,0,0,0,0,0,0,0,0,0,0,0,0,0,0,0,0,0,0,0,0,0,0,0,0,0,0,0,0,0,0,0,0,0,0,0,0,0,0,null,0,0,0,0,null,0,0]
[116,null,null,null,null,null,null,null,null,null,null,null,null,null,null,null,null,null,0,null,null,0,0,0,0,0,0,0,0,0,0,0,0,0,0,0,0,0,0,0,0,0,0,0,0,0,0,0,0,0,0,0,0,0,0,0,0,0,0,0,0,0,0,0,0,0,0,0,0,null,0,0,0,0,null,0,0]
[117,null,null,null,null,null,null,null,null,null,null,null,null,null,null,null,null,null,0,null,null,0,0,0,0,0,0,0,0,0,0,0,0,0,0,0,0,0,0,0,0,0,0,0,0,0,0,0,0,0,0,0,0,0,0,0,0,0,0,0,0,0,0,0,0,0,0,0,0,null,0,0,0,0,null,0,0]
[118,null,null,null,null,null,null,null,null,null,null,null,null,null,null,null,null,null,0,null,null,0,0,0,0,0,0,0,0,0,0,0,0,0,0,0,0,0,0,0,0,0,0,0,0,0,0,0,0,0,0,0,0,0,0,0,0,0,0,0,0,0,0,0,0,0,0,0,0,null,0,0,0,0,null,0,0]
[119,null,null,null,null,null,null,null,null,null,null,null,null,null,null,null,null,null,0,null,null,0,0,0,0,0,0,0,0,0,0,0,0,0,0,0,0,0,0,0,0,0,0,0,0,0,0,0,0,0,0,0,0,0,0,0,0,0,0,0,0,0,0,0,0,0,0,0,0,null,0,0,0,0,null,0,0]
[120,null,null,null,null,null,null,null,null,null,null,null,null,null,null,null,null,null,0,null,null,0,0,0,0,0,0,0,0,0,0,0,0,0,0,0,0,0,0,0,0,0,0,0,0,0,0,0,0,0,0,0,0,0,0,0,0,0,0,0,0,0,0,0,0,0,0,0,0,null,0,0,0,0,null,0,0]
[121,null,null,null,null,null,null,null,null,null,null,null,null,null,null,null,null,null,0,null,null,0,0,0,0,0,0,0,0,0,0,0,0,0,0,0,0,0,0,0,0,0,0,0,0,0,0,0,0,0,0,0,0,0,0,0,0,0,0,0,0,0,0,0,0,0,0,0,0,null,0,0,0,0,null,0,0]
[122,null,null,null,null,null,null,null,null,null,null,null,null,null,null,null,null,null,0,null,null,0,0,0,0,0,0,0,0,0,0,0,0,0,0,0,0,0,0,0,0,0,0,0,0,0,0,0,0,0,0,0,0,0,0,0,0,0,0,0,0,0,0,0,0,0,0,0,0,null,0,0,0,0,null,0,0]
[123,null,null,null,null,null,null,null,null,null,null,null,null,null,null,null,null,null,0,null,null,0,0,0,0,0,0,0,0,0,0,0,0,0,0,0,0,0,0,0,0,0,0,0,0,0,0,0,0,0,0,0,0,0,0,0,0,0,0,0,0,0,0,0,0,0,0,0,0,null,0,0,0,0,null,0,0]
[124,null,null,null,null,null,null,null,null,null,null,null,null,null,null,null,null,null,0,null,null,0,0,0,0,0,0,0,0,0,0,0,0,0,0,0,0,0,0,0,0,0,0,0,0,0,0,0,0,0,0,0,0,0,0,0,0,0,0,0,0,0,0,0,0,0,0,0,0,null,0,0,0,0,null,0,0]
[125,null,null,null,null,null,null,null,null,null,null,null,null,null,null,null,null,null,0,null,null,0,0,0,0,0,0,0,0,0,0,0,0,0,0,0,0,0,0,0,0,0,0,0,0,0,0,0,0,0,0,0,0,0,0,0,0,0,0,0,0,0,0,0,0,0,0,0,0,null,0,0,0,0,null,0,0]
[126,null,null,null,null,null,null,null,null,null,null,null,null,null,null,null,null,null,0,null,null,0,0,0,0,0,0,0,0,0,0,0,0,0,0,0,0,0,0,0,0,0,0,0,0,0,0,0,0,0,0,0,0,0,0,0,0,0,0,0,0,0,0,0,0,0,0,0,0,null,0,0,0,0,null,0,0]
[127,null,null,null,null,null,null,null,null,null,null,null,null,null,null,null,null,null,0,null,null,0,0,0,0,0,0,0,0,0,0,0,0,0,0,0,0,0,0,0,0,0,0,0,0,0,0,0,0,0,0,0,0,0,0,0,0,0,0,0,0,0,0,0,0,0,0,0,0,null,0,0,0,0,null,0,0]
[128,null,null,null,null,null,null,null,null,null,null,null,null,null,null,null,null,null,0,null,null,0,0,0,0,0,0,0,0,0,0,0,0,0,0,0,0,0,0,0,0,0,0,0,0,0,0,0,0,0,0,0,0,0,0,0,0,0,0,0,0,0,0,0,0,0,0,0,0,null,0,0,0,0,null,0,0]
[129,null,null,null,null,null,null,null,null,null,null,null,null,null,null,null,null,null,0,null,null,0,0,0,0,0,0,0,0,0,0,0,0,0,0,0,0,0,0,0,0,0,0,0,0,0,0,0,0,0,0,0,0,0,0,0,0,0,0,0,0,0,0,0,0,0,0,0,0,null,0,0,0,0,null,0,0]
[130,null,null,null,null,null,null,null,null,null,null,null,null,null,null,null,null,null,{"$f":"IF(E138=\"\",0,IF(VALUE(E138)>VALUE($E$4),0,1))","v":0},null,null,{"$f":"IF(M138=\"\",IF(COUNTA(B138:K138)>0,1,0),IF(OR(EOMONTH(M138,0)<$V$7,AND(EOMONTH($V$7,-1)+1<=M138,EOMONTH($V$7,0)>=M138)),0,IF(COUNTA(B138:K138)>0,1,0)))","v":0},{"$f":"IF(M138=\"\",IF(COUNTA(B138:K138)>0,1,0),IF(OR(EOMONTH(M138,0)<$W$7,AND(EOMONTH($W$7,-1)+1<=M138,EOMONTH($W$7,0)>=M138)),0,IF(COUNTA(B138:K138)>0,1,0)))","v":0},{"$f":"IF(M138=\"\",IF(COUNTA(B138:K138)>0,1,0),IF(OR(EOMONTH(M138,0)<$X$7,AND(EOMONTH($X$7,-1)+1<=M138,EOMONTH($X$7,0)>=M138)),0,IF(COUNTA(B138:K138)>0,1,0)))","v":0},{"$f":"IF(M138=\"\",IF(COUNTA(B138:K138)>0,1,0),IF(OR(EOMONTH(M138,0)<$Y$7,AND(EOMONTH($Y$7,-1)+1<=M138,EOMONTH($Y$7,0)>=M138)),0,IF(COUNTA(B138:K138)>0,1,0)))","v":0},0,0,0,0,0,0,0,0,{"$f":"IF(M138=\"\",IF(COUNTA(B138:K138)>0,1,0),IF(OR(EOMONTH(M138,0)<$AH$7,AND(EOMONTH($AH$7,-1)+1<=M138,EOMONTH($AH$7,0)>=M138)),0,IF(COUNTA(B138:K138)>0,1,0)))","v":0},{"$f":"IF(M138=\"\",IF(COUNTA(B138:K138)>0,1,0),IF(OR(EOMONTH(M138,0)<$AI$7,AND(EOMONTH($AI$7,-1)+1<=M138,EOMONTH($AI$7,0)>=M138)),0,IF(COUNTA(B138:K138)>0,1,0)))","v":0},{"$f":"IF(M138=\"\",IF(COUNTA(B138:K138)>0,1,0),IF(OR(EOMONTH(M138,0)<$AJ$7,AND(EOMONTH($AJ$7,-1)+1<=M138,EOMONTH($AJ$7,0)>=M138)),0,IF(COUNTA(B138:K138)>0,1,0)))","v":0},{"$f":"IF(M138=\"\",IF(COUNTA(B138:K138)>0,1,0),IF(OR(EOMONTH(M138,0)<$AK$7,AND(EOMONTH($AK$7,-1)+1<=M138,EOMONTH($AK$7,0)>=M138)),0,IF(COUNTA(B138:K138)>0,1,0)))","v":0},{"$f":"IF(M138=\"\",IF(COUNTA(B138:K138)>0,1,0),IF(OR(EOMONTH(M138,0)<$AL$7,AND(EOMONTH($AL$7,-1)+1<=M138,EOMONTH($AL$7,0)>=M138)),0,IF(COUNTA(B138:K138)>0,1,0)))","v":0},{"$f":"IF(M138=\"\",IF(COUNTA(B138:K138)>0,1,0),IF(OR(EOMONTH(M138,0)<$AM$7,AND(EOMONTH($AM$7,-1)+1<=M138,EOMONTH($AM$7,0)>=M138)),0,IF(COUNTA(B138:K138)>0,1,0)))","v":0},{"$f":"IF(M138=\"\",IF(COUNTA(B138:K138)>0,1,0),IF(OR(EOMONTH(M138,0)<$AN$7,AND(EOMONTH($AN$7,-1)+1<=M138,EOMONTH($AN$7,0)>=M138)),0,IF(COUNTA(B138:K138)>0,1,0)))","v":0},{"$f":"IF(M138=\"\",IF(COUNTA(B138:K138)>0,1,0),IF(OR(EOMONTH(M138,0)<$AO$7,AND(EOMONTH($AO$7,-1)+1<=M138,EOMONTH($AO$7,0)>=M138)),0,IF(COUNTA(B138:K138)>0,1,0)))","v":0},{"$f":"IF(M138=\"\",IF(COUNTA(B138:K138)>0,1,0),IF(OR(EOMONTH(M138,0)<$AP$7,AND(EOMONTH($AP$7,-1)+1<=M138,EOMONTH($AP$7,0)>=M138)),0,IF(COUNTA(B138:K138)>0,1,0)))","v":0},{"$f":"IF(M138=\"\",IF(COUNTA(B138:K138)>0,1,0),IF(OR(EOMONTH(M138,0)<$AQ$7,AND(EOMONTH($AQ$7,-1)+1<=M138,EOMONTH($AQ$7,0)>=M138)),0,IF(COUNTA(B138:K138)>0,1,0)))","v":0},{"$f":"IF(M138=\"\",IF(COUNTA(B138:K138)>0,1,0),IF(OR(EOMONTH(M138,0)<$AR$7,AND(EOMONTH($AR$7,-1)+1<=M138,EOMONTH($AR$7,0)>=M138)),0,IF(COUNTA(B138:K138)>0,1,0)))","v":0},{"$f":"IF(M138=\"\",IF(COUNTA(B138:K138)>0,1,0),IF(OR(EOMONTH(M138,0)<$AS$7,AND(EOMONTH($AS$7,-1)+1<=M138,EOMONTH($AS$7,0)>=M138)),0,IF(COUNTA(B138:K138)>0,1,0)))","v":0},{"$f":"IF(M138=\"\",IF(COUNTA(B138:K138)>0,1,0),IF(OR(EOMONTH(M138,0)<$AT$7,AND(EOMONTH($AT$7,-1)+1<=M138,EOMONTH($AT$7,0)>=M138)),0,IF(COUNTA(B138:K138)>0,1,0)))","v":0},{"$f":"IF(M138=\"\",IF(COUNTA(B138:K138)>0,1,0),IF(OR(EOMONTH(M138,0)<$AU$7,AND(EOMONTH($AU$7,-1)+1<=M138,EOMONTH($AU$7,0)>=M138)),0,IF(COUNTA(B138:K138)>0,1,0)))","v":0},{"$f":"IF(M138=\"\",IF(COUNTA(B138:K138)>0,1,0),IF(OR(EOMONTH(M138,0)<$AV$7,AND(EOMONTH($AV$7,-1)+1<=M138,EOMONTH($AV$7,0)>=M138)),0,IF(COUNTA(B138:K138)>0,1,0)))","v":0},{"$f":"IF(M138=\"\",IF(COUNTA(B138:K138)>0,1,0),IF(OR(EOMONTH(M138,0)<$AW$7,AND(EOMONTH($AW$7,-1)+1<=M138,EOMONTH($AW$7,0)>=M138)),0,IF(COUNTA(B138:K138)>0,1,0)))","v":0},0,0,0,0,0,0,0,0,0,0,0,0,0,0,0,0,0,0,0,0,null,0,{"$f":"IF(M138=\"\",IF(G138<>\"\",1,0),IF(OR(EOMONTH(M138,0)<EOMONTH(TODAY(),0),AND(EOMONTH(TODAY(),-1)+1<=M138,EOMONTH(TODAY(),0)>=M138)),0,IF(G138<>\"\",1,0)))","v":0},{"$f":"IF(M138=\"\",IF(H138<>\"\",1,0),IF(OR(EOMONTH(M138,0)<EOMONTH(TODAY(),0),AND(EOMONTH(TODAY(),-1)+1<=M138,EOMONTH(TODAY(),0)>=M138)),0,IF(H138<>\"\",1,0)))","v":0},{"$f":"IF(M138=\"\",IF(I138<>\"\",1,0),IF(OR(EOMONTH(M138,0)<EOMONTH(TODAY(),0),AND(EOMONTH(TODAY(),-1)+1<=M138,EOMONTH(TODAY(),0)>=M138)),0,IF(I138<>\"\",1,0)))","v":0},null,{"$f":"SUMIFS(V138:BQ138,$V$7:$BQ$7,\">=\"&EOMONTH(TODAY(),-1)+1,$V$7:$BQ$7,\"<=\"&EOMONTH(TODAY(),0))","v":0},{"$f":"IF(M138=\"\",IF(J138>0,1,0),IF(EOMONTH(M138,0)<$BQ$7,0,IF(J138>0,1,0)))","v":0}]
[131,null,null,null,null,null,null,null,null,null,null,null,null,null,null,null,null,null,0,null,null,0,0,0,0,{"$f":"IF(M139=\"\",IF(COUNTA(B139:K139)>0,1,0),IF(OR(EOMONTH(M139,0)<$Z$7,AND(EOMONTH($Z$7,-1)+1<=M139,EOMONTH($Z$7,0)>=M139)),0,IF(COUNTA(B139:K139)>0,1,0)))","v":0},0,0,0,0,0,0,0,0,0,0,0,0,0,0,0,0,0,0,0,0,0,0,0,0,0,0,0,0,0,0,0,0,0,0,0,0,0,0,0,0,0,0,0,null,0,0,0,0,null,0,0]
[132,null,null,null,null,null,null,null,null,null,null,null,null,null,null,null,null,null,0,null,null,0,0,0,0,0,0,0,0,0,0,0,0,0,0,0,0,0,0,0,0,0,0,0,0,0,0,0,0,0,0,0,0,0,0,0,0,0,0,0,0,0,0,0,0,0,0,0,0,null,0,0,0,0,null,0,0]
[133,null,null,null,null,null,null,null,null,null,null,null,null,null,null,null,null,null,0,null,null,0,0,0,0,0,0,0,0,0,0,0,0,0,0,0,0,0,0,0,0,0,0,0,0,0,0,0,0,0,0,0,0,0,0,0,0,0,0,0,0,0,0,0,0,0,0,0,0,null,{"$f":"IF(M141=\"\",IF(F141<>\"\",1,0),IF(OR(EOMONTH(M141,0)<EOMONTH(TODAY(),0),AND(EOMONTH(TODAY(),-1)+1<=M141,EOMONTH(TODAY(),0)>=M141)),0,IF(F141<>\"\",1,0)))","v":0},0,0,0,null,0,0]
[134,null,null,null,null,null,null,null,null,null,null,null,null,null,null,null,null,null,0,null,null,0,0,0,0,0,{"$f":"IF(M142=\"\",IF(COUNTA(B142:K142)>0,1,0),IF(OR(EOMONTH(M142,0)<$AA$7,AND(EOMONTH($AA$7,-1)+1<=M142,EOMONTH($AA$7,0)>=M142)),0,IF(COUNTA(B142:K142)>0,1,0)))","v":0},{"$f":"IF(M142=\"\",IF(COUNTA(B142:K142)>0,1,0),IF(OR(EOMONTH(M142,0)<$AB$7,AND(EOMONTH($AB$7,-1)+1<=M142,EOMONTH($AB$7,0)>=M142)),0,IF(COUNTA(B142:K142)>0,1,0)))","v":0},{"$f":"IF(M142=\"\",IF(COUNTA(B142:K142)>0,1,0),IF(OR(EOMONTH(M142,0)<$AC$7,AND(EOMONTH($AC$7,-1)+1<=M142,EOMONTH($AC$7,0)>=M142)),0,IF(COUNTA(B142:K142)>0,1,0)))","v":0},{"$f":"IF(M142=\"\",IF(COUNTA(B142:K142)>0,1,0),IF(OR(EOMONTH(M142,0)<$AD$7,AND(EOMONTH($AD$7,-1)+1<=M142,EOMONTH($AD$7,0)>=M142)),0,IF(COUNTA(B142:K142)>0,1,0)))","v":0},{"$f":"IF(M142=\"\",IF(COUNTA(B142:K142)>0,1,0),IF(OR(EOMONTH(M142,0)<$AE$7,AND(EOMONTH($AE$7,-1)+1<=M142,EOMONTH($AE$7,0)>=M142)),0,IF(COUNTA(B142:K142)>0,1,0)))","v":0},{"$f":"IF(M142=\"\",IF(COUNTA(B142:K142)>0,1,0),IF(OR(EOMONTH(M142,0)<$AF$7,AND(EOMONTH($AF$7,-1)+1<=M142,EOMONTH($AF$7,0)>=M142)),0,IF(COUNTA(B142:K142)>0,1,0)))","v":0},{"$f":"IF(M142=\"\",IF(COUNTA(B142:K142)>0,1,0),IF(OR(EOMONTH(M142,0)<$AG$7,AND(EOMONTH($AG$7,-1)+1<=M142,EOMONTH($AG$7,0)>=M142)),0,IF(COUNTA(B142:K142)>0,1,0)))","v":0},0,0,0,0,0,0,0,0,0,0,0,0,0,0,0,0,0,0,0,0,0,0,0,0,0,0,0,0,0,0,0,0,0,0,0,0,null,0,0,0,0,null,0,0]
[135,null,null,null,null,null,null,null,null,null,null,null,null,null,null,null,null,null,0,null,null,0,0,0,0,0,0,0,0,0,0,0,0,0,0,0,0,0,0,0,0,0,0,0,0,0,0,0,0,{"$f":"IF(M143=\"\",IF(COUNTA(B143:K143)>0,1,0),IF(OR(EOMONTH(M143,0)<$AX$7,AND(EOMONTH($AX$7,-1)+1<=M143,EOMONTH($AX$7,0)>=M143)),0,IF(COUNTA(B143:K143)>0,1,0)))","v":0},{"$f":"IF(M143=\"\",IF(COUNTA(B143:K143)>0,1,0),IF(OR(EOMONTH(M143,0)<$AY$7,AND(EOMONTH($AY$7,-1)+1<=M143,EOMONTH($AY$7,0)>=M143)),0,IF(COUNTA(B143:K143)>0,1,0)))","v":0},{"$f":"IF(M143=\"\",IF(COUNTA(B143:K143)>0,1,0),IF(OR(EOMONTH(M143,0)<$AZ$7,AND(EOMONTH($AZ$7,-1)+1<=M143,EOMONTH($AZ$7,0)>=M143)),0,IF(COUNTA(B143:K143)>0,1,0)))","v":0},{"$f":"IF(M143=\"\",IF(COUNTA(B143:K143)>0,1,0),IF(OR(EOMONTH(M143,0)<$BA$7,AND(EOMONTH($BA$7,-1)+1<=M143,EOMONTH($BA$7,0)>=M143)),0,IF(COUNTA(B143:K143)>0,1,0)))","v":0},{"$f":"IF(M143=\"\",IF(COUNTA(B143:K143)>0,1,0),IF(OR(EOMONTH(M143,0)<$BB$7,AND(EOMONTH($BB$7,-1)+1<=M143,EOMONTH($BB$7,0)>=M143)),0,IF(COUNTA(B143:K143)>0,1,0)))","v":0},{"$f":"IF(M143=\"\",IF(COUNTA(B143:K143)>0,1,0),IF(OR(EOMONTH(M143,0)<$BC$7,AND(EOMONTH($BC$7,-1)+1<=M143,EOMONTH($BC$7,0)>=M143)),0,IF(COUNTA(B143:K143)>0,1,0)))","v":0},{"$f":"IF(M143=\"\",IF(COUNTA(B143:K143)>0,1,0),IF(OR(EOMONTH(M143,0)<$BD$7,AND(EOMONTH($BD$7,-1)+1<=M143,EOMONTH($BD$7,0)>=M143)),0,IF(COUNTA(B143:K143)>0,1,0)))","v":0},{"$f":"IF(M143=\"\",IF(COUNTA(B143:K143)>0,1,0),IF(OR(EOMONTH(M143,0)<$BE$7,AND(EOMONTH($BE$7,-1)+1<=M143,EOMONTH($BE$7,0)>=M143)),0,IF(COUNTA(B143:K143)>0,1,0)))","v":0},{"$f":"IF(M143=\"\",IF(COUNTA(B143:K143)>0,1,0),IF(OR(EOMONTH(M143,0)<$BF$7,AND(EOMONTH($BF$7,-1)+1<=M143,EOMONTH($BF$7,0)>=M143)),0,IF(COUNTA(B143:K143)>0,1,0)))","v":0},{"$f":"IF(M143=\"\",IF(COUNTA(B143:K143)>0,1,0),IF(OR(EOMONTH(M143,0)<$BG$7,AND(EOMONTH($BG$7,-1)+1<=M143,EOMONTH($BG$7,0)>=M143)),0,IF(COUNTA(B143:K143)>0,1,0)))","v":0},{"$f":"IF(M143=\"\",IF(COUNTA(B143:K143)>0,1,0),IF(OR(EOMONTH(M143,0)<$BH$7,AND(EOMONTH($BH$7,-1)+1<=M143,EOMONTH($BH$7,0)>=M143)),0,IF(COUNTA(B143:K143)>0,1,0)))","v":0},{"$f":"IF(M143=\"\",IF(COUNTA(B143:K143)>0,1,0),IF(OR(EOMONTH(M143,0)<$BI$7,AND(EOMONTH($BI$7,-1)+1<=M143,EOMONTH($BI$7,0)>=M143)),0,IF(COUNTA(B143:K143)>0,1,0)))","v":0},{"$f":"IF(M143=\"\",IF(COUNTA(B143:K143)>0,1,0),IF(OR(EOMONTH(M143,0)<$BJ$7,AND(EOMONTH($BJ$7,-1)+1<=M143,EOMONTH($BJ$7,0)>=M143)),0,IF(COUNTA(B143:K143)>0,1,0)))","v":0},{"$f":"IF(M143=\"\",IF(COUNTA(B143:K143)>0,1,0),IF(OR(EOMONTH(M143,0)<$BK$7,AND(EOMONTH($BK$7,-1)+1<=M143,EOMONTH($BK$7,0)>=M143)),0,IF(COUNTA(B143:K143)>0,1,0)))","v":0},{"$f":"IF(M143=\"\",IF(COUNTA(B143:K143)>0,1,0),IF(OR(EOMONTH(M143,0)<$BL$7,AND(EOMONTH($BL$7,-1)+1<=M143,EOMONTH($BL$7,0)>=M143)),0,IF(COUNTA(B143:K143)>0,1,0)))","v":0},{"$f":"IF(M143=\"\",IF(COUNTA(B143:K143)>0,1,0),IF(OR(EOMONTH(M143,0)<$BM$7,AND(EOMONTH($BM$7,-1)+1<=M143,EOMONTH($BM$7,0)>=M143)),0,IF(COUNTA(B143:K143)>0,1,0)))","v":0},{"$f":"IF(M143=\"\",IF(COUNTA(B143:K143)>0,1,0),IF(OR(EOMONTH(M143,0)<$BN$7,AND(EOMONTH($BN$7,-1)+1<=M143,EOMONTH($BN$7,0)>=M143)),0,IF(COUNTA(B143:K143)>0,1,0)))","v":0},{"$f":"IF(M143=\"\",IF(COUNTA(B143:K143)>0,1,0),IF(OR(EOMONTH(M143,0)<$BO$7,AND(EOMONTH($BO$7,-1)+1<=M143,EOMONTH($BO$7,0)>=M143)),0,IF(COUNTA(B143:K143)>0,1,0)))","v":0},{"$f":"IF(M143=\"\",IF(COUNTA(B143:K143)>0,1,0),IF(OR(EOMONTH(M143,0)<$BP$7,AND(EOMONTH($BP$7,-1)+1<=M143,EOMONTH($BP$7,0)>=M143)),0,IF(COUNTA(B143:K143)>0,1,0)))","v":0},{"$f":"IF(M143=\"\",IF(COUNTA(B143:K143)>0,1,0),IF(OR(EOMONTH(M143,0)<$BQ$7,AND(EOMONTH($BQ$7,-1)+1<=M143,EOMONTH($BQ$7,0)>=M143)),0,IF(COUNTA(B143:K143)>0,1,0)))","v":0},null,0,0,0,0,null,0,0]
[136,null,null,null,null,null,null,null,null,null,null,null,null,null,null,null,null,null,0,null,null,0,0,0,0,0,0,0,0,0,0,0,0,0,0,0,0,0,0,0,0,0,0,0,0,0,0,0,0,0,0,0,0,0,0,0,0,0,0,0,0,0,0,0,0,0,0,0,0,null,0,0,0,0,null,0,0]
[137,null,null,null,null,null,null,null,null,null,null,null,null,null,null,null,null,null,0,null,null,0,0,0,0,0,0,0,0,0,0,0,0,0,0,0,0,0,0,0,0,0,0,0,0,0,0,0,0,0,0,0,0,0,0,0,0,0,0,0,0,0,0,0,0,0,0,0,0,null,0,0,0,0,null,0,0]
[138,null,null,null,null,null,null,null,null,null,null,null,null,null,null,null,null,null,0,null,null,0,0,0,0,0,0,0,0,0,0,0,0,0,0,0,0,0,0,0,0,0,0,0,0,0,0,0,0,0,0,0,0,0,0,0,0,0,0,0,0,0,0,0,0,0,0,0,0,null,0,0,0,0,null,0,0]
[139,null,null,null,null,null,null,null,null,null,null,null,null,null,null,null,null,null,0,null,null,0,0,0,0,0,0,0,0,0,0,0,0,0,0,0,0,0,0,0,0,0,0,0,0,0,0,0,0,0,0,0,0,0,0,0,0,0,0,0,0,0,0,0,0,0,0,0,0,null,0,0,0,0,null,0,0]
[140,null,null,null,null,null,null,null,null,null,null,null,null,null,null,null,null,null,0,null,null,0,0,0,0,0,0,0,0,0,0,0,0,0,0,0,0,0,0,0,0,0,0,0,0,0,0,0,0,0,0,0,0,0,0,0,0,0,0,0,0,0,0,0,0,0,0,0,0,null,0,0,0,0,null,0,0]
[141,null,null,null,null,null,null,null,null,null,null,null,null,null,null,null,null,null,0,null,null,0,0,0,0,0,0,0,0,0,0,0,0,0,0,0,0,0,0,0,0,0,0,0,0,0,0,0,0,0,0,0,0,0,0,0,0,0,0,0,0,0,0,0,0,0,0,0,0,null,0,0,0,0,null,0,0]
[142,null,null,null,null,null,null,null,null,null,null,null,null,null,null,null,null,null,0,null,null,0,0,0,0,0,0,0,0,0,0,0,0,0,0,0,0,0,0,0,0,0,0,0,0,0,0,0,0,0,0,0,0,0,0,0,0,0,0,0,0,0,0,0,0,0,0,0,0,null,0,0,0,0,null,0,0]
[143,null,null,null,null,null,null,null,null,null,null,null,null,null,null,null,null,null,0,null,null,0,0,0,0,0,0,0,0,0,0,0,0,0,0,0,0,0,0,0,0,0,0,0,0,0,0,0,0,0,0,0,0,0,0,0,0,0,0,0,0,0,0,0,0,0,0,0,0,null,0,0,0,0,null,0,0]
[144,null,null,null,null,null,null,null,null,null,null,null,null,null,null,null,null,null,0,null,null,0,0,0,0,0,0,0,0,0,0,0,0,0,0,0,0,0,0,0,0,0,0,0,0,0,0,0,0,0,0,0,0,0,0,0,0,0,0,0,0,0,0,0,0,0,0,0,0,null,0,0,0,0,null,0,0]
[145,null,null,null,null,null,null,null,null,null,null,null,null,null,null,null,null,null,0,null,null,0,0,0,0,0,0,0,0,0,0,0,0,0,0,0,0,0,0,0,0,0,0,0,0,0,0,0,0,0,0,0,0,0,0,0,0,0,0,0,0,0,0,0,0,0,0,0,0,null,0,0,0,0,null,0,0]
[146,null,null,null,null,null,null,null,null,null,null,null,null,null,null,null,null,null,0,null,null,0,0,0,0,0,0,0,0,0,0,0,0,0,0,0,0,0,0,0,0,0,0,0,0,0,0,0,0,0,0,0,0,0,0,0,0,0,0,0,0,0,0,0,0,0,0,0,0,null,0,0,0,0,null,0,0]
[147,null,null,null,null,null,null,null,null,null,null,null,null,null,null,null,null,null,0,null,null,0,0,0,0,0,0,0,0,0,0,0,0,0,0,0,0,0,0,0,0,0,0,0,0,0,0,0,0,0,0,0,0,0,0,0,0,0,0,0,0,0,0,0,0,0,0,0,0,null,0,0,0,0,null,0,0]
[148,null,null,null,null,null,null,null,null,null,null,null,null,null,null,null,null,null,0,null,null,0,0,0,0,0,0,0,0,0,0,0,0,0,0,0,0,0,0,0,0,0,0,0,0,0,0,0,0,0,0,0,0,0,0,0,0,0,0,0,0,0,0,0,0,0,0,0,0,null,0,0,0,0,null,0,0]
[149,null,null,null,null,null,null,null,null,null,null,null,null,null,null,null,null,null,0,null,null,0,0,0,0,0,0,0,0,0,0,0,0,0,0,0,0,0,0,0,0,0,0,0,0,0,0,0,0,0,0,0,0,0,0,0,0,0,0,0,0,0,0,0,0,0,0,0,0,null,0,0,0,0,null,0,0]
[150,null,null,null,null,null,null,null,null,null,null,null,null,null,null,null,null,null,0,null,null,0,0,0,0,0,0,0,0,0,0,0,0,0,0,0,0,0,0,0,0,0,0,0,0,0,0,0,0,0,0,0,0,0,0,0,0,0,0,0,0,0,0,0,0,0,0,0,0,null,0,0,0,0,null,0,0]
[151,null,null,null,null,null,null,null,null,null,null,null,null,null,null,null,null,null,0,null,null,0,0,0,0,0,0,0,0,0,0,0,0,0,0,0,0,0,0,0,0,0,0,0,0,0,0,0,0,0,0,0,0,0,0,0,0,0,0,0,0,0,0,0,0,0,0,0,0,null,0,0,0,0,null,0,0]
[152,null,null,null,null,null,null,null,null,null,null,null,null,null,null,null,null,null,0,null,null,0,0,0,0,0,0,0,0,0,0,0,0,0,0,0,0,0,0,0,0,0,0,0,0,0,0,0,0,0,0,0,0,0,0,0,0,0,0,0,0,0,0,0,0,0,0,0,0,null,0,0,0,0,null,0,0]
[153,null,null,null,null,null,null,null,null,null,null,null,null,null,null,null,null,null,0,null,null,0,0,0,0,0,0,0,0,0,0,0,0,0,0,0,0,0,0,0,0,0,0,0,0,0,0,0,0,0,0,0,0,0,0,0,0,0,0,0,0,0,0,0,0,0,0,0,0,null,0,0,0,0,null,0,0]
[154,null,null,null,null,null,null,null,null,null,null,null,null,null,null,null,null,null,0,null,null,0,0,0,0,0,0,0,0,0,0,0,0,0,0,0,0,0,0,0,0,0,0,0,0,0,0,0,0,0,0,0,0,0,0,0,0,0,0,0,0,0,0,0,0,0,0,0,0,null,0,0,0,0,null,0,0]
[155,null,null,null,null,null,null,null,null,null,null,null,null,null,null,null,null,null,0,null,null,0,0,0,0,0,0,0,0,0,0,0,0,0,0,0,0,0,0,0,0,0,0,0,0,0,0,0,0,0,0,0,0,0,0,0,0,0,0,0,0,0,0,0,0,0,0,0,0,null,0,0,0,0,null,0,0]
[156,null,null,null,null,null,null,null,null,null,null,null,null,null,null,null,null,null,0,null,null,0,0,0,0,0,0,0,0,0,0,0,0,0,0,0,0,0,0,0,0,0,0,0,0,0,0,0,0,0,0,0,0,0,0,0,0,0,0,0,0,0,0,0,0,0,0,0,0,null,0,0,0,0,null,0,0]
[157,null,null,null,null,null,null,null,null,null,null,null,null,null,null,null,null,null,0,null,null,0,0,0,0,0,0,0,0,0,0,0,0,0,0,0,0,0,0,0,0,0,0,0,0,0,0,0,0,0,0,0,0,0,0,0,0,0,0,0,0,0,0,0,0,0,0,0,0,null,0,0,0,0,null,0,0]
[158,null,null,null,null,null,null,null,null,null,null,null,null,null,null,null,null,null,0,null,null,0,0,0,0,0,0,0,0,0,0,0,0,0,0,0,0,0,0,0,0,0,0,0,0,0,0,0,0,0,0,0,0,0,0,0,0,0,0,0,0,0,0,0,0,0,0,0,0,null,0,0,0,0,null,0,0]
[159,null,null,null,null,null,null,null,null,null,null,null,null,null,null,null,null,null,0,null,null,0,0,0,0,0,0,0,0,0,0,0,0,0,0,0,0,0,0,0,0,0,0,0,0,0,0,0,0,0,0,0,0,0,0,0,0,0,0,0,0,0,0,0,0,0,0,0,0,null,0,0,0,0,null,0,0]
[160,null,null,null,null,null,null,null,null,null,null,null,null,null,null,null,null,null,0,null,null,0,0,0,0,0,0,0,0,0,0,0,0,0,0,0,0,0,0,0,0,0,0,0,0,0,0,0,0,0,0,0,0,0,0,0,0,0,0,0,0,0,0,0,0,0,0,0,0,null,0,0,0,0,null,0,0]
[161,null,null,null,null,null,null,null,null,null,null,null,null,null,null,null,null,null,0,null,null,0,0,0,0,0,0,0,0,0,0,0,0,0,0,0,0,0,0,0,0,0,0,0,0,0,0,0,0,0,0,0,0,0,0,0,0,0,0,0,0,0,0,0,0,0,0,0,0,null,0,0,0,0,null,0,0]
[162,null,null,null,null,null,null,null,null,null,null,null,null,null,null,null,null,null,0,null,null,0,0,0,0,0,0,0,0,0,0,0,0,0,0,0,0,0,0,0,0,0,0,0,0,0,0,0,0,0,0,0,0,0,0,0,0,0,0,0,0,0,0,0,0,0,0,0,0,null,0,0,0,0,null,0,0]
[163,null,null,null,null,null,null,null,null,null,null,null,null,null,null,null,null,null,0,null,null,0,0,0,0,0,0,0,0,0,0,0,0,0,0,0,0,0,0,0,0,0,0,0,0,0,0,0,0,0,0,0,0,0,0,0,0,0,0,0,0,0,0,0,0,0,0,0,0,null,0,0,0,0,null,0,0]
[164,null,null,null,null,null,null,null,null,null,null,null,null,null,null,null,null,null,0,null,null,0,0,0,0,0,0,0,0,0,0,0,0,0,0,0,0,0,0,0,0,0,0,0,0,0,0,0,0,0,0,0,0,0,0,0,0,0,0,0,0,0,0,0,0,0,0,0,0,null,0,0,0,0,null,0,0]
[165,null,null,null,null,null,null,null,null,null,null,null,null,null,null,null,null,null,0,null,null,0,0,0,0,0,0,0,0,0,0,0,0,0,0,0,0,0,0,0,0,0,0,0,0,0,0,0,0,0,0,0,0,0,0,0,0,0,0,0,0,0,0,0,0,0,0,0,0,null,0,0,0,0,null,0,0]
[166,null,null,null,null,null,null,null,null,null,null,null,null,null,null,null,null,null,0,null,null,0,0,0,0,0,0,0,0,0,0,0,0,0,0,0,0,0,0,0,0,0,0,0,0,0,0,0,0,0,0,0,0,0,0,0,0,0,0,0,0,0,0,0,0,0,0,0,0,null,0,0,0,0,null,0,0]
[167,null,null,null,null,null,null,null,null,null,null,null,null,null,null,null,null,null,0,null,null,0,0,0,0,0,0,0,0,0,0,0,0,0,0,0,0,0,0,0,0,0,0,0,0,0,0,0,0,0,0,0,0,0,0,0,0,0,0,0,0,0,0,0,0,0,0,0,0,null,0,0,0,0,null,0,0]
[168,null,null,null,null,null,null,null,null,null,null,null,null,null,null,null,null,null,0,null,null,0,0,0,0,0,0,0,0,0,0,0,0,0,0,0,0,0,0,0,0,0,0,0,0,0,0,0,0,0,0,0,0,0,0,0,0,0,0,0,0,0,0,0,0,0,0,0,0,null,0,0,0,0,null,0,0]
[169,null,null,null,null,null,null,null,null,null,null,null,null,null,null,null,null,null,0,null,null,0,0,0,0,0,0,0,0,0,0,0,0,0,0,0,0,0,0,0,0,0,0,0,0,0,0,0,0,0,0,0,0,0,0,0,0,0,0,0,0,0,0,0,0,0,0,0,0,null,0,0,0,0,null,0,0]
[170,null,null,null,null,null,null,null,null,null,null,null,null,null,null,null,null,null,0,null,null,0,0,0,0,0,0,0,0,0,0,0,0,0,0,0,0,0,0,0,0,0,0,0,0,0,0,0,0,0,0,0,0,0,0,0,0,0,0,0,0,0,0,0,0,0,0,0,0,null,0,0,0,0,null,0,0]
[171,null,null,null,null,null,null,null,null,null,null,null,null,null,null,null,null,null,0,null,null,0,0,0,0,0,0,0,0,0,0,0,0,0,0,0,0,0,0,0,0,0,0,0,0,0,0,0,0,0,0,0,0,0,0,0,0,0,0,0,0,0,0,0,0,0,0,0,0,null,0,0,0,0,null,0,0]
[172,null,null,null,null,null,null,null,null,null,null,null,null,null,null,null,null,null,0,null,null,0,0,0,0,0,0,0,0,0,0,0,0,0,0,0,0,0,0,0,0,0,0,0,0,0,0,0,0,0,0,0,0,0,0,0,0,0,0,0,0,0,0,0,0,0,0,0,0,null,0,0,0,0,null,0,0]
[173,null,null,null,null,null,null,null,null,null,null,null,null,null,null,null,null,null,0,null,null,0,0,0,0,0,0,0,0,0,0,0,0,0,0,0,0,0,0,0,0,0,0,0,0,0,0,0,0,0,0,0,0,0,0,0,0,0,0,0,0,0,0,0,0,0,0,0,0,null,0,0,0,0,null,0,0]
[174,null,null,null,null,null,null,null,null,null,null,null,null,null,null,null,null,null,0,null,null,0,0,0,0,0,0,0,0,0,0,0,0,0,0,0,0,0,0,0,0,0,0,0,0,0,0,0,0,0,0,0,0,0,0,0,0,0,0,0,0,0,0,0,0,0,0,0,0,null,0,0,0,0,null,0,0]
[175,null,null,null,null,null,null,null,null,null,null,null,null,null,null,null,null,null,0,null,null,0,0,0,0,0,0,0,0,0,0,0,0,0,0,0,0,0,0,0,0,0,0,0,0,0,0,0,0,0,0,0,0,0,0,0,0,0,0,0,0,0,0,0,0,0,0,0,0,null,0,0,0,0,null,0,0]
[176,null,null,null,null,null,null,null,null,null,null,null,null,null,null,null,null,null,0,null,null,0,0,0,0,0,0,0,0,0,0,0,0,0,0,0,0,0,0,0,0,0,0,0,0,0,0,0,0,0,0,0,0,0,0,0,0,0,0,0,0,0,0,0,0,0,0,0,0,null,0,0,0,0,null,0,0]
[177,null,null,null,null,null,null,null,null,null,null,null,null,null,null,null,null,null,0,null,null,0,0,0,0,0,0,0,0,0,0,0,0,0,0,0,0,0,0,0,0,0,0,0,0,0,0,0,0,0,0,0,0,0,0,0,0,0,0,0,0,0,0,0,0,0,0,0,0,null,0,0,0,0,null,0,0]
[178,null,null,null,null,null,null,null,null,null,null,null,null,null,null,null,null,null,0,null,null,0,0,0,0,0,0,0,0,0,0,0,0,0,0,0,0,0,0,0,0,0,0,0,0,0,0,0,0,0,0,0,0,0,0,0,0,0,0,0,0,0,0,0,0,0,0,0,0,null,0,0,0,0,null,0,0]
[179,null,null,null,null,null,null,null,null,null,null,null,null,null,null,null,null,null,0,null,null,0,0,0,0,0,0,0,0,0,0,0,0,0,0,0,0,0,0,0,0,0,0,0,0,0,0,0,0,0,0,0,0,0,0,0,0,0,0,0,0,0,0,0,0,0,0,0,0,null,0,0,0,0,null,0,0]
[180,null,null,null,null,null,null,null,null,null,null,null,null,null,null,null,null,null,0,null,null,0,0,0,0,0,0,0,0,0,0,0,0,0,0,0,0,0,0,0,0,0,0,0,0,0,0,0,0,0,0,0,0,0,0,0,0,0,0,0,0,0,0,0,0,0,0,0,0,null,0,0,0,0,null,0,0]
[181,null,null,null,null,null,null,null,null,null,null,null,null,null,null,null,null,null,0,null,null,0,0,0,0,0,0,0,0,0,0,0,0,0,0,0,0,0,0,0,0,0,0,0,0,0,0,0,0,0,0,0,0,0,0,0,0,0,0,0,0,0,0,0,0,0,0,0,0,null,0,0,0,0,null,0,0]
[182,null,null,null,null,null,null,null,null,null,null,null,null,null,null,null,null,null,0,null,null,0,0,0,0,0,0,0,0,0,0,0,0,0,0,0,0,0,0,0,0,0,0,0,0,0,0,0,0,0,0,0,0,0,0,0,0,0,0,0,0,0,0,0,0,0,0,0,0,null,0,0,0,0,null,0,0]
[183,null,null,null,null,null,null,null,null,null,null,null,null,null,null,null,null,null,0,null,null,0,0,0,0,0,0,0,0,0,0,0,0,0,0,0,0,0,0,0,0,0,0,0,0,0,0,0,0,0,0,0,0,0,0,0,0,0,0,0,0,0,0,0,0,0,0,0,0,null,0,0,0,0,null,0,0]
[184,null,null,null,null,null,null,null,null,null,null,null,null,null,null,null,null,null,0,null,null,0,0,0,0,0,0,0,0,0,0,0,0,0,0,0,0,0,0,0,0,0,0,0,0,0,0,0,0,0,0,0,0,0,0,0,0,0,0,0,0,0,0,0,0,0,0,0,0,null,0,0,0,0,null,0,0]
[185,null,null,null,null,null,null,null,null,null,null,null,null,null,null,null,null,null,0,null,null,0,0,0,0,0,0,0,0,0,0,0,0,0,0,0,0,0,0,0,0,0,0,0,0,0,0,0,0,0,0,0,0,0,0,0,0,0,0,0,0,0,0,0,0,0,0,0,0,null,0,0,0,0,null,0,0]
[186,null,null,null,null,null,null,null,null,null,null,null,null,null,null,null,null,null,0,null,null,0,0,0,0,0,0,0,0,0,0,0,0,0,0,0,0,0,0,0,0,0,0,0,0,0,0,0,0,0,0,0,0,0,0,0,0,0,0,0,0,0,0,0,0,0,0,0,0,null,0,0,0,0,null,0,0]
[187,null,null,null,null,null,null,null,null,null,null,null,null,null,null,null,null,null,0,null,null,0,0,0,0,0,0,0,0,0,0,0,0,0,0,0,0,0,0,0,0,0,0,0,0,0,0,0,0,0,0,0,0,0,0,0,0,0,0,0,0,0,0,0,0,0,0,0,0,null,0,0,0,0,null,0,0]
[188,null,null,null,null,null,null,null,null,null,null,null,null,null,null,null,null,null,0,null,null,0,0,0,0,0,0,0,0,0,0,0,0,0,0,0,0,0,0,0,0,0,0,0,0,0,0,0,0,0,0,0,0,0,0,0,0,0,0,0,0,0,0,0,0,0,0,0,0,null,0,0,0,0,null,0,0]
[189,null,null,null,null,null,null,null,null,null,null,null,null,null,null,null,null,null,0,null,null,0,0,0,0,0,0,0,0,0,0,0,0,0,0,0,0,0,0,0,0,0,0,0,0,0,0,0,0,0,0,0,0,0,0,0,0,0,0,0,0,0,0,0,0,0,0,0,0,null,0,0,0,0,null,0,0]
[190,null,null,null,null,null,null,null,null,null,null,null,null,null,null,null,null,null,0,null,null,0,0,0,0,0,0,0,0,0,0,0,0,0,0,0,0,0,0,0,0,0,0,0,0,0,0,0,0,0,0,0,0,0,0,0,0,0,0,0,0,0,0,0,0,0,0,0,0,null,0,0,0,0,null,0,0]
[191,null,null,null,null,null,null,null,null,null,null,null,null,null,null,null,null,null,0,null,null,0,0,0,0,0,0,0,0,0,0,0,0,0,0,0,0,0,0,0,0,0,0,0,0,0,0,0,0,0,0,0,0,0,0,0,0,0,0,0,0,0,0,0,0,0,0,0,0,null,0,0,0,0,null,0,0]
[192,null,null,null,null,null,null,null,null,null,null,null,null,null,null,null,null,null,0,null,null,0,0,0,0,0,0,0,0,0,0,0,0,0,0,0,0,0,0,0,0,0,0,0,0,0,0,0,0,0,0,0,0,0,0,0,0,0,0,0,0,0,0,0,0,0,0,0,0,null,0,0,0,0,null,0,0]
[193,null,null,null,null,null,null,null,null,null,null,null,null,null,null,null,null,null,0,null,null,0,0,0,0,0,0,0,0,0,0,0,0,0,0,0,0,0,0,0,0,0,0,0,0,0,0,0,0,0,0,0,0,0,0,0,0,0,0,0,0,0,0,0,0,0,0,0,0,null,0,0,0,0,null,0,0]
[194,null,null,null,null,null,null,null,null,null,null,null,null,null,null,null,null,null,{"$f":"IF(E202=\"\",0,IF(VALUE(E202)>VALUE($E$4),0,1))","v":0},null,null,{"$f":"IF(M202=\"\",IF(COUNTA(B202:K202)>0,1,0),IF(OR(EOMONTH(M202,0)<$V$7,AND(EOMONTH($V$7,-1)+1<=M202,EOMONTH($V$7,0)>=M202)),0,IF(COUNTA(B202:K202)>0,1,0)))","v":0},{"$f":"IF(M202=\"\",IF(COUNTA(B202:K202)>0,1,0),IF(OR(EOMONTH(M202,0)<$W$7,AND(EOMONTH($W$7,-1)+1<=M202,EOMONTH($W$7,0)>=M202)),0,IF(COUNTA(B202:K202)>0,1,0)))","v":0},{"$f":"IF(M202=\"\",IF(COUNTA(B202:K202)>0,1,0),IF(OR(EOMONTH(M202,0)<$X$7,AND(EOMONTH($X$7,-1)+1<=M202,EOMONTH($X$7,0)>=M202)),0,IF(COUNTA(B202:K202)>0,1,0)))","v":0},{"$f":"IF(M202=\"\",IF(COUNTA(B202:K202)>0,1,0),IF(OR(EOMONTH(M202,0)<$Y$7,AND(EOMONTH($Y$7,-1)+1<=M202,EOMONTH($Y$7,0)>=M202)),0,IF(COUNTA(B202:K202)>0,1,0)))","v":0},0,0,0,0,0,0,0,0,{"$f":"IF(M202=\"\",IF(COUNTA(B202:K202)>0,1,0),IF(OR(EOMONTH(M202,0)<$AH$7,AND(EOMONTH($AH$7,-1)+1<=M202,EOMONTH($AH$7,0)>=M202)),0,IF(COUNTA(B202:K202)>0,1,0)))","v":0},{"$f":"IF(M202=\"\",IF(COUNTA(B202:K202)>0,1,0),IF(OR(EOMONTH(M202,0)<$AI$7,AND(EOMONTH($AI$7,-1)+1<=M202,EOMONTH($AI$7,0)>=M202)),0,IF(COUNTA(B202:K202)>0,1,0)))","v":0},{"$f":"IF(M202=\"\",IF(COUNTA(B202:K202)>0,1,0),IF(OR(EOMONTH(M202,0)<$AJ$7,AND(EOMONTH($AJ$7,-1)+1<=M202,EOMONTH($AJ$7,0)>=M202)),0,IF(COUNTA(B202:K202)>0,1,0)))","v":0},{"$f":"IF(M202=\"\",IF(COUNTA(B202:K202)>0,1,0),IF(OR(EOMONTH(M202,0)<$AK$7,AND(EOMONTH($AK$7,-1)+1<=M202,EOMONTH($AK$7,0)>=M202)),0,IF(COUNTA(B202:K202)>0,1,0)))","v":0},{"$f":"IF(M202=\"\",IF(COUNTA(B202:K202)>0,1,0),IF(OR(EOMONTH(M202,0)<$AL$7,AND(EOMONTH($AL$7,-1)+1<=M202,EOMONTH($AL$7,0)>=M202)),0,IF(COUNTA(B202:K202)>0,1,0)))","v":0},{"$f":"IF(M202=\"\",IF(COUNTA(B202:K202)>0,1,0),IF(OR(EOMONTH(M202,0)<$AM$7,AND(EOMONTH($AM$7,-1)+1<=M202,EOMONTH($AM$7,0)>=M202)),0,IF(COUNTA(B202:K202)>0,1,0)))","v":0},{"$f":"IF(M202=\"\",IF(COUNTA(B202:K202)>0,1,0),IF(OR(EOMONTH(M202,0)<$AN$7,AND(EOMONTH($AN$7,-1)+1<=M202,EOMONTH($AN$7,0)>=M202)),0,IF(COUNTA(B202:K202)>0,1,0)))","v":0},{"$f":"IF(M202=\"\",IF(COUNTA(B202:K202)>0,1,0),IF(OR(EOMONTH(M202,0)<$AO$7,AND(EOMONTH($AO$7,-1)+1<=M202,EOMONTH($AO$7,0)>=M202)),0,IF(COUNTA(B202:K202)>0,1,0)))","v":0},{"$f":"IF(M202=\"\",IF(COUNTA(B202:K202)>0,1,0),IF(OR(EOMONTH(M202,0)<$AP$7,AND(EOMONTH($AP$7,-1)+1<=M202,EOMONTH($AP$7,0)>=M202)),0,IF(COUNTA(B202:K202)>0,1,0)))","v":0},{"$f":"IF(M202=\"\",IF(COUNTA(B202:K202)>0,1,0),IF(OR(EOMONTH(M202,0)<$AQ$7,AND(EOMONTH($AQ$7,-1)+1<=M202,EOMONTH($AQ$7,0)>=M202)),0,IF(COUNTA(B202:K202)>0,1,0)))","v":0},{"$f":"IF(M202=\"\",IF(COUNTA(B202:K202)>0,1,0),IF(OR(EOMONTH(M202,0)<$AR$7,AND(EOMONTH($AR$7,-1)+1<=M202,EOMONTH($AR$7,0)>=M202)),0,IF(COUNTA(B202:K202)>0,1,0)))","v":0},{"$f":"IF(M202=\"\",IF(COUNTA(B202:K202)>0,1,0),IF(OR(EOMONTH(M202,0)<$AS$7,AND(EOMONTH($AS$7,-1)+1<=M202,EOMONTH($AS$7,0)>=M202)),0,IF(COUNTA(B202:K202)>0,1,0)))","v":0},{"$f":"IF(M202=\"\",IF(COUNTA(B202:K202)>0,1,0),IF(OR(EOMONTH(M202,0)<$AT$7,AND(EOMONTH($AT$7,-1)+1<=M202,EOMONTH($AT$7,0)>=M202)),0,IF(COUNTA(B202:K202)>0,1,0)))","v":0},{"$f":"IF(M202=\"\",IF(COUNTA(B202:K202)>0,1,0),IF(OR(EOMONTH(M202,0)<$AU$7,AND(EOMONTH($AU$7,-1)+1<=M202,EOMONTH($AU$7,0)>=M202)),0,IF(COUNTA(B202:K202)>0,1,0)))","v":0},{"$f":"IF(M202=\"\",IF(COUNTA(B202:K202)>0,1,0),IF(OR(EOMONTH(M202,0)<$AV$7,AND(EOMONTH($AV$7,-1)+1<=M202,EOMONTH($AV$7,0)>=M202)),0,IF(COUNTA(B202:K202)>0,1,0)))","v":0},{"$f":"IF(M202=\"\",IF(COUNTA(B202:K202)>0,1,0),IF(OR(EOMONTH(M202,0)<$AW$7,AND(EOMONTH($AW$7,-1)+1<=M202,EOMONTH($AW$7,0)>=M202)),0,IF(COUNTA(B202:K202)>0,1,0)))","v":0},0,0,0,0,0,0,0,0,0,0,0,0,0,0,0,0,0,0,0,0,null,0,{"$f":"IF(M202=\"\",IF(G202<>\"\",1,0),IF(OR(EOMONTH(M202,0)<EOMONTH(TODAY(),0),AND(EOMONTH(TODAY(),-1)+1<=M202,EOMONTH(TODAY(),0)>=M202)),0,IF(G202<>\"\",1,0)))","v":0},{"$f":"IF(M202=\"\",IF(H202<>\"\",1,0),IF(OR(EOMONTH(M202,0)<EOMONTH(TODAY(),0),AND(EOMONTH(TODAY(),-1)+1<=M202,EOMONTH(TODAY(),0)>=M202)),0,IF(H202<>\"\",1,0)))","v":0},{"$f":"IF(M202=\"\",IF(I202<>\"\",1,0),IF(OR(EOMONTH(M202,0)<EOMONTH(TODAY(),0),AND(EOMONTH(TODAY(),-1)+1<=M202,EOMONTH(TODAY(),0)>=M202)),0,IF(I202<>\"\",1,0)))","v":0},null,{"$f":"SUMIFS(V202:BQ202,$V$7:$BQ$7,\">=\"&EOMONTH(TODAY(),-1)+1,$V$7:$BQ$7,\"<=\"&EOMONTH(TODAY(),0))","v":0},{"$f":"IF(M202=\"\",IF(J202>0,1,0),IF(EOMONTH(M202,0)<$BQ$7,0,IF(J202>0,1,0)))","v":0}]
[195,null,null,null,null,null,null,null,null,null,null,null,null,null,null,null,null,null,0,null,null,0,0,0,0,{"$f":"IF(M203=\"\",IF(COUNTA(B203:K203)>0,1,0),IF(OR(EOMONTH(M203,0)<$Z$7,AND(EOMONTH($Z$7,-1)+1<=M203,EOMONTH($Z$7,0)>=M203)),0,IF(COUNTA(B203:K203)>0,1,0)))","v":0},0,0,0,0,0,0,0,0,0,0,0,0,0,0,0,0,0,0,0,0,0,0,0,0,0,0,0,0,0,0,0,0,0,0,0,0,0,0,0,0,0,0,0,null,0,0,0,0,null,0,0]
[196,null,null,null,null,null,null,null,null,null,null,null,null,null,null,null,null,null,0,null,null,0,0,0,0,0,0,0,0,0,0,0,0,0,0,0,0,0,0,0,0,0,0,0,0,0,0,0,0,0,0,0,0,0,0,0,0,0,0,0,0,0,0,0,0,0,0,0,0,null,0,0,0,0,null,0,0]
[197,null,null,null,null,null,null,null,null,null,null,null,null,null,null,null,null,null,0,null,null,0,0,0,0,0,0,0,0,0,0,0,0,0,0,0,0,0,0,0,0,0,0,0,0,0,0,0,0,0,0,0,0,0,0,0,0,0,0,0,0,0,0,0,0,0,0,0,0,null,{"$f":"IF(M205=\"\",IF(F205<>\"\",1,0),IF(OR(EOMONTH(M205,0)<EOMONTH(TODAY(),0),AND(EOMONTH(TODAY(),-1)+1<=M205,EOMONTH(TODAY(),0)>=M205)),0,IF(F205<>\"\",1,0)))","v":0},0,0,0,null,0,0]
[198,null,null,null,null,null,null,null,null,null,null,null,null,null,null,null,null,null,0,null,null,0,0,0,0,0,{"$f":"IF(M206=\"\",IF(COUNTA(B206:K206)>0,1,0),IF(OR(EOMONTH(M206,0)<$AA$7,AND(EOMONTH($AA$7,-1)+1<=M206,EOMONTH($AA$7,0)>=M206)),0,IF(COUNTA(B206:K206)>0,1,0)))","v":0},{"$f":"IF(M206=\"\",IF(COUNTA(B206:K206)>0,1,0),IF(OR(EOMONTH(M206,0)<$AB$7,AND(EOMONTH($AB$7,-1)+1<=M206,EOMONTH($AB$7,0)>=M206)),0,IF(COUNTA(B206:K206)>0,1,0)))","v":0},{"$f":"IF(M206=\"\",IF(COUNTA(B206:K206)>0,1,0),IF(OR(EOMONTH(M206,0)<$AC$7,AND(EOMONTH($AC$7,-1)+1<=M206,EOMONTH($AC$7,0)>=M206)),0,IF(COUNTA(B206:K206)>0,1,0)))","v":0},{"$f":"IF(M206=\"\",IF(COUNTA(B206:K206)>0,1,0),IF(OR(EOMONTH(M206,0)<$AD$7,AND(EOMONTH($AD$7,-1)+1<=M206,EOMONTH($AD$7,0)>=M206)),0,IF(COUNTA(B206:K206)>0,1,0)))","v":0},{"$f":"IF(M206=\"\",IF(COUNTA(B206:K206)>0,1,0),IF(OR(EOMONTH(M206,0)<$AE$7,AND(EOMONTH($AE$7,-1)+1<=M206,EOMONTH($AE$7,0)>=M206)),0,IF(COUNTA(B206:K206)>0,1,0)))","v":0},{"$f":"IF(M206=\"\",IF(COUNTA(B206:K206)>0,1,0),IF(OR(EOMONTH(M206,0)<$AF$7,AND(EOMONTH($AF$7,-1)+1<=M206,EOMONTH($AF$7,0)>=M206)),0,IF(COUNTA(B206:K206)>0,1,0)))","v":0},{"$f":"IF(M206=\"\",IF(COUNTA(B206:K206)>0,1,0),IF(OR(EOMONTH(M206,0)<$AG$7,AND(EOMONTH($AG$7,-1)+1<=M206,EOMONTH($AG$7,0)>=M206)),0,IF(COUNTA(B206:K206)>0,1,0)))","v":0},0,0,0,0,0,0,0,0,0,0,0,0,0,0,0,0,0,0,0,0,0,0,0,0,0,0,0,0,0,0,0,0,0,0,0,0,null,0,0,0,0,null,0,0]
[199,null,null,null,null,null,null,null,null,null,null,null,null,null,null,null,null,null,0,null,null,0,0,0,0,0,0,0,0,0,0,0,0,0,0,0,0,0,0,0,0,0,0,0,0,0,0,0,0,{"$f":"IF(M207=\"\",IF(COUNTA(B207:K207)>0,1,0),IF(OR(EOMONTH(M207,0)<$AX$7,AND(EOMONTH($AX$7,-1)+1<=M207,EOMONTH($AX$7,0)>=M207)),0,IF(COUNTA(B207:K207)>0,1,0)))","v":0},{"$f":"IF(M207=\"\",IF(COUNTA(B207:K207)>0,1,0),IF(OR(EOMONTH(M207,0)<$AY$7,AND(EOMONTH($AY$7,-1)+1<=M207,EOMONTH($AY$7,0)>=M207)),0,IF(COUNTA(B207:K207)>0,1,0)))","v":0},{"$f":"IF(M207=\"\",IF(COUNTA(B207:K207)>0,1,0),IF(OR(EOMONTH(M207,0)<$AZ$7,AND(EOMONTH($AZ$7,-1)+1<=M207,EOMONTH($AZ$7,0)>=M207)),0,IF(COUNTA(B207:K207)>0,1,0)))","v":0},{"$f":"IF(M207=\"\",IF(COUNTA(B207:K207)>0,1,0),IF(OR(EOMONTH(M207,0)<$BA$7,AND(EOMONTH($BA$7,-1)+1<=M207,EOMONTH($BA$7,0)>=M207)),0,IF(COUNTA(B207:K207)>0,1,0)))","v":0},{"$f":"IF(M207=\"\",IF(COUNTA(B207:K207)>0,1,0),IF(OR(EOMONTH(M207,0)<$BB$7,AND(EOMONTH($BB$7,-1)+1<=M207,EOMONTH($BB$7,0)>=M207)),0,IF(COUNTA(B207:K207)>0,1,0)))","v":0},{"$f":"IF(M207=\"\",IF(COUNTA(B207:K207)>0,1,0),IF(OR(EOMONTH(M207,0)<$BC$7,AND(EOMONTH($BC$7,-1)+1<=M207,EOMONTH($BC$7,0)>=M207)),0,IF(COUNTA(B207:K207)>0,1,0)))","v":0},{"$f":"IF(M207=\"\",IF(COUNTA(B207:K207)>0,1,0),IF(OR(EOMONTH(M207,0)<$BD$7,AND(EOMONTH($BD$7,-1)+1<=M207,EOMONTH($BD$7,0)>=M207)),0,IF(COUNTA(B207:K207)>0,1,0)))","v":0},{"$f":"IF(M207=\"\",IF(COUNTA(B207:K207)>0,1,0),IF(OR(EOMONTH(M207,0)<$BE$7,AND(EOMONTH($BE$7,-1)+1<=M207,EOMONTH($BE$7,0)>=M207)),0,IF(COUNTA(B207:K207)>0,1,0)))","v":0},{"$f":"IF(M207=\"\",IF(COUNTA(B207:K207)>0,1,0),IF(OR(EOMONTH(M207,0)<$BF$7,AND(EOMONTH($BF$7,-1)+1<=M207,EOMONTH($BF$7,0)>=M207)),0,IF(COUNTA(B207:K207)>0,1,0)))","v":0},{"$f":"IF(M207=\"\",IF(COUNTA(B207:K207)>0,1,0),IF(OR(EOMONTH(M207,0)<$BG$7,AND(EOMONTH($BG$7,-1)+1<=M207,EOMONTH($BG$7,0)>=M207)),0,IF(COUNTA(B207:K207)>0,1,0)))","v":0},{"$f":"IF(M207=\"\",IF(COUNTA(B207:K207)>0,1,0),IF(OR(EOMONTH(M207,0)<$BH$7,AND(EOMONTH($BH$7,-1)+1<=M207,EOMONTH($BH$7,0)>=M207)),0,IF(COUNTA(B207:K207)>0,1,0)))","v":0},{"$f":"IF(M207=\"\",IF(COUNTA(B207:K207)>0,1,0),IF(OR(EOMONTH(M207,0)<$BI$7,AND(EOMONTH($BI$7,-1)+1<=M207,EOMONTH($BI$7,0)>=M207)),0,IF(COUNTA(B207:K207)>0,1,0)))","v":0},{"$f":"IF(M207=\"\",IF(COUNTA(B207:K207)>0,1,0),IF(OR(EOMONTH(M207,0)<$BJ$7,AND(EOMONTH($BJ$7,-1)+1<=M207,EOMONTH($BJ$7,0)>=M207)),0,IF(COUNTA(B207:K207)>0,1,0)))","v":0},{"$f":"IF(M207=\"\",IF(COUNTA(B207:K207)>0,1,0),IF(OR(EOMONTH(M207,0)<$BK$7,AND(EOMONTH($BK$7,-1)+1<=M207,EOMONTH($BK$7,0)>=M207)),0,IF(COUNTA(B207:K207)>0,1,0)))","v":0},{"$f":"IF(M207=\"\",IF(COUNTA(B207:K207)>0,1,0),IF(OR(EOMONTH(M207,0)<$BL$7,AND(EOMONTH($BL$7,-1)+1<=M207,EOMONTH($BL$7,0)>=M207)),0,IF(COUNTA(B207:K207)>0,1,0)))","v":0},{"$f":"IF(M207=\"\",IF(COUNTA(B207:K207)>0,1,0),IF(OR(EOMONTH(M207,0)<$BM$7,AND(EOMONTH($BM$7,-1)+1<=M207,EOMONTH($BM$7,0)>=M207)),0,IF(COUNTA(B207:K207)>0,1,0)))","v":0},{"$f":"IF(M207=\"\",IF(COUNTA(B207:K207)>0,1,0),IF(OR(EOMONTH(M207,0)<$BN$7,AND(EOMONTH($BN$7,-1)+1<=M207,EOMONTH($BN$7,0)>=M207)),0,IF(COUNTA(B207:K207)>0,1,0)))","v":0},{"$f":"IF(M207=\"\",IF(COUNTA(B207:K207)>0,1,0),IF(OR(EOMONTH(M207,0)<$BO$7,AND(EOMONTH($BO$7,-1)+1<=M207,EOMONTH($BO$7,0)>=M207)),0,IF(COUNTA(B207:K207)>0,1,0)))","v":0},{"$f":"IF(M207=\"\",IF(COUNTA(B207:K207)>0,1,0),IF(OR(EOMONTH(M207,0)<$BP$7,AND(EOMONTH($BP$7,-1)+1<=M207,EOMONTH($BP$7,0)>=M207)),0,IF(COUNTA(B207:K207)>0,1,0)))","v":0},{"$f":"IF(M207=\"\",IF(COUNTA(B207:K207)>0,1,0),IF(OR(EOMONTH(M207,0)<$BQ$7,AND(EOMONTH($BQ$7,-1)+1<=M207,EOMONTH($BQ$7,0)>=M207)),0,IF(COUNTA(B207:K207)>0,1,0)))","v":0},null,0,0,0,0,null,0,0]
[200,null,null,null,null,null,null,null,null,null,null,null,null,null,null,null,null,null,0,null,null,0,0,0,0,0,0,0,0,0,0,0,0,0,0,0,0,0,0,0,0,0,0,0,0,0,0,0,0,0,0,0,0,0,0,0,0,0,0,0,0,0,0,0,0,0,0,0,0,null,0,0,0,0,null,0,0]
[201,null,null,null,null,null,null,null,null,null,null,null,null,null,null,null,null,null,0,null,null,0,0,0,0,0,0,0,0,0,0,0,0,0,0,0,0,0,0,0,0,0,0,0,0,0,0,0,0,0,0,0,0,0,0,0,0,0,0,0,0,0,0,0,0,0,0,0,0,null,0,0,0,0,null,0,0]
[202,null,null,null,null,null,null,null,null,null,null,null,null,null,null,null,null,null,0,null,null,0,0,0,0,0,0,0,0,0,0,0,0,0,0,0,0,0,0,0,0,0,0,0,0,0,0,0,0,0,0,0,0,0,0,0,0,0,0,0,0,0,0,0,0,0,0,0,0,null,0,0,0,0,null,0,0]
[203,null,null,null,null,null,null,null,null,null,null,null,null,null,null,null,null,null,0,null,null,0,0,0,0,0,0,0,0,0,0,0,0,0,0,0,0,0,0,0,0,0,0,0,0,0,0,0,0,0,0,0,0,0,0,0,0,0,0,0,0,0,0,0,0,0,0,0,0,null,0,0,0,0,null,0,0]
[204,null,null,null,null,null,null,null,null,null,null,null,null,null,null,null,null,null,0,null,null,0,0,0,0,0,0,0,0,0,0,0,0,0,0,0,0,0,0,0,0,0,0,0,0,0,0,0,0,0,0,0,0,0,0,0,0,0,0,0,0,0,0,0,0,0,0,0,0,null,0,0,0,0,null,0,0]
[205,null,null,null,null,null,null,null,null,null,null,null,null,null,null,null,null,null,0,null,null,0,0,0,0,0,0,0,0,0,0,0,0,0,0,0,0,0,0,0,0,0,0,0,0,0,0,0,0,0,0,0,0,0,0,0,0,0,0,0,0,0,0,0,0,0,0,0,0,null,0,0,0,0,null,0,0]
[206,null,null,null,null,null,null,null,null,null,null,null,null,null,null,null,null,null,0,null,null,0,0,0,0,0,0,0,0,0,0,0,0,0,0,0,0,0,0,0,0,0,0,0,0,0,0,0,0,0,0,0,0,0,0,0,0,0,0,0,0,0,0,0,0,0,0,0,0,null,0,0,0,0,null,0,0]
[207,null,null,null,null,null,null,null,null,null,null,null,null,null,null,null,null,null,0,null,null,0,0,0,0,0,0,0,0,0,0,0,0,0,0,0,0,0,0,0,0,0,0,0,0,0,0,0,0,0,0,0,0,0,0,0,0,0,0,0,0,0,0,0,0,0,0,0,0,null,0,0,0,0,null,0,0]
[208,null,null,null,null,null,null,null,null,null,null,null,null,null,null,null,null,null,0,null,null,0,0,0,0,0,0,0,0,0,0,0,0,0,0,0,0,0,0,0,0,0,0,0,0,0,0,0,0,0,0,0,0,0,0,0,0,0,0,0,0,0,0,0,0,0,0,0,0,null,0,0,0,0,null,0,0]
[209,null,null,null,null,null,null,null,null,null,null,null,null,null,null,null,null,null,0,null,null,0,0,0,0,0,0,0,0,0,0,0,0,0,0,0,0,0,0,0,0,0,0,0,0,0,0,0,0,0,0,0,0,0,0,0,0,0,0,0,0,0,0,0,0,0,0,0,0,null,0,0,0,0,null,0,0]
[210,null,null,null,null,null,null,null,null,null,null,null,null,null,null,null,null,null,0,null,null,0,0,0,0,0,0,0,0,0,0,0,0,0,0,0,0,0,0,0,0,0,0,0,0,0,0,0,0,0,0,0,0,0,0,0,0,0,0,0,0,0,0,0,0,0,0,0,0,null,0,0,0,0,null,0,0]
[211,null,null,null,null,null,null,null,null,null,null,null,null,null,null,null,null,null,0,null,null,0,0,0,0,0,0,0,0,0,0,0,0,0,0,0,0,0,0,0,0,0,0,0,0,0,0,0,0,0,0,0,0,0,0,0,0,0,0,0,0,0,0,0,0,0,0,0,0,null,0,0,0,0,null,0,0]
[212,null,null,null,null,null,null,null,null,null,null,null,null,null,null,null,null,null,0,null,null,0,0,0,0,0,0,0,0,0,0,0,0,0,0,0,0,0,0,0,0,0,0,0,0,0,0,0,0,0,0,0,0,0,0,0,0,0,0,0,0,0,0,0,0,0,0,0,0,null,0,0,0,0,null,0,0]
[213,null,null,null,null,null,null,null,null,null,null,null,null,null,null,null,null,null,0,null,null,0,0,0,0,0,0,0,0,0,0,0,0,0,0,0,0,0,0,0,0,0,0,0,0,0,0,0,0,0,0,0,0,0,0,0,0,0,0,0,0,0,0,0,0,0,0,0,0,null,0,0,0,0,null,0,0]
[214,null,null,null,null,null,null,null,null,null,null,null,null,null,null,null,null,null,0,null,null,0,0,0,0,0,0,0,0,0,0,0,0,0,0,0,0,0,0,0,0,0,0,0,0,0,0,0,0,0,0,0,0,0,0,0,0,0,0,0,0,0,0,0,0,0,0,0,0,null,0,0,0,0,null,0,0]
[215,null,null,null,null,null,null,null,null,null,null,null,null,null,null,null,null,null,0,null,null,0,0,0,0,0,0,0,0,0,0,0,0,0,0,0,0,0,0,0,0,0,0,0,0,0,0,0,0,0,0,0,0,0,0,0,0,0,0,0,0,0,0,0,0,0,0,0,0,null,0,0,0,0,null,0,0]
[216,null,null,null,null,null,null,null,null,null,null,null,null,null,null,null,null,null,0,null,null,0,0,0,0,0,0,0,0,0,0,0,0,0,0,0,0,0,0,0,0,0,0,0,0,0,0,0,0,0,0,0,0,0,0,0,0,0,0,0,0,0,0,0,0,0,0,0,0,null,0,0,0,0,null,0,0]
[217,null,null,null,null,null,null,null,null,null,null,null,null,null,null,null,null,null,0,null,null,0,0,0,0,0,0,0,0,0,0,0,0,0,0,0,0,0,0,0,0,0,0,0,0,0,0,0,0,0,0,0,0,0,0,0,0,0,0,0,0,0,0,0,0,0,0,0,0,null,0,0,0,0,null,0,0]
[218,null,null,null,null,null,null,null,null,null,null,null,null,null,null,null,null,null,0,null,null,0,0,0,0,0,0,0,0,0,0,0,0,0,0,0,0,0,0,0,0,0,0,0,0,0,0,0,0,0,0,0,0,0,0,0,0,0,0,0,0,0,0,0,0,0,0,0,0,null,0,0,0,0,null,0,0]
[219,null,null,null,null,null,null,null,null,null,null,null,null,null,null,null,null,null,0,null,null,0,0,0,0,0,0,0,0,0,0,0,0,0,0,0,0,0,0,0,0,0,0,0,0,0,0,0,0,0,0,0,0,0,0,0,0,0,0,0,0,0,0,0,0,0,0,0,0,null,0,0,0,0,null,0,0]
[220,null,null,null,null,null,null,null,null,null,null,null,null,null,null,null,null,null,0,null,null,0,0,0,0,0,0,0,0,0,0,0,0,0,0,0,0,0,0,0,0,0,0,0,0,0,0,0,0,0,0,0,0,0,0,0,0,0,0,0,0,0,0,0,0,0,0,0,0,null,0,0,0,0,null,0,0]
[221,null,null,null,null,null,null,null,null,null,null,null,null,null,null,null,null,null,0,null,null,0,0,0,0,0,0,0,0,0,0,0,0,0,0,0,0,0,0,0,0,0,0,0,0,0,0,0,0,0,0,0,0,0,0,0,0,0,0,0,0,0,0,0,0,0,0,0,0,null,0,0,0,0,null,0,0]
[222,null,null,null,null,null,null,null,null,null,null,null,null,null,null,null,null,null,0,null,null,0,0,0,0,0,0,0,0,0,0,0,0,0,0,0,0,0,0,0,0,0,0,0,0,0,0,0,0,0,0,0,0,0,0,0,0,0,0,0,0,0,0,0,0,0,0,0,0,null,0,0,0,0,null,0,0]
[223,null,null,null,null,null,null,null,null,null,null,null,null,null,null,null,null,null,0,null,null,0,0,0,0,0,0,0,0,0,0,0,0,0,0,0,0,0,0,0,0,0,0,0,0,0,0,0,0,0,0,0,0,0,0,0,0,0,0,0,0,0,0,0,0,0,0,0,0,null,0,0,0,0,null,0,0]
[224,null,null,null,null,null,null,null,null,null,null,null,null,null,null,null,null,null,0,null,null,0,0,0,0,0,0,0,0,0,0,0,0,0,0,0,0,0,0,0,0,0,0,0,0,0,0,0,0,0,0,0,0,0,0,0,0,0,0,0,0,0,0,0,0,0,0,0,0,null,0,0,0,0,null,0,0]
[225,null,null,null,null,null,null,null,null,null,null,null,null,null,null,null,null,null,0,null,null,0,0,0,0,0,0,0,0,0,0,0,0,0,0,0,0,0,0,0,0,0,0,0,0,0,0,0,0,0,0,0,0,0,0,0,0,0,0,0,0,0,0,0,0,0,0,0,0,null,0,0,0,0,null,0,0]
[226,null,null,null,null,null,null,null,null,null,null,null,null,null,null,null,null,null,0,null,null,0,0,0,0,0,0,0,0,0,0,0,0,0,0,0,0,0,0,0,0,0,0,0,0,0,0,0,0,0,0,0,0,0,0,0,0,0,0,0,0,0,0,0,0,0,0,0,0,null,0,0,0,0,null,0,0]
[227,null,null,null,null,null,null,null,null,null,null,null,null,null,null,null,null,null,0,null,null,0,0,0,0,0,0,0,0,0,0,0,0,0,0,0,0,0,0,0,0,0,0,0,0,0,0,0,0,0,0,0,0,0,0,0,0,0,0,0,0,0,0,0,0,0,0,0,0,null,0,0,0,0,null,0,0]
[228,null,null,null,null,null,null,null,null,null,null,null,null,null,null,null,null,null,0,null,null,0,0,0,0,0,0,0,0,0,0,0,0,0,0,0,0,0,0,0,0,0,0,0,0,0,0,0,0,0,0,0,0,0,0,0,0,0,0,0,0,0,0,0,0,0,0,0,0,null,0,0,0,0,null,0,0]
[229,null,null,null,null,null,null,null,null,null,null,null,null,null,null,null,null,null,0,null,null,0,0,0,0,0,0,0,0,0,0,0,0,0,0,0,0,0,0,0,0,0,0,0,0,0,0,0,0,0,0,0,0,0,0,0,0,0,0,0,0,0,0,0,0,0,0,0,0,null,0,0,0,0,null,0,0]
[230,null,null,null,null,null,null,null,null,null,null,null,null,null,null,null,null,null,0,null,null,0,0,0,0,0,0,0,0,0,0,0,0,0,0,0,0,0,0,0,0,0,0,0,0,0,0,0,0,0,0,0,0,0,0,0,0,0,0,0,0,0,0,0,0,0,0,0,0,null,0,0,0,0,null,0,0]
[231,null,null,null,null,null,null,null,null,null,null,null,null,null,null,null,null,null,0,null,null,0,0,0,0,0,0,0,0,0,0,0,0,0,0,0,0,0,0,0,0,0,0,0,0,0,0,0,0,0,0,0,0,0,0,0,0,0,0,0,0,0,0,0,0,0,0,0,0,null,0,0,0,0,null,0,0]
[232,null,null,null,null,null,null,null,null,null,null,null,null,null,null,null,null,null,0,null,null,0,0,0,0,0,0,0,0,0,0,0,0,0,0,0,0,0,0,0,0,0,0,0,0,0,0,0,0,0,0,0,0,0,0,0,0,0,0,0,0,0,0,0,0,0,0,0,0,null,0,0,0,0,null,0,0]
[233,null,null,null,null,null,null,null,null,null,null,null,null,null,null,null,null,null,0,null,null,0,0,0,0,0,0,0,0,0,0,0,0,0,0,0,0,0,0,0,0,0,0,0,0,0,0,0,0,0,0,0,0,0,0,0,0,0,0,0,0,0,0,0,0,0,0,0,0,null,0,0,0,0,null,0,0]
[234,null,null,null,null,null,null,null,null,null,null,null,null,null,null,null,null,null,0,null,null,0,0,0,0,0,0,0,0,0,0,0,0,0,0,0,0,0,0,0,0,0,0,0,0,0,0,0,0,0,0,0,0,0,0,0,0,0,0,0,0,0,0,0,0,0,0,0,0,null,0,0,0,0,null,0,0]
[235,null,null,null,null,null,null,null,null,null,null,null,null,null,null,null,null,null,0,null,null,0,0,0,0,0,0,0,0,0,0,0,0,0,0,0,0,0,0,0,0,0,0,0,0,0,0,0,0,0,0,0,0,0,0,0,0,0,0,0,0,0,0,0,0,0,0,0,0,null,0,0,0,0,null,0,0]
[236,null,null,null,null,null,null,null,null,null,null,null,null,null,null,null,null,null,0,null,null,0,0,0,0,0,0,0,0,0,0,0,0,0,0,0,0,0,0,0,0,0,0,0,0,0,0,0,0,0,0,0,0,0,0,0,0,0,0,0,0,0,0,0,0,0,0,0,0,null,0,0,0,0,null,0,0]
[237,null,null,null,null,null,null,null,null,null,null,null,null,null,null,null,null,null,0,null,null,0,0,0,0,0,0,0,0,0,0,0,0,0,0,0,0,0,0,0,0,0,0,0,0,0,0,0,0,0,0,0,0,0,0,0,0,0,0,0,0,0,0,0,0,0,0,0,0,null,0,0,0,0,null,0,0]
[238,null,null,null,null,null,null,null,null,null,null,null,null,null,null,null,null,null,0,null,null,0,0,0,0,0,0,0,0,0,0,0,0,0,0,0,0,0,0,0,0,0,0,0,0,0,0,0,0,0,0,0,0,0,0,0,0,0,0,0,0,0,0,0,0,0,0,0,0,null,0,0,0,0,null,0,0]
[239,null,null,null,null,null,null,null,null,null,null,null,null,null,null,null,null,null,0,null,null,0,0,0,0,0,0,0,0,0,0,0,0,0,0,0,0,0,0,0,0,0,0,0,0,0,0,0,0,0,0,0,0,0,0,0,0,0,0,0,0,0,0,0,0,0,0,0,0,null,0,0,0,0,null,0,0]
[240,null,null,null,null,null,null,null,null,null,null,null,null,null,null,null,null,null,0,null,null,0,0,0,0,0,0,0,0,0,0,0,0,0,0,0,0,0,0,0,0,0,0,0,0,0,0,0,0,0,0,0,0,0,0,0,0,0,0,0,0,0,0,0,0,0,0,0,0,null,0,0,0,0,null,0,0]
[241,null,null,null,null,null,null,null,null,null,null,null,null,null,null,null,null,null,0,null,null,0,0,0,0,0,0,0,0,0,0,0,0,0,0,0,0,0,0,0,0,0,0,0,0,0,0,0,0,0,0,0,0,0,0,0,0,0,0,0,0,0,0,0,0,0,0,0,0,null,0,0,0,0,null,0,0]
[242,null,null,null,null,null,null,null,null,null,null,null,null,null,null,null,null,null,0,null,null,0,0,0,0,0,0,0,0,0,0,0,0,0,0,0,0,0,0,0,0,0,0,0,0,0,0,0,0,0,0,0,0,0,0,0,0,0,0,0,0,0,0,0,0,0,0,0,0,null,0,0,0,0,null,0,0]
[243,null,null,null,null,null,null,null,null,null,null,null,null,null,null,null,null,null,0,null,null,0,0,0,0,0,0,0,0,0,0,0,0,0,0,0,0,0,0,0,0,0,0,0,0,0,0,0,0,0,0,0,0,0,0,0,0,0,0,0,0,0,0,0,0,0,0,0,0,null,0,0,0,0,null,0,0]
[244,null,null,null,null,null,null,null,null,null,null,null,null,null,null,null,null,null,0,null,null,0,0,0,0,0,0,0,0,0,0,0,0,0,0,0,0,0,0,0,0,0,0,0,0,0,0,0,0,0,0,0,0,0,0,0,0,0,0,0,0,0,0,0,0,0,0,0,0,null,0,0,0,0,null,0,0]
[245,null,null,null,null,null,null,null,null,null,null,null,null,null,null,null,null,null,0,null,null,0,0,0,0,0,0,0,0,0,0,0,0,0,0,0,0,0,0,0,0,0,0,0,0,0,0,0,0,0,0,0,0,0,0,0,0,0,0,0,0,0,0,0,0,0,0,0,0,null,0,0,0,0,null,0,0]
[246,null,null,null,null,null,null,null,null,null,null,null,null,null,null,null,null,null,0,null,null,0,0,0,0,0,0,0,0,0,0,0,0,0,0,0,0,0,0,0,0,0,0,0,0,0,0,0,0,0,0,0,0,0,0,0,0,0,0,0,0,0,0,0,0,0,0,0,0,null,0,0,0,0,null,0,0]
[247,null,null,null,null,null,null,null,null,null,null,null,null,null,null,null,null,null,0,null,null,0,0,0,0,0,0,0,0,0,0,0,0,0,0,0,0,0,0,0,0,0,0,0,0,0,0,0,0,0,0,0,0,0,0,0,0,0,0,0,0,0,0,0,0,0,0,0,0,null,0,0,0,0,null,0,0]
[248,null,null,null,null,null,null,null,null,null,null,null,null,null,null,null,null,null,0,null,null,0,0,0,0,0,0,0,0,0,0,0,0,0,0,0,0,0,0,0,0,0,0,0,0,0,0,0,0,0,0,0,0,0,0,0,0,0,0,0,0,0,0,0,0,0,0,0,0,null,0,0,0,0,null,0,0]
[249,null,null,null,null,null,null,null,null,null,null,null,null,null,null,null,null,null,0,null,null,0,0,0,0,0,0,0,0,0,0,0,0,0,0,0,0,0,0,0,0,0,0,0,0,0,0,0,0,0,0,0,0,0,0,0,0,0,0,0,0,0,0,0,0,0,0,0,0,null,0,0,0,0,null,0,0]
[250,null,null,null,null,null,null,null,null,null,null,null,null,null,null,null,null,null,0,null,null,0,0,0,0,0,0,0,0,0,0,0,0,0,0,0,0,0,0,0,0,0,0,0,0,0,0,0,0,0,0,0,0,0,0,0,0,0,0,0,0,0,0,0,0,0,0,0,0,null,0,0,0,0,null,0,0]
[251,null,null,null,null,null,null,null,null,null,null,null,null,null,null,null,null,null,0,null,null,0,0,0,0,0,0,0,0,0,0,0,0,0,0,0,0,0,0,0,0,0,0,0,0,0,0,0,0,0,0,0,0,0,0,0,0,0,0,0,0,0,0,0,0,0,0,0,0,null,0,0,0,0,null,0,0]
[252,null,null,null,null,null,null,null,null,null,null,null,null,null,null,null,null,null,0,null,null,0,0,0,0,0,0,0,0,0,0,0,0,0,0,0,0,0,0,0,0,0,0,0,0,0,0,0,0,0,0,0,0,0,0,0,0,0,0,0,0,0,0,0,0,0,0,0,0,null,0,0,0,0,null,0,0]
[253,null,null,null,null,null,null,null,null,null,null,null,null,null,null,null,null,null,0,null,null,0,0,0,0,0,0,0,0,0,0,0,0,0,0,0,0,0,0,0,0,0,0,0,0,0,0,0,0,0,0,0,0,0,0,0,0,0,0,0,0,0,0,0,0,0,0,0,0,null,0,0,0,0,null,0,0]
[254,null,null,null,null,null,null,null,null,null,null,null,null,null,null,null,null,null,0,null,null,0,0,0,0,0,0,0,0,0,0,0,0,0,0,0,0,0,0,0,0,0,0,0,0,0,0,0,0,0,0,0,0,0,0,0,0,0,0,0,0,0,0,0,0,0,0,0,0,null,0,0,0,0,null,0,0]
[255,null,null,null,null,null,null,null,null,null,null,null,null,null,null,null,null,null,0,null,null,0,0,0,0,0,0,0,0,0,0,0,0,0,0,0,0,0,0,0,0,0,0,0,0,0,0,0,0,0,0,0,0,0,0,0,0,0,0,0,0,0,0,0,0,0,0,0,0,null,0,0,0,0,null,0,0]
[256,null,null,null,null,null,null,null,null,null,null,null,null,null,null,null,null,null,0,null,null,0,0,0,0,0,0,0,0,0,0,0,0,0,0,0,0,0,0,0,0,0,0,0,0,0,0,0,0,0,0,0,0,0,0,0,0,0,0,0,0,0,0,0,0,0,0,0,0,null,0,0,0,0,null,0,0]
[257,null,null,null,null,null,null,null,null,null,null,null,null,null,null,null,null,null,0,null,null,0,0,0,0,0,0,0,0,0,0,0,0,0,0,0,0,0,0,0,0,0,0,0,0,0,0,0,0,0,0,0,0,0,0,0,0,0,0,0,0,0,0,0,0,0,0,0,0,null,0,0,0,0,null,0,0]
[258,null,null,null,null,null,null,null,null,null,null,null,null,null,null,null,null,null,{"$f":"IF(E266=\"\",0,IF(VALUE(E266)>VALUE($E$4),0,1))","v":0},null,null,{"$f":"IF(M266=\"\",IF(COUNTA(B266:K266)>0,1,0),IF(OR(EOMONTH(M266,0)<$V$7,AND(EOMONTH($V$7,-1)+1<=M266,EOMONTH($V$7,0)>=M266)),0,IF(COUNTA(B266:K266)>0,1,0)))","v":0},{"$f":"IF(M266=\"\",IF(COUNTA(B266:K266)>0,1,0),IF(OR(EOMONTH(M266,0)<$W$7,AND(EOMONTH($W$7,-1)+1<=M266,EOMONTH($W$7,0)>=M266)),0,IF(COUNTA(B266:K266)>0,1,0)))","v":0},{"$f":"IF(M266=\"\",IF(COUNTA(B266:K266)>0,1,0),IF(OR(EOMONTH(M266,0)<$X$7,AND(EOMONTH($X$7,-1)+1<=M266,EOMONTH($X$7,0)>=M266)),0,IF(COUNTA(B266:K266)>0,1,0)))","v":0},{"$f":"IF(M266=\"\",IF(COUNTA(B266:K266)>0,1,0),IF(OR(EOMONTH(M266,0)<$Y$7,AND(EOMONTH($Y$7,-1)+1<=M266,EOMONTH($Y$7,0)>=M266)),0,IF(COUNTA(B266:K266)>0,1,0)))","v":0},0,0,0,0,0,0,0,0,{"$f":"IF(M266=\"\",IF(COUNTA(B266:K266)>0,1,0),IF(OR(EOMONTH(M266,0)<$AH$7,AND(EOMONTH($AH$7,-1)+1<=M266,EOMONTH($AH$7,0)>=M266)),0,IF(COUNTA(B266:K266)>0,1,0)))","v":0},{"$f":"IF(M266=\"\",IF(COUNTA(B266:K266)>0,1,0),IF(OR(EOMONTH(M266,0)<$AI$7,AND(EOMONTH($AI$7,-1)+1<=M266,EOMONTH($AI$7,0)>=M266)),0,IF(COUNTA(B266:K266)>0,1,0)))","v":0},{"$f":"IF(M266=\"\",IF(COUNTA(B266:K266)>0,1,0),IF(OR(EOMONTH(M266,0)<$AJ$7,AND(EOMONTH($AJ$7,-1)+1<=M266,EOMONTH($AJ$7,0)>=M266)),0,IF(COUNTA(B266:K266)>0,1,0)))","v":0},{"$f":"IF(M266=\"\",IF(COUNTA(B266:K266)>0,1,0),IF(OR(EOMONTH(M266,0)<$AK$7,AND(EOMONTH($AK$7,-1)+1<=M266,EOMONTH($AK$7,0)>=M266)),0,IF(COUNTA(B266:K266)>0,1,0)))","v":0},{"$f":"IF(M266=\"\",IF(COUNTA(B266:K266)>0,1,0),IF(OR(EOMONTH(M266,0)<$AL$7,AND(EOMONTH($AL$7,-1)+1<=M266,EOMONTH($AL$7,0)>=M266)),0,IF(COUNTA(B266:K266)>0,1,0)))","v":0},{"$f":"IF(M266=\"\",IF(COUNTA(B266:K266)>0,1,0),IF(OR(EOMONTH(M266,0)<$AM$7,AND(EOMONTH($AM$7,-1)+1<=M266,EOMONTH($AM$7,0)>=M266)),0,IF(COUNTA(B266:K266)>0,1,0)))","v":0},{"$f":"IF(M266=\"\",IF(COUNTA(B266:K266)>0,1,0),IF(OR(EOMONTH(M266,0)<$AN$7,AND(EOMONTH($AN$7,-1)+1<=M266,EOMONTH($AN$7,0)>=M266)),0,IF(COUNTA(B266:K266)>0,1,0)))","v":0},{"$f":"IF(M266=\"\",IF(COUNTA(B266:K266)>0,1,0),IF(OR(EOMONTH(M266,0)<$AO$7,AND(EOMONTH($AO$7,-1)+1<=M266,EOMONTH($AO$7,0)>=M266)),0,IF(COUNTA(B266:K266)>0,1,0)))","v":0},{"$f":"IF(M266=\"\",IF(COUNTA(B266:K266)>0,1,0),IF(OR(EOMONTH(M266,0)<$AP$7,AND(EOMONTH($AP$7,-1)+1<=M266,EOMONTH($AP$7,0)>=M266)),0,IF(COUNTA(B266:K266)>0,1,0)))","v":0},{"$f":"IF(M266=\"\",IF(COUNTA(B266:K266)>0,1,0),IF(OR(EOMONTH(M266,0)<$AQ$7,AND(EOMONTH($AQ$7,-1)+1<=M266,EOMONTH($AQ$7,0)>=M266)),0,IF(COUNTA(B266:K266)>0,1,0)))","v":0},{"$f":"IF(M266=\"\",IF(COUNTA(B266:K266)>0,1,0),IF(OR(EOMONTH(M266,0)<$AR$7,AND(EOMONTH($AR$7,-1)+1<=M266,EOMONTH($AR$7,0)>=M266)),0,IF(COUNTA(B266:K266)>0,1,0)))","v":0},{"$f":"IF(M266=\"\",IF(COUNTA(B266:K266)>0,1,0),IF(OR(EOMONTH(M266,0)<$AS$7,AND(EOMONTH($AS$7,-1)+1<=M266,EOMONTH($AS$7,0)>=M266)),0,IF(COUNTA(B266:K266)>0,1,0)))","v":0},{"$f":"IF(M266=\"\",IF(COUNTA(B266:K266)>0,1,0),IF(OR(EOMONTH(M266,0)<$AT$7,AND(EOMONTH($AT$7,-1)+1<=M266,EOMONTH($AT$7,0)>=M266)),0,IF(COUNTA(B266:K266)>0,1,0)))","v":0},{"$f":"IF(M266=\"\",IF(COUNTA(B266:K266)>0,1,0),IF(OR(EOMONTH(M266,0)<$AU$7,AND(EOMONTH($AU$7,-1)+1<=M266,EOMONTH($AU$7,0)>=M266)),0,IF(COUNTA(B266:K266)>0,1,0)))","v":0},{"$f":"IF(M266=\"\",IF(COUNTA(B266:K266)>0,1,0),IF(OR(EOMONTH(M266,0)<$AV$7,AND(EOMONTH($AV$7,-1)+1<=M266,EOMONTH($AV$7,0)>=M266)),0,IF(COUNTA(B266:K266)>0,1,0)))","v":0},{"$f":"IF(M266=\"\",IF(COUNTA(B266:K266)>0,1,0),IF(OR(EOMONTH(M266,0)<$AW$7,AND(EOMONTH($AW$7,-1)+1<=M266,EOMONTH($AW$7,0)>=M266)),0,IF(COUNTA(B266:K266)>0,1,0)))","v":0},0,0,0,0,0,0,0,0,0,0,0,0,0,0,0,0,0,0,0,0,null,0,{"$f":"IF(M266=\"\",IF(G266<>\"\",1,0),IF(OR(EOMONTH(M266,0)<EOMONTH(TODAY(),0),AND(EOMONTH(TODAY(),-1)+1<=M266,EOMONTH(TODAY(),0)>=M266)),0,IF(G266<>\"\",1,0)))","v":0},{"$f":"IF(M266=\"\",IF(H266<>\"\",1,0),IF(OR(EOMONTH(M266,0)<EOMONTH(TODAY(),0),AND(EOMONTH(TODAY(),-1)+1<=M266,EOMONTH(TODAY(),0)>=M266)),0,IF(H266<>\"\",1,0)))","v":0},{"$f":"IF(M266=\"\",IF(I266<>\"\",1,0),IF(OR(EOMONTH(M266,0)<EOMONTH(TODAY(),0),AND(EOMONTH(TODAY(),-1)+1<=M266,EOMONTH(TODAY(),0)>=M266)),0,IF(I266<>\"\",1,0)))","v":0},null,{"$f":"SUMIFS(V266:BQ266,$V$7:$BQ$7,\">=\"&EOMONTH(TODAY(),-1)+1,$V$7:$BQ$7,\"<=\"&EOMONTH(TODAY(),0))","v":0},{"$f":"IF(M266=\"\",IF(J266>0,1,0),IF(EOMONTH(M266,0)<$BQ$7,0,IF(J266>0,1,0)))","v":0}]
[259,null,null,null,null,null,null,null,null,null,null,null,null,null,null,null,null,null,0,null,null,0,0,0,0,{"$f":"IF(M267=\"\",IF(COUNTA(B267:K267)>0,1,0),IF(OR(EOMONTH(M267,0)<$Z$7,AND(EOMONTH($Z$7,-1)+1<=M267,EOMONTH($Z$7,0)>=M267)),0,IF(COUNTA(B267:K267)>0,1,0)))","v":0},0,0,0,0,0,0,0,0,0,0,0,0,0,0,0,0,0,0,0,0,0,0,0,0,0,0,0,0,0,0,0,0,0,0,0,0,0,0,0,0,0,0,0,null,0,0,0,0,null,0,0]
[260,null,null,null,null,null,null,null,null,null,null,null,null,null,null,null,null,null,0,null,null,0,0,0,0,0,0,0,0,0,0,0,0,0,0,0,0,0,0,0,0,0,0,0,0,0,0,0,0,0,0,0,0,0,0,0,0,0,0,0,0,0,0,0,0,0,0,0,0,null,0,0,0,0,null,0,0]
[261,null,null,null,null,null,null,null,null,null,null,null,null,null,null,null,null,null,0,null,null,0,0,0,0,0,0,0,0,0,0,0,0,0,0,0,0,0,0,0,0,0,0,0,0,0,0,0,0,0,0,0,0,0,0,0,0,0,0,0,0,0,0,0,0,0,0,0,0,null,{"$f":"IF(M269=\"\",IF(F269<>\"\",1,0),IF(OR(EOMONTH(M269,0)<EOMONTH(TODAY(),0),AND(EOMONTH(TODAY(),-1)+1<=M269,EOMONTH(TODAY(),0)>=M269)),0,IF(F269<>\"\",1,0)))","v":0},0,0,0,null,0,0]
[262,null,null,null,null,null,null,null,null,null,null,null,null,null,null,null,null,null,0,null,null,0,0,0,0,0,{"$f":"IF(M270=\"\",IF(COUNTA(B270:K270)>0,1,0),IF(OR(EOMONTH(M270,0)<$AA$7,AND(EOMONTH($AA$7,-1)+1<=M270,EOMONTH($AA$7,0)>=M270)),0,IF(COUNTA(B270:K270)>0,1,0)))","v":0},{"$f":"IF(M270=\"\",IF(COUNTA(B270:K270)>0,1,0),IF(OR(EOMONTH(M270,0)<$AB$7,AND(EOMONTH($AB$7,-1)+1<=M270,EOMONTH($AB$7,0)>=M270)),0,IF(COUNTA(B270:K270)>0,1,0)))","v":0},{"$f":"IF(M270=\"\",IF(COUNTA(B270:K270)>0,1,0),IF(OR(EOMONTH(M270,0)<$AC$7,AND(EOMONTH($AC$7,-1)+1<=M270,EOMONTH($AC$7,0)>=M270)),0,IF(COUNTA(B270:K270)>0,1,0)))","v":0},{"$f":"IF(M270=\"\",IF(COUNTA(B270:K270)>0,1,0),IF(OR(EOMONTH(M270,0)<$AD$7,AND(EOMONTH($AD$7,-1)+1<=M270,EOMONTH($AD$7,0)>=M270)),0,IF(COUNTA(B270:K270)>0,1,0)))","v":0},{"$f":"IF(M270=\"\",IF(COUNTA(B270:K270)>0,1,0),IF(OR(EOMONTH(M270,0)<$AE$7,AND(EOMONTH($AE$7,-1)+1<=M270,EOMONTH($AE$7,0)>=M270)),0,IF(COUNTA(B270:K270)>0,1,0)))","v":0},{"$f":"IF(M270=\"\",IF(COUNTA(B270:K270)>0,1,0),IF(OR(EOMONTH(M270,0)<$AF$7,AND(EOMONTH($AF$7,-1)+1<=M270,EOMONTH($AF$7,0)>=M270)),0,IF(COUNTA(B270:K270)>0,1,0)))","v":0},{"$f":"IF(M270=\"\",IF(COUNTA(B270:K270)>0,1,0),IF(OR(EOMONTH(M270,0)<$AG$7,AND(EOMONTH($AG$7,-1)+1<=M270,EOMONTH($AG$7,0)>=M270)),0,IF(COUNTA(B270:K270)>0,1,0)))","v":0},0,0,0,0,0,0,0,0,0,0,0,0,0,0,0,0,0,0,0,0,0,0,0,0,0,0,0,0,0,0,0,0,0,0,0,0,null,0,0,0,0,null,0,0]
[263,null,null,null,null,null,null,null,null,null,null,null,null,null,null,null,null,null,0,null,null,0,0,0,0,0,0,0,0,0,0,0,0,0,0,0,0,0,0,0,0,0,0,0,0,0,0,0,0,{"$f":"IF(M271=\"\",IF(COUNTA(B271:K271)>0,1,0),IF(OR(EOMONTH(M271,0)<$AX$7,AND(EOMONTH($AX$7,-1)+1<=M271,EOMONTH($AX$7,0)>=M271)),0,IF(COUNTA(B271:K271)>0,1,0)))","v":0},{"$f":"IF(M271=\"\",IF(COUNTA(B271:K271)>0,1,0),IF(OR(EOMONTH(M271,0)<$AY$7,AND(EOMONTH($AY$7,-1)+1<=M271,EOMONTH($AY$7,0)>=M271)),0,IF(COUNTA(B271:K271)>0,1,0)))","v":0},{"$f":"IF(M271=\"\",IF(COUNTA(B271:K271)>0,1,0),IF(OR(EOMONTH(M271,0)<$AZ$7,AND(EOMONTH($AZ$7,-1)+1<=M271,EOMONTH($AZ$7,0)>=M271)),0,IF(COUNTA(B271:K271)>0,1,0)))","v":0},{"$f":"IF(M271=\"\",IF(COUNTA(B271:K271)>0,1,0),IF(OR(EOMONTH(M271,0)<$BA$7,AND(EOMONTH($BA$7,-1)+1<=M271,EOMONTH($BA$7,0)>=M271)),0,IF(COUNTA(B271:K271)>0,1,0)))","v":0},{"$f":"IF(M271=\"\",IF(COUNTA(B271:K271)>0,1,0),IF(OR(EOMONTH(M271,0)<$BB$7,AND(EOMONTH($BB$7,-1)+1<=M271,EOMONTH($BB$7,0)>=M271)),0,IF(COUNTA(B271:K271)>0,1,0)))","v":0},{"$f":"IF(M271=\"\",IF(COUNTA(B271:K271)>0,1,0),IF(OR(EOMONTH(M271,0)<$BC$7,AND(EOMONTH($BC$7,-1)+1<=M271,EOMONTH($BC$7,0)>=M271)),0,IF(COUNTA(B271:K271)>0,1,0)))","v":0},{"$f":"IF(M271=\"\",IF(COUNTA(B271:K271)>0,1,0),IF(OR(EOMONTH(M271,0)<$BD$7,AND(EOMONTH($BD$7,-1)+1<=M271,EOMONTH($BD$7,0)>=M271)),0,IF(COUNTA(B271:K271)>0,1,0)))","v":0},{"$f":"IF(M271=\"\",IF(COUNTA(B271:K271)>0,1,0),IF(OR(EOMONTH(M271,0)<$BE$7,AND(EOMONTH($BE$7,-1)+1<=M271,EOMONTH($BE$7,0)>=M271)),0,IF(COUNTA(B271:K271)>0,1,0)))","v":0},{"$f":"IF(M271=\"\",IF(COUNTA(B271:K271)>0,1,0),IF(OR(EOMONTH(M271,0)<$BF$7,AND(EOMONTH($BF$7,-1)+1<=M271,EOMONTH($BF$7,0)>=M271)),0,IF(COUNTA(B271:K271)>0,1,0)))","v":0},{"$f":"IF(M271=\"\",IF(COUNTA(B271:K271)>0,1,0),IF(OR(EOMONTH(M271,0)<$BG$7,AND(EOMONTH($BG$7,-1)+1<=M271,EOMONTH($BG$7,0)>=M271)),0,IF(COUNTA(B271:K271)>0,1,0)))","v":0},{"$f":"IF(M271=\"\",IF(COUNTA(B271:K271)>0,1,0),IF(OR(EOMONTH(M271,0)<$BH$7,AND(EOMONTH($BH$7,-1)+1<=M271,EOMONTH($BH$7,0)>=M271)),0,IF(COUNTA(B271:K271)>0,1,0)))","v":0},{"$f":"IF(M271=\"\",IF(COUNTA(B271:K271)>0,1,0),IF(OR(EOMONTH(M271,0)<$BI$7,AND(EOMONTH($BI$7,-1)+1<=M271,EOMONTH($BI$7,0)>=M271)),0,IF(COUNTA(B271:K271)>0,1,0)))","v":0},{"$f":"IF(M271=\"\",IF(COUNTA(B271:K271)>0,1,0),IF(OR(EOMONTH(M271,0)<$BJ$7,AND(EOMONTH($BJ$7,-1)+1<=M271,EOMONTH($BJ$7,0)>=M271)),0,IF(COUNTA(B271:K271)>0,1,0)))","v":0},{"$f":"IF(M271=\"\",IF(COUNTA(B271:K271)>0,1,0),IF(OR(EOMONTH(M271,0)<$BK$7,AND(EOMONTH($BK$7,-1)+1<=M271,EOMONTH($BK$7,0)>=M271)),0,IF(COUNTA(B271:K271)>0,1,0)))","v":0},{"$f":"IF(M271=\"\",IF(COUNTA(B271:K271)>0,1,0),IF(OR(EOMONTH(M271,0)<$BL$7,AND(EOMONTH($BL$7,-1)+1<=M271,EOMONTH($BL$7,0)>=M271)),0,IF(COUNTA(B271:K271)>0,1,0)))","v":0},{"$f":"IF(M271=\"\",IF(COUNTA(B271:K271)>0,1,0),IF(OR(EOMONTH(M271,0)<$BM$7,AND(EOMONTH($BM$7,-1)+1<=M271,EOMONTH($BM$7,0)>=M271)),0,IF(COUNTA(B271:K271)>0,1,0)))","v":0},{"$f":"IF(M271=\"\",IF(COUNTA(B271:K271)>0,1,0),IF(OR(EOMONTH(M271,0)<$BN$7,AND(EOMONTH($BN$7,-1)+1<=M271,EOMONTH($BN$7,0)>=M271)),0,IF(COUNTA(B271:K271)>0,1,0)))","v":0},{"$f":"IF(M271=\"\",IF(COUNTA(B271:K271)>0,1,0),IF(OR(EOMONTH(M271,0)<$BO$7,AND(EOMONTH($BO$7,-1)+1<=M271,EOMONTH($BO$7,0)>=M271)),0,IF(COUNTA(B271:K271)>0,1,0)))","v":0},{"$f":"IF(M271=\"\",IF(COUNTA(B271:K271)>0,1,0),IF(OR(EOMONTH(M271,0)<$BP$7,AND(EOMONTH($BP$7,-1)+1<=M271,EOMONTH($BP$7,0)>=M271)),0,IF(COUNTA(B271:K271)>0,1,0)))","v":0},{"$f":"IF(M271=\"\",IF(COUNTA(B271:K271)>0,1,0),IF(OR(EOMONTH(M271,0)<$BQ$7,AND(EOMONTH($BQ$7,-1)+1<=M271,EOMONTH($BQ$7,0)>=M271)),0,IF(COUNTA(B271:K271)>0,1,0)))","v":0},null,0,0,0,0,null,0,0]
[264,null,null,null,null,null,null,null,null,null,null,null,null,null,null,null,null,null,0,null,null,0,0,0,0,0,0,0,0,0,0,0,0,0,0,0,0,0,0,0,0,0,0,0,0,0,0,0,0,0,0,0,0,0,0,0,0,0,0,0,0,0,0,0,0,0,0,0,0,null,0,0,0,0,null,0,0]
[265,null,null,null,null,null,null,null,null,null,null,null,null,null,null,null,null,null,0,null,null,0,0,0,0,0,0,0,0,0,0,0,0,0,0,0,0,0,0,0,0,0,0,0,0,0,0,0,0,0,0,0,0,0,0,0,0,0,0,0,0,0,0,0,0,0,0,0,0,null,0,0,0,0,null,0,0]
[266,null,null,null,null,null,null,null,null,null,null,null,null,null,null,null,null,null,0,null,null,0,0,0,0,0,0,0,0,0,0,0,0,0,0,0,0,0,0,0,0,0,0,0,0,0,0,0,0,0,0,0,0,0,0,0,0,0,0,0,0,0,0,0,0,0,0,0,0,null,0,0,0,0,null,0,0]
[267,null,null,null,null,null,null,null,null,null,null,null,null,null,null,null,null,null,0,null,null,0,0,0,0,0,0,0,0,0,0,0,0,0,0,0,0,0,0,0,0,0,0,0,0,0,0,0,0,0,0,0,0,0,0,0,0,0,0,0,0,0,0,0,0,0,0,0,0,null,0,0,0,0,null,0,0]
[268,null,null,null,null,null,null,null,null,null,null,null,null,null,null,null,null,null,0,null,null,0,0,0,0,0,0,0,0,0,0,0,0,0,0,0,0,0,0,0,0,0,0,0,0,0,0,0,0,0,0,0,0,0,0,0,0,0,0,0,0,0,0,0,0,0,0,0,0,null,0,0,0,0,null,0,0]
[269,null,null,null,null,null,null,null,null,null,null,null,null,null,null,null,null,null,0,null,null,0,0,0,0,0,0,0,0,0,0,0,0,0,0,0,0,0,0,0,0,0,0,0,0,0,0,0,0,0,0,0,0,0,0,0,0,0,0,0,0,0,0,0,0,0,0,0,0,null,0,0,0,0,null,0,0]
[270,null,null,null,null,null,null,null,null,null,null,null,null,null,null,null,null,null,0,null,null,0,0,0,0,0,0,0,0,0,0,0,0,0,0,0,0,0,0,0,0,0,0,0,0,0,0,0,0,0,0,0,0,0,0,0,0,0,0,0,0,0,0,0,0,0,0,0,0,null,0,0,0,0,null,0,0]
[271,null,null,null,null,null,null,null,null,null,null,null,null,null,null,null,null,null,0,null,null,0,0,0,0,0,0,0,0,0,0,0,0,0,0,0,0,0,0,0,0,0,0,0,0,0,0,0,0,0,0,0,0,0,0,0,0,0,0,0,0,0,0,0,0,0,0,0,0,null,0,0,0,0,null,0,0]
[272,null,null,null,null,null,null,null,null,null,null,null,null,null,null,null,null,null,0,null,null,0,0,0,0,0,0,0,0,0,0,0,0,0,0,0,0,0,0,0,0,0,0,0,0,0,0,0,0,0,0,0,0,0,0,0,0,0,0,0,0,0,0,0,0,0,0,0,0,null,0,0,0,0,null,0,0]
[273,null,null,null,null,null,null,null,null,null,null,null,null,null,null,null,null,null,0,null,null,0,0,0,0,0,0,0,0,0,0,0,0,0,0,0,0,0,0,0,0,0,0,0,0,0,0,0,0,0,0,0,0,0,0,0,0,0,0,0,0,0,0,0,0,0,0,0,0,null,0,0,0,0,null,0,0]
[274,null,null,null,null,null,null,null,null,null,null,null,null,null,null,null,null,null,0,null,null,0,0,0,0,0,0,0,0,0,0,0,0,0,0,0,0,0,0,0,0,0,0,0,0,0,0,0,0,0,0,0,0,0,0,0,0,0,0,0,0,0,0,0,0,0,0,0,0,null,0,0,0,0,null,0,0]
[275,null,null,null,null,null,null,null,null,null,null,null,null,null,null,null,null,null,0,null,null,0,0,0,0,0,0,0,0,0,0,0,0,0,0,0,0,0,0,0,0,0,0,0,0,0,0,0,0,0,0,0,0,0,0,0,0,0,0,0,0,0,0,0,0,0,0,0,0,null,0,0,0,0,null,0,0]
[276,null,null,null,null,null,null,null,null,null,null,null,null,null,null,null,null,null,0,null,null,0,0,0,0,0,0,0,0,0,0,0,0,0,0,0,0,0,0,0,0,0,0,0,0,0,0,0,0,0,0,0,0,0,0,0,0,0,0,0,0,0,0,0,0,0,0,0,0,null,0,0,0,0,null,0,0]
[277,null,null,null,null,null,null,null,null,null,null,null,null,null,null,null,null,null,0,null,null,0,0,0,0,0,0,0,0,0,0,0,0,0,0,0,0,0,0,0,0,0,0,0,0,0,0,0,0,0,0,0,0,0,0,0,0,0,0,0,0,0,0,0,0,0,0,0,0,null,0,0,0,0,null,0,0]
[278,null,null,null,null,null,null,null,null,null,null,null,null,null,null,null,null,null,0,null,null,0,0,0,0,0,0,0,0,0,0,0,0,0,0,0,0,0,0,0,0,0,0,0,0,0,0,0,0,0,0,0,0,0,0,0,0,0,0,0,0,0,0,0,0,0,0,0,0,null,0,0,0,0,null,0,0]
[279,null,null,null,null,null,null,null,null,null,null,null,null,null,null,null,null,null,0,null,null,0,0,0,0,0,0,0,0,0,0,0,0,0,0,0,0,0,0,0,0,0,0,0,0,0,0,0,0,0,0,0,0,0,0,0,0,0,0,0,0,0,0,0,0,0,0,0,0,null,0,0,0,0,null,0,0]
[280,null,null,null,null,null,null,null,null,null,null,null,null,null,null,null,null,null,0,null,null,0,0,0,0,0,0,0,0,0,0,0,0,0,0,0,0,0,0,0,0,0,0,0,0,0,0,0,0,0,0,0,0,0,0,0,0,0,0,0,0,0,0,0,0,0,0,0,0,null,0,0,0,0,null,0,0]
[281,null,null,null,null,null,null,null,null,null,null,null,null,null,null,null,null,null,0,null,null,0,0,0,0,0,0,0,0,0,0,0,0,0,0,0,0,0,0,0,0,0,0,0,0,0,0,0,0,0,0,0,0,0,0,0,0,0,0,0,0,0,0,0,0,0,0,0,0,null,0,0,0,0,null,0,0]
[282,null,null,null,null,null,null,null,null,null,null,null,null,null,null,null,null,null,0,null,null,0,0,0,0,0,0,0,0,0,0,0,0,0,0,0,0,0,0,0,0,0,0,0,0,0,0,0,0,0,0,0,0,0,0,0,0,0,0,0,0,0,0,0,0,0,0,0,0,null,0,0,0,0,null,0,0]
[283,null,null,null,null,null,null,null,null,null,null,null,null,null,null,null,null,null,0,null,null,0,0,0,0,0,0,0,0,0,0,0,0,0,0,0,0,0,0,0,0,0,0,0,0,0,0,0,0,0,0,0,0,0,0,0,0,0,0,0,0,0,0,0,0,0,0,0,0,null,0,0,0,0,null,0,0]
[284,null,null,null,null,null,null,null,null,null,null,null,null,null,null,null,null,null,0,null,null,0,0,0,0,0,0,0,0,0,0,0,0,0,0,0,0,0,0,0,0,0,0,0,0,0,0,0,0,0,0,0,0,0,0,0,0,0,0,0,0,0,0,0,0,0,0,0,0,null,0,0,0,0,null,0,0]
[285,null,null,null,null,null,null,null,null,null,null,null,null,null,null,null,null,null,0,null,null,0,0,0,0,0,0,0,0,0,0,0,0,0,0,0,0,0,0,0,0,0,0,0,0,0,0,0,0,0,0,0,0,0,0,0,0,0,0,0,0,0,0,0,0,0,0,0,0,null,0,0,0,0,null,0,0]
[286,null,null,null,null,null,null,null,null,null,null,null,null,null,null,null,null,null,0,null,null,0,0,0,0,0,0,0,0,0,0,0,0,0,0,0,0,0,0,0,0,0,0,0,0,0,0,0,0,0,0,0,0,0,0,0,0,0,0,0,0,0,0,0,0,0,0,0,0,null,0,0,0,0,null,0,0]
[287,null,null,null,null,null,null,null,null,null,null,null,null,null,null,null,null,null,0,null,null,0,0,0,0,0,0,0,0,0,0,0,0,0,0,0,0,0,0,0,0,0,0,0,0,0,0,0,0,0,0,0,0,0,0,0,0,0,0,0,0,0,0,0,0,0,0,0,0,null,0,0,0,0,null,0,0]
[288,null,null,null,null,null,null,null,null,null,null,null,null,null,null,null,null,null,0,null,null,0,0,0,0,0,0,0,0,0,0,0,0,0,0,0,0,0,0,0,0,0,0,0,0,0,0,0,0,0,0,0,0,0,0,0,0,0,0,0,0,0,0,0,0,0,0,0,0,null,0,0,0,0,null,0,0]
[289,null,null,null,null,null,null,null,null,null,null,null,null,null,null,null,null,null,0,null,null,0,0,0,0,0,0,0,0,0,0,0,0,0,0,0,0,0,0,0,0,0,0,0,0,0,0,0,0,0,0,0,0,0,0,0,0,0,0,0,0,0,0,0,0,0,0,0,0,null,0,0,0,0,null,0,0]
[290,null,null,null,null,null,null,null,null,null,null,null,null,null,null,null,null,null,0,null,null,0,0,0,0,0,0,0,0,0,0,0,0,0,0,0,0,0,0,0,0,0,0,0,0,0,0,0,0,0,0,0,0,0,0,0,0,0,0,0,0,0,0,0,0,0,0,0,0,null,0,0,0,0,null,0,0]
[291,null,null,null,null,null,null,null,null,null,null,null,null,null,null,null,null,null,0,null,null,0,0,0,0,0,0,0,0,0,0,0,0,0,0,0,0,0,0,0,0,0,0,0,0,0,0,0,0,0,0,0,0,0,0,0,0,0,0,0,0,0,0,0,0,0,0,0,0,null,0,0,0,0,null,0,0]
[292,null,null,null,null,null,null,null,null,null,null,null,null,null,null,null,null,null,0,null,null,0,0,0,0,0,0,0,0,0,0,0,0,0,0,0,0,0,0,0,0,0,0,0,0,0,0,0,0,0,0,0,0,0,0,0,0,0,0,0,0,0,0,0,0,0,0,0,0,null,0,0,0,0,null,0,0]
[293,null,null,null,null,null,null,null,null,null,null,null,null,null,null,null,null,null,0,null,null,0,0,0,0,0,0,0,0,0,0,0,0,0,0,0,0,0,0,0,0,0,0,0,0,0,0,0,0,0,0,0,0,0,0,0,0,0,0,0,0,0,0,0,0,0,0,0,0,null,0,0,0,0,null,0,0]
[294,null,null,null,null,null,null,null,null,null,null,null,null,null,null,null,null,null,0,null,null,0,0,0,0,0,0,0,0,0,0,0,0,0,0,0,0,0,0,0,0,0,0,0,0,0,0,0,0,0,0,0,0,0,0,0,0,0,0,0,0,0,0,0,0,0,0,0,0,null,0,0,0,0,null,0,0]
[295,null,null,null,null,null,null,null,null,null,null,null,null,null,null,null,null,null,0,null,null,0,0,0,0,0,0,0,0,0,0,0,0,0,0,0,0,0,0,0,0,0,0,0,0,0,0,0,0,0,0,0,0,0,0,0,0,0,0,0,0,0,0,0,0,0,0,0,0,null,0,0,0,0,null,0,0]
[296,null,null,null,null,null,null,null,null,null,null,null,null,null,null,null,null,null,0,null,null,0,0,0,0,0,0,0,0,0,0,0,0,0,0,0,0,0,0,0,0,0,0,0,0,0,0,0,0,0,0,0,0,0,0,0,0,0,0,0,0,0,0,0,0,0,0,0,0,null,0,0,0,0,null,0,0]
[297,null,null,null,null,null,null,null,null,null,null,null,null,null,null,null,null,null,0,null,null,0,0,0,0,0,0,0,0,0,0,0,0,0,0,0,0,0,0,0,0,0,0,0,0,0,0,0,0,0,0,0,0,0,0,0,0,0,0,0,0,0,0,0,0,0,0,0,0,null,0,0,0,0,null,0,0]
[298,null,null,null,null,null,null,null,null,null,null,null,null,null,null,null,null,null,0,null,null,0,0,0,0,0,0,0,0,0,0,0,0,0,0,0,0,0,0,0,0,0,0,0,0,0,0,0,0,0,0,0,0,0,0,0,0,0,0,0,0,0,0,0,0,0,0,0,0,null,0,0,0,0,null,0,0]
[299,null,null,null,null,null,null,null,null,null,null,null,null,null,null,null,null,null,0,null,null,0,0,0,0,0,0,0,0,0,0,0,0,0,0,0,0,0,0,0,0,0,0,0,0,0,0,0,0,0,0,0,0,0,0,0,0,0,0,0,0,0,0,0,0,0,0,0,0,null,0,0,0,0,null,0,0]
[300,null,null,null,null,null,null,null,null,null,null,null,null,null,null,null,null,null,0,null,null,0,0,0,0,0,0,0,0,0,0,0,0,0,0,0,0,0,0,0,0,0,0,0,0,0,0,0,0,0,0,0,0,0,0,0,0,0,0,0,0,0,0,0,0,0,0,0,0,null,0,0,0,0,null,0,0]
[301,null,null,null,null,null,null,null,null,null,null,null,null,null,null,null,null,null,0,null,null,0,0,0,0,0,0,0,0,0,0,0,0,0,0,0,0,0,0,0,0,0,0,0,0,0,0,0,0,0,0,0,0,0,0,0,0,0,0,0,0,0,0,0,0,0,0,0,0,null,0,0,0,0,null,0,0]
[302,null,null,null,null,null,null,null,null,null,null,null,null,null,null,null,null,null,0,null,null,0,0,0,0,0,0,0,0,0,0,0,0,0,0,0,0,0,0,0,0,0,0,0,0,0,0,0,0,0,0,0,0,0,0,0,0,0,0,0,0,0,0,0,0,0,0,0,0,null,0,0,0,0,null,0,0]
[303,null,null,null,null,null,null,null,null,null,null,null,null,null,null,null,null,null,0,null,null,0,0,0,0,0,0,0,0,0,0,0,0,0,0,0,0,0,0,0,0,0,0,0,0,0,0,0,0,0,0,0,0,0,0,0,0,0,0,0,0,0,0,0,0,0,0,0,0,null,0,0,0,0,null,0,0]
[304,null,null,null,null,null,null,null,null,null,null,null,null,null,null,null,null,null,0,null,null,0,0,0,0,0,0,0,0,0,0,0,0,0,0,0,0,0,0,0,0,0,0,0,0,0,0,0,0,0,0,0,0,0,0,0,0,0,0,0,0,0,0,0,0,0,0,0,0,null,0,0,0,0,null,0,0]
[305,null,null,null,null,null,null,null,null,null,null,null,null,null,null,null,null,null,0,null,null,0,0,0,0,0,0,0,0,0,0,0,0,0,0,0,0,0,0,0,0,0,0,0,0,0,0,0,0,0,0,0,0,0,0,0,0,0,0,0,0,0,0,0,0,0,0,0,0,null,0,0,0,0,null,0,0]
[306,null,null,null,null,null,null,null,null,null,null,null,null,null,null,null,null,null,0,null,null,0,0,0,0,0,0,0,0,0,0,0,0,0,0,0,0,0,0,0,0,0,0,0,0,0,0,0,0,0,0,0,0,0,0,0,0,0,0,0,0,0,0,0,0,0,0,0,0,null,0,0,0,0,null,0,0]
[307,null,null,null,null,null,null,null,null,null,null,null,null,null,null,null,null,null,0,null,null,0,0,0,0,0,0,0,0,0,0,0,0,0,0,0,0,0,0,0,0,0,0,0,0,0,0,0,0,0,0,0,0,0,0,0,0,0,0,0,0,0,0,0,0,0,0,0,0,null,0,0,0,0,null,0,0]
[308,null,null,null,null,null,null,null,null,null,null,null,null,null,null,null,null,null,0,null,null,0,0,0,0,0,0,0,0,0,0,0,0,0,0,0,0,0,0,0,0,0,0,0,0,0,0,0,0,0,0,0,0,0,0,0,0,0,0,0,0,0,0,0,0,0,0,0,0,null,0,0,0,0,null,0,0]
[309,null,null,null,null,null,null,null,null,null,null,null,null,null,null,null,null,null,0,null,null,0,0,0,0,0,0,0,0,0,0,0,0,0,0,0,0,0,0,0,0,0,0,0,0,0,0,0,0,0,0,0,0,0,0,0,0,0,0,0,0,0,0,0,0,0,0,0,0,null,0,0,0,0,null,0,0]
[310,null,null,null,null,null,null,null,null,null,null,null,null,null,null,null,null,null,0,null,null,0,0,0,0,0,0,0,0,0,0,0,0,0,0,0,0,0,0,0,0,0,0,0,0,0,0,0,0,0,0,0,0,0,0,0,0,0,0,0,0,0,0,0,0,0,0,0,0,null,0,0,0,0,null,0,0]
[311,null,null,null,null,null,null,null,null,null,null,null,null,null,null,null,null,null,0,null,null,0,0,0,0,0,0,0,0,0,0,0,0,0,0,0,0,0,0,0,0,0,0,0,0,0,0,0,0,0,0,0,0,0,0,0,0,0,0,0,0,0,0,0,0,0,0,0,0,null,0,0,0,0,null,0,0]
[312,null,null,null,null,null,null,null,null,null,null,null,null,null,null,null,null,null,0,null,null,0,0,0,0,0,0,0,0,0,0,0,0,0,0,0,0,0,0,0,0,0,0,0,0,0,0,0,0,0,0,0,0,0,0,0,0,0,0,0,0,0,0,0,0,0,0,0,0,null,0,0,0,0,null,0,0]
[313,null,null,null,null,null,null,null,null,null,null,null,null,null,null,null,null,null,0,null,null,0,0,0,0,0,0,0,0,0,0,0,0,0,0,0,0,0,0,0,0,0,0,0,0,0,0,0,0,0,0,0,0,0,0,0,0,0,0,0,0,0,0,0,0,0,0,0,0,null,0,0,0,0,null,0,0]
[314,null,null,null,null,null,null,null,null,null,null,null,null,null,null,null,null,null,0,null,null,0,0,0,0,0,0,0,0,0,0,0,0,0,0,0,0,0,0,0,0,0,0,0,0,0,0,0,0,0,0,0,0,0,0,0,0,0,0,0,0,0,0,0,0,0,0,0,0,null,0,0,0,0,null,0,0]
[315,null,null,null,null,null,null,null,null,null,null,null,null,null,null,null,null,null,0,null,null,0,0,0,0,0,0,0,0,0,0,0,0,0,0,0,0,0,0,0,0,0,0,0,0,0,0,0,0,0,0,0,0,0,0,0,0,0,0,0,0,0,0,0,0,0,0,0,0,null,0,0,0,0,null,0,0]
[316,null,null,null,null,null,null,null,null,null,null,null,null,null,null,null,null,null,0,null,null,0,0,0,0,0,0,0,0,0,0,0,0,0,0,0,0,0,0,0,0,0,0,0,0,0,0,0,0,0,0,0,0,0,0,0,0,0,0,0,0,0,0,0,0,0,0,0,0,null,0,0,0,0,null,0,0]
[317,null,null,null,null,null,null,null,null,null,null,null,null,null,null,null,null,null,0,null,null,0,0,0,0,0,0,0,0,0,0,0,0,0,0,0,0,0,0,0,0,0,0,0,0,0,0,0,0,0,0,0,0,0,0,0,0,0,0,0,0,0,0,0,0,0,0,0,0,null,0,0,0,0,null,0,0]
[318,null,null,null,null,null,null,null,null,null,null,null,null,null,null,null,null,null,0,null,null,0,0,0,0,0,0,0,0,0,0,0,0,0,0,0,0,0,0,0,0,0,0,0,0,0,0,0,0,0,0,0,0,0,0,0,0,0,0,0,0,0,0,0,0,0,0,0,0,null,0,0,0,0,null,0,0]
[319,null,null,null,null,null,null,null,null,null,null,null,null,null,null,null,null,null,0,null,null,0,0,0,0,0,0,0,0,0,0,0,0,0,0,0,0,0,0,0,0,0,0,0,0,0,0,0,0,0,0,0,0,0,0,0,0,0,0,0,0,0,0,0,0,0,0,0,0,null,0,0,0,0,null,0,0]
[320,null,null,null,null,null,null,null,null,null,null,null,null,null,null,null,null,null,0,null,null,0,0,0,0,0,0,0,0,0,0,0,0,0,0,0,0,0,0,0,0,0,0,0,0,0,0,0,0,0,0,0,0,0,0,0,0,0,0,0,0,0,0,0,0,0,0,0,0,null,0,0,0,0,null,0,0]
[321,null,null,null,null,null,null,null,null,null,null,null,null,null,null,null,null,null,0,null,null,0,0,0,0,0,0,0,0,0,0,0,0,0,0,0,0,0,0,0,0,0,0,0,0,0,0,0,0,0,0,0,0,0,0,0,0,0,0,0,0,0,0,0,0,0,0,0,0,null,0,0,0,0,null,0,0]
[322,null,null,null,null,null,null,null,null,null,null,null,null,null,null,null,null,null,{"$f":"IF(E330=\"\",0,IF(VALUE(E330)>VALUE($E$4),0,1))","v":0},null,null,{"$f":"IF(M330=\"\",IF(COUNTA(B330:K330)>0,1,0),IF(OR(EOMONTH(M330,0)<$V$7,AND(EOMONTH($V$7,-1)+1<=M330,EOMONTH($V$7,0)>=M330)),0,IF(COUNTA(B330:K330)>0,1,0)))","v":0},{"$f":"IF(M330=\"\",IF(COUNTA(B330:K330)>0,1,0),IF(OR(EOMONTH(M330,0)<$W$7,AND(EOMONTH($W$7,-1)+1<=M330,EOMONTH($W$7,0)>=M330)),0,IF(COUNTA(B330:K330)>0,1,0)))","v":0},{"$f":"IF(M330=\"\",IF(COUNTA(B330:K330)>0,1,0),IF(OR(EOMONTH(M330,0)<$X$7,AND(EOMONTH($X$7,-1)+1<=M330,EOMONTH($X$7,0)>=M330)),0,IF(COUNTA(B330:K330)>0,1,0)))","v":0},{"$f":"IF(M330=\"\",IF(COUNTA(B330:K330)>0,1,0),IF(OR(EOMONTH(M330,0)<$Y$7,AND(EOMONTH($Y$7,-1)+1<=M330,EOMONTH($Y$7,0)>=M330)),0,IF(COUNTA(B330:K330)>0,1,0)))","v":0},0,0,0,0,0,0,0,0,{"$f":"IF(M330=\"\",IF(COUNTA(B330:K330)>0,1,0),IF(OR(EOMONTH(M330,0)<$AH$7,AND(EOMONTH($AH$7,-1)+1<=M330,EOMONTH($AH$7,0)>=M330)),0,IF(COUNTA(B330:K330)>0,1,0)))","v":0},{"$f":"IF(M330=\"\",IF(COUNTA(B330:K330)>0,1,0),IF(OR(EOMONTH(M330,0)<$AI$7,AND(EOMONTH($AI$7,-1)+1<=M330,EOMONTH($AI$7,0)>=M330)),0,IF(COUNTA(B330:K330)>0,1,0)))","v":0},{"$f":"IF(M330=\"\",IF(COUNTA(B330:K330)>0,1,0),IF(OR(EOMONTH(M330,0)<$AJ$7,AND(EOMONTH($AJ$7,-1)+1<=M330,EOMONTH($AJ$7,0)>=M330)),0,IF(COUNTA(B330:K330)>0,1,0)))","v":0},{"$f":"IF(M330=\"\",IF(COUNTA(B330:K330)>0,1,0),IF(OR(EOMONTH(M330,0)<$AK$7,AND(EOMONTH($AK$7,-1)+1<=M330,EOMONTH($AK$7,0)>=M330)),0,IF(COUNTA(B330:K330)>0,1,0)))","v":0},{"$f":"IF(M330=\"\",IF(COUNTA(B330:K330)>0,1,0),IF(OR(EOMONTH(M330,0)<$AL$7,AND(EOMONTH($AL$7,-1)+1<=M330,EOMONTH($AL$7,0)>=M330)),0,IF(COUNTA(B330:K330)>0,1,0)))","v":0},{"$f":"IF(M330=\"\",IF(COUNTA(B330:K330)>0,1,0),IF(OR(EOMONTH(M330,0)<$AM$7,AND(EOMONTH($AM$7,-1)+1<=M330,EOMONTH($AM$7,0)>=M330)),0,IF(COUNTA(B330:K330)>0,1,0)))","v":0},{"$f":"IF(M330=\"\",IF(COUNTA(B330:K330)>0,1,0),IF(OR(EOMONTH(M330,0)<$AN$7,AND(EOMONTH($AN$7,-1)+1<=M330,EOMONTH($AN$7,0)>=M330)),0,IF(COUNTA(B330:K330)>0,1,0)))","v":0},{"$f":"IF(M330=\"\",IF(COUNTA(B330:K330)>0,1,0),IF(OR(EOMONTH(M330,0)<$AO$7,AND(EOMONTH($AO$7,-1)+1<=M330,EOMONTH($AO$7,0)>=M330)),0,IF(COUNTA(B330:K330)>0,1,0)))","v":0},{"$f":"IF(M330=\"\",IF(COUNTA(B330:K330)>0,1,0),IF(OR(EOMONTH(M330,0)<$AP$7,AND(EOMONTH($AP$7,-1)+1<=M330,EOMONTH($AP$7,0)>=M330)),0,IF(COUNTA(B330:K330)>0,1,0)))","v":0},{"$f":"IF(M330=\"\",IF(COUNTA(B330:K330)>0,1,0),IF(OR(EOMONTH(M330,0)<$AQ$7,AND(EOMONTH($AQ$7,-1)+1<=M330,EOMONTH($AQ$7,0)>=M330)),0,IF(COUNTA(B330:K330)>0,1,0)))","v":0},{"$f":"IF(M330=\"\",IF(COUNTA(B330:K330)>0,1,0),IF(OR(EOMONTH(M330,0)<$AR$7,AND(EOMONTH($AR$7,-1)+1<=M330,EOMONTH($AR$7,0)>=M330)),0,IF(COUNTA(B330:K330)>0,1,0)))","v":0},{"$f":"IF(M330=\"\",IF(COUNTA(B330:K330)>0,1,0),IF(OR(EOMONTH(M330,0)<$AS$7,AND(EOMONTH($AS$7,-1)+1<=M330,EOMONTH($AS$7,0)>=M330)),0,IF(COUNTA(B330:K330)>0,1,0)))","v":0},{"$f":"IF(M330=\"\",IF(COUNTA(B330:K330)>0,1,0),IF(OR(EOMONTH(M330,0)<$AT$7,AND(EOMONTH($AT$7,-1)+1<=M330,EOMONTH($AT$7,0)>=M330)),0,IF(COUNTA(B330:K330)>0,1,0)))","v":0},{"$f":"IF(M330=\"\",IF(COUNTA(B330:K330)>0,1,0),IF(OR(EOMONTH(M330,0)<$AU$7,AND(EOMONTH($AU$7,-1)+1<=M330,EOMONTH($AU$7,0)>=M330)),0,IF(COUNTA(B330:K330)>0,1,0)))","v":0},{"$f":"IF(M330=\"\",IF(COUNTA(B330:K330)>0,1,0),IF(OR(EOMONTH(M330,0)<$AV$7,AND(EOMONTH($AV$7,-1)+1<=M330,EOMONTH($AV$7,0)>=M330)),0,IF(COUNTA(B330:K330)>0,1,0)))","v":0},{"$f":"IF(M330=\"\",IF(COUNTA(B330:K330)>0,1,0),IF(OR(EOMONTH(M330,0)<$AW$7,AND(EOMONTH($AW$7,-1)+1<=M330,EOMONTH($AW$7,0)>=M330)),0,IF(COUNTA(B330:K330)>0,1,0)))","v":0},0,0,0,0,0,0,0,0,0,0,0,0,0,0,0,0,0,0,0,0,null,0,{"$f":"IF(M330=\"\",IF(G330<>\"\",1,0),IF(OR(EOMONTH(M330,0)<EOMONTH(TODAY(),0),AND(EOMONTH(TODAY(),-1)+1<=M330,EOMONTH(TODAY(),0)>=M330)),0,IF(G330<>\"\",1,0)))","v":0},{"$f":"IF(M330=\"\",IF(H330<>\"\",1,0),IF(OR(EOMONTH(M330,0)<EOMONTH(TODAY(),0),AND(EOMONTH(TODAY(),-1)+1<=M330,EOMONTH(TODAY(),0)>=M330)),0,IF(H330<>\"\",1,0)))","v":0},{"$f":"IF(M330=\"\",IF(I330<>\"\",1,0),IF(OR(EOMONTH(M330,0)<EOMONTH(TODAY(),0),AND(EOMONTH(TODAY(),-1)+1<=M330,EOMONTH(TODAY(),0)>=M330)),0,IF(I330<>\"\",1,0)))","v":0},null,{"$f":"SUMIFS(V330:BQ330,$V$7:$BQ$7,\">=\"&EOMONTH(TODAY(),-1)+1,$V$7:$BQ$7,\"<=\"&EOMONTH(TODAY(),0))","v":0},{"$f":"IF(M330=\"\",IF(J330>0,1,0),IF(EOMONTH(M330,0)<$BQ$7,0,IF(J330>0,1,0)))","v":0}]
[323,null,null,null,null,null,null,null,null,null,null,null,null,null,null,null,null,null,0,null,null,0,0,0,0,{"$f":"IF(M331=\"\",IF(COUNTA(B331:K331)>0,1,0),IF(OR(EOMONTH(M331,0)<$Z$7,AND(EOMONTH($Z$7,-1)+1<=M331,EOMONTH($Z$7,0)>=M331)),0,IF(COUNTA(B331:K331)>0,1,0)))","v":0},0,0,0,0,0,0,0,0,0,0,0,0,0,0,0,0,0,0,0,0,0,0,0,0,0,0,0,0,0,0,0,0,0,0,0,0,0,0,0,0,0,0,0,null,0,0,0,0,null,0,0]
[324,null,null,null,null,null,null,null,null,null,null,null,null,null,null,null,null,null,0,null,null,0,0,0,0,0,0,0,0,0,0,0,0,0,0,0,0,0,0,0,0,0,0,0,0,0,0,0,0,0,0,0,0,0,0,0,0,0,0,0,0,0,0,0,0,0,0,0,0,null,0,0,0,0,null,0,0]
[325,null,null,null,null,null,null,null,null,null,null,null,null,null,null,null,null,null,0,null,null,0,0,0,0,0,0,0,0,0,0,0,0,0,0,0,0,0,0,0,0,0,0,0,0,0,0,0,0,0,0,0,0,0,0,0,0,0,0,0,0,0,0,0,0,0,0,0,0,null,{"$f":"IF(M333=\"\",IF(F333<>\"\",1,0),IF(OR(EOMONTH(M333,0)<EOMONTH(TODAY(),0),AND(EOMONTH(TODAY(),-1)+1<=M333,EOMONTH(TODAY(),0)>=M333)),0,IF(F333<>\"\",1,0)))","v":0},0,0,0,null,0,0]
[326,null,null,null,null,null,null,null,null,null,null,null,null,null,null,null,null,null,0,null,null,0,0,0,0,0,{"$f":"IF(M334=\"\",IF(COUNTA(B334:K334)>0,1,0),IF(OR(EOMONTH(M334,0)<$AA$7,AND(EOMONTH($AA$7,-1)+1<=M334,EOMONTH($AA$7,0)>=M334)),0,IF(COUNTA(B334:K334)>0,1,0)))","v":0},{"$f":"IF(M334=\"\",IF(COUNTA(B334:K334)>0,1,0),IF(OR(EOMONTH(M334,0)<$AB$7,AND(EOMONTH($AB$7,-1)+1<=M334,EOMONTH($AB$7,0)>=M334)),0,IF(COUNTA(B334:K334)>0,1,0)))","v":0},{"$f":"IF(M334=\"\",IF(COUNTA(B334:K334)>0,1,0),IF(OR(EOMONTH(M334,0)<$AC$7,AND(EOMONTH($AC$7,-1)+1<=M334,EOMONTH($AC$7,0)>=M334)),0,IF(COUNTA(B334:K334)>0,1,0)))","v":0},{"$f":"IF(M334=\"\",IF(COUNTA(B334:K334)>0,1,0),IF(OR(EOMONTH(M334,0)<$AD$7,AND(EOMONTH($AD$7,-1)+1<=M334,EOMONTH($AD$7,0)>=M334)),0,IF(COUNTA(B334:K334)>0,1,0)))","v":0},{"$f":"IF(M334=\"\",IF(COUNTA(B334:K334)>0,1,0),IF(OR(EOMONTH(M334,0)<$AE$7,AND(EOMONTH($AE$7,-1)+1<=M334,EOMONTH($AE$7,0)>=M334)),0,IF(COUNTA(B334:K334)>0,1,0)))","v":0},{"$f":"IF(M334=\"\",IF(COUNTA(B334:K334)>0,1,0),IF(OR(EOMONTH(M334,0)<$AF$7,AND(EOMONTH($AF$7,-1)+1<=M334,EOMONTH($AF$7,0)>=M334)),0,IF(COUNTA(B334:K334)>0,1,0)))","v":0},{"$f":"IF(M334=\"\",IF(COUNTA(B334:K334)>0,1,0),IF(OR(EOMONTH(M334,0)<$AG$7,AND(EOMONTH($AG$7,-1)+1<=M334,EOMONTH($AG$7,0)>=M334)),0,IF(COUNTA(B334:K334)>0,1,0)))","v":0},0,0,0,0,0,0,0,0,0,0,0,0,0,0,0,0,0,0,0,0,0,0,0,0,0,0,0,0,0,0,0,0,0,0,0,0,null,0,0,0,0,null,0,0]
[327,null,null,null,null,null,null,null,null,null,null,null,null,null,null,null,null,null,0,null,null,0,0,0,0,0,0,0,0,0,0,0,0,0,0,0,0,0,0,0,0,0,0,0,0,0,0,0,0,{"$f":"IF(M335=\"\",IF(COUNTA(B335:K335)>0,1,0),IF(OR(EOMONTH(M335,0)<$AX$7,AND(EOMONTH($AX$7,-1)+1<=M335,EOMONTH($AX$7,0)>=M335)),0,IF(COUNTA(B335:K335)>0,1,0)))","v":0},{"$f":"IF(M335=\"\",IF(COUNTA(B335:K335)>0,1,0),IF(OR(EOMONTH(M335,0)<$AY$7,AND(EOMONTH($AY$7,-1)+1<=M335,EOMONTH($AY$7,0)>=M335)),0,IF(COUNTA(B335:K335)>0,1,0)))","v":0},{"$f":"IF(M335=\"\",IF(COUNTA(B335:K335)>0,1,0),IF(OR(EOMONTH(M335,0)<$AZ$7,AND(EOMONTH($AZ$7,-1)+1<=M335,EOMONTH($AZ$7,0)>=M335)),0,IF(COUNTA(B335:K335)>0,1,0)))","v":0},{"$f":"IF(M335=\"\",IF(COUNTA(B335:K335)>0,1,0),IF(OR(EOMONTH(M335,0)<$BA$7,AND(EOMONTH($BA$7,-1)+1<=M335,EOMONTH($BA$7,0)>=M335)),0,IF(COUNTA(B335:K335)>0,1,0)))","v":0},{"$f":"IF(M335=\"\",IF(COUNTA(B335:K335)>0,1,0),IF(OR(EOMONTH(M335,0)<$BB$7,AND(EOMONTH($BB$7,-1)+1<=M335,EOMONTH($BB$7,0)>=M335)),0,IF(COUNTA(B335:K335)>0,1,0)))","v":0},{"$f":"IF(M335=\"\",IF(COUNTA(B335:K335)>0,1,0),IF(OR(EOMONTH(M335,0)<$BC$7,AND(EOMONTH($BC$7,-1)+1<=M335,EOMONTH($BC$7,0)>=M335)),0,IF(COUNTA(B335:K335)>0,1,0)))","v":0},{"$f":"IF(M335=\"\",IF(COUNTA(B335:K335)>0,1,0),IF(OR(EOMONTH(M335,0)<$BD$7,AND(EOMONTH($BD$7,-1)+1<=M335,EOMONTH($BD$7,0)>=M335)),0,IF(COUNTA(B335:K335)>0,1,0)))","v":0},{"$f":"IF(M335=\"\",IF(COUNTA(B335:K335)>0,1,0),IF(OR(EOMONTH(M335,0)<$BE$7,AND(EOMONTH($BE$7,-1)+1<=M335,EOMONTH($BE$7,0)>=M335)),0,IF(COUNTA(B335:K335)>0,1,0)))","v":0},{"$f":"IF(M335=\"\",IF(COUNTA(B335:K335)>0,1,0),IF(OR(EOMONTH(M335,0)<$BF$7,AND(EOMONTH($BF$7,-1)+1<=M335,EOMONTH($BF$7,0)>=M335)),0,IF(COUNTA(B335:K335)>0,1,0)))","v":0},{"$f":"IF(M335=\"\",IF(COUNTA(B335:K335)>0,1,0),IF(OR(EOMONTH(M335,0)<$BG$7,AND(EOMONTH($BG$7,-1)+1<=M335,EOMONTH($BG$7,0)>=M335)),0,IF(COUNTA(B335:K335)>0,1,0)))","v":0},{"$f":"IF(M335=\"\",IF(COUNTA(B335:K335)>0,1,0),IF(OR(EOMONTH(M335,0)<$BH$7,AND(EOMONTH($BH$7,-1)+1<=M335,EOMONTH($BH$7,0)>=M335)),0,IF(COUNTA(B335:K335)>0,1,0)))","v":0},{"$f":"IF(M335=\"\",IF(COUNTA(B335:K335)>0,1,0),IF(OR(EOMONTH(M335,0)<$BI$7,AND(EOMONTH($BI$7,-1)+1<=M335,EOMONTH($BI$7,0)>=M335)),0,IF(COUNTA(B335:K335)>0,1,0)))","v":0},{"$f":"IF(M335=\"\",IF(COUNTA(B335:K335)>0,1,0),IF(OR(EOMONTH(M335,0)<$BJ$7,AND(EOMONTH($BJ$7,-1)+1<=M335,EOMONTH($BJ$7,0)>=M335)),0,IF(COUNTA(B335:K335)>0,1,0)))","v":0},{"$f":"IF(M335=\"\",IF(COUNTA(B335:K335)>0,1,0),IF(OR(EOMONTH(M335,0)<$BK$7,AND(EOMONTH($BK$7,-1)+1<=M335,EOMONTH($BK$7,0)>=M335)),0,IF(COUNTA(B335:K335)>0,1,0)))","v":0},{"$f":"IF(M335=\"\",IF(COUNTA(B335:K335)>0,1,0),IF(OR(EOMONTH(M335,0)<$BL$7,AND(EOMONTH($BL$7,-1)+1<=M335,EOMONTH($BL$7,0)>=M335)),0,IF(COUNTA(B335:K335)>0,1,0)))","v":0},{"$f":"IF(M335=\"\",IF(COUNTA(B335:K335)>0,1,0),IF(OR(EOMONTH(M335,0)<$BM$7,AND(EOMONTH($BM$7,-1)+1<=M335,EOMONTH($BM$7,0)>=M335)),0,IF(COUNTA(B335:K335)>0,1,0)))","v":0},{"$f":"IF(M335=\"\",IF(COUNTA(B335:K335)>0,1,0),IF(OR(EOMONTH(M335,0)<$BN$7,AND(EOMONTH($BN$7,-1)+1<=M335,EOMONTH($BN$7,0)>=M335)),0,IF(COUNTA(B335:K335)>0,1,0)))","v":0},{"$f":"IF(M335=\"\",IF(COUNTA(B335:K335)>0,1,0),IF(OR(EOMONTH(M335,0)<$BO$7,AND(EOMONTH($BO$7,-1)+1<=M335,EOMONTH($BO$7,0)>=M335)),0,IF(COUNTA(B335:K335)>0,1,0)))","v":0},{"$f":"IF(M335=\"\",IF(COUNTA(B335:K335)>0,1,0),IF(OR(EOMONTH(M335,0)<$BP$7,AND(EOMONTH($BP$7,-1)+1<=M335,EOMONTH($BP$7,0)>=M335)),0,IF(COUNTA(B335:K335)>0,1,0)))","v":0},{"$f":"IF(M335=\"\",IF(COUNTA(B335:K335)>0,1,0),IF(OR(EOMONTH(M335,0)<$BQ$7,AND(EOMONTH($BQ$7,-1)+1<=M335,EOMONTH($BQ$7,0)>=M335)),0,IF(COUNTA(B335:K335)>0,1,0)))","v":0},null,0,0,0,0,null,0,0]
[328,null,null,null,null,null,null,null,null,null,null,null,null,null,null,null,null,null,0,null,null,0,0,0,0,0,0,0,0,0,0,0,0,0,0,0,0,0,0,0,0,0,0,0,0,0,0,0,0,0,0,0,0,0,0,0,0,0,0,0,0,0,0,0,0,0,0,0,0,null,0,0,0,0,null,0,0]
[329,null,null,null,null,null,null,null,null,null,null,null,null,null,null,null,null,null,0,null,null,0,0,0,0,0,0,0,0,0,0,0,0,0,0,0,0,0,0,0,0,0,0,0,0,0,0,0,0,0,0,0,0,0,0,0,0,0,0,0,0,0,0,0,0,0,0,0,0,null,0,0,0,0,null,0,0]
[330,null,null,null,null,null,null,null,null,null,null,null,null,null,null,null,null,null,0,null,null,0,0,0,0,0,0,0,0,0,0,0,0,0,0,0,0,0,0,0,0,0,0,0,0,0,0,0,0,0,0,0,0,0,0,0,0,0,0,0,0,0,0,0,0,0,0,0,0,null,0,0,0,0,null,0,0]
[331,null,null,null,null,null,null,null,null,null,null,null,null,null,null,null,null,null,0,null,null,0,0,0,0,0,0,0,0,0,0,0,0,0,0,0,0,0,0,0,0,0,0,0,0,0,0,0,0,0,0,0,0,0,0,0,0,0,0,0,0,0,0,0,0,0,0,0,0,null,0,0,0,0,null,0,0]
[332,null,null,null,null,null,null,null,null,null,null,null,null,null,null,null,null,null,0,null,null,0,0,0,0,0,0,0,0,0,0,0,0,0,0,0,0,0,0,0,0,0,0,0,0,0,0,0,0,0,0,0,0,0,0,0,0,0,0,0,0,0,0,0,0,0,0,0,0,null,0,0,0,0,null,0,0]
[333,null,null,null,null,null,null,null,null,null,null,null,null,null,null,null,null,null,0,null,null,0,0,0,0,0,0,0,0,0,0,0,0,0,0,0,0,0,0,0,0,0,0,0,0,0,0,0,0,0,0,0,0,0,0,0,0,0,0,0,0,0,0,0,0,0,0,0,0,null,0,0,0,0,null,0,0]
[334,null,null,null,null,null,null,null,null,null,null,null,null,null,null,null,null,null,0,null,null,0,0,0,0,0,0,0,0,0,0,0,0,0,0,0,0,0,0,0,0,0,0,0,0,0,0,0,0,0,0,0,0,0,0,0,0,0,0,0,0,0,0,0,0,0,0,0,0,null,0,0,0,0,null,0,0]
[335,null,null,null,null,null,null,null,null,null,null,null,null,null,null,null,null,null,0,null,null,0,0,0,0,0,0,0,0,0,0,0,0,0,0,0,0,0,0,0,0,0,0,0,0,0,0,0,0,0,0,0,0,0,0,0,0,0,0,0,0,0,0,0,0,0,0,0,0,null,0,0,0,0,null,0,0]
[336,null,null,null,null,null,null,null,null,null,null,null,null,null,null,null,null,null,0,null,null,0,0,0,0,0,0,0,0,0,0,0,0,0,0,0,0,0,0,0,0,0,0,0,0,0,0,0,0,0,0,0,0,0,0,0,0,0,0,0,0,0,0,0,0,0,0,0,0,null,0,0,0,0,null,0,0]
[337,null,null,null,null,null,null,null,null,null,null,null,null,null,null,null,null,null,0,null,null,0,0,0,0,0,0,0,0,0,0,0,0,0,0,0,0,0,0,0,0,0,0,0,0,0,0,0,0,0,0,0,0,0,0,0,0,0,0,0,0,0,0,0,0,0,0,0,0,null,0,0,0,0,null,0,0]
[338,null,null,null,null,null,null,null,null,null,null,null,null,null,null,null,null,null,0,null,null,0,0,0,0,0,0,0,0,0,0,0,0,0,0,0,0,0,0,0,0,0,0,0,0,0,0,0,0,0,0,0,0,0,0,0,0,0,0,0,0,0,0,0,0,0,0,0,0,null,0,0,0,0,null,0,0]
[339,null,null,null,null,null,null,null,null,null,null,null,null,null,null,null,null,null,0,null,null,0,0,0,0,0,0,0,0,0,0,0,0,0,0,0,0,0,0,0,0,0,0,0,0,0,0,0,0,0,0,0,0,0,0,0,0,0,0,0,0,0,0,0,0,0,0,0,0,null,0,0,0,0,null,0,0]
[340,null,null,null,null,null,null,null,null,null,null,null,null,null,null,null,null,null,0,null,null,0,0,0,0,0,0,0,0,0,0,0,0,0,0,0,0,0,0,0,0,0,0,0,0,0,0,0,0,0,0,0,0,0,0,0,0,0,0,0,0,0,0,0,0,0,0,0,0,null,0,0,0,0,null,0,0]
[341,null,null,null,null,null,null,null,null,null,null,null,null,null,null,null,null,null,0,null,null,0,0,0,0,0,0,0,0,0,0,0,0,0,0,0,0,0,0,0,0,0,0,0,0,0,0,0,0,0,0,0,0,0,0,0,0,0,0,0,0,0,0,0,0,0,0,0,0,null,0,0,0,0,null,0,0]
[342,null,null,null,null,null,null,null,null,null,null,null,null,null,null,null,null,null,0,null,null,0,0,0,0,0,0,0,0,0,0,0,0,0,0,0,0,0,0,0,0,0,0,0,0,0,0,0,0,0,0,0,0,0,0,0,0,0,0,0,0,0,0,0,0,0,0,0,0,null,0,0,0,0,null,0,0]
[343,null,null,null,null,null,null,null,null,null,null,null,null,null,null,null,null,null,0,null,null,0,0,0,0,0,0,0,0,0,0,0,0,0,0,0,0,0,0,0,0,0,0,0,0,0,0,0,0,0,0,0,0,0,0,0,0,0,0,0,0,0,0,0,0,0,0,0,0,null,0,0,0,0,null,0,0]
[344,null,null,null,null,null,null,null,null,null,null,null,null,null,null,null,null,null,0,null,null,0,0,0,0,0,0,0,0,0,0,0,0,0,0,0,0,0,0,0,0,0,0,0,0,0,0,0,0,0,0,0,0,0,0,0,0,0,0,0,0,0,0,0,0,0,0,0,0,null,0,0,0,0,null,0,0]
[345,null,null,null,null,null,null,null,null,null,null,null,null,null,null,null,null,null,0,null,null,0,0,0,0,0,0,0,0,0,0,0,0,0,0,0,0,0,0,0,0,0,0,0,0,0,0,0,0,0,0,0,0,0,0,0,0,0,0,0,0,0,0,0,0,0,0,0,0,null,0,0,0,0,null,0,0]
[346,null,null,null,null,null,null,null,null,null,null,null,null,null,null,null,null,null,0,null,null,0,0,0,0,0,0,0,0,0,0,0,0,0,0,0,0,0,0,0,0,0,0,0,0,0,0,0,0,0,0,0,0,0,0,0,0,0,0,0,0,0,0,0,0,0,0,0,0,null,0,0,0,0,null,0,0]
[347,null,null,null,null,null,null,null,null,null,null,null,null,null,null,null,null,null,0,null,null,0,0,0,0,0,0,0,0,0,0,0,0,0,0,0,0,0,0,0,0,0,0,0,0,0,0,0,0,0,0,0,0,0,0,0,0,0,0,0,0,0,0,0,0,0,0,0,0,null,0,0,0,0,null,0,0]
[348,null,null,null,null,null,null,null,null,null,null,null,null,null,null,null,null,null,0,null,null,0,0,0,0,0,0,0,0,0,0,0,0,0,0,0,0,0,0,0,0,0,0,0,0,0,0,0,0,0,0,0,0,0,0,0,0,0,0,0,0,0,0,0,0,0,0,0,0,null,0,0,0,0,null,0,0]
[349,null,null,null,null,null,null,null,null,null,null,null,null,null,null,null,null,null,{"$f":"IF(E357=\"\",0,IF(VALUE(E357)>VALUE($E$4),0,1))","v":0},null,null,0,0,0,0,0,0,0,0,0,0,0,0,0,0,0,0,0,0,0,0,0,0,0,0,0,0,0,0,0,0,0,0,0,0,0,0,0,0,0,0,0,0,0,0,0,0,0,0,null,0,0,0,0,null,0,0]
[350,null,null,null,null,null,null,null,null,null,null,null,null,null,null,null,null,null,{"$f":"IF(E358=\"\",0,IF(VALUE(E358)>VALUE($E$4),0,1))","v":0},null,null,0,0,0,0,0,0,0,0,0,0,0,0,0,0,0,0,0,0,0,0,0,0,0,0,0,0,0,0,0,0,0,0,0,0,0,0,0,0,0,0,0,0,0,0,0,0,0,0,null,0,0,0,0,null,{"$f":"SUMIFS(V358:BQ358,$V$7:$BQ$7,\">=\"&EOMONTH(TODAY(),-1)+1,$V$7:$BQ$7,\"<=\"&EOMONTH(TODAY(),0))","v":0},0]
[351,null,null,null,null,null,null,null,null,null,null,null,null,null,null,null,null,null,0,null,null,0,0,0,0,0,0,0,0,0,0,0,0,0,0,0,0,0,0,0,0,0,0,0,0,0,0,0,0,0,0,0,0,0,0,0,0,0,0,0,0,0,0,0,0,0,0,0,0,null,0,0,0,0,null,0,0]
[352,null,null,null,null,null,null,null,null,null,null,null,null,null,null,null,null,null,0,null,null,0,0,0,0,0,0,0,0,0,0,0,0,0,0,0,0,0,0,0,0,0,0,0,0,0,0,0,0,0,0,0,0,0,0,0,0,0,0,0,0,0,0,0,0,0,0,0,0,null,0,0,0,0,null,0,0]
[353,null,null,null,null,null,null,null,null,null,null,null,null,null,null,null,null,null,0,null,null,0,0,0,0,0,0,0,0,0,0,0,0,0,0,0,0,0,0,0,0,0,0,0,0,0,0,0,0,0,0,0,0,0,0,0,0,0,0,0,0,0,0,0,0,0,0,0,0,null,0,0,0,0,null,0,0]
[354,null,null,null,null,null,null,null,null,null,null,null,null,null,null,null,null,null,0,null,null,0,0,0,0,0,0,0,0,0,0,0,0,0,0,0,0,0,0,0,0,0,0,0,0,0,0,0,0,0,0,0,0,0,0,0,0,0,0,0,0,0,0,0,0,0,0,0,0,null,0,0,0,0,null,0,0]
[355,null,null,null,null,null,null,null,null,null,null,null,null,null,null,null,null,null,0,null,null,0,0,0,0,0,0,0,0,0,0,0,0,0,0,0,0,0,0,0,0,0,0,0,0,0,0,0,0,0,0,0,0,0,0,0,0,0,0,0,0,0,0,0,0,0,0,0,0,null,0,0,0,0,null,0,0]
[356,null,null,null,null,null,null,null,null,null,null,null,null,null,null,null,null,null,0,null,null,0,0,0,0,0,0,0,0,0,0,0,0,0,0,0,0,0,0,0,0,0,0,0,0,0,0,0,0,0,0,0,0,0,0,0,0,0,0,0,0,0,0,0,0,0,0,0,0,null,0,0,0,0,null,0,0]
[357,null,null,null,null,null,null,null,null,null,null,null,null,null,null,null,null,null,0,null,null,0,0,0,0,0,0,0,0,0,0,0,0,0,0,0,0,0,0,0,0,0,0,0,0,0,0,0,0,0,0,0,0,0,0,0,0,0,0,0,0,0,0,0,0,0,0,0,0,null,0,0,0,0,null,0,0]
[358,null,null,null,null,null,null,null,null,null,null,null,null,null,null,null,null,null,0,null,null,0,0,0,0,0,0,0,0,0,0,0,0,0,0,0,0,0,0,0,0,0,0,0,0,0,0,0,0,0,0,0,0,0,0,0,0,0,0,0,0,0,0,0,0,0,0,0,0,null,0,0,0,0,null,0,0]
[359,null,null,null,null,null,null,null,null,null,null,null,null,null,null,null,null,null,0,null,null,0,0,0,0,0,0,0,0,0,0,0,0,0,0,0,0,0,0,0,0,0,0,0,0,0,0,0,0,0,0,0,0,0,0,0,0,0,0,0,0,0,0,0,0,0,0,0,0,null,0,0,0,0,null,0,0]
[360,null,null,null,null,null,null,null,null,null,null,null,null,null,null,null,null,null,0,null,null,0,0,0,0,0,0,0,0,0,0,0,0,0,0,0,0,0,0,0,0,0,0,0,0,0,0,0,0,0,0,0,0,0,0,0,0,0,0,0,0,0,0,0,0,0,0,0,0,null,0,0,0,0,null,0,0]
[361,null,null,null,null,null,null,null,null,null,null,null,null,null,null,null,null,null,0,null,null,0,0,0,0,0,0,0,0,0,0,0,0,0,0,0,0,0,0,0,0,0,0,0,0,0,0,0,0,0,0,0,0,0,0,0,0,0,0,0,0,0,0,0,0,0,0,0,0,null,0,0,0,0,null,0,0]
[362,null,null,null,null,null,null,null,null,null,null,null,null,null,null,null,null,null,0,null,null,0,0,0,0,0,0,0,0,0,0,0,0,0,0,0,0,0,0,0,0,0,0,0,0,0,0,0,0,0,0,0,0,0,0,0,0,0,0,0,0,0,0,0,0,0,0,0,0,null,0,0,0,0,null,0,0]
[363,null,null,null,null,null,null,null,null,null,null,null,null,null,null,null,null,null,0,null,null,0,0,0,0,0,0,0,0,0,0,0,0,0,0,0,0,0,0,0,0,0,0,0,0,0,0,0,0,0,0,0,0,0,0,0,0,0,0,0,0,0,0,0,0,0,0,0,0,null,0,0,0,0,null,0,0]
[364,null,null,null,null,null,null,null,null,null,null,null,null,null,null,null,null,null,0,null,null,0,0,0,0,0,0,0,0,0,0,0,0,0,0,0,0,0,0,0,0,0,0,0,0,0,0,0,0,0,0,0,0,0,0,0,0,0,0,0,0,0,0,0,0,0,0,0,0,null,0,0,0,0,null,0,0]
[365,null,null,null,null,null,null,null,null,null,null,null,null,null,null,null,null,null,0,null,null,0,0,0,0,0,0,0,0,0,0,0,0,0,0,0,0,0,0,0,0,0,0,0,0,0,0,0,0,0,0,0,0,0,0,0,0,0,0,0,0,0,0,0,0,0,0,0,0,null,0,0,0,0,null,0,0]
[366,null,null,null,null,null,null,null,null,null,null,null,null,null,null,null,null,null,0,null,null,0,0,0,0,0,0,0,0,0,0,0,0,0,0,0,0,0,0,0,0,0,0,0,0,0,0,0,0,0,0,0,0,0,0,0,0,0,0,0,0,0,0,0,0,0,0,0,0,null,0,0,0,0,null,0,0]
[367,null,null,null,null,null,null,null,null,null,null,null,null,null,null,null,null,null,0,null,null,0,0,0,0,0,0,0,0,0,0,0,0,0,0,0,0,0,0,0,0,0,0,0,0,0,0,0,0,0,0,0,0,0,0,0,0,0,0,0,0,0,0,0,0,0,0,0,0,null,0,0,0,0,null,0,0]
[368,null,null,null,null,null,null,null,null,null,null,null,null,null,null,null,null,null,0,null,null,0,0,0,0,0,0,0,0,0,0,0,0,0,0,0,0,0,0,0,0,0,0,0,0,0,0,0,0,0,0,0,0,0,0,0,0,0,0,0,0,0,0,0,0,0,0,0,0,null,0,0,0,0,null,0,0]
[369,null,null,null,null,null,null,null,null,null,null,null,null,null,null,null,null,null,0,null,null,0,0,0,0,0,0,0,0,0,0,0,0,0,0,0,0,0,0,0,0,0,0,0,0,0,0,0,0,0,0,0,0,0,0,0,0,0,0,0,0,0,0,0,0,0,0,0,0,null,0,0,0,0,null,0,0]
[370,null,null,null,null,null,null,null,null,null,null,null,null,null,null,null,null,null,0,null,null,0,0,0,0,0,0,0,0,0,0,0,0,0,0,0,0,0,0,0,0,0,0,0,0,0,0,0,0,0,0,0,0,0,0,0,0,0,0,0,0,0,0,0,0,0,0,0,0,null,0,0,0,0,null,0,0]
[371,null,null,null,null,null,null,null,null,null,null,null,null,null,null,null,null,null,0,null,null,0,0,0,0,0,0,0,0,0,0,0,0,0,0,0,0,0,0,0,0,0,0,0,0,0,0,0,0,0,0,0,0,0,0,0,0,0,0,0,0,0,0,0,0,0,0,0,0,null,0,0,0,0,null,0,0]
[372,null,null,null,null,null,null,null,null,null,null,null,null,null,null,null,null,null,0,null,null,0,0,0,0,0,0,0,0,0,0,0,0,0,0,0,0,0,0,0,0,0,0,0,0,0,0,0,0,0,0,0,0,0,0,0,0,0,0,0,0,0,0,0,0,0,0,0,0,null,0,0,0,0,null,0,0]
[373,null,null,null,null,null,null,null,null,null,null,null,null,null,null,null,null,null,0,null,null,0,0,0,0,0,0,0,0,0,0,0,0,0,0,0,0,0,0,0,0,0,0,0,0,0,0,0,0,0,0,0,0,0,0,0,0,0,0,0,0,0,0,0,0,0,0,0,0,null,0,0,0,0,null,0,0]
[374,null,null,null,null,null,null,null,null,null,null,null,null,null,null,null,null,null,0,null,null,0,0,0,0,0,0,0,0,0,0,0,0,0,0,0,0,0,0,0,0,0,0,0,0,0,0,0,0,0,0,0,0,0,0,0,0,0,0,0,0,0,0,0,0,0,0,0,0,null,0,0,0,0,null,0,0]
[375,null,null,null,null,null,null,null,null,null,null,null,null,null,null,null,null,null,0,null,null,0,0,0,0,0,0,0,0,0,0,0,0,0,0,0,0,0,0,0,0,0,0,0,0,0,0,0,0,0,0,0,0,0,0,0,0,0,0,0,0,0,0,0,0,0,0,0,0,null,0,0,0,0,null,0,0]
[376,null,null,null,null,null,null,null,null,null,null,null,null,null,null,null,null,null,0,null,null,0,0,0,0,0,0,0,0,0,0,0,0,0,0,0,0,0,0,0,0,0,0,0,0,0,0,0,0,0,0,0,0,0,0,0,0,0,0,0,0,0,0,0,0,0,0,0,0,null,0,0,0,0,null,0,0]
[377,null,null,null,null,null,null,null,null,null,null,null,null,null,null,null,null,null,0,null,null,0,0,0,0,0,0,0,0,0,0,0,0,0,0,0,0,0,0,0,0,0,0,0,0,0,0,0,0,0,0,0,0,0,0,0,0,0,0,0,0,0,0,0,0,0,0,0,0,null,0,0,0,0,null,0,0]
[378,null,null,null,null,null,null,null,null,null,null,null,null,null,null,null,null,null,0,null,null,0,0,0,0,0,0,0,0,0,0,0,0,0,0,0,0,0,0,0,0,0,0,0,0,0,0,0,0,0,0,0,0,0,0,0,0,0,0,0,0,0,0,0,0,0,0,0,0,null,0,0,0,0,null,0,0]
[379,null,null,null,null,null,null,null,null,null,null,null,null,null,null,null,null,null,0,null,null,0,0,0,0,0,0,0,0,0,0,0,0,0,0,0,0,0,0,0,0,0,0,0,0,0,0,0,0,0,0,0,0,0,0,0,0,0,0,0,0,0,0,0,0,0,0,0,0,null,0,0,0,0,null,0,0]
[380,null,null,null,null,null,null,null,null,null,null,null,null,null,null,null,null,null,0,null,null,0,0,0,0,0,0,0,0,0,0,0,0,0,0,0,0,0,0,0,0,0,0,0,0,0,0,0,0,0,0,0,0,0,0,0,0,0,0,0,0,0,0,0,0,0,0,0,0,null,0,0,0,0,null,0,0]
[381,null,null,null,null,null,null,null,null,null,null,null,null,null,null,null,null,null,0,null,null,0,0,0,0,0,0,0,0,0,0,0,0,0,0,0,0,0,0,0,0,0,0,0,0,0,0,0,0,0,0,0,0,0,0,0,0,0,0,0,0,0,0,0,0,0,0,0,0,null,0,0,0,0,null,0,0]
[382,null,null,null,null,null,null,null,null,null,null,null,null,null,null,null,null,null,0,null,null,0,0,0,0,0,0,0,0,0,0,0,0,0,0,0,0,0,0,0,0,0,0,0,0,0,0,0,0,0,0,0,0,0,0,0,0,0,0,0,0,0,0,0,0,0,0,0,0,null,0,0,0,0,null,0,0]
[383,null,null,null,null,null,null,null,null,null,null,null,null,null,null,null,null,null,0,null,null,0,0,0,0,0,0,0,0,0,0,0,0,0,0,0,0,0,0,0,0,0,0,0,0,0,0,0,0,0,0,0,0,0,0,0,0,0,0,0,0,0,0,0,0,0,0,0,0,null,0,0,0,0,null,0,0]
[384,null,null,null,null,null,null,null,null,null,null,null,null,null,null,null,null,null,0,null,null,0,0,0,0,0,0,0,0,0,0,0,0,0,0,0,0,0,0,0,0,0,0,0,0,0,0,0,0,0,0,0,0,0,0,0,0,0,0,0,0,0,0,0,0,0,0,0,0,null,0,0,0,0,null,0,0]
[385,null,null,null,null,null,null,null,null,null,null,null,null,null,null,null,null,null,0,null,null,0,0,0,0,0,0,0,0,0,0,0,0,0,0,0,0,0,0,0,0,0,0,0,0,0,0,0,0,0,0,0,0,0,0,0,0,0,0,0,0,0,0,0,0,0,0,0,0,null,0,0,0,0,null,0,0]
[386,null,null,null,null,null,null,null,null,null,null,null,null,null,null,null,null,null,0,null,null,{"$f":"IF(M394=\"\",IF(COUNTA(B394:K394)>0,1,0),IF(OR(EOMONTH(M394,0)<$V$7,AND(EOMONTH($V$7,-1)+1<=M394,EOMONTH($V$7,0)>=M394)),0,IF(COUNTA(B394:K394)>0,1,0)))","v":0},{"$f":"IF(M394=\"\",IF(COUNTA(B394:K394)>0,1,0),IF(OR(EOMONTH(M394,0)<$W$7,AND(EOMONTH($W$7,-1)+1<=M394,EOMONTH($W$7,0)>=M394)),0,IF(COUNTA(B394:K394)>0,1,0)))","v":0},{"$f":"IF(M394=\"\",IF(COUNTA(B394:K394)>0,1,0),IF(OR(EOMONTH(M394,0)<$X$7,AND(EOMONTH($X$7,-1)+1<=M394,EOMONTH($X$7,0)>=M394)),0,IF(COUNTA(B394:K394)>0,1,0)))","v":0},{"$f":"IF(M394=\"\",IF(COUNTA(B394:K394)>0,1,0),IF(OR(EOMONTH(M394,0)<$Y$7,AND(EOMONTH($Y$7,-1)+1<=M394,EOMONTH($Y$7,0)>=M394)),0,IF(COUNTA(B394:K394)>0,1,0)))","v":0},0,0,0,0,0,0,0,0,{"$f":"IF(M394=\"\",IF(COUNTA(B394:K394)>0,1,0),IF(OR(EOMONTH(M394,0)<$AH$7,AND(EOMONTH($AH$7,-1)+1<=M394,EOMONTH($AH$7,0)>=M394)),0,IF(COUNTA(B394:K394)>0,1,0)))","v":0},{"$f":"IF(M394=\"\",IF(COUNTA(B394:K394)>0,1,0),IF(OR(EOMONTH(M394,0)<$AI$7,AND(EOMONTH($AI$7,-1)+1<=M394,EOMONTH($AI$7,0)>=M394)),0,IF(COUNTA(B394:K394)>0,1,0)))","v":0},{"$f":"IF(M394=\"\",IF(COUNTA(B394:K394)>0,1,0),IF(OR(EOMONTH(M394,0)<$AJ$7,AND(EOMONTH($AJ$7,-1)+1<=M394,EOMONTH($AJ$7,0)>=M394)),0,IF(COUNTA(B394:K394)>0,1,0)))","v":0},{"$f":"IF(M394=\"\",IF(COUNTA(B394:K394)>0,1,0),IF(OR(EOMONTH(M394,0)<$AK$7,AND(EOMONTH($AK$7,-1)+1<=M394,EOMONTH($AK$7,0)>=M394)),0,IF(COUNTA(B394:K394)>0,1,0)))","v":0},{"$f":"IF(M394=\"\",IF(COUNTA(B394:K394)>0,1,0),IF(OR(EOMONTH(M394,0)<$AL$7,AND(EOMONTH($AL$7,-1)+1<=M394,EOMONTH($AL$7,0)>=M394)),0,IF(COUNTA(B394:K394)>0,1,0)))","v":0},{"$f":"IF(M394=\"\",IF(COUNTA(B394:K394)>0,1,0),IF(OR(EOMONTH(M394,0)<$AM$7,AND(EOMONTH($AM$7,-1)+1<=M394,EOMONTH($AM$7,0)>=M394)),0,IF(COUNTA(B394:K394)>0,1,0)))","v":0},{"$f":"IF(M394=\"\",IF(COUNTA(B394:K394)>0,1,0),IF(OR(EOMONTH(M394,0)<$AN$7,AND(EOMONTH($AN$7,-1)+1<=M394,EOMONTH($AN$7,0)>=M394)),0,IF(COUNTA(B394:K394)>0,1,0)))","v":0},{"$f":"IF(M394=\"\",IF(COUNTA(B394:K394)>0,1,0),IF(OR(EOMONTH(M394,0)<$AO$7,AND(EOMONTH($AO$7,-1)+1<=M394,EOMONTH($AO$7,0)>=M394)),0,IF(COUNTA(B394:K394)>0,1,0)))","v":0},{"$f":"IF(M394=\"\",IF(COUNTA(B394:K394)>0,1,0),IF(OR(EOMONTH(M394,0)<$AP$7,AND(EOMONTH($AP$7,-1)+1<=M394,EOMONTH($AP$7,0)>=M394)),0,IF(COUNTA(B394:K394)>0,1,0)))","v":0},{"$f":"IF(M394=\"\",IF(COUNTA(B394:K394)>0,1,0),IF(OR(EOMONTH(M394,0)<$AQ$7,AND(EOMONTH($AQ$7,-1)+1<=M394,EOMONTH($AQ$7,0)>=M394)),0,IF(COUNTA(B394:K394)>0,1,0)))","v":0},{"$f":"IF(M394=\"\",IF(COUNTA(B394:K394)>0,1,0),IF(OR(EOMONTH(M394,0)<$AR$7,AND(EOMONTH($AR$7,-1)+1<=M394,EOMONTH($AR$7,0)>=M394)),0,IF(COUNTA(B394:K394)>0,1,0)))","v":0},{"$f":"IF(M394=\"\",IF(COUNTA(B394:K394)>0,1,0),IF(OR(EOMONTH(M394,0)<$AS$7,AND(EOMONTH($AS$7,-1)+1<=M394,EOMONTH($AS$7,0)>=M394)),0,IF(COUNTA(B394:K394)>0,1,0)))","v":0},{"$f":"IF(M394=\"\",IF(COUNTA(B394:K394)>0,1,0),IF(OR(EOMONTH(M394,0)<$AT$7,AND(EOMONTH($AT$7,-1)+1<=M394,EOMONTH($AT$7,0)>=M394)),0,IF(COUNTA(B394:K394)>0,1,0)))","v":0},{"$f":"IF(M394=\"\",IF(COUNTA(B394:K394)>0,1,0),IF(OR(EOMONTH(M394,0)<$AU$7,AND(EOMONTH($AU$7,-1)+1<=M394,EOMONTH($AU$7,0)>=M394)),0,IF(COUNTA(B394:K394)>0,1,0)))","v":0},{"$f":"IF(M394=\"\",IF(COUNTA(B394:K394)>0,1,0),IF(OR(EOMONTH(M394,0)<$AV$7,AND(EOMONTH($AV$7,-1)+1<=M394,EOMONTH($AV$7,0)>=M394)),0,IF(COUNTA(B394:K394)>0,1,0)))","v":0},{"$f":"IF(M394=\"\",IF(COUNTA(B394:K394)>0,1,0),IF(OR(EOMONTH(M394,0)<$AW$7,AND(EOMONTH($AW$7,-1)+1<=M394,EOMONTH($AW$7,0)>=M394)),0,IF(COUNTA(B394:K394)>0,1,0)))","v":0},0,0,0,0,0,0,0,0,0,0,0,0,0,0,0,0,0,0,0,0,null,0,{"$f":"IF(M394=\"\",IF(G394<>\"\",1,0),IF(OR(EOMONTH(M394,0)<EOMONTH(TODAY(),0),AND(EOMONTH(TODAY(),-1)+1<=M394,EOMONTH(TODAY(),0)>=M394)),0,IF(G394<>\"\",1,0)))","v":0},{"$f":"IF(M394=\"\",IF(H394<>\"\",1,0),IF(OR(EOMONTH(M394,0)<EOMONTH(TODAY(),0),AND(EOMONTH(TODAY(),-1)+1<=M394,EOMONTH(TODAY(),0)>=M394)),0,IF(H394<>\"\",1,0)))","v":0},{"$f":"IF(M394=\"\",IF(I394<>\"\",1,0),IF(OR(EOMONTH(M394,0)<EOMONTH(TODAY(),0),AND(EOMONTH(TODAY(),-1)+1<=M394,EOMONTH(TODAY(),0)>=M394)),0,IF(I394<>\"\",1,0)))","v":0},null,0,{"$f":"IF(M394=\"\",IF(J394>0,1,0),IF(EOMONTH(M394,0)<$BQ$7,0,IF(J394>0,1,0)))","v":0}]
[387,null,null,null,null,null,null,null,null,null,null,null,null,null,null,null,null,null,0,null,null,0,0,0,0,{"$f":"IF(M395=\"\",IF(COUNTA(B395:K395)>0,1,0),IF(OR(EOMONTH(M395,0)<$Z$7,AND(EOMONTH($Z$7,-1)+1<=M395,EOMONTH($Z$7,0)>=M395)),0,IF(COUNTA(B395:K395)>0,1,0)))","v":0},0,0,0,0,0,0,0,0,0,0,0,0,0,0,0,0,0,0,0,0,0,0,0,0,0,0,0,0,0,0,0,0,0,0,0,0,0,0,0,0,0,0,0,null,0,0,0,0,null,0,0]
[388,null,null,null,null,null,null,null,null,null,null,null,null,null,null,null,null,null,0,null,null,0,0,0,0,0,0,0,0,0,0,0,0,0,0,0,0,0,0,0,0,0,0,0,0,0,0,0,0,0,0,0,0,0,0,0,0,0,0,0,0,0,0,0,0,0,0,0,0,null,0,0,0,0,null,0,0]
[389,null,null,null,null,null,null,null,null,null,null,null,null,null,null,null,null,null,0,null,null,0,0,0,0,0,0,0,0,0,0,0,0,0,0,0,0,0,0,0,0,0,0,0,0,0,0,0,0,0,0,0,0,0,0,0,0,0,0,0,0,0,0,0,0,0,0,0,0,null,{"$f":"IF(M397=\"\",IF(F397<>\"\",1,0),IF(OR(EOMONTH(M397,0)<EOMONTH(TODAY(),0),AND(EOMONTH(TODAY(),-1)+1<=M397,EOMONTH(TODAY(),0)>=M397)),0,IF(F397<>\"\",1,0)))","v":0},0,0,0,null,0,0]
[390,null,null,null,null,null,null,null,null,null,null,null,null,null,null,null,null,null,0,null,null,0,0,0,0,0,{"$f":"IF(M398=\"\",IF(COUNTA(B398:K398)>0,1,0),IF(OR(EOMONTH(M398,0)<$AA$7,AND(EOMONTH($AA$7,-1)+1<=M398,EOMONTH($AA$7,0)>=M398)),0,IF(COUNTA(B398:K398)>0,1,0)))","v":0},{"$f":"IF(M398=\"\",IF(COUNTA(B398:K398)>0,1,0),IF(OR(EOMONTH(M398,0)<$AB$7,AND(EOMONTH($AB$7,-1)+1<=M398,EOMONTH($AB$7,0)>=M398)),0,IF(COUNTA(B398:K398)>0,1,0)))","v":0},{"$f":"IF(M398=\"\",IF(COUNTA(B398:K398)>0,1,0),IF(OR(EOMONTH(M398,0)<$AC$7,AND(EOMONTH($AC$7,-1)+1<=M398,EOMONTH($AC$7,0)>=M398)),0,IF(COUNTA(B398:K398)>0,1,0)))","v":0},{"$f":"IF(M398=\"\",IF(COUNTA(B398:K398)>0,1,0),IF(OR(EOMONTH(M398,0)<$AD$7,AND(EOMONTH($AD$7,-1)+1<=M398,EOMONTH($AD$7,0)>=M398)),0,IF(COUNTA(B398:K398)>0,1,0)))","v":0},{"$f":"IF(M398=\"\",IF(COUNTA(B398:K398)>0,1,0),IF(OR(EOMONTH(M398,0)<$AE$7,AND(EOMONTH($AE$7,-1)+1<=M398,EOMONTH($AE$7,0)>=M398)),0,IF(COUNTA(B398:K398)>0,1,0)))","v":0},{"$f":"IF(M398=\"\",IF(COUNTA(B398:K398)>0,1,0),IF(OR(EOMONTH(M398,0)<$AF$7,AND(EOMONTH($AF$7,-1)+1<=M398,EOMONTH($AF$7,0)>=M398)),0,IF(COUNTA(B398:K398)>0,1,0)))","v":0},{"$f":"IF(M398=\"\",IF(COUNTA(B398:K398)>0,1,0),IF(OR(EOMONTH(M398,0)<$AG$7,AND(EOMONTH($AG$7,-1)+1<=M398,EOMONTH($AG$7,0)>=M398)),0,IF(COUNTA(B398:K398)>0,1,0)))","v":0},0,0,0,0,0,0,0,0,0,0,0,0,0,0,0,0,0,0,0,0,0,0,0,0,0,0,0,0,0,0,0,0,0,0,0,0,null,0,0,0,0,null,0,0]
[391,null,null,null,null,null,null,null,null,null,null,null,null,null,null,null,null,null,0,null,null,0,0,0,0,0,0,0,0,0,0,0,0,0,0,0,0,0,0,0,0,0,0,0,0,0,0,0,0,{"$f":"IF(M399=\"\",IF(COUNTA(B399:K399)>0,1,0),IF(OR(EOMONTH(M399,0)<$AX$7,AND(EOMONTH($AX$7,-1)+1<=M399,EOMONTH($AX$7,0)>=M399)),0,IF(COUNTA(B399:K399)>0,1,0)))","v":0},{"$f":"IF(M399=\"\",IF(COUNTA(B399:K399)>0,1,0),IF(OR(EOMONTH(M399,0)<$AY$7,AND(EOMONTH($AY$7,-1)+1<=M399,EOMONTH($AY$7,0)>=M399)),0,IF(COUNTA(B399:K399)>0,1,0)))","v":0},{"$f":"IF(M399=\"\",IF(COUNTA(B399:K399)>0,1,0),IF(OR(EOMONTH(M399,0)<$AZ$7,AND(EOMONTH($AZ$7,-1)+1<=M399,EOMONTH($AZ$7,0)>=M399)),0,IF(COUNTA(B399:K399)>0,1,0)))","v":0},{"$f":"IF(M399=\"\",IF(COUNTA(B399:K399)>0,1,0),IF(OR(EOMONTH(M399,0)<$BA$7,AND(EOMONTH($BA$7,-1)+1<=M399,EOMONTH($BA$7,0)>=M399)),0,IF(COUNTA(B399:K399)>0,1,0)))","v":0},{"$f":"IF(M399=\"\",IF(COUNTA(B399:K399)>0,1,0),IF(OR(EOMONTH(M399,0)<$BB$7,AND(EOMONTH($BB$7,-1)+1<=M399,EOMONTH($BB$7,0)>=M399)),0,IF(COUNTA(B399:K399)>0,1,0)))","v":0},{"$f":"IF(M399=\"\",IF(COUNTA(B399:K399)>0,1,0),IF(OR(EOMONTH(M399,0)<$BC$7,AND(EOMONTH($BC$7,-1)+1<=M399,EOMONTH($BC$7,0)>=M399)),0,IF(COUNTA(B399:K399)>0,1,0)))","v":0},{"$f":"IF(M399=\"\",IF(COUNTA(B399:K399)>0,1,0),IF(OR(EOMONTH(M399,0)<$BD$7,AND(EOMONTH($BD$7,-1)+1<=M399,EOMONTH($BD$7,0)>=M399)),0,IF(COUNTA(B399:K399)>0,1,0)))","v":0},{"$f":"IF(M399=\"\",IF(COUNTA(B399:K399)>0,1,0),IF(OR(EOMONTH(M399,0)<$BE$7,AND(EOMONTH($BE$7,-1)+1<=M399,EOMONTH($BE$7,0)>=M399)),0,IF(COUNTA(B399:K399)>0,1,0)))","v":0},{"$f":"IF(M399=\"\",IF(COUNTA(B399:K399)>0,1,0),IF(OR(EOMONTH(M399,0)<$BF$7,AND(EOMONTH($BF$7,-1)+1<=M399,EOMONTH($BF$7,0)>=M399)),0,IF(COUNTA(B399:K399)>0,1,0)))","v":0},{"$f":"IF(M399=\"\",IF(COUNTA(B399:K399)>0,1,0),IF(OR(EOMONTH(M399,0)<$BG$7,AND(EOMONTH($BG$7,-1)+1<=M399,EOMONTH($BG$7,0)>=M399)),0,IF(COUNTA(B399:K399)>0,1,0)))","v":0},{"$f":"IF(M399=\"\",IF(COUNTA(B399:K399)>0,1,0),IF(OR(EOMONTH(M399,0)<$BH$7,AND(EOMONTH($BH$7,-1)+1<=M399,EOMONTH($BH$7,0)>=M399)),0,IF(COUNTA(B399:K399)>0,1,0)))","v":0},{"$f":"IF(M399=\"\",IF(COUNTA(B399:K399)>0,1,0),IF(OR(EOMONTH(M399,0)<$BI$7,AND(EOMONTH($BI$7,-1)+1<=M399,EOMONTH($BI$7,0)>=M399)),0,IF(COUNTA(B399:K399)>0,1,0)))","v":0},{"$f":"IF(M399=\"\",IF(COUNTA(B399:K399)>0,1,0),IF(OR(EOMONTH(M399,0)<$BJ$7,AND(EOMONTH($BJ$7,-1)+1<=M399,EOMONTH($BJ$7,0)>=M399)),0,IF(COUNTA(B399:K399)>0,1,0)))","v":0},{"$f":"IF(M399=\"\",IF(COUNTA(B399:K399)>0,1,0),IF(OR(EOMONTH(M399,0)<$BK$7,AND(EOMONTH($BK$7,-1)+1<=M399,EOMONTH($BK$7,0)>=M399)),0,IF(COUNTA(B399:K399)>0,1,0)))","v":0},{"$f":"IF(M399=\"\",IF(COUNTA(B399:K399)>0,1,0),IF(OR(EOMONTH(M399,0)<$BL$7,AND(EOMONTH($BL$7,-1)+1<=M399,EOMONTH($BL$7,0)>=M399)),0,IF(COUNTA(B399:K399)>0,1,0)))","v":0},{"$f":"IF(M399=\"\",IF(COUNTA(B399:K399)>0,1,0),IF(OR(EOMONTH(M399,0)<$BM$7,AND(EOMONTH($BM$7,-1)+1<=M399,EOMONTH($BM$7,0)>=M399)),0,IF(COUNTA(B399:K399)>0,1,0)))","v":0},{"$f":"IF(M399=\"\",IF(COUNTA(B399:K399)>0,1,0),IF(OR(EOMONTH(M399,0)<$BN$7,AND(EOMONTH($BN$7,-1)+1<=M399,EOMONTH($BN$7,0)>=M399)),0,IF(COUNTA(B399:K399)>0,1,0)))","v":0},{"$f":"IF(M399=\"\",IF(COUNTA(B399:K399)>0,1,0),IF(OR(EOMONTH(M399,0)<$BO$7,AND(EOMONTH($BO$7,-1)+1<=M399,EOMONTH($BO$7,0)>=M399)),0,IF(COUNTA(B399:K399)>0,1,0)))","v":0},{"$f":"IF(M399=\"\",IF(COUNTA(B399:K399)>0,1,0),IF(OR(EOMONTH(M399,0)<$BP$7,AND(EOMONTH($BP$7,-1)+1<=M399,EOMONTH($BP$7,0)>=M399)),0,IF(COUNTA(B399:K399)>0,1,0)))","v":0},{"$f":"IF(M399=\"\",IF(COUNTA(B399:K399)>0,1,0),IF(OR(EOMONTH(M399,0)<$BQ$7,AND(EOMONTH($BQ$7,-1)+1<=M399,EOMONTH($BQ$7,0)>=M399)),0,IF(COUNTA(B399:K399)>0,1,0)))","v":0},null,0,0,0,0,null,0,0]
[392,null,null,null,null,null,null,null,null,null,null,null,null,null,null,null,null,null,0,null,null,0,0,0,0,0,0,0,0,0,0,0,0,0,0,0,0,0,0,0,0,0,0,0,0,0,0,0,0,0,0,0,0,0,0,0,0,0,0,0,0,0,0,0,0,0,0,0,0,null,0,0,0,0,null,0,0]
[393,null,null,null,null,null,null,null,null,null,null,null,null,null,null,null,null,null,0,null,null,0,0,0,0,0,0,0,0,0,0,0,0,0,0,0,0,0,0,0,0,0,0,0,0,0,0,0,0,0,0,0,0,0,0,0,0,0,0,0,0,0,0,0,0,0,0,0,0,null,0,0,0,0,null,0,0]
[394,null,null,null,null,null,null,null,null,null,null,null,null,null,null,null,null,null,0,null,null,0,0,0,0,0,0,0,0,0,0,0,0,0,0,0,0,0,0,0,0,0,0,0,0,0,0,0,0,0,0,0,0,0,0,0,0,0,0,0,0,0,0,0,0,0,0,0,0,null,0,0,0,0,null,0,0]
[395,null,null,null,null,null,null,null,null,null,null,null,null,null,null,null,null,null,0,null,null,0,0,0,0,0,0,0,0,0,0,0,0,0,0,0,0,0,0,0,0,0,0,0,0,0,0,0,0,0,0,0,0,0,0,0,0,0,0,0,0,0,0,0,0,0,0,0,0,null,0,0,0,0,null,0,0]
[396,null,null,null,null,null,null,null,null,null,null,null,null,null,null,null,null,null,0,null,null,0,0,0,0,0,0,0,0,0,0,0,0,0,0,0,0,0,0,0,0,0,0,0,0,0,0,0,0,0,0,0,0,0,0,0,0,0,0,0,0,0,0,0,0,0,0,0,0,null,0,0,0,0,null,0,0]
[397,null,null,null,null,null,null,null,null,null,null,null,null,null,null,null,null,null,0,null,null,0,0,0,0,0,0,0,0,0,0,0,0,0,0,0,0,0,0,0,0,0,0,0,0,0,0,0,0,0,0,0,0,0,0,0,0,0,0,0,0,0,0,0,0,0,0,0,0,null,0,0,0,0,null,0,0]
[398,null,null,null,null,null,null,null,null,null,null,null,null,null,null,null,null,null,0,null,null,0,0,0,0,0,0,0,0,0,0,0,0,0,0,0,0,0,0,0,0,0,0,0,0,0,0,0,0,0,0,0,0,0,0,0,0,0,0,0,0,0,0,0,0,0,0,0,0,null,0,0,0,0,null,0,0]
[399,null,null,null,null,null,null,null,null,null,null,null,null,null,null,null,null,null,0,null,null,0,0,0,0,0,0,0,0,0,0,0,0,0,0,0,0,0,0,0,0,0,0,0,0,0,0,0,0,0,0,0,0,0,0,0,0,0,0,0,0,0,0,0,0,0,0,0,0,null,0,0,0,0,null,0,0]
[400,null,null,null,null,null,null,null,null,null,null,null,null,null,null,null,null,null,0,null,null,0,0,0,0,0,0,0,0,0,0,0,0,0,0,0,0,0,0,0,0,0,0,0,0,0,0,0,0,0,0,0,0,0,0,0,0,0,0,0,0,0,0,0,0,0,0,0,0,null,0,0,0,0,null,0,0]
[401,null,null,null,null,null,null,null,null,null,null,null,null,null,null,null,null,null,0,null,null,0,0,0,0,0,0,0,0,0,0,0,0,0,0,0,0,0,0,0,0,0,0,0,0,0,0,0,0,0,0,0,0,0,0,0,0,0,0,0,0,0,0,0,0,0,0,0,0,null,0,0,0,0,null,0,0]
[402,null,null,null,null,null,null,null,null,null,null,null,null,null,null,null,null,null,0,null,null,0,0,0,0,0,0,0,0,0,0,0,0,0,0,0,0,0,0,0,0,0,0,0,0,0,0,0,0,0,0,0,0,0,0,0,0,0,0,0,0,0,0,0,0,0,0,0,0,null,0,0,0,0,null,0,0]
[403,null,null,null,null,null,null,null,null,null,null,null,null,null,null,null,null,null,0,null,null,0,0,0,0,0,0,0,0,0,0,0,0,0,0,0,0,0,0,0,0,0,0,0,0,0,0,0,0,0,0,0,0,0,0,0,0,0,0,0,0,0,0,0,0,0,0,0,0,null,0,0,0,0,null,0,0]
[404,null,null,null,null,null,null,null,null,null,null,null,null,null,null,null,null,null,0,null,null,0,0,0,0,0,0,0,0,0,0,0,0,0,0,0,0,0,0,0,0,0,0,0,0,0,0,0,0,0,0,0,0,0,0,0,0,0,0,0,0,0,0,0,0,0,0,0,0,null,0,0,0,0,null,0,0]
[405,null,null,null,null,null,null,null,null,null,null,null,null,null,null,null,null,null,0,null,null,0,0,0,0,0,0,0,0,0,0,0,0,0,0,0,0,0,0,0,0,0,0,0,0,0,0,0,0,0,0,0,0,0,0,0,0,0,0,0,0,0,0,0,0,0,0,0,0,null,0,0,0,0,null,0,0]
[406,null,null,null,null,null,null,null,null,null,null,null,null,null,null,null,null,null,0,null,null,0,0,0,0,0,0,0,0,0,0,0,0,0,0,0,0,0,0,0,0,0,0,0,0,0,0,0,0,0,0,0,0,0,0,0,0,0,0,0,0,0,0,0,0,0,0,0,0,null,0,0,0,0,null,0,0]
[407,null,null,null,null,null,null,null,null,null,null,null,null,null,null,null,null,null,0,null,null,0,0,0,0,0,0,0,0,0,0,0,0,0,0,0,0,0,0,0,0,0,0,0,0,0,0,0,0,0,0,0,0,0,0,0,0,0,0,0,0,0,0,0,0,0,0,0,0,null,0,0,0,0,null,0,0]
[408,null,null,null,null,null,null,null,null,null,null,null,null,null,null,null,null,null,0,null,null,0,0,0,0,0,0,0,0,0,0,0,0,0,0,0,0,0,0,0,0,0,0,0,0,0,0,0,0,0,0,0,0,0,0,0,0,0,0,0,0,0,0,0,0,0,0,0,0,null,0,0,0,0,null,0,0]
[409,null,null,null,null,null,null,null,null,null,null,null,null,null,null,null,null,null,0,null,null,0,0,0,0,0,0,0,0,0,0,0,0,0,0,0,0,0,0,0,0,0,0,0,0,0,0,0,0,0,0,0,0,0,0,0,0,0,0,0,0,0,0,0,0,0,0,0,0,null,0,0,0,0,null,0,0]
[410,null,null,null,null,null,null,null,null,null,null,null,null,null,null,null,null,null,0,null,null,0,0,0,0,0,0,0,0,0,0,0,0,0,0,0,0,0,0,0,0,0,0,0,0,0,0,0,0,0,0,0,0,0,0,0,0,0,0,0,0,0,0,0,0,0,0,0,0,null,0,0,0,0,null,0,0]
[411,null,null,null,null,null,null,null,null,null,null,null,null,null,null,null,null,null,0,null,null,0,0,0,0,0,0,0,0,0,0,0,0,0,0,0,0,0,0,0,0,0,0,0,0,0,0,0,0,0,0,0,0,0,0,0,0,0,0,0,0,0,0,0,0,0,0,0,0,null,0,0,0,0,null,0,0]
[412,null,null,null,null,null,null,null,null,null,null,null,null,null,null,null,null,null,0,null,null,0,0,0,0,0,0,0,0,0,0,0,0,0,0,0,0,0,0,0,0,0,0,0,0,0,0,0,0,0,0,0,0,0,0,0,0,0,0,0,0,0,0,0,0,0,0,0,0,null,0,0,0,0,null,0,0]
[413,null,null,null,null,null,null,null,null,null,null,null,null,null,null,null,null,null,0,null,null,0,0,0,0,0,0,0,0,0,0,0,0,0,0,0,0,0,0,0,0,0,0,0,0,0,0,0,0,0,0,0,0,0,0,0,0,0,0,0,0,0,0,0,0,0,0,0,0,null,0,0,0,0,null,0,0]
[414,null,null,null,null,null,null,null,null,null,null,null,null,null,null,null,null,null,{"$f":"IF(E422=\"\",0,IF(VALUE(E422)>VALUE($E$4),0,1))","v":0},null,null,0,0,0,0,0,0,0,0,0,0,0,0,0,0,0,0,0,0,0,0,0,0,0,0,0,0,0,0,0,0,0,0,0,0,0,0,0,0,0,0,0,0,0,0,0,0,0,0,null,0,0,0,0,null,{"$f":"SUMIFS(V422:BQ422,$V$7:$BQ$7,\">=\"&EOMONTH(TODAY(),-1)+1,$V$7:$BQ$7,\"<=\"&EOMONTH(TODAY(),0))","v":0},0]
[415,null,null,null,null,null,null,null,null,null,null,null,null,null,null,null,null,null,0,null,null,0,0,0,0,0,0,0,0,0,0,0,0,0,0,0,0,0,0,0,0,0,0,0,0,0,0,0,0,0,0,0,0,0,0,0,0,0,0,0,0,0,0,0,0,0,0,0,0,null,0,0,0,0,null,0,0]
[416,null,null,null,null,null,null,null,null,null,null,null,null,null,null,null,null,null,0,null,null,0,0,0,0,0,0,0,0,0,0,0,0,0,0,0,0,0,0,0,0,0,0,0,0,0,0,0,0,0,0,0,0,0,0,0,0,0,0,0,0,0,0,0,0,0,0,0,0,null,0,0,0,0,null,0,0]
[417,null,null,null,null,null,null,null,null,null,null,null,null,null,null,null,null,null,0,null,null,0,0,0,0,0,0,0,0,0,0,0,0,0,0,0,0,0,0,0,0,0,0,0,0,0,0,0,0,0,0,0,0,0,0,0,0,0,0,0,0,0,0,0,0,0,0,0,0,null,0,0,0,0,null,0,0]
[418,null,null,null,null,null,null,null,null,null,null,null,null,null,null,null,null,null,0,null,null,0,0,0,0,0,0,0,0,0,0,0,0,0,0,0,0,0,0,0,0,0,0,0,0,0,0,0,0,0,0,0,0,0,0,0,0,0,0,0,0,0,0,0,0,0,0,0,0,null,0,0,0,0,null,0,0]
[419,null,null,null,null,null,null,null,null,null,null,null,null,null,null,null,null,null,0,null,null,0,0,0,0,0,0,0,0,0,0,0,0,0,0,0,0,0,0,0,0,0,0,0,0,0,0,0,0,0,0,0,0,0,0,0,0,0,0,0,0,0,0,0,0,0,0,0,0,null,0,0,0,0,null,0,0]
[420,null,null,null,null,null,null,null,null,null,null,null,null,null,null,null,null,null,0,null,null,0,0,0,0,0,0,0,0,0,0,0,0,0,0,0,0,0,0,0,0,0,0,0,0,0,0,0,0,0,0,0,0,0,0,0,0,0,0,0,0,0,0,0,0,0,0,0,0,null,0,0,0,0,null,0,0]
[421,null,null,null,null,null,null,null,null,null,null,null,null,null,null,null,null,null,0,null,null,0,0,0,0,0,0,0,0,0,0,0,0,0,0,0,0,0,0,0,0,0,0,0,0,0,0,0,0,0,0,0,0,0,0,0,0,0,0,0,0,0,0,0,0,0,0,0,0,null,0,0,0,0,null,0,0]
[422,null,null,null,null,null,null,null,null,null,null,null,null,null,null,null,null,null,0,null,null,0,0,0,0,0,0,0,0,0,0,0,0,0,0,0,0,0,0,0,0,0,0,0,0,0,0,0,0,0,0,0,0,0,0,0,0,0,0,0,0,0,0,0,0,0,0,0,0,null,0,0,0,0,null,0,0]
[423,null,null,null,null,null,null,null,null,null,null,null,null,null,null,null,null,null,0,null,null,0,0,0,0,0,0,0,0,0,0,0,0,0,0,0,0,0,0,0,0,0,0,0,0,0,0,0,0,0,0,0,0,0,0,0,0,0,0,0,0,0,0,0,0,0,0,0,0,null,0,0,0,0,null,0,0]
[424,null,null,null,null,null,null,null,null,null,null,null,null,null,null,null,null,null,0,null,null,0,0,0,0,0,0,0,0,0,0,0,0,0,0,0,0,0,0,0,0,0,0,0,0,0,0,0,0,0,0,0,0,0,0,0,0,0,0,0,0,0,0,0,0,0,0,0,0,null,0,0,0,0,null,0,0]
[425,null,null,null,null,null,null,null,null,null,null,null,null,null,null,null,null,null,0,null,null,0,0,0,0,0,0,0,0,0,0,0,0,0,0,0,0,0,0,0,0,0,0,0,0,0,0,0,0,0,0,0,0,0,0,0,0,0,0,0,0,0,0,0,0,0,0,0,0,null,0,0,0,0,null,0,0]
[426,null,null,null,null,null,null,null,null,null,null,null,null,null,null,null,null,null,0,null,null,0,0,0,0,0,0,0,0,0,0,0,0,0,0,0,0,0,0,0,0,0,0,0,0,0,0,0,0,0,0,0,0,0,0,0,0,0,0,0,0,0,0,0,0,0,0,0,0,null,0,0,0,0,null,0,0]
[427,null,null,null,null,null,null,null,null,null,null,null,null,null,null,null,null,null,0,null,null,0,0,0,0,0,0,0,0,0,0,0,0,0,0,0,0,0,0,0,0,0,0,0,0,0,0,0,0,0,0,0,0,0,0,0,0,0,0,0,0,0,0,0,0,0,0,0,0,null,0,0,0,0,null,0,0]
[428,null,null,null,null,null,null,null,null,null,null,null,null,null,null,null,null,null,0,null,null,0,0,0,0,0,0,0,0,0,0,0,0,0,0,0,0,0,0,0,0,0,0,0,0,0,0,0,0,0,0,0,0,0,0,0,0,0,0,0,0,0,0,0,0,0,0,0,0,null,0,0,0,0,null,0,0]
[429,null,null,null,null,null,null,null,null,null,null,null,null,null,null,null,null,null,0,null,null,0,0,0,0,0,0,0,0,0,0,0,0,0,0,0,0,0,0,0,0,0,0,0,0,0,0,0,0,0,0,0,0,0,0,0,0,0,0,0,0,0,0,0,0,0,0,0,0,null,0,0,0,0,null,0,0]
[430,null,null,null,null,null,null,null,null,null,null,null,null,null,null,null,null,null,0,null,null,0,0,0,0,0,0,0,0,0,0,0,0,0,0,0,0,0,0,0,0,0,0,0,0,0,0,0,0,0,0,0,0,0,0,0,0,0,0,0,0,0,0,0,0,0,0,0,0,null,0,0,0,0,null,0,0]
[431,null,null,null,null,null,null,null,null,null,null,null,null,null,null,null,null,null,0,null,null,0,0,0,0,0,0,0,0,0,0,0,0,0,0,0,0,0,0,0,0,0,0,0,0,0,0,0,0,0,0,0,0,0,0,0,0,0,0,0,0,0,0,0,0,0,0,0,0,null,0,0,0,0,null,0,0]
[432,null,null,null,null,null,null,null,null,null,null,null,null,null,null,null,null,null,0,null,null,0,0,0,0,0,0,0,0,0,0,0,0,0,0,0,0,0,0,0,0,0,0,0,0,0,0,0,0,0,0,0,0,0,0,0,0,0,0,0,0,0,0,0,0,0,0,0,0,null,0,0,0,0,null,0,0]
[433,null,null,null,null,null,null,null,null,null,null,null,null,null,null,null,null,null,0,null,null,0,0,0,0,0,0,0,0,0,0,0,0,0,0,0,0,0,0,0,0,0,0,0,0,0,0,0,0,0,0,0,0,0,0,0,0,0,0,0,0,0,0,0,0,0,0,0,0,null,0,0,0,0,null,0,0]
[434,null,null,null,null,null,null,null,null,null,null,null,null,null,null,null,null,null,0,null,null,0,0,0,0,0,0,0,0,0,0,0,0,0,0,0,0,0,0,0,0,0,0,0,0,0,0,0,0,0,0,0,0,0,0,0,0,0,0,0,0,0,0,0,0,0,0,0,0,null,0,0,0,0,null,0,0]
[435,null,null,null,null,null,null,null,null,null,null,null,null,null,null,null,null,null,0,null,null,0,0,0,0,0,0,0,0,0,0,0,0,0,0,0,0,0,0,0,0,0,0,0,0,0,0,0,0,0,0,0,0,0,0,0,0,0,0,0,0,0,0,0,0,0,0,0,0,null,0,0,0,0,null,0,0]
[436,null,null,null,null,null,null,null,null,null,null,null,null,null,null,null,null,null,0,null,null,0,0,0,0,0,0,0,0,0,0,0,0,0,0,0,0,0,0,0,0,0,0,0,0,0,0,0,0,0,0,0,0,0,0,0,0,0,0,0,0,0,0,0,0,0,0,0,0,null,0,0,0,0,null,0,0]
[437,null,null,null,null,null,null,null,null,null,null,null,null,null,null,null,null,null,0,null,null,0,0,0,0,0,0,0,0,0,0,0,0,0,0,0,0,0,0,0,0,0,0,0,0,0,0,0,0,0,0,0,0,0,0,0,0,0,0,0,0,0,0,0,0,0,0,0,0,null,0,0,0,0,null,0,0]
[438,null,null,null,null,null,null,null,null,null,null,null,null,null,null,null,null,null,0,null,null,0,0,0,0,0,0,0,0,0,0,0,0,0,0,0,0,0,0,0,0,0,0,0,0,0,0,0,0,0,0,0,0,0,0,0,0,0,0,0,0,0,0,0,0,0,0,0,0,null,0,0,0,0,null,0,0]
[439,null,null,null,null,null,null,null,null,null,null,null,null,null,null,null,null,null,0,null,null,0,0,0,0,0,0,0,0,0,0,0,0,0,0,0,0,0,0,0,0,0,0,0,0,0,0,0,0,0,0,0,0,0,0,0,0,0,0,0,0,0,0,0,0,0,0,0,0,null,0,0,0,0,null,0,0]
[440,null,null,null,null,null,null,null,null,null,null,null,null,null,null,null,null,null,0,null,null,0,0,0,0,0,0,0,0,0,0,0,0,0,0,0,0,0,0,0,0,0,0,0,0,0,0,0,0,0,0,0,0,0,0,0,0,0,0,0,0,0,0,0,0,0,0,0,0,null,0,0,0,0,null,0,0]
[441,null,null,null,null,null,null,null,null,null,null,null,null,null,null,null,null,null,0,null,null,0,0,0,0,0,0,0,0,0,0,0,0,0,0,0,0,0,0,0,0,0,0,0,0,0,0,0,0,0,0,0,0,0,0,0,0,0,0,0,0,0,0,0,0,0,0,0,0,null,0,0,0,0,null,0,0]
[442,null,null,null,null,null,null,null,null,null,null,null,null,null,null,null,null,null,0,null,null,0,0,0,0,0,0,0,0,0,0,0,0,0,0,0,0,0,0,0,0,0,0,0,0,0,0,0,0,0,0,0,0,0,0,0,0,0,0,0,0,0,0,0,0,0,0,0,0,null,0,0,0,0,null,0,0]
[443,null,null,null,null,null,null,null,null,null,null,null,null,null,null,null,null,null,0,null,null,0,0,0,0,0,0,0,0,0,0,0,0,0,0,0,0,0,0,0,0,0,0,0,0,0,0,0,0,0,0,0,0,0,0,0,0,0,0,0,0,0,0,0,0,0,0,0,0,null,0,0,0,0,null,0,0]
[444,null,null,null,null,null,null,null,null,null,null,null,null,null,null,null,null,null,0,null,null,0,0,0,0,0,0,0,0,0,0,0,0,0,0,0,0,0,0,0,0,0,0,0,0,0,0,0,0,0,0,0,0,0,0,0,0,0,0,0,0,0,0,0,0,0,0,0,0,null,0,0,0,0,null,0,0]
[445,null,null,null,null,null,null,null,null,null,null,null,null,null,null,null,null,null,0,null,null,0,0,0,0,0,0,0,0,0,0,0,0,0,0,0,0,0,0,0,0,0,0,0,0,0,0,0,0,0,0,0,0,0,0,0,0,0,0,0,0,0,0,0,0,0,0,0,0,null,0,0,0,0,null,0,0]
[446,null,null,null,null,null,null,null,null,null,null,null,null,null,null,null,null,null,0,null,null,0,0,0,0,0,0,0,0,0,0,0,0,0,0,0,0,0,0,0,0,0,0,0,0,0,0,0,0,0,0,0,0,0,0,0,0,0,0,0,0,0,0,0,0,0,0,0,0,null,0,0,0,0,null,0,0]
[447,null,null,null,null,null,null,null,null,null,null,null,null,null,null,null,null,null,0,null,null,0,0,0,0,0,0,0,0,0,0,0,0,0,0,0,0,0,0,0,0,0,0,0,0,0,0,0,0,0,0,0,0,0,0,0,0,0,0,0,0,0,0,0,0,0,0,0,0,null,0,0,0,0,null,0,0]
[448,null,null,null,null,null,null,null,null,null,null,null,null,null,null,null,null,null,0,null,null,0,0,0,0,0,0,0,0,0,0,0,0,0,0,0,0,0,0,0,0,0,0,0,0,0,0,0,0,0,0,0,0,0,0,0,0,0,0,0,0,0,0,0,0,0,0,0,0,null,0,0,0,0,null,0,0]
[449,null,null,null,null,null,null,null,null,null,null,null,null,null,null,null,null,null,0,null,null,0,0,0,0,0,0,0,0,0,0,0,0,0,0,0,0,0,0,0,0,0,0,0,0,0,0,0,0,0,0,0,0,0,0,0,0,0,0,0,0,0,0,0,0,0,0,0,0,null,0,0,0,0,null,0,0]
[450,null,null,null,null,null,null,null,null,null,null,null,null,null,null,null,null,null,0,null,null,{"$f":"IF(M458=\"\",IF(COUNTA(B458:K458)>0,1,0),IF(OR(EOMONTH(M458,0)<$V$7,AND(EOMONTH($V$7,-1)+1<=M458,EOMONTH($V$7,0)>=M458)),0,IF(COUNTA(B458:K458)>0,1,0)))","v":0},{"$f":"IF(M458=\"\",IF(COUNTA(B458:K458)>0,1,0),IF(OR(EOMONTH(M458,0)<$W$7,AND(EOMONTH($W$7,-1)+1<=M458,EOMONTH($W$7,0)>=M458)),0,IF(COUNTA(B458:K458)>0,1,0)))","v":0},{"$f":"IF(M458=\"\",IF(COUNTA(B458:K458)>0,1,0),IF(OR(EOMONTH(M458,0)<$X$7,AND(EOMONTH($X$7,-1)+1<=M458,EOMONTH($X$7,0)>=M458)),0,IF(COUNTA(B458:K458)>0,1,0)))","v":0},{"$f":"IF(M458=\"\",IF(COUNTA(B458:K458)>0,1,0),IF(OR(EOMONTH(M458,0)<$Y$7,AND(EOMONTH($Y$7,-1)+1<=M458,EOMONTH($Y$7,0)>=M458)),0,IF(COUNTA(B458:K458)>0,1,0)))","v":0},0,0,0,0,0,0,0,0,{"$f":"IF(M458=\"\",IF(COUNTA(B458:K458)>0,1,0),IF(OR(EOMONTH(M458,0)<$AH$7,AND(EOMONTH($AH$7,-1)+1<=M458,EOMONTH($AH$7,0)>=M458)),0,IF(COUNTA(B458:K458)>0,1,0)))","v":0},{"$f":"IF(M458=\"\",IF(COUNTA(B458:K458)>0,1,0),IF(OR(EOMONTH(M458,0)<$AI$7,AND(EOMONTH($AI$7,-1)+1<=M458,EOMONTH($AI$7,0)>=M458)),0,IF(COUNTA(B458:K458)>0,1,0)))","v":0},{"$f":"IF(M458=\"\",IF(COUNTA(B458:K458)>0,1,0),IF(OR(EOMONTH(M458,0)<$AJ$7,AND(EOMONTH($AJ$7,-1)+1<=M458,EOMONTH($AJ$7,0)>=M458)),0,IF(COUNTA(B458:K458)>0,1,0)))","v":0},{"$f":"IF(M458=\"\",IF(COUNTA(B458:K458)>0,1,0),IF(OR(EOMONTH(M458,0)<$AK$7,AND(EOMONTH($AK$7,-1)+1<=M458,EOMONTH($AK$7,0)>=M458)),0,IF(COUNTA(B458:K458)>0,1,0)))","v":0},{"$f":"IF(M458=\"\",IF(COUNTA(B458:K458)>0,1,0),IF(OR(EOMONTH(M458,0)<$AL$7,AND(EOMONTH($AL$7,-1)+1<=M458,EOMONTH($AL$7,0)>=M458)),0,IF(COUNTA(B458:K458)>0,1,0)))","v":0},{"$f":"IF(M458=\"\",IF(COUNTA(B458:K458)>0,1,0),IF(OR(EOMONTH(M458,0)<$AM$7,AND(EOMONTH($AM$7,-1)+1<=M458,EOMONTH($AM$7,0)>=M458)),0,IF(COUNTA(B458:K458)>0,1,0)))","v":0},{"$f":"IF(M458=\"\",IF(COUNTA(B458:K458)>0,1,0),IF(OR(EOMONTH(M458,0)<$AN$7,AND(EOMONTH($AN$7,-1)+1<=M458,EOMONTH($AN$7,0)>=M458)),0,IF(COUNTA(B458:K458)>0,1,0)))","v":0},{"$f":"IF(M458=\"\",IF(COUNTA(B458:K458)>0,1,0),IF(OR(EOMONTH(M458,0)<$AO$7,AND(EOMONTH($AO$7,-1)+1<=M458,EOMONTH($AO$7,0)>=M458)),0,IF(COUNTA(B458:K458)>0,1,0)))","v":0},{"$f":"IF(M458=\"\",IF(COUNTA(B458:K458)>0,1,0),IF(OR(EOMONTH(M458,0)<$AP$7,AND(EOMONTH($AP$7,-1)+1<=M458,EOMONTH($AP$7,0)>=M458)),0,IF(COUNTA(B458:K458)>0,1,0)))","v":0},{"$f":"IF(M458=\"\",IF(COUNTA(B458:K458)>0,1,0),IF(OR(EOMONTH(M458,0)<$AQ$7,AND(EOMONTH($AQ$7,-1)+1<=M458,EOMONTH($AQ$7,0)>=M458)),0,IF(COUNTA(B458:K458)>0,1,0)))","v":0},{"$f":"IF(M458=\"\",IF(COUNTA(B458:K458)>0,1,0),IF(OR(EOMONTH(M458,0)<$AR$7,AND(EOMONTH($AR$7,-1)+1<=M458,EOMONTH($AR$7,0)>=M458)),0,IF(COUNTA(B458:K458)>0,1,0)))","v":0},{"$f":"IF(M458=\"\",IF(COUNTA(B458:K458)>0,1,0),IF(OR(EOMONTH(M458,0)<$AS$7,AND(EOMONTH($AS$7,-1)+1<=M458,EOMONTH($AS$7,0)>=M458)),0,IF(COUNTA(B458:K458)>0,1,0)))","v":0},{"$f":"IF(M458=\"\",IF(COUNTA(B458:K458)>0,1,0),IF(OR(EOMONTH(M458,0)<$AT$7,AND(EOMONTH($AT$7,-1)+1<=M458,EOMONTH($AT$7,0)>=M458)),0,IF(COUNTA(B458:K458)>0,1,0)))","v":0},{"$f":"IF(M458=\"\",IF(COUNTA(B458:K458)>0,1,0),IF(OR(EOMONTH(M458,0)<$AU$7,AND(EOMONTH($AU$7,-1)+1<=M458,EOMONTH($AU$7,0)>=M458)),0,IF(COUNTA(B458:K458)>0,1,0)))","v":0},{"$f":"IF(M458=\"\",IF(COUNTA(B458:K458)>0,1,0),IF(OR(EOMONTH(M458,0)<$AV$7,AND(EOMONTH($AV$7,-1)+1<=M458,EOMONTH($AV$7,0)>=M458)),0,IF(COUNTA(B458:K458)>0,1,0)))","v":0},{"$f":"IF(M458=\"\",IF(COUNTA(B458:K458)>0,1,0),IF(OR(EOMONTH(M458,0)<$AW$7,AND(EOMONTH($AW$7,-1)+1<=M458,EOMONTH($AW$7,0)>=M458)),0,IF(COUNTA(B458:K458)>0,1,0)))","v":0},0,0,0,0,0,0,0,0,0,0,0,0,0,0,0,0,0,0,0,0,null,0,{"$f":"IF(M458=\"\",IF(G458<>\"\",1,0),IF(OR(EOMONTH(M458,0)<EOMONTH(TODAY(),0),AND(EOMONTH(TODAY(),-1)+1<=M458,EOMONTH(TODAY(),0)>=M458)),0,IF(G458<>\"\",1,0)))","v":0},{"$f":"IF(M458=\"\",IF(H458<>\"\",1,0),IF(OR(EOMONTH(M458,0)<EOMONTH(TODAY(),0),AND(EOMONTH(TODAY(),-1)+1<=M458,EOMONTH(TODAY(),0)>=M458)),0,IF(H458<>\"\",1,0)))","v":0},{"$f":"IF(M458=\"\",IF(I458<>\"\",1,0),IF(OR(EOMONTH(M458,0)<EOMONTH(TODAY(),0),AND(EOMONTH(TODAY(),-1)+1<=M458,EOMONTH(TODAY(),0)>=M458)),0,IF(I458<>\"\",1,0)))","v":0},null,0,{"$f":"IF(M458=\"\",IF(J458>0,1,0),IF(EOMONTH(M458,0)<$BQ$7,0,IF(J458>0,1,0)))","v":0}]
[451,null,null,null,null,null,null,null,null,null,null,null,null,null,null,null,null,null,0,null,null,0,0,0,0,{"$f":"IF(M459=\"\",IF(COUNTA(B459:K459)>0,1,0),IF(OR(EOMONTH(M459,0)<$Z$7,AND(EOMONTH($Z$7,-1)+1<=M459,EOMONTH($Z$7,0)>=M459)),0,IF(COUNTA(B459:K459)>0,1,0)))","v":0},0,0,0,0,0,0,0,0,0,0,0,0,0,0,0,0,0,0,0,0,0,0,0,0,0,0,0,0,0,0,0,0,0,0,0,0,0,0,0,0,0,0,0,null,0,0,0,0,null,0,0]
[452,null,null,null,null,null,null,null,null,null,null,null,null,null,null,null,null,null,0,null,null,0,0,0,0,0,0,0,0,0,0,0,0,0,0,0,0,0,0,0,0,0,0,0,0,0,0,0,0,0,0,0,0,0,0,0,0,0,0,0,0,0,0,0,0,0,0,0,0,null,0,0,0,0,null,0,0]
[453,null,null,null,null,null,null,null,null,null,null,null,null,null,null,null,null,null,0,null,null,0,0,0,0,0,0,0,0,0,0,0,0,0,0,0,0,0,0,0,0,0,0,0,0,0,0,0,0,0,0,0,0,0,0,0,0,0,0,0,0,0,0,0,0,0,0,0,0,null,{"$f":"IF(M461=\"\",IF(F461<>\"\",1,0),IF(OR(EOMONTH(M461,0)<EOMONTH(TODAY(),0),AND(EOMONTH(TODAY(),-1)+1<=M461,EOMONTH(TODAY(),0)>=M461)),0,IF(F461<>\"\",1,0)))","v":0},0,0,0,null,0,0]
[454,null,null,null,null,null,null,null,null,null,null,null,null,null,null,null,null,null,0,null,null,0,0,0,0,0,{"$f":"IF(M462=\"\",IF(COUNTA(B462:K462)>0,1,0),IF(OR(EOMONTH(M462,0)<$AA$7,AND(EOMONTH($AA$7,-1)+1<=M462,EOMONTH($AA$7,0)>=M462)),0,IF(COUNTA(B462:K462)>0,1,0)))","v":0},{"$f":"IF(M462=\"\",IF(COUNTA(B462:K462)>0,1,0),IF(OR(EOMONTH(M462,0)<$AB$7,AND(EOMONTH($AB$7,-1)+1<=M462,EOMONTH($AB$7,0)>=M462)),0,IF(COUNTA(B462:K462)>0,1,0)))","v":0},{"$f":"IF(M462=\"\",IF(COUNTA(B462:K462)>0,1,0),IF(OR(EOMONTH(M462,0)<$AC$7,AND(EOMONTH($AC$7,-1)+1<=M462,EOMONTH($AC$7,0)>=M462)),0,IF(COUNTA(B462:K462)>0,1,0)))","v":0},{"$f":"IF(M462=\"\",IF(COUNTA(B462:K462)>0,1,0),IF(OR(EOMONTH(M462,0)<$AD$7,AND(EOMONTH($AD$7,-1)+1<=M462,EOMONTH($AD$7,0)>=M462)),0,IF(COUNTA(B462:K462)>0,1,0)))","v":0},{"$f":"IF(M462=\"\",IF(COUNTA(B462:K462)>0,1,0),IF(OR(EOMONTH(M462,0)<$AE$7,AND(EOMONTH($AE$7,-1)+1<=M462,EOMONTH($AE$7,0)>=M462)),0,IF(COUNTA(B462:K462)>0,1,0)))","v":0},{"$f":"IF(M462=\"\",IF(COUNTA(B462:K462)>0,1,0),IF(OR(EOMONTH(M462,0)<$AF$7,AND(EOMONTH($AF$7,-1)+1<=M462,EOMONTH($AF$7,0)>=M462)),0,IF(COUNTA(B462:K462)>0,1,0)))","v":0},{"$f":"IF(M462=\"\",IF(COUNTA(B462:K462)>0,1,0),IF(OR(EOMONTH(M462,0)<$AG$7,AND(EOMONTH($AG$7,-1)+1<=M462,EOMONTH($AG$7,0)>=M462)),0,IF(COUNTA(B462:K462)>0,1,0)))","v":0},0,0,0,0,0,0,0,0,0,0,0,0,0,0,0,0,0,0,0,0,0,0,0,0,0,0,0,0,0,0,0,0,0,0,0,0,null,0,0,0,0,null,0,0]
[455,null,null,null,null,null,null,null,null,null,null,null,null,null,null,null,null,null,0,null,null,0,0,0,0,0,0,0,0,0,0,0,0,0,0,0,0,0,0,0,0,0,0,0,0,0,0,0,0,{"$f":"IF(M463=\"\",IF(COUNTA(B463:K463)>0,1,0),IF(OR(EOMONTH(M463,0)<$AX$7,AND(EOMONTH($AX$7,-1)+1<=M463,EOMONTH($AX$7,0)>=M463)),0,IF(COUNTA(B463:K463)>0,1,0)))","v":0},{"$f":"IF(M463=\"\",IF(COUNTA(B463:K463)>0,1,0),IF(OR(EOMONTH(M463,0)<$AY$7,AND(EOMONTH($AY$7,-1)+1<=M463,EOMONTH($AY$7,0)>=M463)),0,IF(COUNTA(B463:K463)>0,1,0)))","v":0},{"$f":"IF(M463=\"\",IF(COUNTA(B463:K463)>0,1,0),IF(OR(EOMONTH(M463,0)<$AZ$7,AND(EOMONTH($AZ$7,-1)+1<=M463,EOMONTH($AZ$7,0)>=M463)),0,IF(COUNTA(B463:K463)>0,1,0)))","v":0},{"$f":"IF(M463=\"\",IF(COUNTA(B463:K463)>0,1,0),IF(OR(EOMONTH(M463,0)<$BA$7,AND(EOMONTH($BA$7,-1)+1<=M463,EOMONTH($BA$7,0)>=M463)),0,IF(COUNTA(B463:K463)>0,1,0)))","v":0},{"$f":"IF(M463=\"\",IF(COUNTA(B463:K463)>0,1,0),IF(OR(EOMONTH(M463,0)<$BB$7,AND(EOMONTH($BB$7,-1)+1<=M463,EOMONTH($BB$7,0)>=M463)),0,IF(COUNTA(B463:K463)>0,1,0)))","v":0},{"$f":"IF(M463=\"\",IF(COUNTA(B463:K463)>0,1,0),IF(OR(EOMONTH(M463,0)<$BC$7,AND(EOMONTH($BC$7,-1)+1<=M463,EOMONTH($BC$7,0)>=M463)),0,IF(COUNTA(B463:K463)>0,1,0)))","v":0},{"$f":"IF(M463=\"\",IF(COUNTA(B463:K463)>0,1,0),IF(OR(EOMONTH(M463,0)<$BD$7,AND(EOMONTH($BD$7,-1)+1<=M463,EOMONTH($BD$7,0)>=M463)),0,IF(COUNTA(B463:K463)>0,1,0)))","v":0},{"$f":"IF(M463=\"\",IF(COUNTA(B463:K463)>0,1,0),IF(OR(EOMONTH(M463,0)<$BE$7,AND(EOMONTH($BE$7,-1)+1<=M463,EOMONTH($BE$7,0)>=M463)),0,IF(COUNTA(B463:K463)>0,1,0)))","v":0},{"$f":"IF(M463=\"\",IF(COUNTA(B463:K463)>0,1,0),IF(OR(EOMONTH(M463,0)<$BF$7,AND(EOMONTH($BF$7,-1)+1<=M463,EOMONTH($BF$7,0)>=M463)),0,IF(COUNTA(B463:K463)>0,1,0)))","v":0},{"$f":"IF(M463=\"\",IF(COUNTA(B463:K463)>0,1,0),IF(OR(EOMONTH(M463,0)<$BG$7,AND(EOMONTH($BG$7,-1)+1<=M463,EOMONTH($BG$7,0)>=M463)),0,IF(COUNTA(B463:K463)>0,1,0)))","v":0},{"$f":"IF(M463=\"\",IF(COUNTA(B463:K463)>0,1,0),IF(OR(EOMONTH(M463,0)<$BH$7,AND(EOMONTH($BH$7,-1)+1<=M463,EOMONTH($BH$7,0)>=M463)),0,IF(COUNTA(B463:K463)>0,1,0)))","v":0},{"$f":"IF(M463=\"\",IF(COUNTA(B463:K463)>0,1,0),IF(OR(EOMONTH(M463,0)<$BI$7,AND(EOMONTH($BI$7,-1)+1<=M463,EOMONTH($BI$7,0)>=M463)),0,IF(COUNTA(B463:K463)>0,1,0)))","v":0},{"$f":"IF(M463=\"\",IF(COUNTA(B463:K463)>0,1,0),IF(OR(EOMONTH(M463,0)<$BJ$7,AND(EOMONTH($BJ$7,-1)+1<=M463,EOMONTH($BJ$7,0)>=M463)),0,IF(COUNTA(B463:K463)>0,1,0)))","v":0},{"$f":"IF(M463=\"\",IF(COUNTA(B463:K463)>0,1,0),IF(OR(EOMONTH(M463,0)<$BK$7,AND(EOMONTH($BK$7,-1)+1<=M463,EOMONTH($BK$7,0)>=M463)),0,IF(COUNTA(B463:K463)>0,1,0)))","v":0},{"$f":"IF(M463=\"\",IF(COUNTA(B463:K463)>0,1,0),IF(OR(EOMONTH(M463,0)<$BL$7,AND(EOMONTH($BL$7,-1)+1<=M463,EOMONTH($BL$7,0)>=M463)),0,IF(COUNTA(B463:K463)>0,1,0)))","v":0},{"$f":"IF(M463=\"\",IF(COUNTA(B463:K463)>0,1,0),IF(OR(EOMONTH(M463,0)<$BM$7,AND(EOMONTH($BM$7,-1)+1<=M463,EOMONTH($BM$7,0)>=M463)),0,IF(COUNTA(B463:K463)>0,1,0)))","v":0},{"$f":"IF(M463=\"\",IF(COUNTA(B463:K463)>0,1,0),IF(OR(EOMONTH(M463,0)<$BN$7,AND(EOMONTH($BN$7,-1)+1<=M463,EOMONTH($BN$7,0)>=M463)),0,IF(COUNTA(B463:K463)>0,1,0)))","v":0},{"$f":"IF(M463=\"\",IF(COUNTA(B463:K463)>0,1,0),IF(OR(EOMONTH(M463,0)<$BO$7,AND(EOMONTH($BO$7,-1)+1<=M463,EOMONTH($BO$7,0)>=M463)),0,IF(COUNTA(B463:K463)>0,1,0)))","v":0},{"$f":"IF(M463=\"\",IF(COUNTA(B463:K463)>0,1,0),IF(OR(EOMONTH(M463,0)<$BP$7,AND(EOMONTH($BP$7,-1)+1<=M463,EOMONTH($BP$7,0)>=M463)),0,IF(COUNTA(B463:K463)>0,1,0)))","v":0},{"$f":"IF(M463=\"\",IF(COUNTA(B463:K463)>0,1,0),IF(OR(EOMONTH(M463,0)<$BQ$7,AND(EOMONTH($BQ$7,-1)+1<=M463,EOMONTH($BQ$7,0)>=M463)),0,IF(COUNTA(B463:K463)>0,1,0)))","v":0},null,0,0,0,0,null,0,0]
[456,null,null,null,null,null,null,null,null,null,null,null,null,null,null,null,null,null,0,null,null,0,0,0,0,0,0,0,0,0,0,0,0,0,0,0,0,0,0,0,0,0,0,0,0,0,0,0,0,0,0,0,0,0,0,0,0,0,0,0,0,0,0,0,0,0,0,0,0,null,0,0,0,0,null,0,0]
[457,null,null,null,null,null,null,null,null,null,null,null,null,null,null,null,null,null,0,null,null,0,0,0,0,0,0,0,0,0,0,0,0,0,0,0,0,0,0,0,0,0,0,0,0,0,0,0,0,0,0,0,0,0,0,0,0,0,0,0,0,0,0,0,0,0,0,0,0,null,0,0,0,0,null,0,0]
[458,null,null,null,null,null,null,null,null,null,null,null,null,null,null,null,null,null,0,null,null,0,0,0,0,0,0,0,0,0,0,0,0,0,0,0,0,0,0,0,0,0,0,0,0,0,0,0,0,0,0,0,0,0,0,0,0,0,0,0,0,0,0,0,0,0,0,0,0,null,0,0,0,0,null,0,0]
[459,null,null,null,null,null,null,null,null,null,null,null,null,null,null,null,null,null,0,null,null,0,0,0,0,0,0,0,0,0,0,0,0,0,0,0,0,0,0,0,0,0,0,0,0,0,0,0,0,0,0,0,0,0,0,0,0,0,0,0,0,0,0,0,0,0,0,0,0,null,0,0,0,0,null,0,0]
[460,null,null,null,null,null,null,null,null,null,null,null,null,null,null,null,null,null,0,null,null,0,0,0,0,0,0,0,0,0,0,0,0,0,0,0,0,0,0,0,0,0,0,0,0,0,0,0,0,0,0,0,0,0,0,0,0,0,0,0,0,0,0,0,0,0,0,0,0,null,0,0,0,0,null,0,0]
[461,null,null,null,null,null,null,null,null,null,null,null,null,null,null,null,null,null,0,null,null,0,0,0,0,0,0,0,0,0,0,0,0,0,0,0,0,0,0,0,0,0,0,0,0,0,0,0,0,0,0,0,0,0,0,0,0,0,0,0,0,0,0,0,0,0,0,0,0,null,0,0,0,0,null,0,0]
[462,null,null,null,null,null,null,null,null,null,null,null,null,null,null,null,null,null,0,null,null,0,0,0,0,0,0,0,0,0,0,0,0,0,0,0,0,0,0,0,0,0,0,0,0,0,0,0,0,0,0,0,0,0,0,0,0,0,0,0,0,0,0,0,0,0,0,0,0,null,0,0,0,0,null,0,0]
[463,null,null,null,null,null,null,null,null,null,null,null,null,null,null,null,null,null,0,null,null,0,0,0,0,0,0,0,0,0,0,0,0,0,0,0,0,0,0,0,0,0,0,0,0,0,0,0,0,0,0,0,0,0,0,0,0,0,0,0,0,0,0,0,0,0,0,0,0,null,0,0,0,0,null,0,0]
[464,null,null,null,null,null,null,null,null,null,null,null,null,null,null,null,null,null,0,null,null,0,0,0,0,0,0,0,0,0,0,0,0,0,0,0,0,0,0,0,0,0,0,0,0,0,0,0,0,0,0,0,0,0,0,0,0,0,0,0,0,0,0,0,0,0,0,0,0,null,0,0,0,0,null,0,0]
[465,null,null,null,null,null,null,null,null,null,null,null,null,null,null,null,null,null,0,null,null,0,0,0,0,0,0,0,0,0,0,0,0,0,0,0,0,0,0,0,0,0,0,0,0,0,0,0,0,0,0,0,0,0,0,0,0,0,0,0,0,0,0,0,0,0,0,0,0,null,0,0,0,0,null,0,0]
[466,null,null,null,null,null,null,null,null,null,null,null,null,null,null,null,null,null,0,null,null,0,0,0,0,0,0,0,0,0,0,0,0,0,0,0,0,0,0,0,0,0,0,0,0,0,0,0,0,0,0,0,0,0,0,0,0,0,0,0,0,0,0,0,0,0,0,0,0,null,0,0,0,0,null,0,0]
[467,null,null,null,null,null,null,null,null,null,null,null,null,null,null,null,null,null,0,null,null,0,0,0,0,0,0,0,0,0,0,0,0,0,0,0,0,0,0,0,0,0,0,0,0,0,0,0,0,0,0,0,0,0,0,0,0,0,0,0,0,0,0,0,0,0,0,0,0,null,0,0,0,0,null,0,0]
[468,null,null,null,null,null,null,null,null,null,null,null,null,null,null,null,null,null,0,null,null,0,0,0,0,0,0,0,0,0,0,0,0,0,0,0,0,0,0,0,0,0,0,0,0,0,0,0,0,0,0,0,0,0,0,0,0,0,0,0,0,0,0,0,0,0,0,0,0,null,0,0,0,0,null,0,0]
[469,null,null,null,null,null,null,null,null,null,null,null,null,null,null,null,null,null,0,null,null,0,0,0,0,0,0,0,0,0,0,0,0,0,0,0,0,0,0,0,0,0,0,0,0,0,0,0,0,0,0,0,0,0,0,0,0,0,0,0,0,0,0,0,0,0,0,0,0,null,0,0,0,0,null,0,0]
[470,null,null,null,null,null,null,null,null,null,null,null,null,null,null,null,null,null,0,null,null,0,0,0,0,0,0,0,0,0,0,0,0,0,0,0,0,0,0,0,0,0,0,0,0,0,0,0,0,0,0,0,0,0,0,0,0,0,0,0,0,0,0,0,0,0,0,0,0,null,0,0,0,0,null,0,0]
[471,null,null,null,null,null,null,null,null,null,null,null,null,null,null,null,null,null,0,null,null,0,0,0,0,0,0,0,0,0,0,0,0,0,0,0,0,0,0,0,0,0,0,0,0,0,0,0,0,0,0,0,0,0,0,0,0,0,0,0,0,0,0,0,0,0,0,0,0,null,0,0,0,0,null,0,0]
[472,null,null,null,null,null,null,null,null,null,null,null,null,null,null,null,null,null,0,null,null,0,0,0,0,0,0,0,0,0,0,0,0,0,0,0,0,0,0,0,0,0,0,0,0,0,0,0,0,0,0,0,0,0,0,0,0,0,0,0,0,0,0,0,0,0,0,0,0,null,0,0,0,0,null,0,0]
[473,null,null,null,null,null,null,null,null,null,null,null,null,null,null,null,null,null,0,null,null,0,0,0,0,0,0,0,0,0,0,0,0,0,0,0,0,0,0,0,0,0,0,0,0,0,0,0,0,0,0,0,0,0,0,0,0,0,0,0,0,0,0,0,0,0,0,0,0,null,0,0,0,0,null,0,0]
[474,null,null,null,null,null,null,null,null,null,null,null,null,null,null,null,null,null,0,null,null,0,0,0,0,0,0,0,0,0,0,0,0,0,0,0,0,0,0,0,0,0,0,0,0,0,0,0,0,0,0,0,0,0,0,0,0,0,0,0,0,0,0,0,0,0,0,0,0,null,0,0,0,0,null,0,0]
[475,null,null,null,null,null,null,null,null,null,null,null,null,null,null,null,null,null,0,null,null,0,0,0,0,0,0,0,0,0,0,0,0,0,0,0,0,0,0,0,0,0,0,0,0,0,0,0,0,0,0,0,0,0,0,0,0,0,0,0,0,0,0,0,0,0,0,0,0,null,0,0,0,0,null,0,0]
[476,null,null,null,null,null,null,null,null,null,null,null,null,null,null,null,null,null,0,null,null,0,0,0,0,0,0,0,0,0,0,0,0,0,0,0,0,0,0,0,0,0,0,0,0,0,0,0,0,0,0,0,0,0,0,0,0,0,0,0,0,0,0,0,0,0,0,0,0,null,0,0,0,0,null,0,0]
[477,null,null,null,null,null,null,null,null,null,null,null,null,null,null,null,null,null,0,null,null,0,0,0,0,0,0,0,0,0,0,0,0,0,0,0,0,0,0,0,0,0,0,0,0,0,0,0,0,0,0,0,0,0,0,0,0,0,0,0,0,0,0,0,0,0,0,0,0,null,0,0,0,0,null,0,0]
[478,null,null,null,null,null,null,null,null,null,null,null,null,null,null,null,null,null,{"$f":"IF(E486=\"\",0,IF(VALUE(E486)>VALUE($E$4),0,1))","v":0},null,null,0,0,0,0,0,0,0,0,0,0,0,0,0,0,0,0,0,0,0,0,0,0,0,0,0,0,0,0,0,0,0,0,0,0,0,0,0,0,0,0,0,0,0,0,0,0,0,0,null,0,0,0,0,null,{"$f":"SUMIFS(V486:BQ486,$V$7:$BQ$7,\">=\"&EOMONTH(TODAY(),-1)+1,$V$7:$BQ$7,\"<=\"&EOMONTH(TODAY(),0))","v":0},0]
[479,null,null,null,null,null,null,null,null,null,null,null,null,null,null,null,null,null,0,null,null,0,0,0,0,0,0,0,0,0,0,0,0,0,0,0,0,0,0,0,0,0,0,0,0,0,0,0,0,0,0,0,0,0,0,0,0,0,0,0,0,0,0,0,0,0,0,0,0,null,0,0,0,0,null,0,0]
[480,null,null,null,null,null,null,null,null,null,null,null,null,null,null,null,null,null,0,null,null,0,0,0,0,0,0,0,0,0,0,0,0,0,0,0,0,0,0,0,0,0,0,0,0,0,0,0,0,0,0,0,0,0,0,0,0,0,0,0,0,0,0,0,0,0,0,0,0,null,0,0,0,0,null,0,0]
[481,null,null,null,null,null,null,null,null,null,null,null,null,null,null,null,null,null,0,null,null,0,0,0,0,0,0,0,0,0,0,0,0,0,0,0,0,0,0,0,0,0,0,0,0,0,0,0,0,0,0,0,0,0,0,0,0,0,0,0,0,0,0,0,0,0,0,0,0,null,0,0,0,0,null,0,0]
[482,null,null,null,null,null,null,null,null,null,null,null,null,null,null,null,null,null,0,null,null,0,0,0,0,0,0,0,0,0,0,0,0,0,0,0,0,0,0,0,0,0,0,0,0,0,0,0,0,0,0,0,0,0,0,0,0,0,0,0,0,0,0,0,0,0,0,0,0,null,0,0,0,0,null,0,0]
[483,null,null,null,null,null,null,null,null,null,null,null,null,null,null,null,null,null,0,null,null,0,0,0,0,0,0,0,0,0,0,0,0,0,0,0,0,0,0,0,0,0,0,0,0,0,0,0,0,0,0,0,0,0,0,0,0,0,0,0,0,0,0,0,0,0,0,0,0,null,0,0,0,0,null,0,0]
[484,null,null,null,null,null,null,null,null,null,null,null,null,null,null,null,null,null,0,null,null,0,0,0,0,0,0,0,0,0,0,0,0,0,0,0,0,0,0,0,0,0,0,0,0,0,0,0,0,0,0,0,0,0,0,0,0,0,0,0,0,0,0,0,0,0,0,0,0,null,0,0,0,0,null,0,0]
[485,null,null,null,null,null,null,null,null,null,null,null,null,null,null,null,null,null,0,null,null,0,0,0,0,0,0,0,0,0,0,0,0,0,0,0,0,0,0,0,0,0,0,0,0,0,0,0,0,0,0,0,0,0,0,0,0,0,0,0,0,0,0,0,0,0,0,0,0,null,0,0,0,0,null,0,0]
[486,null,null,null,null,null,null,null,null,null,null,null,null,null,null,null,null,null,0,null,null,0,0,0,0,0,0,0,0,0,0,0,0,0,0,0,0,0,0,0,0,0,0,0,0,0,0,0,0,0,0,0,0,0,0,0,0,0,0,0,0,0,0,0,0,0,0,0,0,null,0,0,0,0,null,0,0]
[487,null,null,null,null,null,null,null,null,null,null,null,null,null,null,null,null,null,0,null,null,0,0,0,0,0,0,0,0,0,0,0,0,0,0,0,0,0,0,0,0,0,0,0,0,0,0,0,0,0,0,0,0,0,0,0,0,0,0,0,0,0,0,0,0,0,0,0,0,null,0,0,0,0,null,0,0]
[488,null,null,null,null,null,null,null,null,null,null,null,null,null,null,null,null,null,0,null,null,0,0,0,0,0,0,0,0,0,0,0,0,0,0,0,0,0,0,0,0,0,0,0,0,0,0,0,0,0,0,0,0,0,0,0,0,0,0,0,0,0,0,0,0,0,0,0,0,null,0,0,0,0,null,0,0]
[489,null,null,null,null,null,null,null,null,null,null,null,null,null,null,null,null,null,0,null,null,0,0,0,0,0,0,0,0,0,0,0,0,0,0,0,0,0,0,0,0,0,0,0,0,0,0,0,0,0,0,0,0,0,0,0,0,0,0,0,0,0,0,0,0,0,0,0,0,null,0,0,0,0,null,0,0]
[490,null,null,null,null,null,null,null,null,null,null,null,null,null,null,null,null,null,0,null,null,0,0,0,0,0,0,0,0,0,0,0,0,0,0,0,0,0,0,0,0,0,0,0,0,0,0,0,0,0,0,0,0,0,0,0,0,0,0,0,0,0,0,0,0,0,0,0,0,null,0,0,0,0,null,0,0]
[491,null,null,null,null,null,null,null,null,null,null,null,null,null,null,null,null,null,0,null,null,0,0,0,0,0,0,0,0,0,0,0,0,0,0,0,0,0,0,0,0,0,0,0,0,0,0,0,0,0,0,0,0,0,0,0,0,0,0,0,0,0,0,0,0,0,0,0,0,null,0,0,0,0,null,0,0]
[492,null,null,null,null,null,null,null,null,null,null,null,null,null,null,null,null,null,0,null,null,0,0,0,0,0,0,0,0,0,0,0,0,0,0,0,0,0,0,0,0,0,0,0,0,0,0,0,0,0,0,0,0,0,0,0,0,0,0,0,0,0,0,0,0,0,0,0,0,null,0,0,0,0,null,0,0]
[493,null,null,null,null,null,null,null,null,null,null,null,null,null,null,null,null,null,0,null,null,0,0,0,0,0,0,0,0,0,0,0,0,0,0,0,0,0,0,0,0,0,0,0,0,0,0,0,0,0,0,0,0,0,0,0,0,0,0,0,0,0,0,0,0,0,0,0,0,null,0,0,0,0,null,0,0]
[494,null,null,null,null,null,null,null,null,null,null,null,null,null,null,null,null,null,0,null,null,0,0,0,0,0,0,0,0,0,0,0,0,0,0,0,0,0,0,0,0,0,0,0,0,0,0,0,0,0,0,0,0,0,0,0,0,0,0,0,0,0,0,0,0,0,0,0,0,null,0,0,0,0,null,0,0]
[495,null,null,null,null,null,null,null,null,null,null,null,null,null,null,null,null,null,0,null,null,0,0,0,0,0,0,0,0,0,0,0,0,0,0,0,0,0,0,0,0,0,0,0,0,0,0,0,0,0,0,0,0,0,0,0,0,0,0,0,0,0,0,0,0,0,0,0,0,null,0,0,0,0,null,0,0]
[496,null,null,null,null,null,null,null,null,null,null,null,null,null,null,null,null,null,0,null,null,0,0,0,0,0,0,0,0,0,0,0,0,0,0,0,0,0,0,0,0,0,0,0,0,0,0,0,0,0,0,0,0,0,0,0,0,0,0,0,0,0,0,0,0,0,0,0,0,null,0,0,0,0,null,0,0]
[497,null,null,null,null,null,null,null,null,null,null,null,null,null,null,null,null,null,0,null,null,0,0,0,0,0,0,0,0,0,0,0,0,0,0,0,0,0,0,0,0,0,0,0,0,0,0,0,0,0,0,0,0,0,0,0,0,0,0,0,0,0,0,0,0,0,0,0,0,null,0,0,0,0,null,0,0]
[498,null,null,null,null,null,null,null,null,null,null,null,null,null,null,null,null,null,0,null,null,0,0,0,0,0,0,0,0,0,0,0,0,0,0,0,0,0,0,0,0,0,0,0,0,0,0,0,0,0,0,0,0,0,0,0,0,0,0,0,0,0,0,0,0,0,0,0,0,null,0,0,0,0,null,0,0]
[499,null,null,null,null,null,null,null,null,null,null,null,null,null,null,null,null,null,0,null,null,0,0,0,0,0,0,0,0,0,0,0,0,0,0,0,0,0,0,0,0,0,0,0,0,0,0,0,0,0,0,0,0,0,0,0,0,0,0,0,0,0,0,0,0,0,0,0,0,null,0,0,0,0,null,0,0]
[500,null,null,null,null,null,null,null,null,null,null,null,null,null,null,null,null,null,0,null,null,0,0,0,0,0,0,0,0,0,0,0,0,0,0,0,0,0,0,0,0,0,0,0,0,0,0,0,0,0,0,0,0,0,0,0,0,0,0,0,0,0,0,0,0,0,0,0,0,null,0,0,0,0,null,0,0]
[501,null,null,null,null,null,null,null,null,null,null,null,null,null,null,null,null,null,0,null,null,0,0,0,0,0,0,0,0,0,0,0,0,0,0,0,0,0,0,0,0,0,0,0,0,0,0,0,0,0,0,0,0,0,0,0,0,0,0,0,0,0,0,0,0,0,0,0,0,null,0,0,0,0,null,0,0]
[502,null,null,null,null,null,null,null,null,null,null,null,null,null,null,null,null,null,0,null,null,0,0,0,0,0,0,0,0,0,0,0,0,0,0,0,0,0,0,0,0,0,0,0,0,0,0,0,0,0,0,0,0,0,0,0,0,0,0,0,0,0,0,0,0,0,0,0,0,null,0,0,0,0,null,0,0]
[503,null,null,null,null,null,null,null,null,null,null,null,null,null,null,null,null,null,0,null,null,0,0,0,0,0,0,0,0,0,0,0,0,0,0,0,0,0,0,0,0,0,0,0,0,0,0,0,0,0,0,0,0,0,0,0,0,0,0,0,0,0,0,0,0,0,0,0,0,null,0,0,0,0,null,0,0]
[504,null,null,null,null,null,null,null,null,null,null,null,null,null,null,null,null,null,0,null,null,0,0,0,0,0,0,0,0,0,0,0,0,0,0,0,0,0,0,0,0,0,0,0,0,0,0,0,0,0,0,0,0,0,0,0,0,0,0,0,0,0,0,0,0,0,0,0,0,null,0,0,0,0,null,0,0]
[505,null,null,null,null,null,null,null,null,null,null,null,null,null,null,null,null,null,0,null,null,0,0,0,0,0,0,0,0,0,0,0,0,0,0,0,0,0,0,0,0,0,0,0,0,0,0,0,0,0,0,0,0,0,0,0,0,0,0,0,0,0,0,0,0,0,0,0,0,null,0,0,0,0,null,0,0]
[506,null,null,null,null,null,null,null,null,null,null,null,null,null,null,null,null,null,0,null,null,0,0,0,0,0,0,0,0,0,0,0,0,0,0,0,0,0,0,0,0,0,0,0,0,0,0,0,0,0,0,0,0,0,0,0,0,0,0,0,0,0,0,0,0,0,0,0,0,null,0,0,0,0,null,0,0]
[507,null,null,null,null,null,null,null,null,null,null,null,null,null,null,null,null,null,0,null,null,0,0,0,0,0,0,0,0,0,0,0,0,0,0,0,0,0,0,0,0,0,0,0,0,0,0,0,0,0,0,0,0,0,0,0,0,0,0,0,0,0,0,0,0,0,0,0,0,null,0,0,0,0,null,0,0]
[508,null,null,null,null,null,null,null,null,null,null,null,null,null,null,null,null,null,0,null,null,0,0,0,0,0,0,0,0,0,0,0,0,0,0,0,0,0,0,0,0,0,0,0,0,0,0,0,0,0,0,0,0,0,0,0,0,0,0,0,0,0,0,0,0,0,0,0,0,null,0,0,0,0,null,0,0]
[509,null,null,null,null,null,null,null,null,null,null,null,null,null,null,null,null,null,0,null,null,0,0,0,0,0,0,0,0,0,0,0,0,0,0,0,0,0,0,0,0,0,0,0,0,0,0,0,0,0,0,0,0,0,0,0,0,0,0,0,0,0,0,0,0,0,0,0,0,null,0,0,0,0,null,0,0]
[510,null,null,null,null,null,null,null,null,null,null,null,null,null,null,null,null,null,0,null,null,0,0,0,0,0,0,0,0,0,0,0,0,0,0,0,0,0,0,0,0,0,0,0,0,0,0,0,0,0,0,0,0,0,0,0,0,0,0,0,0,0,0,0,0,0,0,0,0,null,0,0,0,0,null,0,0]
[511,null,null,null,null,null,null,null,null,null,null,null,null,null,null,null,null,null,0,null,null,0,0,0,0,0,0,0,0,0,0,0,0,0,0,0,0,0,0,0,0,0,0,0,0,0,0,0,0,0,0,0,0,0,0,0,0,0,0,0,0,0,0,0,0,0,0,0,0,null,0,0,0,0,null,0,0]
[512,null,null,null,null,null,null,null,null,null,null,null,null,null,null,null,null,null,0,null,null,0,0,0,0,0,0,0,0,0,0,0,0,0,0,0,0,0,0,0,0,0,0,0,0,0,0,0,0,0,0,0,0,0,0,0,0,0,0,0,0,0,0,0,0,0,0,0,0,null,0,0,0,0,null,0,0]
[513,null,null,null,null,null,null,null,null,null,null,null,null,null,null,null,null,null,0,null,null,0,0,0,0,0,0,0,0,0,0,0,0,0,0,0,0,0,0,0,0,0,0,0,0,0,0,0,0,0,0,0,0,0,0,0,0,0,0,0,0,0,0,0,0,0,0,0,0,null,0,0,0,0,null,0,0]
[514,null,null,null,null,null,null,null,null,null,null,null,null,null,null,null,null,null,0,null,null,{"$f":"IF(M522=\"\",IF(COUNTA(B522:K522)>0,1,0),IF(OR(EOMONTH(M522,0)<$V$7,AND(EOMONTH($V$7,-1)+1<=M522,EOMONTH($V$7,0)>=M522)),0,IF(COUNTA(B522:K522)>0,1,0)))","v":0},{"$f":"IF(M522=\"\",IF(COUNTA(B522:K522)>0,1,0),IF(OR(EOMONTH(M522,0)<$W$7,AND(EOMONTH($W$7,-1)+1<=M522,EOMONTH($W$7,0)>=M522)),0,IF(COUNTA(B522:K522)>0,1,0)))","v":0},{"$f":"IF(M522=\"\",IF(COUNTA(B522:K522)>0,1,0),IF(OR(EOMONTH(M522,0)<$X$7,AND(EOMONTH($X$7,-1)+1<=M522,EOMONTH($X$7,0)>=M522)),0,IF(COUNTA(B522:K522)>0,1,0)))","v":0},{"$f":"IF(M522=\"\",IF(COUNTA(B522:K522)>0,1,0),IF(OR(EOMONTH(M522,0)<$Y$7,AND(EOMONTH($Y$7,-1)+1<=M522,EOMONTH($Y$7,0)>=M522)),0,IF(COUNTA(B522:K522)>0,1,0)))","v":0},0,0,0,0,0,0,0,0,{"$f":"IF(M522=\"\",IF(COUNTA(B522:K522)>0,1,0),IF(OR(EOMONTH(M522,0)<$AH$7,AND(EOMONTH($AH$7,-1)+1<=M522,EOMONTH($AH$7,0)>=M522)),0,IF(COUNTA(B522:K522)>0,1,0)))","v":0},{"$f":"IF(M522=\"\",IF(COUNTA(B522:K522)>0,1,0),IF(OR(EOMONTH(M522,0)<$AI$7,AND(EOMONTH($AI$7,-1)+1<=M522,EOMONTH($AI$7,0)>=M522)),0,IF(COUNTA(B522:K522)>0,1,0)))","v":0},{"$f":"IF(M522=\"\",IF(COUNTA(B522:K522)>0,1,0),IF(OR(EOMONTH(M522,0)<$AJ$7,AND(EOMONTH($AJ$7,-1)+1<=M522,EOMONTH($AJ$7,0)>=M522)),0,IF(COUNTA(B522:K522)>0,1,0)))","v":0},{"$f":"IF(M522=\"\",IF(COUNTA(B522:K522)>0,1,0),IF(OR(EOMONTH(M522,0)<$AK$7,AND(EOMONTH($AK$7,-1)+1<=M522,EOMONTH($AK$7,0)>=M522)),0,IF(COUNTA(B522:K522)>0,1,0)))","v":0},{"$f":"IF(M522=\"\",IF(COUNTA(B522:K522)>0,1,0),IF(OR(EOMONTH(M522,0)<$AL$7,AND(EOMONTH($AL$7,-1)+1<=M522,EOMONTH($AL$7,0)>=M522)),0,IF(COUNTA(B522:K522)>0,1,0)))","v":0},{"$f":"IF(M522=\"\",IF(COUNTA(B522:K522)>0,1,0),IF(OR(EOMONTH(M522,0)<$AM$7,AND(EOMONTH($AM$7,-1)+1<=M522,EOMONTH($AM$7,0)>=M522)),0,IF(COUNTA(B522:K522)>0,1,0)))","v":0},{"$f":"IF(M522=\"\",IF(COUNTA(B522:K522)>0,1,0),IF(OR(EOMONTH(M522,0)<$AN$7,AND(EOMONTH($AN$7,-1)+1<=M522,EOMONTH($AN$7,0)>=M522)),0,IF(COUNTA(B522:K522)>0,1,0)))","v":0},{"$f":"IF(M522=\"\",IF(COUNTA(B522:K522)>0,1,0),IF(OR(EOMONTH(M522,0)<$AO$7,AND(EOMONTH($AO$7,-1)+1<=M522,EOMONTH($AO$7,0)>=M522)),0,IF(COUNTA(B522:K522)>0,1,0)))","v":0},{"$f":"IF(M522=\"\",IF(COUNTA(B522:K522)>0,1,0),IF(OR(EOMONTH(M522,0)<$AP$7,AND(EOMONTH($AP$7,-1)+1<=M522,EOMONTH($AP$7,0)>=M522)),0,IF(COUNTA(B522:K522)>0,1,0)))","v":0},{"$f":"IF(M522=\"\",IF(COUNTA(B522:K522)>0,1,0),IF(OR(EOMONTH(M522,0)<$AQ$7,AND(EOMONTH($AQ$7,-1)+1<=M522,EOMONTH($AQ$7,0)>=M522)),0,IF(COUNTA(B522:K522)>0,1,0)))","v":0},{"$f":"IF(M522=\"\",IF(COUNTA(B522:K522)>0,1,0),IF(OR(EOMONTH(M522,0)<$AR$7,AND(EOMONTH($AR$7,-1)+1<=M522,EOMONTH($AR$7,0)>=M522)),0,IF(COUNTA(B522:K522)>0,1,0)))","v":0},{"$f":"IF(M522=\"\",IF(COUNTA(B522:K522)>0,1,0),IF(OR(EOMONTH(M522,0)<$AS$7,AND(EOMONTH($AS$7,-1)+1<=M522,EOMONTH($AS$7,0)>=M522)),0,IF(COUNTA(B522:K522)>0,1,0)))","v":0},{"$f":"IF(M522=\"\",IF(COUNTA(B522:K522)>0,1,0),IF(OR(EOMONTH(M522,0)<$AT$7,AND(EOMONTH($AT$7,-1)+1<=M522,EOMONTH($AT$7,0)>=M522)),0,IF(COUNTA(B522:K522)>0,1,0)))","v":0},{"$f":"IF(M522=\"\",IF(COUNTA(B522:K522)>0,1,0),IF(OR(EOMONTH(M522,0)<$AU$7,AND(EOMONTH($AU$7,-1)+1<=M522,EOMONTH($AU$7,0)>=M522)),0,IF(COUNTA(B522:K522)>0,1,0)))","v":0},{"$f":"IF(M522=\"\",IF(COUNTA(B522:K522)>0,1,0),IF(OR(EOMONTH(M522,0)<$AV$7,AND(EOMONTH($AV$7,-1)+1<=M522,EOMONTH($AV$7,0)>=M522)),0,IF(COUNTA(B522:K522)>0,1,0)))","v":0},{"$f":"IF(M522=\"\",IF(COUNTA(B522:K522)>0,1,0),IF(OR(EOMONTH(M522,0)<$AW$7,AND(EOMONTH($AW$7,-1)+1<=M522,EOMONTH($AW$7,0)>=M522)),0,IF(COUNTA(B522:K522)>0,1,0)))","v":0},0,0,0,0,0,0,0,0,0,0,0,0,0,0,0,0,0,0,0,0,null,0,{"$f":"IF(M522=\"\",IF(G522<>\"\",1,0),IF(OR(EOMONTH(M522,0)<EOMONTH(TODAY(),0),AND(EOMONTH(TODAY(),-1)+1<=M522,EOMONTH(TODAY(),0)>=M522)),0,IF(G522<>\"\",1,0)))","v":0},{"$f":"IF(M522=\"\",IF(H522<>\"\",1,0),IF(OR(EOMONTH(M522,0)<EOMONTH(TODAY(),0),AND(EOMONTH(TODAY(),-1)+1<=M522,EOMONTH(TODAY(),0)>=M522)),0,IF(H522<>\"\",1,0)))","v":0},{"$f":"IF(M522=\"\",IF(I522<>\"\",1,0),IF(OR(EOMONTH(M522,0)<EOMONTH(TODAY(),0),AND(EOMONTH(TODAY(),-1)+1<=M522,EOMONTH(TODAY(),0)>=M522)),0,IF(I522<>\"\",1,0)))","v":0},null,0,{"$f":"IF(M522=\"\",IF(J522>0,1,0),IF(EOMONTH(M522,0)<$BQ$7,0,IF(J522>0,1,0)))","v":0}]
[515,null,null,null,null,null,null,null,null,null,null,null,null,null,null,null,null,null,0,null,null,0,0,0,0,{"$f":"IF(M523=\"\",IF(COUNTA(B523:K523)>0,1,0),IF(OR(EOMONTH(M523,0)<$Z$7,AND(EOMONTH($Z$7,-1)+1<=M523,EOMONTH($Z$7,0)>=M523)),0,IF(COUNTA(B523:K523)>0,1,0)))","v":0},0,0,0,0,0,0,0,0,0,0,0,0,0,0,0,0,0,0,0,0,0,0,0,0,0,0,0,0,0,0,0,0,0,0,0,0,0,0,0,0,0,0,0,null,0,0,0,0,null,0,0]
[516,null,null,null,null,null,null,null,null,null,null,null,null,null,null,null,null,null,0,null,null,0,0,0,0,0,0,0,0,0,0,0,0,0,0,0,0,0,0,0,0,0,0,0,0,0,0,0,0,0,0,0,0,0,0,0,0,0,0,0,0,0,0,0,0,0,0,0,0,null,0,0,0,0,null,0,0]
[517,null,null,null,null,null,null,null,null,null,null,null,null,null,null,null,null,null,0,null,null,0,0,0,0,0,0,0,0,0,0,0,0,0,0,0,0,0,0,0,0,0,0,0,0,0,0,0,0,0,0,0,0,0,0,0,0,0,0,0,0,0,0,0,0,0,0,0,0,null,{"$f":"IF(M525=\"\",IF(F525<>\"\",1,0),IF(OR(EOMONTH(M525,0)<EOMONTH(TODAY(),0),AND(EOMONTH(TODAY(),-1)+1<=M525,EOMONTH(TODAY(),0)>=M525)),0,IF(F525<>\"\",1,0)))","v":0},0,0,0,null,0,0]
[518,null,null,null,null,null,null,null,null,null,null,null,null,null,null,null,null,null,0,null,null,0,0,0,0,0,{"$f":"IF(M526=\"\",IF(COUNTA(B526:K526)>0,1,0),IF(OR(EOMONTH(M526,0)<$AA$7,AND(EOMONTH($AA$7,-1)+1<=M526,EOMONTH($AA$7,0)>=M526)),0,IF(COUNTA(B526:K526)>0,1,0)))","v":0},{"$f":"IF(M526=\"\",IF(COUNTA(B526:K526)>0,1,0),IF(OR(EOMONTH(M526,0)<$AB$7,AND(EOMONTH($AB$7,-1)+1<=M526,EOMONTH($AB$7,0)>=M526)),0,IF(COUNTA(B526:K526)>0,1,0)))","v":0},{"$f":"IF(M526=\"\",IF(COUNTA(B526:K526)>0,1,0),IF(OR(EOMONTH(M526,0)<$AC$7,AND(EOMONTH($AC$7,-1)+1<=M526,EOMONTH($AC$7,0)>=M526)),0,IF(COUNTA(B526:K526)>0,1,0)))","v":0},{"$f":"IF(M526=\"\",IF(COUNTA(B526:K526)>0,1,0),IF(OR(EOMONTH(M526,0)<$AD$7,AND(EOMONTH($AD$7,-1)+1<=M526,EOMONTH($AD$7,0)>=M526)),0,IF(COUNTA(B526:K526)>0,1,0)))","v":0},{"$f":"IF(M526=\"\",IF(COUNTA(B526:K526)>0,1,0),IF(OR(EOMONTH(M526,0)<$AE$7,AND(EOMONTH($AE$7,-1)+1<=M526,EOMONTH($AE$7,0)>=M526)),0,IF(COUNTA(B526:K526)>0,1,0)))","v":0},{"$f":"IF(M526=\"\",IF(COUNTA(B526:K526)>0,1,0),IF(OR(EOMONTH(M526,0)<$AF$7,AND(EOMONTH($AF$7,-1)+1<=M526,EOMONTH($AF$7,0)>=M526)),0,IF(COUNTA(B526:K526)>0,1,0)))","v":0},{"$f":"IF(M526=\"\",IF(COUNTA(B526:K526)>0,1,0),IF(OR(EOMONTH(M526,0)<$AG$7,AND(EOMONTH($AG$7,-1)+1<=M526,EOMONTH($AG$7,0)>=M526)),0,IF(COUNTA(B526:K526)>0,1,0)))","v":0},0,0,0,0,0,0,0,0,0,0,0,0,0,0,0,0,0,0,0,0,0,0,0,0,0,0,0,0,0,0,0,0,0,0,0,0,null,0,0,0,0,null,0,0]
[519,null,null,null,null,null,null,null,null,null,null,null,null,null,null,null,null,null,0,null,null,0,0,0,0,0,0,0,0,0,0,0,0,0,0,0,0,0,0,0,0,0,0,0,0,0,0,0,0,{"$f":"IF(M527=\"\",IF(COUNTA(B527:K527)>0,1,0),IF(OR(EOMONTH(M527,0)<$AX$7,AND(EOMONTH($AX$7,-1)+1<=M527,EOMONTH($AX$7,0)>=M527)),0,IF(COUNTA(B527:K527)>0,1,0)))","v":0},{"$f":"IF(M527=\"\",IF(COUNTA(B527:K527)>0,1,0),IF(OR(EOMONTH(M527,0)<$AY$7,AND(EOMONTH($AY$7,-1)+1<=M527,EOMONTH($AY$7,0)>=M527)),0,IF(COUNTA(B527:K527)>0,1,0)))","v":0},{"$f":"IF(M527=\"\",IF(COUNTA(B527:K527)>0,1,0),IF(OR(EOMONTH(M527,0)<$AZ$7,AND(EOMONTH($AZ$7,-1)+1<=M527,EOMONTH($AZ$7,0)>=M527)),0,IF(COUNTA(B527:K527)>0,1,0)))","v":0},{"$f":"IF(M527=\"\",IF(COUNTA(B527:K527)>0,1,0),IF(OR(EOMONTH(M527,0)<$BA$7,AND(EOMONTH($BA$7,-1)+1<=M527,EOMONTH($BA$7,0)>=M527)),0,IF(COUNTA(B527:K527)>0,1,0)))","v":0},{"$f":"IF(M527=\"\",IF(COUNTA(B527:K527)>0,1,0),IF(OR(EOMONTH(M527,0)<$BB$7,AND(EOMONTH($BB$7,-1)+1<=M527,EOMONTH($BB$7,0)>=M527)),0,IF(COUNTA(B527:K527)>0,1,0)))","v":0},{"$f":"IF(M527=\"\",IF(COUNTA(B527:K527)>0,1,0),IF(OR(EOMONTH(M527,0)<$BC$7,AND(EOMONTH($BC$7,-1)+1<=M527,EOMONTH($BC$7,0)>=M527)),0,IF(COUNTA(B527:K527)>0,1,0)))","v":0},{"$f":"IF(M527=\"\",IF(COUNTA(B527:K527)>0,1,0),IF(OR(EOMONTH(M527,0)<$BD$7,AND(EOMONTH($BD$7,-1)+1<=M527,EOMONTH($BD$7,0)>=M527)),0,IF(COUNTA(B527:K527)>0,1,0)))","v":0},{"$f":"IF(M527=\"\",IF(COUNTA(B527:K527)>0,1,0),IF(OR(EOMONTH(M527,0)<$BE$7,AND(EOMONTH($BE$7,-1)+1<=M527,EOMONTH($BE$7,0)>=M527)),0,IF(COUNTA(B527:K527)>0,1,0)))","v":0},{"$f":"IF(M527=\"\",IF(COUNTA(B527:K527)>0,1,0),IF(OR(EOMONTH(M527,0)<$BF$7,AND(EOMONTH($BF$7,-1)+1<=M527,EOMONTH($BF$7,0)>=M527)),0,IF(COUNTA(B527:K527)>0,1,0)))","v":0},{"$f":"IF(M527=\"\",IF(COUNTA(B527:K527)>0,1,0),IF(OR(EOMONTH(M527,0)<$BG$7,AND(EOMONTH($BG$7,-1)+1<=M527,EOMONTH($BG$7,0)>=M527)),0,IF(COUNTA(B527:K527)>0,1,0)))","v":0},{"$f":"IF(M527=\"\",IF(COUNTA(B527:K527)>0,1,0),IF(OR(EOMONTH(M527,0)<$BH$7,AND(EOMONTH($BH$7,-1)+1<=M527,EOMONTH($BH$7,0)>=M527)),0,IF(COUNTA(B527:K527)>0,1,0)))","v":0},{"$f":"IF(M527=\"\",IF(COUNTA(B527:K527)>0,1,0),IF(OR(EOMONTH(M527,0)<$BI$7,AND(EOMONTH($BI$7,-1)+1<=M527,EOMONTH($BI$7,0)>=M527)),0,IF(COUNTA(B527:K527)>0,1,0)))","v":0},{"$f":"IF(M527=\"\",IF(COUNTA(B527:K527)>0,1,0),IF(OR(EOMONTH(M527,0)<$BJ$7,AND(EOMONTH($BJ$7,-1)+1<=M527,EOMONTH($BJ$7,0)>=M527)),0,IF(COUNTA(B527:K527)>0,1,0)))","v":0},{"$f":"IF(M527=\"\",IF(COUNTA(B527:K527)>0,1,0),IF(OR(EOMONTH(M527,0)<$BK$7,AND(EOMONTH($BK$7,-1)+1<=M527,EOMONTH($BK$7,0)>=M527)),0,IF(COUNTA(B527:K527)>0,1,0)))","v":0},{"$f":"IF(M527=\"\",IF(COUNTA(B527:K527)>0,1,0),IF(OR(EOMONTH(M527,0)<$BL$7,AND(EOMONTH($BL$7,-1)+1<=M527,EOMONTH($BL$7,0)>=M527)),0,IF(COUNTA(B527:K527)>0,1,0)))","v":0},{"$f":"IF(M527=\"\",IF(COUNTA(B527:K527)>0,1,0),IF(OR(EOMONTH(M527,0)<$BM$7,AND(EOMONTH($BM$7,-1)+1<=M527,EOMONTH($BM$7,0)>=M527)),0,IF(COUNTA(B527:K527)>0,1,0)))","v":0},{"$f":"IF(M527=\"\",IF(COUNTA(B527:K527)>0,1,0),IF(OR(EOMONTH(M527,0)<$BN$7,AND(EOMONTH($BN$7,-1)+1<=M527,EOMONTH($BN$7,0)>=M527)),0,IF(COUNTA(B527:K527)>0,1,0)))","v":0},{"$f":"IF(M527=\"\",IF(COUNTA(B527:K527)>0,1,0),IF(OR(EOMONTH(M527,0)<$BO$7,AND(EOMONTH($BO$7,-1)+1<=M527,EOMONTH($BO$7,0)>=M527)),0,IF(COUNTA(B527:K527)>0,1,0)))","v":0},{"$f":"IF(M527=\"\",IF(COUNTA(B527:K527)>0,1,0),IF(OR(EOMONTH(M527,0)<$BP$7,AND(EOMONTH($BP$7,-1)+1<=M527,EOMONTH($BP$7,0)>=M527)),0,IF(COUNTA(B527:K527)>0,1,0)))","v":0},{"$f":"IF(M527=\"\",IF(COUNTA(B527:K527)>0,1,0),IF(OR(EOMONTH(M527,0)<$BQ$7,AND(EOMONTH($BQ$7,-1)+1<=M527,EOMONTH($BQ$7,0)>=M527)),0,IF(COUNTA(B527:K527)>0,1,0)))","v":0},null,0,0,0,0,null,0,0]
[520,null,null,null,null,null,null,null,null,null,null,null,null,null,null,null,null,null,0,null,null,0,0,0,0,0,0,0,0,0,0,0,0,0,0,0,0,0,0,0,0,0,0,0,0,0,0,0,0,0,0,0,0,0,0,0,0,0,0,0,0,0,0,0,0,0,0,0,0,null,0,0,0,0,null,0,0]
[521,null,null,null,null,null,null,null,null,null,null,null,null,null,null,null,null,null,0,null,null,0,0,0,0,0,0,0,0,0,0,0,0,0,0,0,0,0,0,0,0,0,0,0,0,0,0,0,0,0,0,0,0,0,0,0,0,0,0,0,0,0,0,0,0,0,0,0,0,null,0,0,0,0,null,0,0]
[522,null,null,null,null,null,null,null,null,null,null,null,null,null,null,null,null,null,0,null,null,0,0,0,0,0,0,0,0,0,0,0,0,0,0,0,0,0,0,0,0,0,0,0,0,0,0,0,0,0,0,0,0,0,0,0,0,0,0,0,0,0,0,0,0,0,0,0,0,null,0,0,0,0,null,0,0]
[523,null,null,null,null,null,null,null,null,null,null,null,null,null,null,null,null,null,0,null,null,0,0,0,0,0,0,0,0,0,0,0,0,0,0,0,0,0,0,0,0,0,0,0,0,0,0,0,0,0,0,0,0,0,0,0,0,0,0,0,0,0,0,0,0,0,0,0,0,null,0,0,0,0,null,0,0]
[524,null,null,null,null,null,null,null,null,null,null,null,null,null,null,null,null,null,0,null,null,0,0,0,0,0,0,0,0,0,0,0,0,0,0,0,0,0,0,0,0,0,0,0,0,0,0,0,0,0,0,0,0,0,0,0,0,0,0,0,0,0,0,0,0,0,0,0,0,null,0,0,0,0,null,0,0]
[525,null,null,null,null,null,null,null,null,null,null,null,null,null,null,null,null,null,0,null,null,0,0,0,0,0,0,0,0,0,0,0,0,0,0,0,0,0,0,0,0,0,0,0,0,0,0,0,0,0,0,0,0,0,0,0,0,0,0,0,0,0,0,0,0,0,0,0,0,null,0,0,0,0,null,0,0]
[526,null,null,null,null,null,null,null,null,null,null,null,null,null,null,null,null,null,0,null,null,0,0,0,0,0,0,0,0,0,0,0,0,0,0,0,0,0,0,0,0,0,0,0,0,0,0,0,0,0,0,0,0,0,0,0,0,0,0,0,0,0,0,0,0,0,0,0,0,null,0,0,0,0,null,0,0]
[527,null,null,null,null,null,null,null,null,null,null,null,null,null,null,null,null,null,0,null,null,0,0,0,0,0,0,0,0,0,0,0,0,0,0,0,0,0,0,0,0,0,0,0,0,0,0,0,0,0,0,0,0,0,0,0,0,0,0,0,0,0,0,0,0,0,0,0,0,null,0,0,0,0,null,0,0]
[528,null,null,null,null,null,null,null,null,null,null,null,null,null,null,null,null,null,0,null,null,0,0,0,0,0,0,0,0,0,0,0,0,0,0,0,0,0,0,0,0,0,0,0,0,0,0,0,0,0,0,0,0,0,0,0,0,0,0,0,0,0,0,0,0,0,0,0,0,null,0,0,0,0,null,0,0]
[529,null,null,null,null,null,null,null,null,null,null,null,null,null,null,null,null,null,0,null,null,0,0,0,0,0,0,0,0,0,0,0,0,0,0,0,0,0,0,0,0,0,0,0,0,0,0,0,0,0,0,0,0,0,0,0,0,0,0,0,0,0,0,0,0,0,0,0,0,null,0,0,0,0,null,0,0]
[530,null,null,null,null,null,null,null,null,null,null,null,null,null,null,null,null,null,0,null,null,0,0,0,0,0,0,0,0,0,0,0,0,0,0,0,0,0,0,0,0,0,0,0,0,0,0,0,0,0,0,0,0,0,0,0,0,0,0,0,0,0,0,0,0,0,0,0,0,null,0,0,0,0,null,0,0]
[531,null,null,null,null,null,null,null,null,null,null,null,null,null,null,null,null,null,0,null,null,0,0,0,0,0,0,0,0,0,0,0,0,0,0,0,0,0,0,0,0,0,0,0,0,0,0,0,0,0,0,0,0,0,0,0,0,0,0,0,0,0,0,0,0,0,0,0,0,null,0,0,0,0,null,0,0]
[532,null,null,null,null,null,null,null,null,null,null,null,null,null,null,null,null,null,0,null,null,0,0,0,0,0,0,0,0,0,0,0,0,0,0,0,0,0,0,0,0,0,0,0,0,0,0,0,0,0,0,0,0,0,0,0,0,0,0,0,0,0,0,0,0,0,0,0,0,null,0,0,0,0,null,0,0]
[533,null,null,null,null,null,null,null,null,null,null,null,null,null,null,null,null,null,0,null,null,0,0,0,0,0,0,0,0,0,0,0,0,0,0,0,0,0,0,0,0,0,0,0,0,0,0,0,0,0,0,0,0,0,0,0,0,0,0,0,0,0,0,0,0,0,0,0,0,null,0,0,0,0,null,0,0]
[534,null,null,null,null,null,null,null,null,null,null,null,null,null,null,null,null,null,0,null,null,0,0,0,0,0,0,0,0,0,0,0,0,0,0,0,0,0,0,0,0,0,0,0,0,0,0,0,0,0,0,0,0,0,0,0,0,0,0,0,0,0,0,0,0,0,0,0,0,null,0,0,0,0,null,0,0]
[535,null,null,null,null,null,null,null,null,null,null,null,null,null,null,null,null,null,0,null,null,0,0,0,0,0,0,0,0,0,0,0,0,0,0,0,0,0,0,0,0,0,0,0,0,0,0,0,0,0,0,0,0,0,0,0,0,0,0,0,0,0,0,0,0,0,0,0,0,null,0,0,0,0,null,0,0]
[536,null,null,null,null,null,null,null,null,null,null,null,null,null,null,null,null,null,0,null,null,0,0,0,0,0,0,0,0,0,0,0,0,0,0,0,0,0,0,0,0,0,0,0,0,0,0,0,0,0,0,0,0,0,0,0,0,0,0,0,0,0,0,0,0,0,0,0,0,null,0,0,0,0,null,0,0]
[537,null,null,null,null,null,null,null,null,null,null,null,null,null,null,null,null,null,0,null,null,0,0,0,0,0,0,0,0,0,0,0,0,0,0,0,0,0,0,0,0,0,0,0,0,0,0,0,0,0,0,0,0,0,0,0,0,0,0,0,0,0,0,0,0,0,0,0,0,null,0,0,0,0,null,0,0]
[538,null,null,null,null,null,null,null,null,null,null,null,null,null,null,null,null,null,0,null,null,0,0,0,0,0,0,0,0,0,0,0,0,0,0,0,0,0,0,0,0,0,0,0,0,0,0,0,0,0,0,0,0,0,0,0,0,0,0,0,0,0,0,0,0,0,0,0,0,null,0,0,0,0,null,0,0]
[539,null,null,null,null,null,null,null,null,null,null,null,null,null,null,null,null,null,0,null,null,0,0,0,0,0,0,0,0,0,0,0,0,0,0,0,0,0,0,0,0,0,0,0,0,0,0,0,0,0,0,0,0,0,0,0,0,0,0,0,0,0,0,0,0,0,0,0,0,null,0,0,0,0,null,0,0]
[540,null,null,null,null,null,null,null,null,null,null,null,null,null,null,null,null,null,0,null,null,0,0,0,0,0,0,0,0,0,0,0,0,0,0,0,0,0,0,0,0,0,0,0,0,0,0,0,0,0,0,0,0,0,0,0,0,0,0,0,0,0,0,0,0,0,0,0,0,null,0,0,0,0,null,0,0]
[541,null,null,null,null,null,null,null,null,null,null,null,null,null,null,null,null,null,0,null,null,0,0,0,0,0,0,0,0,0,0,0,0,0,0,0,0,0,0,0,0,0,0,0,0,0,0,0,0,0,0,0,0,0,0,0,0,0,0,0,0,0,0,0,0,0,0,0,0,null,0,0,0,0,null,0,0]
[542,null,null,null,null,null,null,null,null,null,null,null,null,null,null,null,null,null,{"$f":"IF(E550=\"\",0,IF(VALUE(E550)>VALUE($E$4),0,1))","v":0},null,null,0,0,0,0,0,0,0,0,0,0,0,0,0,0,0,0,0,0,0,0,0,0,0,0,0,0,0,0,0,0,0,0,0,0,0,0,0,0,0,0,0,0,0,0,0,0,0,0,null,0,0,0,0,null,{"$f":"SUMIFS(V550:BQ550,$V$7:$BQ$7,\">=\"&EOMONTH(TODAY(),-1)+1,$V$7:$BQ$7,\"<=\"&EOMONTH(TODAY(),0))","v":0},0]
[543,null,null,null,null,null,null,null,null,null,null,null,null,null,null,null,null,null,0,null,null,0,0,0,0,0,0,0,0,0,0,0,0,0,0,0,0,0,0,0,0,0,0,0,0,0,0,0,0,0,0,0,0,0,0,0,0,0,0,0,0,0,0,0,0,0,0,0,0,null,0,0,0,0,null,0,0]
[544,null,null,null,null,null,null,null,null,null,null,null,null,null,null,null,null,null,0,null,null,0,0,0,0,0,0,0,0,0,0,0,0,0,0,0,0,0,0,0,0,0,0,0,0,0,0,0,0,0,0,0,0,0,0,0,0,0,0,0,0,0,0,0,0,0,0,0,0,null,0,0,0,0,null,0,0]
[545,null,null,null,null,null,null,null,null,null,null,null,null,null,null,null,null,null,0,null,null,0,0,0,0,0,0,0,0,0,0,0,0,0,0,0,0,0,0,0,0,0,0,0,0,0,0,0,0,0,0,0,0,0,0,0,0,0,0,0,0,0,0,0,0,0,0,0,0,null,0,0,0,0,null,0,0]
[546,null,null,null,null,null,null,null,null,null,null,null,null,null,null,null,null,null,0,null,null,0,0,0,0,0,0,0,0,0,0,0,0,0,0,0,0,0,0,0,0,0,0,0,0,0,0,0,0,0,0,0,0,0,0,0,0,0,0,0,0,0,0,0,0,0,0,0,0,null,0,0,0,0,null,0,0]
[547,null,null,null,null,null,null,null,null,null,null,null,null,null,null,null,null,null,0,null,null,0,0,0,0,0,0,0,0,0,0,0,0,0,0,0,0,0,0,0,0,0,0,0,0,0,0,0,0,0,0,0,0,0,0,0,0,0,0,0,0,0,0,0,0,0,0,0,0,null,0,0,0,0,null,0,0]
[548,null,null,null,null,null,null,null,null,null,null,null,null,null,null,null,null,null,0,null,null,0,0,0,0,0,0,0,0,0,0,0,0,0,0,0,0,0,0,0,0,0,0,0,0,0,0,0,0,0,0,0,0,0,0,0,0,0,0,0,0,0,0,0,0,0,0,0,0,null,0,0,0,0,null,0,0]
[549,null,null,null,null,null,null,null,null,null,null,null,null,null,null,null,null,null,0,null,null,0,0,0,0,0,0,0,0,0,0,0,0,0,0,0,0,0,0,0,0,0,0,0,0,0,0,0,0,0,0,0,0,0,0,0,0,0,0,0,0,0,0,0,0,0,0,0,0,null,0,0,0,0,null,0,0]
[550,null,null,null,null,null,null,null,null,null,null,null,null,null,null,null,null,null,0,null,null,0,0,0,0,0,0,0,0,0,0,0,0,0,0,0,0,0,0,0,0,0,0,0,0,0,0,0,0,0,0,0,0,0,0,0,0,0,0,0,0,0,0,0,0,0,0,0,0,null,0,0,0,0,null,0,0]
[551,null,null,null,null,null,null,null,null,null,null,null,null,null,null,null,null,null,0,null,null,0,0,0,0,0,0,0,0,0,0,0,0,0,0,0,0,0,0,0,0,0,0,0,0,0,0,0,0,0,0,0,0,0,0,0,0,0,0,0,0,0,0,0,0,0,0,0,0,null,0,0,0,0,null,0,0]
[552,null,null,null,null,null,null,null,null,null,null,null,null,null,null,null,null,null,0,null,null,0,0,0,0,0,0,0,0,0,0,0,0,0,0,0,0,0,0,0,0,0,0,0,0,0,0,0,0,0,0,0,0,0,0,0,0,0,0,0,0,0,0,0,0,0,0,0,0,null,0,0,0,0,null,0,0]
[553,null,null,null,null,null,null,null,null,null,null,null,null,null,null,null,null,null,0,null,null,0,0,0,0,0,0,0,0,0,0,0,0,0,0,0,0,0,0,0,0,0,0,0,0,0,0,0,0,0,0,0,0,0,0,0,0,0,0,0,0,0,0,0,0,0,0,0,0,null,0,0,0,0,null,0,0]
[554,null,null,null,null,null,null,null,null,null,null,null,null,null,null,null,null,null,0,null,null,0,0,0,0,0,0,0,0,0,0,0,0,0,0,0,0,0,0,0,0,0,0,0,0,0,0,0,0,0,0,0,0,0,0,0,0,0,0,0,0,0,0,0,0,0,0,0,0,null,0,0,0,0,null,0,0]
[555,null,null,null,null,null,null,null,null,null,null,null,null,null,null,null,null,null,0,null,null,0,0,0,0,0,0,0,0,0,0,0,0,0,0,0,0,0,0,0,0,0,0,0,0,0,0,0,0,0,0,0,0,0,0,0,0,0,0,0,0,0,0,0,0,0,0,0,0,null,0,0,0,0,null,0,0]
[556,null,null,null,null,null,null,null,null,null,null,null,null,null,null,null,null,null,0,null,null,0,0,0,0,0,0,0,0,0,0,0,0,0,0,0,0,0,0,0,0,0,0,0,0,0,0,0,0,0,0,0,0,0,0,0,0,0,0,0,0,0,0,0,0,0,0,0,0,null,0,0,0,0,null,0,0]
[557,null,null,null,null,null,null,null,null,null,null,null,null,null,null,null,null,null,0,null,null,0,0,0,0,0,0,0,0,0,0,0,0,0,0,0,0,0,0,0,0,0,0,0,0,0,0,0,0,0,0,0,0,0,0,0,0,0,0,0,0,0,0,0,0,0,0,0,0,null,0,0,0,0,null,0,0]
[558,null,null,null,null,null,null,null,null,null,null,null,null,null,null,null,null,null,0,null,null,0,0,0,0,0,0,0,0,0,0,0,0,0,0,0,0,0,0,0,0,0,0,0,0,0,0,0,0,0,0,0,0,0,0,0,0,0,0,0,0,0,0,0,0,0,0,0,0,null,0,0,0,0,null,0,0]
[559,null,null,null,null,null,null,null,null,null,null,null,null,null,null,null,null,null,0,null,null,0,0,0,0,0,0,0,0,0,0,0,0,0,0,0,0,0,0,0,0,0,0,0,0,0,0,0,0,0,0,0,0,0,0,0,0,0,0,0,0,0,0,0,0,0,0,0,0,null,0,0,0,0,null,0,0]
[560,null,null,null,null,null,null,null,null,null,null,null,null,null,null,null,null,null,0,null,null,0,0,0,0,0,0,0,0,0,0,0,0,0,0,0,0,0,0,0,0,0,0,0,0,0,0,0,0,0,0,0,0,0,0,0,0,0,0,0,0,0,0,0,0,0,0,0,0,null,0,0,0,0,null,0,0]
[561,null,null,null,null,null,null,null,null,null,null,null,null,null,null,null,null,null,0,null,null,0,0,0,0,0,0,0,0,0,0,0,0,0,0,0,0,0,0,0,0,0,0,0,0,0,0,0,0,0,0,0,0,0,0,0,0,0,0,0,0,0,0,0,0,0,0,0,0,null,0,0,0,0,null,0,0]
[562,null,null,null,null,null,null,null,null,null,null,null,null,null,null,null,null,null,0,null,null,0,0,0,0,0,0,0,0,0,0,0,0,0,0,0,0,0,0,0,0,0,0,0,0,0,0,0,0,0,0,0,0,0,0,0,0,0,0,0,0,0,0,0,0,0,0,0,0,null,0,0,0,0,null,0,0]
[563,null,null,null,null,null,null,null,null,null,null,null,null,null,null,null,null,null,0,null,null,0,0,0,0,0,0,0,0,0,0,0,0,0,0,0,0,0,0,0,0,0,0,0,0,0,0,0,0,0,0,0,0,0,0,0,0,0,0,0,0,0,0,0,0,0,0,0,0,null,0,0,0,0,null,0,0]
[564,null,null,null,null,null,null,null,null,null,null,null,null,null,null,null,null,null,0,null,null,0,0,0,0,0,0,0,0,0,0,0,0,0,0,0,0,0,0,0,0,0,0,0,0,0,0,0,0,0,0,0,0,0,0,0,0,0,0,0,0,0,0,0,0,0,0,0,0,null,0,0,0,0,null,0,0]
[565,null,null,null,null,null,null,null,null,null,null,null,null,null,null,null,null,null,0,null,null,0,0,0,0,0,0,0,0,0,0,0,0,0,0,0,0,0,0,0,0,0,0,0,0,0,0,0,0,0,0,0,0,0,0,0,0,0,0,0,0,0,0,0,0,0,0,0,0,null,0,0,0,0,null,0,0]
[566,null,null,null,null,null,null,null,null,null,null,null,null,null,null,null,null,null,0,null,null,0,0,0,0,0,0,0,0,0,0,0,0,0,0,0,0,0,0,0,0,0,0,0,0,0,0,0,0,0,0,0,0,0,0,0,0,0,0,0,0,0,0,0,0,0,0,0,0,null,0,0,0,0,null,0,0]
[567,null,null,null,null,null,null,null,null,null,null,null,null,null,null,null,null,null,0,null,null,0,0,0,0,0,0,0,0,0,0,0,0,0,0,0,0,0,0,0,0,0,0,0,0,0,0,0,0,0,0,0,0,0,0,0,0,0,0,0,0,0,0,0,0,0,0,0,0,null,0,0,0,0,null,0,0]
[568,null,null,null,null,null,null,null,null,null,null,null,null,null,null,null,null,null,0,null,null,0,0,0,0,0,0,0,0,0,0,0,0,0,0,0,0,0,0,0,0,0,0,0,0,0,0,0,0,0,0,0,0,0,0,0,0,0,0,0,0,0,0,0,0,0,0,0,0,null,0,0,0,0,null,0,0]
[569,null,null,null,null,null,null,null,null,null,null,null,null,null,null,null,null,null,0,null,null,0,0,0,0,0,0,0,0,0,0,0,0,0,0,0,0,0,0,0,0,0,0,0,0,0,0,0,0,0,0,0,0,0,0,0,0,0,0,0,0,0,0,0,0,0,0,0,0,null,0,0,0,0,null,0,0]
[570,null,null,null,null,null,null,null,null,null,null,null,null,null,null,null,null,null,0,null,null,0,0,0,0,0,0,0,0,0,0,0,0,0,0,0,0,0,0,0,0,0,0,0,0,0,0,0,0,0,0,0,0,0,0,0,0,0,0,0,0,0,0,0,0,0,0,0,0,null,0,0,0,0,null,0,0]
[571,null,null,null,null,null,null,null,null,null,null,null,null,null,null,null,null,null,0,null,null,0,0,0,0,0,0,0,0,0,0,0,0,0,0,0,0,0,0,0,0,0,0,0,0,0,0,0,0,0,0,0,0,0,0,0,0,0,0,0,0,0,0,0,0,0,0,0,0,null,0,0,0,0,null,0,0]
[572,null,null,null,null,null,null,null,null,null,null,null,null,null,null,null,null,null,0,null,null,0,0,0,0,0,0,0,0,0,0,0,0,0,0,0,0,0,0,0,0,0,0,0,0,0,0,0,0,0,0,0,0,0,0,0,0,0,0,0,0,0,0,0,0,0,0,0,0,null,0,0,0,0,null,0,0]
[573,null,null,null,null,null,null,null,null,null,null,null,null,null,null,null,null,null,0,null,null,0,0,0,0,0,0,0,0,0,0,0,0,0,0,0,0,0,0,0,0,0,0,0,0,0,0,0,0,0,0,0,0,0,0,0,0,0,0,0,0,0,0,0,0,0,0,0,0,null,0,0,0,0,null,0,0]
[574,null,null,null,null,null,null,null,null,null,null,null,null,null,null,null,null,null,0,null,null,0,0,0,0,0,0,0,0,0,0,0,0,0,0,0,0,0,0,0,0,0,0,0,0,0,0,0,0,0,0,0,0,0,0,0,0,0,0,0,0,0,0,0,0,0,0,0,0,null,0,0,0,0,null,0,0]
[575,null,null,null,null,null,null,null,null,null,null,null,null,null,null,null,null,null,0,null,null,0,0,0,0,0,0,0,0,0,0,0,0,0,0,0,0,0,0,0,0,0,0,0,0,0,0,0,0,0,0,0,0,0,0,0,0,0,0,0,0,0,0,0,0,0,0,0,0,null,0,0,0,0,null,0,0]
[576,null,null,null,null,null,null,null,null,null,null,null,null,null,null,null,null,null,0,null,null,0,0,0,0,0,0,0,0,0,0,0,0,0,0,0,0,0,0,0,0,0,0,0,0,0,0,0,0,0,0,0,0,0,0,0,0,0,0,0,0,0,0,0,0,0,0,0,0,null,0,0,0,0,null,0,0]
[577,null,null,null,null,null,null,null,null,null,null,null,null,null,null,null,null,null,0,null,null,0,0,0,0,0,0,0,0,0,0,0,0,0,0,0,0,0,0,0,0,0,0,0,0,0,0,0,0,0,0,0,0,0,0,0,0,0,0,0,0,0,0,0,0,0,0,0,0,null,0,0,0,0,null,0,0]
[578,null,null,null,null,null,null,null,null,null,null,null,null,null,null,null,null,null,0,null,null,{"$f":"IF(M586=\"\",IF(COUNTA(B586:K586)>0,1,0),IF(OR(EOMONTH(M586,0)<$V$7,AND(EOMONTH($V$7,-1)+1<=M586,EOMONTH($V$7,0)>=M586)),0,IF(COUNTA(B586:K586)>0,1,0)))","v":0},{"$f":"IF(M586=\"\",IF(COUNTA(B586:K586)>0,1,0),IF(OR(EOMONTH(M586,0)<$W$7,AND(EOMONTH($W$7,-1)+1<=M586,EOMONTH($W$7,0)>=M586)),0,IF(COUNTA(B586:K586)>0,1,0)))","v":0},{"$f":"IF(M586=\"\",IF(COUNTA(B586:K586)>0,1,0),IF(OR(EOMONTH(M586,0)<$X$7,AND(EOMONTH($X$7,-1)+1<=M586,EOMONTH($X$7,0)>=M586)),0,IF(COUNTA(B586:K586)>0,1,0)))","v":0},{"$f":"IF(M586=\"\",IF(COUNTA(B586:K586)>0,1,0),IF(OR(EOMONTH(M586,0)<$Y$7,AND(EOMONTH($Y$7,-1)+1<=M586,EOMONTH($Y$7,0)>=M586)),0,IF(COUNTA(B586:K586)>0,1,0)))","v":0},0,0,0,0,0,0,0,0,{"$f":"IF(M586=\"\",IF(COUNTA(B586:K586)>0,1,0),IF(OR(EOMONTH(M586,0)<$AH$7,AND(EOMONTH($AH$7,-1)+1<=M586,EOMONTH($AH$7,0)>=M586)),0,IF(COUNTA(B586:K586)>0,1,0)))","v":0},{"$f":"IF(M586=\"\",IF(COUNTA(B586:K586)>0,1,0),IF(OR(EOMONTH(M586,0)<$AI$7,AND(EOMONTH($AI$7,-1)+1<=M586,EOMONTH($AI$7,0)>=M586)),0,IF(COUNTA(B586:K586)>0,1,0)))","v":0},{"$f":"IF(M586=\"\",IF(COUNTA(B586:K586)>0,1,0),IF(OR(EOMONTH(M586,0)<$AJ$7,AND(EOMONTH($AJ$7,-1)+1<=M586,EOMONTH($AJ$7,0)>=M586)),0,IF(COUNTA(B586:K586)>0,1,0)))","v":0},{"$f":"IF(M586=\"\",IF(COUNTA(B586:K586)>0,1,0),IF(OR(EOMONTH(M586,0)<$AK$7,AND(EOMONTH($AK$7,-1)+1<=M586,EOMONTH($AK$7,0)>=M586)),0,IF(COUNTA(B586:K586)>0,1,0)))","v":0},{"$f":"IF(M586=\"\",IF(COUNTA(B586:K586)>0,1,0),IF(OR(EOMONTH(M586,0)<$AL$7,AND(EOMONTH($AL$7,-1)+1<=M586,EOMONTH($AL$7,0)>=M586)),0,IF(COUNTA(B586:K586)>0,1,0)))","v":0},{"$f":"IF(M586=\"\",IF(COUNTA(B586:K586)>0,1,0),IF(OR(EOMONTH(M586,0)<$AM$7,AND(EOMONTH($AM$7,-1)+1<=M586,EOMONTH($AM$7,0)>=M586)),0,IF(COUNTA(B586:K586)>0,1,0)))","v":0},{"$f":"IF(M586=\"\",IF(COUNTA(B586:K586)>0,1,0),IF(OR(EOMONTH(M586,0)<$AN$7,AND(EOMONTH($AN$7,-1)+1<=M586,EOMONTH($AN$7,0)>=M586)),0,IF(COUNTA(B586:K586)>0,1,0)))","v":0},{"$f":"IF(M586=\"\",IF(COUNTA(B586:K586)>0,1,0),IF(OR(EOMONTH(M586,0)<$AO$7,AND(EOMONTH($AO$7,-1)+1<=M586,EOMONTH($AO$7,0)>=M586)),0,IF(COUNTA(B586:K586)>0,1,0)))","v":0},{"$f":"IF(M586=\"\",IF(COUNTA(B586:K586)>0,1,0),IF(OR(EOMONTH(M586,0)<$AP$7,AND(EOMONTH($AP$7,-1)+1<=M586,EOMONTH($AP$7,0)>=M586)),0,IF(COUNTA(B586:K586)>0,1,0)))","v":0},{"$f":"IF(M586=\"\",IF(COUNTA(B586:K586)>0,1,0),IF(OR(EOMONTH(M586,0)<$AQ$7,AND(EOMONTH($AQ$7,-1)+1<=M586,EOMONTH($AQ$7,0)>=M586)),0,IF(COUNTA(B586:K586)>0,1,0)))","v":0},{"$f":"IF(M586=\"\",IF(COUNTA(B586:K586)>0,1,0),IF(OR(EOMONTH(M586,0)<$AR$7,AND(EOMONTH($AR$7,-1)+1<=M586,EOMONTH($AR$7,0)>=M586)),0,IF(COUNTA(B586:K586)>0,1,0)))","v":0},{"$f":"IF(M586=\"\",IF(COUNTA(B586:K586)>0,1,0),IF(OR(EOMONTH(M586,0)<$AS$7,AND(EOMONTH($AS$7,-1)+1<=M586,EOMONTH($AS$7,0)>=M586)),0,IF(COUNTA(B586:K586)>0,1,0)))","v":0},{"$f":"IF(M586=\"\",IF(COUNTA(B586:K586)>0,1,0),IF(OR(EOMONTH(M586,0)<$AT$7,AND(EOMONTH($AT$7,-1)+1<=M586,EOMONTH($AT$7,0)>=M586)),0,IF(COUNTA(B586:K586)>0,1,0)))","v":0},{"$f":"IF(M586=\"\",IF(COUNTA(B586:K586)>0,1,0),IF(OR(EOMONTH(M586,0)<$AU$7,AND(EOMONTH($AU$7,-1)+1<=M586,EOMONTH($AU$7,0)>=M586)),0,IF(COUNTA(B586:K586)>0,1,0)))","v":0},{"$f":"IF(M586=\"\",IF(COUNTA(B586:K586)>0,1,0),IF(OR(EOMONTH(M586,0)<$AV$7,AND(EOMONTH($AV$7,-1)+1<=M586,EOMONTH($AV$7,0)>=M586)),0,IF(COUNTA(B586:K586)>0,1,0)))","v":0},{"$f":"IF(M586=\"\",IF(COUNTA(B586:K586)>0,1,0),IF(OR(EOMONTH(M586,0)<$AW$7,AND(EOMONTH($AW$7,-1)+1<=M586,EOMONTH($AW$7,0)>=M586)),0,IF(COUNTA(B586:K586)>0,1,0)))","v":0},0,0,0,0,0,0,0,0,0,0,0,0,0,0,0,0,0,0,0,0,null,0,{"$f":"IF(M586=\"\",IF(G586<>\"\",1,0),IF(OR(EOMONTH(M586,0)<EOMONTH(TODAY(),0),AND(EOMONTH(TODAY(),-1)+1<=M586,EOMONTH(TODAY(),0)>=M586)),0,IF(G586<>\"\",1,0)))","v":0},{"$f":"IF(M586=\"\",IF(H586<>\"\",1,0),IF(OR(EOMONTH(M586,0)<EOMONTH(TODAY(),0),AND(EOMONTH(TODAY(),-1)+1<=M586,EOMONTH(TODAY(),0)>=M586)),0,IF(H586<>\"\",1,0)))","v":0},{"$f":"IF(M586=\"\",IF(I586<>\"\",1,0),IF(OR(EOMONTH(M586,0)<EOMONTH(TODAY(),0),AND(EOMONTH(TODAY(),-1)+1<=M586,EOMONTH(TODAY(),0)>=M586)),0,IF(I586<>\"\",1,0)))","v":0},null,0,{"$f":"IF(M586=\"\",IF(J586>0,1,0),IF(EOMONTH(M586,0)<$BQ$7,0,IF(J586>0,1,0)))","v":0}]
[579,null,null,null,null,null,null,null,null,null,null,null,null,null,null,null,null,null,0,null,null,0,0,0,0,{"$f":"IF(M587=\"\",IF(COUNTA(B587:K587)>0,1,0),IF(OR(EOMONTH(M587,0)<$Z$7,AND(EOMONTH($Z$7,-1)+1<=M587,EOMONTH($Z$7,0)>=M587)),0,IF(COUNTA(B587:K587)>0,1,0)))","v":0},0,0,0,0,0,0,0,0,0,0,0,0,0,0,0,0,0,0,0,0,0,0,0,0,0,0,0,0,0,0,0,0,0,0,0,0,0,0,0,0,0,0,0,null,0,0,0,0,null,0,0]
[580,null,null,null,null,null,null,null,null,null,null,null,null,null,null,null,null,null,0,null,null,0,0,0,0,0,0,0,0,0,0,0,0,0,0,0,0,0,0,0,0,0,0,0,0,0,0,0,0,0,0,0,0,0,0,0,0,0,0,0,0,0,0,0,0,0,0,0,0,null,0,0,0,0,null,0,0]
[581,null,null,null,null,null,null,null,null,null,null,null,null,null,null,null,null,null,0,null,null,0,0,0,0,0,0,0,0,0,0,0,0,0,0,0,0,0,0,0,0,0,0,0,0,0,0,0,0,0,0,0,0,0,0,0,0,0,0,0,0,0,0,0,0,0,0,0,0,null,{"$f":"IF(M589=\"\",IF(F589<>\"\",1,0),IF(OR(EOMONTH(M589,0)<EOMONTH(TODAY(),0),AND(EOMONTH(TODAY(),-1)+1<=M589,EOMONTH(TODAY(),0)>=M589)),0,IF(F589<>\"\",1,0)))","v":0},0,0,0,null,0,0]
[582,null,null,null,null,null,null,null,null,null,null,null,null,null,null,null,null,null,0,null,null,0,0,0,0,0,{"$f":"IF(M590=\"\",IF(COUNTA(B590:K590)>0,1,0),IF(OR(EOMONTH(M590,0)<$AA$7,AND(EOMONTH($AA$7,-1)+1<=M590,EOMONTH($AA$7,0)>=M590)),0,IF(COUNTA(B590:K590)>0,1,0)))","v":0},{"$f":"IF(M590=\"\",IF(COUNTA(B590:K590)>0,1,0),IF(OR(EOMONTH(M590,0)<$AB$7,AND(EOMONTH($AB$7,-1)+1<=M590,EOMONTH($AB$7,0)>=M590)),0,IF(COUNTA(B590:K590)>0,1,0)))","v":0},{"$f":"IF(M590=\"\",IF(COUNTA(B590:K590)>0,1,0),IF(OR(EOMONTH(M590,0)<$AC$7,AND(EOMONTH($AC$7,-1)+1<=M590,EOMONTH($AC$7,0)>=M590)),0,IF(COUNTA(B590:K590)>0,1,0)))","v":0},{"$f":"IF(M590=\"\",IF(COUNTA(B590:K590)>0,1,0),IF(OR(EOMONTH(M590,0)<$AD$7,AND(EOMONTH($AD$7,-1)+1<=M590,EOMONTH($AD$7,0)>=M590)),0,IF(COUNTA(B590:K590)>0,1,0)))","v":0},{"$f":"IF(M590=\"\",IF(COUNTA(B590:K590)>0,1,0),IF(OR(EOMONTH(M590,0)<$AE$7,AND(EOMONTH($AE$7,-1)+1<=M590,EOMONTH($AE$7,0)>=M590)),0,IF(COUNTA(B590:K590)>0,1,0)))","v":0},{"$f":"IF(M590=\"\",IF(COUNTA(B590:K590)>0,1,0),IF(OR(EOMONTH(M590,0)<$AF$7,AND(EOMONTH($AF$7,-1)+1<=M590,EOMONTH($AF$7,0)>=M590)),0,IF(COUNTA(B590:K590)>0,1,0)))","v":0},{"$f":"IF(M590=\"\",IF(COUNTA(B590:K590)>0,1,0),IF(OR(EOMONTH(M590,0)<$AG$7,AND(EOMONTH($AG$7,-1)+1<=M590,EOMONTH($AG$7,0)>=M590)),0,IF(COUNTA(B590:K590)>0,1,0)))","v":0},0,0,0,0,0,0,0,0,0,0,0,0,0,0,0,0,0,0,0,0,0,0,0,0,0,0,0,0,0,0,0,0,0,0,0,0,null,0,0,0,0,null,0,0]
[583,null,null,null,null,null,null,null,null,null,null,null,null,null,null,null,null,null,0,null,null,0,0,0,0,0,0,0,0,0,0,0,0,0,0,0,0,0,0,0,0,0,0,0,0,0,0,0,0,{"$f":"IF(M591=\"\",IF(COUNTA(B591:K591)>0,1,0),IF(OR(EOMONTH(M591,0)<$AX$7,AND(EOMONTH($AX$7,-1)+1<=M591,EOMONTH($AX$7,0)>=M591)),0,IF(COUNTA(B591:K591)>0,1,0)))","v":0},{"$f":"IF(M591=\"\",IF(COUNTA(B591:K591)>0,1,0),IF(OR(EOMONTH(M591,0)<$AY$7,AND(EOMONTH($AY$7,-1)+1<=M591,EOMONTH($AY$7,0)>=M591)),0,IF(COUNTA(B591:K591)>0,1,0)))","v":0},{"$f":"IF(M591=\"\",IF(COUNTA(B591:K591)>0,1,0),IF(OR(EOMONTH(M591,0)<$AZ$7,AND(EOMONTH($AZ$7,-1)+1<=M591,EOMONTH($AZ$7,0)>=M591)),0,IF(COUNTA(B591:K591)>0,1,0)))","v":0},{"$f":"IF(M591=\"\",IF(COUNTA(B591:K591)>0,1,0),IF(OR(EOMONTH(M591,0)<$BA$7,AND(EOMONTH($BA$7,-1)+1<=M591,EOMONTH($BA$7,0)>=M591)),0,IF(COUNTA(B591:K591)>0,1,0)))","v":0},{"$f":"IF(M591=\"\",IF(COUNTA(B591:K591)>0,1,0),IF(OR(EOMONTH(M591,0)<$BB$7,AND(EOMONTH($BB$7,-1)+1<=M591,EOMONTH($BB$7,0)>=M591)),0,IF(COUNTA(B591:K591)>0,1,0)))","v":0},{"$f":"IF(M591=\"\",IF(COUNTA(B591:K591)>0,1,0),IF(OR(EOMONTH(M591,0)<$BC$7,AND(EOMONTH($BC$7,-1)+1<=M591,EOMONTH($BC$7,0)>=M591)),0,IF(COUNTA(B591:K591)>0,1,0)))","v":0},{"$f":"IF(M591=\"\",IF(COUNTA(B591:K591)>0,1,0),IF(OR(EOMONTH(M591,0)<$BD$7,AND(EOMONTH($BD$7,-1)+1<=M591,EOMONTH($BD$7,0)>=M591)),0,IF(COUNTA(B591:K591)>0,1,0)))","v":0},{"$f":"IF(M591=\"\",IF(COUNTA(B591:K591)>0,1,0),IF(OR(EOMONTH(M591,0)<$BE$7,AND(EOMONTH($BE$7,-1)+1<=M591,EOMONTH($BE$7,0)>=M591)),0,IF(COUNTA(B591:K591)>0,1,0)))","v":0},{"$f":"IF(M591=\"\",IF(COUNTA(B591:K591)>0,1,0),IF(OR(EOMONTH(M591,0)<$BF$7,AND(EOMONTH($BF$7,-1)+1<=M591,EOMONTH($BF$7,0)>=M591)),0,IF(COUNTA(B591:K591)>0,1,0)))","v":0},{"$f":"IF(M591=\"\",IF(COUNTA(B591:K591)>0,1,0),IF(OR(EOMONTH(M591,0)<$BG$7,AND(EOMONTH($BG$7,-1)+1<=M591,EOMONTH($BG$7,0)>=M591)),0,IF(COUNTA(B591:K591)>0,1,0)))","v":0},{"$f":"IF(M591=\"\",IF(COUNTA(B591:K591)>0,1,0),IF(OR(EOMONTH(M591,0)<$BH$7,AND(EOMONTH($BH$7,-1)+1<=M591,EOMONTH($BH$7,0)>=M591)),0,IF(COUNTA(B591:K591)>0,1,0)))","v":0},{"$f":"IF(M591=\"\",IF(COUNTA(B591:K591)>0,1,0),IF(OR(EOMONTH(M591,0)<$BI$7,AND(EOMONTH($BI$7,-1)+1<=M591,EOMONTH($BI$7,0)>=M591)),0,IF(COUNTA(B591:K591)>0,1,0)))","v":0},{"$f":"IF(M591=\"\",IF(COUNTA(B591:K591)>0,1,0),IF(OR(EOMONTH(M591,0)<$BJ$7,AND(EOMONTH($BJ$7,-1)+1<=M591,EOMONTH($BJ$7,0)>=M591)),0,IF(COUNTA(B591:K591)>0,1,0)))","v":0},{"$f":"IF(M591=\"\",IF(COUNTA(B591:K591)>0,1,0),IF(OR(EOMONTH(M591,0)<$BK$7,AND(EOMONTH($BK$7,-1)+1<=M591,EOMONTH($BK$7,0)>=M591)),0,IF(COUNTA(B591:K591)>0,1,0)))","v":0},{"$f":"IF(M591=\"\",IF(COUNTA(B591:K591)>0,1,0),IF(OR(EOMONTH(M591,0)<$BL$7,AND(EOMONTH($BL$7,-1)+1<=M591,EOMONTH($BL$7,0)>=M591)),0,IF(COUNTA(B591:K591)>0,1,0)))","v":0},{"$f":"IF(M591=\"\",IF(COUNTA(B591:K591)>0,1,0),IF(OR(EOMONTH(M591,0)<$BM$7,AND(EOMONTH($BM$7,-1)+1<=M591,EOMONTH($BM$7,0)>=M591)),0,IF(COUNTA(B591:K591)>0,1,0)))","v":0},{"$f":"IF(M591=\"\",IF(COUNTA(B591:K591)>0,1,0),IF(OR(EOMONTH(M591,0)<$BN$7,AND(EOMONTH($BN$7,-1)+1<=M591,EOMONTH($BN$7,0)>=M591)),0,IF(COUNTA(B591:K591)>0,1,0)))","v":0},{"$f":"IF(M591=\"\",IF(COUNTA(B591:K591)>0,1,0),IF(OR(EOMONTH(M591,0)<$BO$7,AND(EOMONTH($BO$7,-1)+1<=M591,EOMONTH($BO$7,0)>=M591)),0,IF(COUNTA(B591:K591)>0,1,0)))","v":0},{"$f":"IF(M591=\"\",IF(COUNTA(B591:K591)>0,1,0),IF(OR(EOMONTH(M591,0)<$BP$7,AND(EOMONTH($BP$7,-1)+1<=M591,EOMONTH($BP$7,0)>=M591)),0,IF(COUNTA(B591:K591)>0,1,0)))","v":0},{"$f":"IF(M591=\"\",IF(COUNTA(B591:K591)>0,1,0),IF(OR(EOMONTH(M591,0)<$BQ$7,AND(EOMONTH($BQ$7,-1)+1<=M591,EOMONTH($BQ$7,0)>=M591)),0,IF(COUNTA(B591:K591)>0,1,0)))","v":0},null,0,0,0,0,null,0,0]
[584,null,null,null,null,null,null,null,null,null,null,null,null,null,null,null,null,null,0,null,null,0,0,0,0,0,0,0,0,0,0,0,0,0,0,0,0,0,0,0,0,0,0,0,0,0,0,0,0,0,0,0,0,0,0,0,0,0,0,0,0,0,0,0,0,0,0,0,0,null,0,0,0,0,null,0,0]
[585,null,null,null,null,null,null,null,null,null,null,null,null,null,null,null,null,null,0,null,null,0,0,0,0,0,0,0,0,0,0,0,0,0,0,0,0,0,0,0,0,0,0,0,0,0,0,0,0,0,0,0,0,0,0,0,0,0,0,0,0,0,0,0,0,0,0,0,0,null,0,0,0,0,null,0,0]
[586,null,null,null,null,null,null,null,null,null,null,null,null,null,null,null,null,null,0,null,null,0,0,0,0,0,0,0,0,0,0,0,0,0,0,0,0,0,0,0,0,0,0,0,0,0,0,0,0,0,0,0,0,0,0,0,0,0,0,0,0,0,0,0,0,0,0,0,0,null,0,0,0,0,null,0,0]
[587,null,null,null,null,null,null,null,null,null,null,null,null,null,null,null,null,null,0,null,null,0,0,0,0,0,0,0,0,0,0,0,0,0,0,0,0,0,0,0,0,0,0,0,0,0,0,0,0,0,0,0,0,0,0,0,0,0,0,0,0,0,0,0,0,0,0,0,0,null,0,0,0,0,null,0,0]
[588,null,null,null,null,null,null,null,null,null,null,null,null,null,null,null,null,null,0,null,null,0,0,0,0,0,0,0,0,0,0,0,0,0,0,0,0,0,0,0,0,0,0,0,0,0,0,0,0,0,0,0,0,0,0,0,0,0,0,0,0,0,0,0,0,0,0,0,0,null,0,0,0,0,null,0,0]
[589,null,null,null,null,null,null,null,null,null,null,null,null,null,null,null,null,null,0,null,null,0,0,0,0,0,0,0,0,0,0,0,0,0,0,0,0,0,0,0,0,0,0,0,0,0,0,0,0,0,0,0,0,0,0,0,0,0,0,0,0,0,0,0,0,0,0,0,0,null,0,0,0,0,null,0,0]
[590,null,null,null,null,null,null,null,null,null,null,null,null,null,null,null,null,null,0,null,null,0,0,0,0,0,0,0,0,0,0,0,0,0,0,0,0,0,0,0,0,0,0,0,0,0,0,0,0,0,0,0,0,0,0,0,0,0,0,0,0,0,0,0,0,0,0,0,0,null,0,0,0,0,null,0,0]
[591,null,null,null,null,null,null,null,null,null,null,null,null,null,null,null,null,null,0,null,null,0,0,0,0,0,0,0,0,0,0,0,0,0,0,0,0,0,0,0,0,0,0,0,0,0,0,0,0,0,0,0,0,0,0,0,0,0,0,0,0,0,0,0,0,0,0,0,0,null,0,0,0,0,null,0,0]
[592,null,null,null,null,null,null,null,null,null,null,null,null,null,null,null,null,null,0,null,null,0,0,0,0,0,0,0,0,0,0,0,0,0,0,0,0,0,0,0,0,0,0,0,0,0,0,0,0,0,0,0,0,0,0,0,0,0,0,0,0,0,0,0,0,0,0,0,0,null,0,0,0,0,null,0,0]
[593,null,null,null,null,null,null,null,null,null,null,null,null,null,null,null,null,null,0,null,null,0,0,0,0,0,0,0,0,0,0,0,0,0,0,0,0,0,0,0,0,0,0,0,0,0,0,0,0,0,0,0,0,0,0,0,0,0,0,0,0,0,0,0,0,0,0,0,0,null,0,0,0,0,null,0,0]
[594,null,null,null,null,null,null,null,null,null,null,null,null,null,null,null,null,null,0,null,null,0,0,0,0,0,0,0,0,0,0,0,0,0,0,0,0,0,0,0,0,0,0,0,0,0,0,0,0,0,0,0,0,0,0,0,0,0,0,0,0,0,0,0,0,0,0,0,0,null,0,0,0,0,null,0,0]
[595,null,null,null,null,null,null,null,null,null,null,null,null,null,null,null,null,null,0,null,null,0,0,0,0,0,0,0,0,0,0,0,0,0,0,0,0,0,0,0,0,0,0,0,0,0,0,0,0,0,0,0,0,0,0,0,0,0,0,0,0,0,0,0,0,0,0,0,0,null,0,0,0,0,null,0,0]
[596,null,null,null,null,null,null,null,null,null,null,null,null,null,null,null,null,null,0,null,null,0,0,0,0,0,0,0,0,0,0,0,0,0,0,0,0,0,0,0,0,0,0,0,0,0,0,0,0,0,0,0,0,0,0,0,0,0,0,0,0,0,0,0,0,0,0,0,0,null,0,0,0,0,null,0,0]
[597,null,null,null,null,null,null,null,null,null,null,null,null,null,null,null,null,null,0,null,null,0,0,0,0,0,0,0,0,0,0,0,0,0,0,0,0,0,0,0,0,0,0,0,0,0,0,0,0,0,0,0,0,0,0,0,0,0,0,0,0,0,0,0,0,0,0,0,0,null,0,0,0,0,null,0,0]
[598,null,null,null,null,null,null,null,null,null,null,null,null,null,null,null,null,null,0,null,null,0,0,0,0,0,0,0,0,0,0,0,0,0,0,0,0,0,0,0,0,0,0,0,0,0,0,0,0,0,0,0,0,0,0,0,0,0,0,0,0,0,0,0,0,0,0,0,0,null,0,0,0,0,null,0,0]
[599,null,null,null,null,null,null,null,null,null,null,null,null,null,null,null,null,null,0,null,null,0,0,0,0,0,0,0,0,0,0,0,0,0,0,0,0,0,0,0,0,0,0,0,0,0,0,0,0,0,0,0,0,0,0,0,0,0,0,0,0,0,0,0,0,0,0,0,0,null,0,0,0,0,null,0,0]
[600,null,null,null,null,null,null,null,null,null,null,null,null,null,null,null,null,null,0,null,null,0,0,0,0,0,0,0,0,0,0,0,0,0,0,0,0,0,0,0,0,0,0,0,0,0,0,0,0,0,0,0,0,0,0,0,0,0,0,0,0,0,0,0,0,0,0,0,0,null,0,0,0,0,null,0,0]
[601,null,null,null,null,null,null,null,null,null,null,null,null,null,null,null,null,null,0,null,null,0,0,0,0,0,0,0,0,0,0,0,0,0,0,0,0,0,0,0,0,0,0,0,0,0,0,0,0,0,0,0,0,0,0,0,0,0,0,0,0,0,0,0,0,0,0,0,0,null,0,0,0,0,null,0,0]
[602,null,null,null,null,null,null,null,null,null,null,null,null,null,null,null,null,null,0,null,null,0,0,0,0,0,0,0,0,0,0,0,0,0,0,0,0,0,0,0,0,0,0,0,0,0,0,0,0,0,0,0,0,0,0,0,0,0,0,0,0,0,0,0,0,0,0,0,0,null,0,0,0,0,null,0,0]
[603,null,null,null,null,null,null,null,null,null,null,null,null,null,null,null,null,null,0,null,null,0,0,0,0,0,0,0,0,0,0,0,0,0,0,0,0,0,0,0,0,0,0,0,0,0,0,0,0,0,0,0,0,0,0,0,0,0,0,0,0,0,0,0,0,0,0,0,0,null,0,0,0,0,null,0,0]
[604,null,null,null,null,null,null,null,null,null,null,null,null,null,null,null,null,null,0,null,null,0,0,0,0,0,0,0,0,0,0,0,0,0,0,0,0,0,0,0,0,0,0,0,0,0,0,0,0,0,0,0,0,0,0,0,0,0,0,0,0,0,0,0,0,0,0,0,0,null,0,0,0,0,null,0,0]
[605,null,null,null,null,null,null,null,null,null,null,null,null,null,null,null,null,null,0,null,null,0,0,0,0,0,0,0,0,0,0,0,0,0,0,0,0,0,0,0,0,0,0,0,0,0,0,0,0,0,0,0,0,0,0,0,0,0,0,0,0,0,0,0,0,0,0,0,0,null,0,0,0,0,null,0,0]
[606,null,null,null,null,null,null,null,null,null,null,null,null,null,null,null,null,null,{"$f":"IF(E614=\"\",0,IF(VALUE(E614)>VALUE($E$4),0,1))","v":0},null,null,0,0,0,0,0,0,0,0,0,0,0,0,0,0,0,0,0,0,0,0,0,0,0,0,0,0,0,0,0,0,0,0,0,0,0,0,0,0,0,0,0,0,0,0,0,0,0,0,null,0,0,0,0,null,{"$f":"SUMIFS(V614:BQ614,$V$7:$BQ$7,\">=\"&EOMONTH(TODAY(),-1)+1,$V$7:$BQ$7,\"<=\"&EOMONTH(TODAY(),0))","v":0},0]
[607,null,null,null,null,null,null,null,null,null,null,null,null,null,null,null,null,null,0,null,null,0,0,0,0,0,0,0,0,0,0,0,0,0,0,0,0,0,0,0,0,0,0,0,0,0,0,0,0,0,0,0,0,0,0,0,0,0,0,0,0,0,0,0,0,0,0,0,0,null,0,0,0,0,null,0,0]
[608,null,null,null,null,null,null,null,null,null,null,null,null,null,null,null,null,null,0,null,null,0,0,0,0,0,0,0,0,0,0,0,0,0,0,0,0,0,0,0,0,0,0,0,0,0,0,0,0,0,0,0,0,0,0,0,0,0,0,0,0,0,0,0,0,0,0,0,0,null,0,0,0,0,null,0,0]
[609,null,null,null,null,null,null,null,null,null,null,null,null,null,null,null,null,null,0,null,null,0,0,0,0,0,0,0,0,0,0,0,0,0,0,0,0,0,0,0,0,0,0,0,0,0,0,0,0,0,0,0,0,0,0,0,0,0,0,0,0,0,0,0,0,0,0,0,0,null,0,0,0,0,null,0,0]
[610,null,null,null,null,null,null,null,null,null,null,null,null,null,null,null,null,null,0,null,null,0,0,0,0,0,0,0,0,0,0,0,0,0,0,0,0,0,0,0,0,0,0,0,0,0,0,0,0,0,0,0,0,0,0,0,0,0,0,0,0,0,0,0,0,0,0,0,0,null,0,0,0,0,null,0,0]
[611,null,null,null,null,null,null,null,null,null,null,null,null,null,null,null,null,null,0,null,null,0,0,0,0,0,0,0,0,0,0,0,0,0,0,0,0,0,0,0,0,0,0,0,0,0,0,0,0,0,0,0,0,0,0,0,0,0,0,0,0,0,0,0,0,0,0,0,0,null,0,0,0,0,null,0,0]
[612,null,null,null,null,null,null,null,null,null,null,null,null,null,null,null,null,null,0,null,null,0,0,0,0,0,0,0,0,0,0,0,0,0,0,0,0,0,0,0,0,0,0,0,0,0,0,0,0,0,0,0,0,0,0,0,0,0,0,0,0,0,0,0,0,0,0,0,0,null,0,0,0,0,null,0,0]
[613,null,null,null,null,null,null,null,null,null,null,null,null,null,null,null,null,null,0,null,null,0,0,0,0,0,0,0,0,0,0,0,0,0,0,0,0,0,0,0,0,0,0,0,0,0,0,0,0,0,0,0,0,0,0,0,0,0,0,0,0,0,0,0,0,0,0,0,0,null,0,0,0,0,null,0,0]
[614,null,null,null,null,null,null,null,null,null,null,null,null,null,null,null,null,null,0,null,null,0,0,0,0,0,0,0,0,0,0,0,0,0,0,0,0,0,0,0,0,0,0,0,0,0,0,0,0,0,0,0,0,0,0,0,0,0,0,0,0,0,0,0,0,0,0,0,0,null,0,0,0,0,null,0,0]
[615,null,null,null,null,null,null,null,null,null,null,null,null,null,null,null,null,null,0,null,null,0,0,0,0,0,0,0,0,0,0,0,0,0,0,0,0,0,0,0,0,0,0,0,0,0,0,0,0,0,0,0,0,0,0,0,0,0,0,0,0,0,0,0,0,0,0,0,0,null,0,0,0,0,null,0,0]
[616,null,null,null,null,null,null,null,null,null,null,null,null,null,null,null,null,null,0,null,null,0,0,0,0,0,0,0,0,0,0,0,0,0,0,0,0,0,0,0,0,0,0,0,0,0,0,0,0,0,0,0,0,0,0,0,0,0,0,0,0,0,0,0,0,0,0,0,0,null,0,0,0,0,null,0,0]
[617,null,null,null,null,null,null,null,null,null,null,null,null,null,null,null,null,null,0,null,null,0,0,0,0,0,0,0,0,0,0,0,0,0,0,0,0,0,0,0,0,0,0,0,0,0,0,0,0,0,0,0,0,0,0,0,0,0,0,0,0,0,0,0,0,0,0,0,0,null,0,0,0,0,null,0,0]
[618,null,null,null,null,null,null,null,null,null,null,null,null,null,null,null,null,null,0,null,null,0,0,0,0,0,0,0,0,0,0,0,0,0,0,0,0,0,0,0,0,0,0,0,0,0,0,0,0,0,0,0,0,0,0,0,0,0,0,0,0,0,0,0,0,0,0,0,0,null,0,0,0,0,null,0,0]
[619,null,null,null,null,null,null,null,null,null,null,null,null,null,null,null,null,null,0,null,null,0,0,0,0,0,0,0,0,0,0,0,0,0,0,0,0,0,0,0,0,0,0,0,0,0,0,0,0,0,0,0,0,0,0,0,0,0,0,0,0,0,0,0,0,0,0,0,0,null,0,0,0,0,null,0,0]
[620,null,null,null,null,null,null,null,null,null,null,null,null,null,null,null,null,null,0,null,null,0,0,0,0,0,0,0,0,0,0,0,0,0,0,0,0,0,0,0,0,0,0,0,0,0,0,0,0,0,0,0,0,0,0,0,0,0,0,0,0,0,0,0,0,0,0,0,0,null,0,0,0,0,null,0,0]
[621,null,null,null,null,null,null,null,null,null,null,null,null,null,null,null,null,null,0,null,null,0,0,0,0,0,0,0,0,0,0,0,0,0,0,0,0,0,0,0,0,0,0,0,0,0,0,0,0,0,0,0,0,0,0,0,0,0,0,0,0,0,0,0,0,0,0,0,0,null,0,0,0,0,null,0,0]
[622,null,null,null,null,null,null,null,null,null,null,null,null,null,null,null,null,null,0,null,null,0,0,0,0,0,0,0,0,0,0,0,0,0,0,0,0,0,0,0,0,0,0,0,0,0,0,0,0,0,0,0,0,0,0,0,0,0,0,0,0,0,0,0,0,0,0,0,0,null,0,0,0,0,null,0,0]
[623,null,null,null,null,null,null,null,null,null,null,null,null,null,null,null,null,null,0,null,null,0,0,0,0,0,0,0,0,0,0,0,0,0,0,0,0,0,0,0,0,0,0,0,0,0,0,0,0,0,0,0,0,0,0,0,0,0,0,0,0,0,0,0,0,0,0,0,0,null,0,0,0,0,null,0,0]
[624,null,null,null,null,null,null,null,null,null,null,null,null,null,null,null,null,null,0,null,null,0,0,0,0,0,0,0,0,0,0,0,0,0,0,0,0,0,0,0,0,0,0,0,0,0,0,0,0,0,0,0,0,0,0,0,0,0,0,0,0,0,0,0,0,0,0,0,0,null,0,0,0,0,null,0,0]
[625,null,null,null,null,null,null,null,null,null,null,null,null,null,null,null,null,null,0,null,null,0,0,0,0,0,0,0,0,0,0,0,0,0,0,0,0,0,0,0,0,0,0,0,0,0,0,0,0,0,0,0,0,0,0,0,0,0,0,0,0,0,0,0,0,0,0,0,0,null,0,0,0,0,null,0,0]
[626,null,null,null,null,null,null,null,null,null,null,null,null,null,null,null,null,null,0,null,null,0,0,0,0,0,0,0,0,0,0,0,0,0,0,0,0,0,0,0,0,0,0,0,0,0,0,0,0,0,0,0,0,0,0,0,0,0,0,0,0,0,0,0,0,0,0,0,0,null,0,0,0,0,null,0,0]
[627,null,null,null,null,null,null,null,null,null,null,null,null,null,null,null,null,null,0,null,null,0,0,0,0,0,0,0,0,0,0,0,0,0,0,0,0,0,0,0,0,0,0,0,0,0,0,0,0,0,0,0,0,0,0,0,0,0,0,0,0,0,0,0,0,0,0,0,0,null,0,0,0,0,null,0,0]
[628,null,null,null,null,null,null,null,null,null,null,null,null,null,null,null,null,null,0,null,null,0,0,0,0,0,0,0,0,0,0,0,0,0,0,0,0,0,0,0,0,0,0,0,0,0,0,0,0,0,0,0,0,0,0,0,0,0,0,0,0,0,0,0,0,0,0,0,0,null,0,0,0,0,null,0,0]
[629,null,null,null,null,null,null,null,null,null,null,null,null,null,null,null,null,null,0,null,null,0,0,0,0,0,0,0,0,0,0,0,0,0,0,0,0,0,0,0,0,0,0,0,0,0,0,0,0,0,0,0,0,0,0,0,0,0,0,0,0,0,0,0,0,0,0,0,0,null,0,0,0,0,null,0,0]
[630,null,null,null,null,null,null,null,null,null,null,null,null,null,null,null,null,null,0,null,null,0,0,0,0,0,0,0,0,0,0,0,0,0,0,0,0,0,0,0,0,0,0,0,0,0,0,0,0,0,0,0,0,0,0,0,0,0,0,0,0,0,0,0,0,0,0,0,0,null,0,0,0,0,null,0,0]
[631,null,null,null,null,null,null,null,null,null,null,null,null,null,null,null,null,null,0,null,null,0,0,0,0,0,0,0,0,0,0,0,0,0,0,0,0,0,0,0,0,0,0,0,0,0,0,0,0,0,0,0,0,0,0,0,0,0,0,0,0,0,0,0,0,0,0,0,0,null,0,0,0,0,null,0,0]
[632,null,null,null,null,null,null,null,null,null,null,null,null,null,null,null,null,null,0,null,null,0,0,0,0,0,0,0,0,0,0,0,0,0,0,0,0,0,0,0,0,0,0,0,0,0,0,0,0,0,0,0,0,0,0,0,0,0,0,0,0,0,0,0,0,0,0,0,0,null,0,0,0,0,null,0,0]
[633,null,null,null,null,null,null,null,null,null,null,null,null,null,null,null,null,null,0,null,null,0,0,0,0,0,0,0,0,0,0,0,0,0,0,0,0,0,0,0,0,0,0,0,0,0,0,0,0,0,0,0,0,0,0,0,0,0,0,0,0,0,0,0,0,0,0,0,0,null,0,0,0,0,null,0,0]
[634,null,null,null,null,null,null,null,null,null,null,null,null,null,null,null,null,null,0,null,null,0,0,0,0,0,0,0,0,0,0,0,0,0,0,0,0,0,0,0,0,0,0,0,0,0,0,0,0,0,0,0,0,0,0,0,0,0,0,0,0,0,0,0,0,0,0,0,0,null,0,0,0,0,null,0,0]
[635,null,null,null,null,null,null,null,null,null,null,null,null,null,null,null,null,null,0,null,null,0,0,0,0,0,0,0,0,0,0,0,0,0,0,0,0,0,0,0,0,0,0,0,0,0,0,0,0,0,0,0,0,0,0,0,0,0,0,0,0,0,0,0,0,0,0,0,0,null,0,0,0,0,null,0,0]
[636,null,null,null,null,null,null,null,null,null,null,null,null,null,null,null,null,null,0,null,null,0,0,0,0,0,0,0,0,0,0,0,0,0,0,0,0,0,0,0,0,0,0,0,0,0,0,0,0,0,0,0,0,0,0,0,0,0,0,0,0,0,0,0,0,0,0,0,0,null,0,0,0,0,null,0,0]
[637,null,null,null,null,null,null,null,null,null,null,null,null,null,null,null,null,null,0,null,null,0,0,0,0,0,0,0,0,0,0,0,0,0,0,0,0,0,0,0,0,0,0,0,0,0,0,0,0,0,0,0,0,0,0,0,0,0,0,0,0,0,0,0,0,0,0,0,0,null,0,0,0,0,null,0,0]
[638,null,null,null,null,null,null,null,null,null,null,null,null,null,null,null,null,null,0,null,null,0,0,0,0,0,0,0,0,0,0,0,0,0,0,0,0,0,0,0,0,0,0,0,0,0,0,0,0,0,0,0,0,0,0,0,0,0,0,0,0,0,0,0,0,0,0,0,0,null,0,0,0,0,null,0,0]
[639,null,null,null,null,null,null,null,null,null,null,null,null,null,null,null,null,null,0,null,null,0,0,0,0,0,0,0,0,0,0,0,0,0,0,0,0,0,0,0,0,0,0,0,0,0,0,0,0,0,0,0,0,0,0,0,0,0,0,0,0,0,0,0,0,0,0,0,0,null,0,0,0,0,null,0,0]
[640,null,null,null,null,null,null,null,null,null,null,null,null,null,null,null,null,null,0,null,null,0,0,0,0,0,0,0,0,0,0,0,0,0,0,0,0,0,0,0,0,0,0,0,0,0,0,0,0,0,0,0,0,0,0,0,0,0,0,0,0,0,0,0,0,0,0,0,0,null,0,0,0,0,null,0,0]
[641,null,null,null,null,null,null,null,null,null,null,null,null,null,null,null,null,null,0,null,null,0,0,0,0,0,0,0,0,0,0,0,0,0,0,0,0,0,0,0,0,0,0,0,0,0,0,0,0,0,0,0,0,0,0,0,0,0,0,0,0,0,0,0,0,0,0,0,0,null,0,0,0,0,null,0,0]
[642,null,null,null,null,null,null,null,null,null,null,null,null,null,null,null,null,null,0,null,null,{"$f":"IF(M650=\"\",IF(COUNTA(B650:K650)>0,1,0),IF(OR(EOMONTH(M650,0)<$V$7,AND(EOMONTH($V$7,-1)+1<=M650,EOMONTH($V$7,0)>=M650)),0,IF(COUNTA(B650:K650)>0,1,0)))","v":0},{"$f":"IF(M650=\"\",IF(COUNTA(B650:K650)>0,1,0),IF(OR(EOMONTH(M650,0)<$W$7,AND(EOMONTH($W$7,-1)+1<=M650,EOMONTH($W$7,0)>=M650)),0,IF(COUNTA(B650:K650)>0,1,0)))","v":0},{"$f":"IF(M650=\"\",IF(COUNTA(B650:K650)>0,1,0),IF(OR(EOMONTH(M650,0)<$X$7,AND(EOMONTH($X$7,-1)+1<=M650,EOMONTH($X$7,0)>=M650)),0,IF(COUNTA(B650:K650)>0,1,0)))","v":0},{"$f":"IF(M650=\"\",IF(COUNTA(B650:K650)>0,1,0),IF(OR(EOMONTH(M650,0)<$Y$7,AND(EOMONTH($Y$7,-1)+1<=M650,EOMONTH($Y$7,0)>=M650)),0,IF(COUNTA(B650:K650)>0,1,0)))","v":0},0,0,0,0,0,0,0,0,{"$f":"IF(M650=\"\",IF(COUNTA(B650:K650)>0,1,0),IF(OR(EOMONTH(M650,0)<$AH$7,AND(EOMONTH($AH$7,-1)+1<=M650,EOMONTH($AH$7,0)>=M650)),0,IF(COUNTA(B650:K650)>0,1,0)))","v":0},{"$f":"IF(M650=\"\",IF(COUNTA(B650:K650)>0,1,0),IF(OR(EOMONTH(M650,0)<$AI$7,AND(EOMONTH($AI$7,-1)+1<=M650,EOMONTH($AI$7,0)>=M650)),0,IF(COUNTA(B650:K650)>0,1,0)))","v":0},{"$f":"IF(M650=\"\",IF(COUNTA(B650:K650)>0,1,0),IF(OR(EOMONTH(M650,0)<$AJ$7,AND(EOMONTH($AJ$7,-1)+1<=M650,EOMONTH($AJ$7,0)>=M650)),0,IF(COUNTA(B650:K650)>0,1,0)))","v":0},{"$f":"IF(M650=\"\",IF(COUNTA(B650:K650)>0,1,0),IF(OR(EOMONTH(M650,0)<$AK$7,AND(EOMONTH($AK$7,-1)+1<=M650,EOMONTH($AK$7,0)>=M650)),0,IF(COUNTA(B650:K650)>0,1,0)))","v":0},{"$f":"IF(M650=\"\",IF(COUNTA(B650:K650)>0,1,0),IF(OR(EOMONTH(M650,0)<$AL$7,AND(EOMONTH($AL$7,-1)+1<=M650,EOMONTH($AL$7,0)>=M650)),0,IF(COUNTA(B650:K650)>0,1,0)))","v":0},{"$f":"IF(M650=\"\",IF(COUNTA(B650:K650)>0,1,0),IF(OR(EOMONTH(M650,0)<$AM$7,AND(EOMONTH($AM$7,-1)+1<=M650,EOMONTH($AM$7,0)>=M650)),0,IF(COUNTA(B650:K650)>0,1,0)))","v":0},{"$f":"IF(M650=\"\",IF(COUNTA(B650:K650)>0,1,0),IF(OR(EOMONTH(M650,0)<$AN$7,AND(EOMONTH($AN$7,-1)+1<=M650,EOMONTH($AN$7,0)>=M650)),0,IF(COUNTA(B650:K650)>0,1,0)))","v":0},{"$f":"IF(M650=\"\",IF(COUNTA(B650:K650)>0,1,0),IF(OR(EOMONTH(M650,0)<$AO$7,AND(EOMONTH($AO$7,-1)+1<=M650,EOMONTH($AO$7,0)>=M650)),0,IF(COUNTA(B650:K650)>0,1,0)))","v":0},{"$f":"IF(M650=\"\",IF(COUNTA(B650:K650)>0,1,0),IF(OR(EOMONTH(M650,0)<$AP$7,AND(EOMONTH($AP$7,-1)+1<=M650,EOMONTH($AP$7,0)>=M650)),0,IF(COUNTA(B650:K650)>0,1,0)))","v":0},{"$f":"IF(M650=\"\",IF(COUNTA(B650:K650)>0,1,0),IF(OR(EOMONTH(M650,0)<$AQ$7,AND(EOMONTH($AQ$7,-1)+1<=M650,EOMONTH($AQ$7,0)>=M650)),0,IF(COUNTA(B650:K650)>0,1,0)))","v":0},{"$f":"IF(M650=\"\",IF(COUNTA(B650:K650)>0,1,0),IF(OR(EOMONTH(M650,0)<$AR$7,AND(EOMONTH($AR$7,-1)+1<=M650,EOMONTH($AR$7,0)>=M650)),0,IF(COUNTA(B650:K650)>0,1,0)))","v":0},{"$f":"IF(M650=\"\",IF(COUNTA(B650:K650)>0,1,0),IF(OR(EOMONTH(M650,0)<$AS$7,AND(EOMONTH($AS$7,-1)+1<=M650,EOMONTH($AS$7,0)>=M650)),0,IF(COUNTA(B650:K650)>0,1,0)))","v":0},{"$f":"IF(M650=\"\",IF(COUNTA(B650:K650)>0,1,0),IF(OR(EOMONTH(M650,0)<$AT$7,AND(EOMONTH($AT$7,-1)+1<=M650,EOMONTH($AT$7,0)>=M650)),0,IF(COUNTA(B650:K650)>0,1,0)))","v":0},{"$f":"IF(M650=\"\",IF(COUNTA(B650:K650)>0,1,0),IF(OR(EOMONTH(M650,0)<$AU$7,AND(EOMONTH($AU$7,-1)+1<=M650,EOMONTH($AU$7,0)>=M650)),0,IF(COUNTA(B650:K650)>0,1,0)))","v":0},{"$f":"IF(M650=\"\",IF(COUNTA(B650:K650)>0,1,0),IF(OR(EOMONTH(M650,0)<$AV$7,AND(EOMONTH($AV$7,-1)+1<=M650,EOMONTH($AV$7,0)>=M650)),0,IF(COUNTA(B650:K650)>0,1,0)))","v":0},{"$f":"IF(M650=\"\",IF(COUNTA(B650:K650)>0,1,0),IF(OR(EOMONTH(M650,0)<$AW$7,AND(EOMONTH($AW$7,-1)+1<=M650,EOMONTH($AW$7,0)>=M650)),0,IF(COUNTA(B650:K650)>0,1,0)))","v":0},0,0,0,0,0,0,0,0,0,0,0,0,0,0,0,0,0,0,0,0,null,0,{"$f":"IF(M650=\"\",IF(G650<>\"\",1,0),IF(OR(EOMONTH(M650,0)<EOMONTH(TODAY(),0),AND(EOMONTH(TODAY(),-1)+1<=M650,EOMONTH(TODAY(),0)>=M650)),0,IF(G650<>\"\",1,0)))","v":0},{"$f":"IF(M650=\"\",IF(H650<>\"\",1,0),IF(OR(EOMONTH(M650,0)<EOMONTH(TODAY(),0),AND(EOMONTH(TODAY(),-1)+1<=M650,EOMONTH(TODAY(),0)>=M650)),0,IF(H650<>\"\",1,0)))","v":0},{"$f":"IF(M650=\"\",IF(I650<>\"\",1,0),IF(OR(EOMONTH(M650,0)<EOMONTH(TODAY(),0),AND(EOMONTH(TODAY(),-1)+1<=M650,EOMONTH(TODAY(),0)>=M650)),0,IF(I650<>\"\",1,0)))","v":0},null,0,{"$f":"IF(M650=\"\",IF(J650>0,1,0),IF(EOMONTH(M650,0)<$BQ$7,0,IF(J650>0,1,0)))","v":0}]
[643,null,null,null,null,null,null,null,null,null,null,null,null,null,null,null,null,null,0,null,null,0,0,0,0,{"$f":"IF(M651=\"\",IF(COUNTA(B651:K651)>0,1,0),IF(OR(EOMONTH(M651,0)<$Z$7,AND(EOMONTH($Z$7,-1)+1<=M651,EOMONTH($Z$7,0)>=M651)),0,IF(COUNTA(B651:K651)>0,1,0)))","v":0},0,0,0,0,0,0,0,0,0,0,0,0,0,0,0,0,0,0,0,0,0,0,0,0,0,0,0,0,0,0,0,0,0,0,0,0,0,0,0,0,0,0,0,null,0,0,0,0,null,0,0]
[644,null,null,null,null,null,null,null,null,null,null,null,null,null,null,null,null,null,0,null,null,0,0,0,0,0,0,0,0,0,0,0,0,0,0,0,0,0,0,0,0,0,0,0,0,0,0,0,0,0,0,0,0,0,0,0,0,0,0,0,0,0,0,0,0,0,0,0,0,null,0,0,0,0,null,0,0]
[645,null,null,null,null,null,null,null,null,null,null,null,null,null,null,null,null,null,0,null,null,0,0,0,0,0,0,0,0,0,0,0,0,0,0,0,0,0,0,0,0,0,0,0,0,0,0,0,0,0,0,0,0,0,0,0,0,0,0,0,0,0,0,0,0,0,0,0,0,null,{"$f":"IF(M653=\"\",IF(F653<>\"\",1,0),IF(OR(EOMONTH(M653,0)<EOMONTH(TODAY(),0),AND(EOMONTH(TODAY(),-1)+1<=M653,EOMONTH(TODAY(),0)>=M653)),0,IF(F653<>\"\",1,0)))","v":0},0,0,0,null,0,0]
[646,null,null,null,null,null,null,null,null,null,null,null,null,null,null,null,null,null,0,null,null,0,0,0,0,0,{"$f":"IF(M654=\"\",IF(COUNTA(B654:K654)>0,1,0),IF(OR(EOMONTH(M654,0)<$AA$7,AND(EOMONTH($AA$7,-1)+1<=M654,EOMONTH($AA$7,0)>=M654)),0,IF(COUNTA(B654:K654)>0,1,0)))","v":0},{"$f":"IF(M654=\"\",IF(COUNTA(B654:K654)>0,1,0),IF(OR(EOMONTH(M654,0)<$AB$7,AND(EOMONTH($AB$7,-1)+1<=M654,EOMONTH($AB$7,0)>=M654)),0,IF(COUNTA(B654:K654)>0,1,0)))","v":0},{"$f":"IF(M654=\"\",IF(COUNTA(B654:K654)>0,1,0),IF(OR(EOMONTH(M654,0)<$AC$7,AND(EOMONTH($AC$7,-1)+1<=M654,EOMONTH($AC$7,0)>=M654)),0,IF(COUNTA(B654:K654)>0,1,0)))","v":0},{"$f":"IF(M654=\"\",IF(COUNTA(B654:K654)>0,1,0),IF(OR(EOMONTH(M654,0)<$AD$7,AND(EOMONTH($AD$7,-1)+1<=M654,EOMONTH($AD$7,0)>=M654)),0,IF(COUNTA(B654:K654)>0,1,0)))","v":0},{"$f":"IF(M654=\"\",IF(COUNTA(B654:K654)>0,1,0),IF(OR(EOMONTH(M654,0)<$AE$7,AND(EOMONTH($AE$7,-1)+1<=M654,EOMONTH($AE$7,0)>=M654)),0,IF(COUNTA(B654:K654)>0,1,0)))","v":0},{"$f":"IF(M654=\"\",IF(COUNTA(B654:K654)>0,1,0),IF(OR(EOMONTH(M654,0)<$AF$7,AND(EOMONTH($AF$7,-1)+1<=M654,EOMONTH($AF$7,0)>=M654)),0,IF(COUNTA(B654:K654)>0,1,0)))","v":0},{"$f":"IF(M654=\"\",IF(COUNTA(B654:K654)>0,1,0),IF(OR(EOMONTH(M654,0)<$AG$7,AND(EOMONTH($AG$7,-1)+1<=M654,EOMONTH($AG$7,0)>=M654)),0,IF(COUNTA(B654:K654)>0,1,0)))","v":0},0,0,0,0,0,0,0,0,0,0,0,0,0,0,0,0,0,0,0,0,0,0,0,0,0,0,0,0,0,0,0,0,0,0,0,0,null,0,0,0,0,null,0,0]
[647,null,null,null,null,null,null,null,null,null,null,null,null,null,null,null,null,null,0,null,null,0,0,0,0,0,0,0,0,0,0,0,0,0,0,0,0,0,0,0,0,0,0,0,0,0,0,0,0,{"$f":"IF(M655=\"\",IF(COUNTA(B655:K655)>0,1,0),IF(OR(EOMONTH(M655,0)<$AX$7,AND(EOMONTH($AX$7,-1)+1<=M655,EOMONTH($AX$7,0)>=M655)),0,IF(COUNTA(B655:K655)>0,1,0)))","v":0},{"$f":"IF(M655=\"\",IF(COUNTA(B655:K655)>0,1,0),IF(OR(EOMONTH(M655,0)<$AY$7,AND(EOMONTH($AY$7,-1)+1<=M655,EOMONTH($AY$7,0)>=M655)),0,IF(COUNTA(B655:K655)>0,1,0)))","v":0},{"$f":"IF(M655=\"\",IF(COUNTA(B655:K655)>0,1,0),IF(OR(EOMONTH(M655,0)<$AZ$7,AND(EOMONTH($AZ$7,-1)+1<=M655,EOMONTH($AZ$7,0)>=M655)),0,IF(COUNTA(B655:K655)>0,1,0)))","v":0},{"$f":"IF(M655=\"\",IF(COUNTA(B655:K655)>0,1,0),IF(OR(EOMONTH(M655,0)<$BA$7,AND(EOMONTH($BA$7,-1)+1<=M655,EOMONTH($BA$7,0)>=M655)),0,IF(COUNTA(B655:K655)>0,1,0)))","v":0},{"$f":"IF(M655=\"\",IF(COUNTA(B655:K655)>0,1,0),IF(OR(EOMONTH(M655,0)<$BB$7,AND(EOMONTH($BB$7,-1)+1<=M655,EOMONTH($BB$7,0)>=M655)),0,IF(COUNTA(B655:K655)>0,1,0)))","v":0},{"$f":"IF(M655=\"\",IF(COUNTA(B655:K655)>0,1,0),IF(OR(EOMONTH(M655,0)<$BC$7,AND(EOMONTH($BC$7,-1)+1<=M655,EOMONTH($BC$7,0)>=M655)),0,IF(COUNTA(B655:K655)>0,1,0)))","v":0},{"$f":"IF(M655=\"\",IF(COUNTA(B655:K655)>0,1,0),IF(OR(EOMONTH(M655,0)<$BD$7,AND(EOMONTH($BD$7,-1)+1<=M655,EOMONTH($BD$7,0)>=M655)),0,IF(COUNTA(B655:K655)>0,1,0)))","v":0},{"$f":"IF(M655=\"\",IF(COUNTA(B655:K655)>0,1,0),IF(OR(EOMONTH(M655,0)<$BE$7,AND(EOMONTH($BE$7,-1)+1<=M655,EOMONTH($BE$7,0)>=M655)),0,IF(COUNTA(B655:K655)>0,1,0)))","v":0},{"$f":"IF(M655=\"\",IF(COUNTA(B655:K655)>0,1,0),IF(OR(EOMONTH(M655,0)<$BF$7,AND(EOMONTH($BF$7,-1)+1<=M655,EOMONTH($BF$7,0)>=M655)),0,IF(COUNTA(B655:K655)>0,1,0)))","v":0},{"$f":"IF(M655=\"\",IF(COUNTA(B655:K655)>0,1,0),IF(OR(EOMONTH(M655,0)<$BG$7,AND(EOMONTH($BG$7,-1)+1<=M655,EOMONTH($BG$7,0)>=M655)),0,IF(COUNTA(B655:K655)>0,1,0)))","v":0},{"$f":"IF(M655=\"\",IF(COUNTA(B655:K655)>0,1,0),IF(OR(EOMONTH(M655,0)<$BH$7,AND(EOMONTH($BH$7,-1)+1<=M655,EOMONTH($BH$7,0)>=M655)),0,IF(COUNTA(B655:K655)>0,1,0)))","v":0},{"$f":"IF(M655=\"\",IF(COUNTA(B655:K655)>0,1,0),IF(OR(EOMONTH(M655,0)<$BI$7,AND(EOMONTH($BI$7,-1)+1<=M655,EOMONTH($BI$7,0)>=M655)),0,IF(COUNTA(B655:K655)>0,1,0)))","v":0},{"$f":"IF(M655=\"\",IF(COUNTA(B655:K655)>0,1,0),IF(OR(EOMONTH(M655,0)<$BJ$7,AND(EOMONTH($BJ$7,-1)+1<=M655,EOMONTH($BJ$7,0)>=M655)),0,IF(COUNTA(B655:K655)>0,1,0)))","v":0},{"$f":"IF(M655=\"\",IF(COUNTA(B655:K655)>0,1,0),IF(OR(EOMONTH(M655,0)<$BK$7,AND(EOMONTH($BK$7,-1)+1<=M655,EOMONTH($BK$7,0)>=M655)),0,IF(COUNTA(B655:K655)>0,1,0)))","v":0},{"$f":"IF(M655=\"\",IF(COUNTA(B655:K655)>0,1,0),IF(OR(EOMONTH(M655,0)<$BL$7,AND(EOMONTH($BL$7,-1)+1<=M655,EOMONTH($BL$7,0)>=M655)),0,IF(COUNTA(B655:K655)>0,1,0)))","v":0},{"$f":"IF(M655=\"\",IF(COUNTA(B655:K655)>0,1,0),IF(OR(EOMONTH(M655,0)<$BM$7,AND(EOMONTH($BM$7,-1)+1<=M655,EOMONTH($BM$7,0)>=M655)),0,IF(COUNTA(B655:K655)>0,1,0)))","v":0},{"$f":"IF(M655=\"\",IF(COUNTA(B655:K655)>0,1,0),IF(OR(EOMONTH(M655,0)<$BN$7,AND(EOMONTH($BN$7,-1)+1<=M655,EOMONTH($BN$7,0)>=M655)),0,IF(COUNTA(B655:K655)>0,1,0)))","v":0},{"$f":"IF(M655=\"\",IF(COUNTA(B655:K655)>0,1,0),IF(OR(EOMONTH(M655,0)<$BO$7,AND(EOMONTH($BO$7,-1)+1<=M655,EOMONTH($BO$7,0)>=M655)),0,IF(COUNTA(B655:K655)>0,1,0)))","v":0},{"$f":"IF(M655=\"\",IF(COUNTA(B655:K655)>0,1,0),IF(OR(EOMONTH(M655,0)<$BP$7,AND(EOMONTH($BP$7,-1)+1<=M655,EOMONTH($BP$7,0)>=M655)),0,IF(COUNTA(B655:K655)>0,1,0)))","v":0},{"$f":"IF(M655=\"\",IF(COUNTA(B655:K655)>0,1,0),IF(OR(EOMONTH(M655,0)<$BQ$7,AND(EOMONTH($BQ$7,-1)+1<=M655,EOMONTH($BQ$7,0)>=M655)),0,IF(COUNTA(B655:K655)>0,1,0)))","v":0},null,0,0,0,0,null,0,0]
[648,null,null,null,null,null,null,null,null,null,null,null,null,null,null,null,null,null,0,null,null,0,0,0,0,0,0,0,0,0,0,0,0,0,0,0,0,0,0,0,0,0,0,0,0,0,0,0,0,0,0,0,0,0,0,0,0,0,0,0,0,0,0,0,0,0,0,0,0,null,0,0,0,0,null,0,0]
[649,null,null,null,null,null,null,null,null,null,null,null,null,null,null,null,null,null,0,null,null,0,0,0,0,0,0,0,0,0,0,0,0,0,0,0,0,0,0,0,0,0,0,0,0,0,0,0,0,0,0,0,0,0,0,0,0,0,0,0,0,0,0,0,0,0,0,0,0,null,0,0,0,0,null,0,0]
[650,null,null,null,null,null,null,null,null,null,null,null,null,null,null,null,null,null,0,null,null,0,0,0,0,0,0,0,0,0,0,0,0,0,0,0,0,0,0,0,0,0,0,0,0,0,0,0,0,0,0,0,0,0,0,0,0,0,0,0,0,0,0,0,0,0,0,0,0,null,0,0,0,0,null,0,0]
[651,null,null,null,null,null,null,null,null,null,null,null,null,null,null,null,null,null,0,null,null,0,0,0,0,0,0,0,0,0,0,0,0,0,0,0,0,0,0,0,0,0,0,0,0,0,0,0,0,0,0,0,0,0,0,0,0,0,0,0,0,0,0,0,0,0,0,0,0,null,0,0,0,0,null,0,0]
[652,null,null,null,null,null,null,null,null,null,null,null,null,null,null,null,null,null,0,null,null,0,0,0,0,0,0,0,0,0,0,0,0,0,0,0,0,0,0,0,0,0,0,0,0,0,0,0,0,0,0,0,0,0,0,0,0,0,0,0,0,0,0,0,0,0,0,0,0,null,0,0,0,0,null,0,0]
[653,null,null,null,null,null,null,null,null,null,null,null,null,null,null,null,null,null,0,null,null,0,0,0,0,0,0,0,0,0,0,0,0,0,0,0,0,0,0,0,0,0,0,0,0,0,0,0,0,0,0,0,0,0,0,0,0,0,0,0,0,0,0,0,0,0,0,0,0,null,0,0,0,0,null,0,0]
[654,null,null,null,null,null,null,null,null,null,null,null,null,null,null,null,null,null,0,null,null,0,0,0,0,0,0,0,0,0,0,0,0,0,0,0,0,0,0,0,0,0,0,0,0,0,0,0,0,0,0,0,0,0,0,0,0,0,0,0,0,0,0,0,0,0,0,0,0,null,0,0,0,0,null,0,0]
[655,null,null,null,null,null,null,null,null,null,null,null,null,null,null,null,null,null,0,null,null,0,0,0,0,0,0,0,0,0,0,0,0,0,0,0,0,0,0,0,0,0,0,0,0,0,0,0,0,0,0,0,0,0,0,0,0,0,0,0,0,0,0,0,0,0,0,0,0,null,0,0,0,0,null,0,0]
[656,null,null,null,null,null,null,null,null,null,null,null,null,null,null,null,null,null,0,null,null,0,0,0,0,0,0,0,0,0,0,0,0,0,0,0,0,0,0,0,0,0,0,0,0,0,0,0,0,0,0,0,0,0,0,0,0,0,0,0,0,0,0,0,0,0,0,0,0,null,0,0,0,0,null,0,0]
[657,null,null,null,null,null,null,null,null,null,null,null,null,null,null,null,null,null,0,null,null,0,0,0,0,0,0,0,0,0,0,0,0,0,0,0,0,0,0,0,0,0,0,0,0,0,0,0,0,0,0,0,0,0,0,0,0,0,0,0,0,0,0,0,0,0,0,0,0,null,0,0,0,0,null,0,0]
[658,null,null,null,null,null,null,null,null,null,null,null,null,null,null,null,null,null,0,null,null,0,0,0,0,0,0,0,0,0,0,0,0,0,0,0,0,0,0,0,0,0,0,0,0,0,0,0,0,0,0,0,0,0,0,0,0,0,0,0,0,0,0,0,0,0,0,0,0,null,0,0,0,0,null,0,0]
[659,null,null,null,null,null,null,null,null,null,null,null,null,null,null,null,null,null,0,null,null,0,0,0,0,0,0,0,0,0,0,0,0,0,0,0,0,0,0,0,0,0,0,0,0,0,0,0,0,0,0,0,0,0,0,0,0,0,0,0,0,0,0,0,0,0,0,0,0,null,0,0,0,0,null,0,0]
[660,null,null,null,null,null,null,null,null,null,null,null,null,null,null,null,null,null,0,null,null,0,0,0,0,0,0,0,0,0,0,0,0,0,0,0,0,0,0,0,0,0,0,0,0,0,0,0,0,0,0,0,0,0,0,0,0,0,0,0,0,0,0,0,0,0,0,0,0,null,0,0,0,0,null,0,0]
[661,null,null,null,null,null,null,null,null,null,null,null,null,null,null,null,null,null,0,null,null,0,0,0,0,0,0,0,0,0,0,0,0,0,0,0,0,0,0,0,0,0,0,0,0,0,0,0,0,0,0,0,0,0,0,0,0,0,0,0,0,0,0,0,0,0,0,0,0,null,0,0,0,0,null,0,0]
[662,null,null,null,null,null,null,null,null,null,null,null,null,null,null,null,null,null,0,null,null,0,0,0,0,0,0,0,0,0,0,0,0,0,0,0,0,0,0,0,0,0,0,0,0,0,0,0,0,0,0,0,0,0,0,0,0,0,0,0,0,0,0,0,0,0,0,0,0,null,0,0,0,0,null,0,0]
[663,null,null,null,null,null,null,null,null,null,null,null,null,null,null,null,null,null,0,null,null,0,0,0,0,0,0,0,0,0,0,0,0,0,0,0,0,0,0,0,0,0,0,0,0,0,0,0,0,0,0,0,0,0,0,0,0,0,0,0,0,0,0,0,0,0,0,0,0,null,0,0,0,0,null,0,0]
[664,null,null,null,null,null,null,null,null,null,null,null,null,null,null,null,null,null,0,null,null,0,0,0,0,0,0,0,0,0,0,0,0,0,0,0,0,0,0,0,0,0,0,0,0,0,0,0,0,0,0,0,0,0,0,0,0,0,0,0,0,0,0,0,0,0,0,0,0,null,0,0,0,0,null,0,0]
[665,null,null,null,null,null,null,null,null,null,null,null,null,null,null,null,null,null,0,null,null,0,0,0,0,0,0,0,0,0,0,0,0,0,0,0,0,0,0,0,0,0,0,0,0,0,0,0,0,0,0,0,0,0,0,0,0,0,0,0,0,0,0,0,0,0,0,0,0,null,0,0,0,0,null,0,0]
[666,null,null,null,null,null,null,null,null,null,null,null,null,null,null,null,null,null,0,null,null,0,0,0,0,0,0,0,0,0,0,0,0,0,0,0,0,0,0,0,0,0,0,0,0,0,0,0,0,0,0,0,0,0,0,0,0,0,0,0,0,0,0,0,0,0,0,0,0,null,0,0,0,0,null,0,0]
[667,null,null,null,null,null,null,null,null,null,null,null,null,null,null,null,null,null,0,null,null,0,0,0,0,0,0,0,0,0,0,0,0,0,0,0,0,0,0,0,0,0,0,0,0,0,0,0,0,0,0,0,0,0,0,0,0,0,0,0,0,0,0,0,0,0,0,0,0,null,0,0,0,0,null,0,0]
[668,null,null,null,null,null,null,null,null,null,null,null,null,null,null,null,null,null,0,null,null,0,0,0,0,0,0,0,0,0,0,0,0,0,0,0,0,0,0,0,0,0,0,0,0,0,0,0,0,0,0,0,0,0,0,0,0,0,0,0,0,0,0,0,0,0,0,0,0,null,0,0,0,0,null,0,0]
[669,null,null,null,null,null,null,null,null,null,null,null,null,null,null,null,null,null,0,null,null,0,0,0,0,0,0,0,0,0,0,0,0,0,0,0,0,0,0,0,0,0,0,0,0,0,0,0,0,0,0,0,0,0,0,0,0,0,0,0,0,0,0,0,0,0,0,0,0,null,0,0,0,0,null,0,0]
[670,null,null,null,null,null,null,null,null,null,null,null,null,null,null,null,null,null,{"$f":"IF(E678=\"\",0,IF(VALUE(E678)>VALUE($E$4),0,1))","v":0},null,null,0,0,0,0,0,0,0,0,0,0,0,0,0,0,0,0,0,0,0,0,0,0,0,0,0,0,0,0,0,0,0,0,0,0,0,0,0,0,0,0,0,0,0,0,0,0,0,0,null,0,0,0,0,null,{"$f":"SUMIFS(V678:BQ678,$V$7:$BQ$7,\">=\"&EOMONTH(TODAY(),-1)+1,$V$7:$BQ$7,\"<=\"&EOMONTH(TODAY(),0))","v":0},0]
[671,null,null,null,null,null,null,null,null,null,null,null,null,null,null,null,null,null,0,null,null,0,0,0,0,0,0,0,0,0,0,0,0,0,0,0,0,0,0,0,0,0,0,0,0,0,0,0,0,0,0,0,0,0,0,0,0,0,0,0,0,0,0,0,0,0,0,0,0,null,0,0,0,0,null,0,0]
[672,null,null,null,null,null,null,null,null,null,null,null,null,null,null,null,null,null,0,null,null,0,0,0,0,0,0,0,0,0,0,0,0,0,0,0,0,0,0,0,0,0,0,0,0,0,0,0,0,0,0,0,0,0,0,0,0,0,0,0,0,0,0,0,0,0,0,0,0,null,0,0,0,0,null,0,0]
[673,null,null,null,null,null,null,null,null,null,null,null,null,null,null,null,null,null,0,null,null,0,0,0,0,0,0,0,0,0,0,0,0,0,0,0,0,0,0,0,0,0,0,0,0,0,0,0,0,0,0,0,0,0,0,0,0,0,0,0,0,0,0,0,0,0,0,0,0,null,0,0,0,0,null,0,0]
[674,null,null,null,null,null,null,null,null,null,null,null,null,null,null,null,null,null,0,null,null,0,0,0,0,0,0,0,0,0,0,0,0,0,0,0,0,0,0,0,0,0,0,0,0,0,0,0,0,0,0,0,0,0,0,0,0,0,0,0,0,0,0,0,0,0,0,0,0,null,0,0,0,0,null,0,0]
[675,null,null,null,null,null,null,null,null,null,null,null,null,null,null,null,null,null,0,null,null,0,0,0,0,0,0,0,0,0,0,0,0,0,0,0,0,0,0,0,0,0,0,0,0,0,0,0,0,0,0,0,0,0,0,0,0,0,0,0,0,0,0,0,0,0,0,0,0,null,0,0,0,0,null,0,0]
[676,null,null,null,null,null,null,null,null,null,null,null,null,null,null,null,null,null,0,null,null,0,0,0,0,0,0,0,0,0,0,0,0,0,0,0,0,0,0,0,0,0,0,0,0,0,0,0,0,0,0,0,0,0,0,0,0,0,0,0,0,0,0,0,0,0,0,0,0,null,0,0,0,0,null,0,0]
[677,null,null,null,null,null,null,null,null,null,null,null,null,null,null,null,null,null,0,null,null,0,0,0,0,0,0,0,0,0,0,0,0,0,0,0,0,0,0,0,0,0,0,0,0,0,0,0,0,0,0,0,0,0,0,0,0,0,0,0,0,0,0,0,0,0,0,0,0,null,0,0,0,0,null,0,0]
[678,null,null,null,null,null,null,null,null,null,null,null,null,null,null,null,null,null,0,null,null,0,0,0,0,0,0,0,0,0,0,0,0,0,0,0,0,0,0,0,0,0,0,0,0,0,0,0,0,0,0,0,0,0,0,0,0,0,0,0,0,0,0,0,0,0,0,0,0,null,0,0,0,0,null,0,0]
[679,null,null,null,null,null,null,null,null,null,null,null,null,null,null,null,null,null,0,null,null,0,0,0,0,0,0,0,0,0,0,0,0,0,0,0,0,0,0,0,0,0,0,0,0,0,0,0,0,0,0,0,0,0,0,0,0,0,0,0,0,0,0,0,0,0,0,0,0,null,0,0,0,0,null,0,0]
[680,null,null,null,null,null,null,null,null,null,null,null,null,null,null,null,null,null,0,null,null,0,0,0,0,0,0,0,0,0,0,0,0,0,0,0,0,0,0,0,0,0,0,0,0,0,0,0,0,0,0,0,0,0,0,0,0,0,0,0,0,0,0,0,0,0,0,0,0,null,0,0,0,0,null,0,0]
[681,null,null,null,null,null,null,null,null,null,null,null,null,null,null,null,null,null,0,null,null,0,0,0,0,0,0,0,0,0,0,0,0,0,0,0,0,0,0,0,0,0,0,0,0,0,0,0,0,0,0,0,0,0,0,0,0,0,0,0,0,0,0,0,0,0,0,0,0,null,0,0,0,0,null,0,0]
[682,null,null,null,null,null,null,null,null,null,null,null,null,null,null,null,null,null,0,null,null,0,0,0,0,0,0,0,0,0,0,0,0,0,0,0,0,0,0,0,0,0,0,0,0,0,0,0,0,0,0,0,0,0,0,0,0,0,0,0,0,0,0,0,0,0,0,0,0,null,0,0,0,0,null,0,0]
[683,null,null,null,null,null,null,null,null,null,null,null,null,null,null,null,null,null,0,null,null,0,0,0,0,0,0,0,0,0,0,0,0,0,0,0,0,0,0,0,0,0,0,0,0,0,0,0,0,0,0,0,0,0,0,0,0,0,0,0,0,0,0,0,0,0,0,0,0,null,0,0,0,0,null,0,0]
[684,null,null,null,null,null,null,null,null,null,null,null,null,null,null,null,null,null,0,null,null,0,0,0,0,0,0,0,0,0,0,0,0,0,0,0,0,0,0,0,0,0,0,0,0,0,0,0,0,0,0,0,0,0,0,0,0,0,0,0,0,0,0,0,0,0,0,0,0,null,0,0,0,0,null,0,0]
[685,null,null,null,null,null,null,null,null,null,null,null,null,null,null,null,null,null,0,null,null,0,0,0,0,0,0,0,0,0,0,0,0,0,0,0,0,0,0,0,0,0,0,0,0,0,0,0,0,0,0,0,0,0,0,0,0,0,0,0,0,0,0,0,0,0,0,0,0,null,0,0,0,0,null,0,0]
[686,null,null,null,null,null,null,null,null,null,null,null,null,null,null,null,null,null,0,null,null,0,0,0,0,0,0,0,0,0,0,0,0,0,0,0,0,0,0,0,0,0,0,0,0,0,0,0,0,0,0,0,0,0,0,0,0,0,0,0,0,0,0,0,0,0,0,0,0,null,0,0,0,0,null,0,0]
[687,null,null,null,null,null,null,null,null,null,null,null,null,null,null,null,null,null,0,null,null,0,0,0,0,0,0,0,0,0,0,0,0,0,0,0,0,0,0,0,0,0,0,0,0,0,0,0,0,0,0,0,0,0,0,0,0,0,0,0,0,0,0,0,0,0,0,0,0,null,0,0,0,0,null,0,0]
[688,null,null,null,null,null,null,null,null,null,null,null,null,null,null,null,null,null,0,null,null,0,0,0,0,0,0,0,0,0,0,0,0,0,0,0,0,0,0,0,0,0,0,0,0,0,0,0,0,0,0,0,0,0,0,0,0,0,0,0,0,0,0,0,0,0,0,0,0,null,0,0,0,0,null,0,0]
[689,null,null,null,null,null,null,null,null,null,null,null,null,null,null,null,null,null,0,null,null,0,0,0,0,0,0,0,0,0,0,0,0,0,0,0,0,0,0,0,0,0,0,0,0,0,0,0,0,0,0,0,0,0,0,0,0,0,0,0,0,0,0,0,0,0,0,0,0,null,0,0,0,0,null,0,0]
[690,null,null,null,null,null,null,null,null,null,null,null,null,null,null,null,null,null,0,null,null,0,0,0,0,0,0,0,0,0,0,0,0,0,0,0,0,0,0,0,0,0,0,0,0,0,0,0,0,0,0,0,0,0,0,0,0,0,0,0,0,0,0,0,0,0,0,0,0,null,0,0,0,0,null,0,0]
[691,null,null,null,null,null,null,null,null,null,null,null,null,null,null,null,null,null,0,null,null,0,0,0,0,0,0,0,0,0,0,0,0,0,0,0,0,0,0,0,0,0,0,0,0,0,0,0,0,0,0,0,0,0,0,0,0,0,0,0,0,0,0,0,0,0,0,0,0,null,0,0,0,0,null,0,0]
[692,null,null,null,null,null,null,null,null,null,null,null,null,null,null,null,null,null,0,null,null,0,0,0,0,0,0,0,0,0,0,0,0,0,0,0,0,0,0,0,0,0,0,0,0,0,0,0,0,0,0,0,0,0,0,0,0,0,0,0,0,0,0,0,0,0,0,0,0,null,0,0,0,0,null,0,0]
[693,null,null,null,null,null,null,null,null,null,null,null,null,null,null,null,null,null,0,null,null,0,0,0,0,0,0,0,0,0,0,0,0,0,0,0,0,0,0,0,0,0,0,0,0,0,0,0,0,0,0,0,0,0,0,0,0,0,0,0,0,0,0,0,0,0,0,0,0,null,0,0,0,0,null,0,0]
[694,null,null,null,null,null,null,null,null,null,null,null,null,null,null,null,null,null,0,null,null,0,0,0,0,0,0,0,0,0,0,0,0,0,0,0,0,0,0,0,0,0,0,0,0,0,0,0,0,0,0,0,0,0,0,0,0,0,0,0,0,0,0,0,0,0,0,0,0,null,0,0,0,0,null,0,0]
[695,null,null,null,null,null,null,null,null,null,null,null,null,null,null,null,null,null,0,null,null,0,0,0,0,0,0,0,0,0,0,0,0,0,0,0,0,0,0,0,0,0,0,0,0,0,0,0,0,0,0,0,0,0,0,0,0,0,0,0,0,0,0,0,0,0,0,0,0,null,0,0,0,0,null,0,0]
[696,null,null,null,null,null,null,null,null,null,null,null,null,null,null,null,null,null,0,null,null,0,0,0,0,0,0,0,0,0,0,0,0,0,0,0,0,0,0,0,0,0,0,0,0,0,0,0,0,0,0,0,0,0,0,0,0,0,0,0,0,0,0,0,0,0,0,0,0,null,0,0,0,0,null,0,0]
[697,null,null,null,null,null,null,null,null,null,null,null,null,null,null,null,null,null,0,null,null,0,0,0,0,0,0,0,0,0,0,0,0,0,0,0,0,0,0,0,0,0,0,0,0,0,0,0,0,0,0,0,0,0,0,0,0,0,0,0,0,0,0,0,0,0,0,0,0,null,0,0,0,0,null,0,0]
[698,null,null,null,null,null,null,null,null,null,null,null,null,null,null,null,null,null,0,null,null,0,0,0,0,0,0,0,0,0,0,0,0,0,0,0,0,0,0,0,0,0,0,0,0,0,0,0,0,0,0,0,0,0,0,0,0,0,0,0,0,0,0,0,0,0,0,0,0,null,0,0,0,0,null,0,0]
[699,null,null,null,null,null,null,null,null,null,null,null,null,null,null,null,null,null,0,null,null,0,0,0,0,0,0,0,0,0,0,0,0,0,0,0,0,0,0,0,0,0,0,0,0,0,0,0,0,0,0,0,0,0,0,0,0,0,0,0,0,0,0,0,0,0,0,0,0,null,0,0,0,0,null,0,0]
[700,null,null,null,null,null,null,null,null,null,null,null,null,null,null,null,null,null,0,null,null,0,0,0,0,0,0,0,0,0,0,0,0,0,0,0,0,0,0,0,0,0,0,0,0,0,0,0,0,0,0,0,0,0,0,0,0,0,0,0,0,0,0,0,0,0,0,0,0,null,0,0,0,0,null,0,0]
[701,null,null,null,null,null,null,null,null,null,null,null,null,null,null,null,null,null,0,null,null,0,0,0,0,0,0,0,0,0,0,0,0,0,0,0,0,0,0,0,0,0,0,0,0,0,0,0,0,0,0,0,0,0,0,0,0,0,0,0,0,0,0,0,0,0,0,0,0,null,0,0,0,0,null,0,0]
[702,null,null,null,null,null,null,null,null,null,null,null,null,null,null,null,null,null,0,null,null,0,0,0,0,0,0,0,0,0,0,0,0,0,0,0,0,0,0,0,0,0,0,0,0,0,0,0,0,0,0,0,0,0,0,0,0,0,0,0,0,0,0,0,0,0,0,0,0,null,0,0,0,0,null,0,0]
[703,null,null,null,null,null,null,null,null,null,null,null,null,null,null,null,null,null,0,null,null,0,0,0,0,0,0,0,0,0,0,0,0,0,0,0,0,0,0,0,0,0,0,0,0,0,0,0,0,0,0,0,0,0,0,0,0,0,0,0,0,0,0,0,0,0,0,0,0,null,0,0,0,0,null,0,0]
[704,null,null,null,null,null,null,null,null,null,null,null,null,null,null,null,null,null,0,null,null,0,0,0,0,0,0,0,0,0,0,0,0,0,0,0,0,0,0,0,0,0,0,0,0,0,0,0,0,0,0,0,0,0,0,0,0,0,0,0,0,0,0,0,0,0,0,0,0,null,0,0,0,0,null,0,0]
[705,null,null,null,null,null,null,null,null,null,null,null,null,null,null,null,null,null,0,null,null,0,0,0,0,0,0,0,0,0,0,0,0,0,0,0,0,0,0,0,0,0,0,0,0,0,0,0,0,0,0,0,0,0,0,0,0,0,0,0,0,0,0,0,0,0,0,0,0,null,0,0,0,0,null,0,0]
[706,null,null,null,null,null,null,null,null,null,null,null,null,null,null,null,null,null,0,null,null,{"$f":"IF(M714=\"\",IF(COUNTA(B714:K714)>0,1,0),IF(OR(EOMONTH(M714,0)<$V$7,AND(EOMONTH($V$7,-1)+1<=M714,EOMONTH($V$7,0)>=M714)),0,IF(COUNTA(B714:K714)>0,1,0)))","v":0},{"$f":"IF(M714=\"\",IF(COUNTA(B714:K714)>0,1,0),IF(OR(EOMONTH(M714,0)<$W$7,AND(EOMONTH($W$7,-1)+1<=M714,EOMONTH($W$7,0)>=M714)),0,IF(COUNTA(B714:K714)>0,1,0)))","v":0},{"$f":"IF(M714=\"\",IF(COUNTA(B714:K714)>0,1,0),IF(OR(EOMONTH(M714,0)<$X$7,AND(EOMONTH($X$7,-1)+1<=M714,EOMONTH($X$7,0)>=M714)),0,IF(COUNTA(B714:K714)>0,1,0)))","v":0},{"$f":"IF(M714=\"\",IF(COUNTA(B714:K714)>0,1,0),IF(OR(EOMONTH(M714,0)<$Y$7,AND(EOMONTH($Y$7,-1)+1<=M714,EOMONTH($Y$7,0)>=M714)),0,IF(COUNTA(B714:K714)>0,1,0)))","v":0},0,0,0,0,0,0,0,0,{"$f":"IF(M714=\"\",IF(COUNTA(B714:K714)>0,1,0),IF(OR(EOMONTH(M714,0)<$AH$7,AND(EOMONTH($AH$7,-1)+1<=M714,EOMONTH($AH$7,0)>=M714)),0,IF(COUNTA(B714:K714)>0,1,0)))","v":0},{"$f":"IF(M714=\"\",IF(COUNTA(B714:K714)>0,1,0),IF(OR(EOMONTH(M714,0)<$AI$7,AND(EOMONTH($AI$7,-1)+1<=M714,EOMONTH($AI$7,0)>=M714)),0,IF(COUNTA(B714:K714)>0,1,0)))","v":0},{"$f":"IF(M714=\"\",IF(COUNTA(B714:K714)>0,1,0),IF(OR(EOMONTH(M714,0)<$AJ$7,AND(EOMONTH($AJ$7,-1)+1<=M714,EOMONTH($AJ$7,0)>=M714)),0,IF(COUNTA(B714:K714)>0,1,0)))","v":0},{"$f":"IF(M714=\"\",IF(COUNTA(B714:K714)>0,1,0),IF(OR(EOMONTH(M714,0)<$AK$7,AND(EOMONTH($AK$7,-1)+1<=M714,EOMONTH($AK$7,0)>=M714)),0,IF(COUNTA(B714:K714)>0,1,0)))","v":0},{"$f":"IF(M714=\"\",IF(COUNTA(B714:K714)>0,1,0),IF(OR(EOMONTH(M714,0)<$AL$7,AND(EOMONTH($AL$7,-1)+1<=M714,EOMONTH($AL$7,0)>=M714)),0,IF(COUNTA(B714:K714)>0,1,0)))","v":0},{"$f":"IF(M714=\"\",IF(COUNTA(B714:K714)>0,1,0),IF(OR(EOMONTH(M714,0)<$AM$7,AND(EOMONTH($AM$7,-1)+1<=M714,EOMONTH($AM$7,0)>=M714)),0,IF(COUNTA(B714:K714)>0,1,0)))","v":0},{"$f":"IF(M714=\"\",IF(COUNTA(B714:K714)>0,1,0),IF(OR(EOMONTH(M714,0)<$AN$7,AND(EOMONTH($AN$7,-1)+1<=M714,EOMONTH($AN$7,0)>=M714)),0,IF(COUNTA(B714:K714)>0,1,0)))","v":0},{"$f":"IF(M714=\"\",IF(COUNTA(B714:K714)>0,1,0),IF(OR(EOMONTH(M714,0)<$AO$7,AND(EOMONTH($AO$7,-1)+1<=M714,EOMONTH($AO$7,0)>=M714)),0,IF(COUNTA(B714:K714)>0,1,0)))","v":0},{"$f":"IF(M714=\"\",IF(COUNTA(B714:K714)>0,1,0),IF(OR(EOMONTH(M714,0)<$AP$7,AND(EOMONTH($AP$7,-1)+1<=M714,EOMONTH($AP$7,0)>=M714)),0,IF(COUNTA(B714:K714)>0,1,0)))","v":0},{"$f":"IF(M714=\"\",IF(COUNTA(B714:K714)>0,1,0),IF(OR(EOMONTH(M714,0)<$AQ$7,AND(EOMONTH($AQ$7,-1)+1<=M714,EOMONTH($AQ$7,0)>=M714)),0,IF(COUNTA(B714:K714)>0,1,0)))","v":0},{"$f":"IF(M714=\"\",IF(COUNTA(B714:K714)>0,1,0),IF(OR(EOMONTH(M714,0)<$AR$7,AND(EOMONTH($AR$7,-1)+1<=M714,EOMONTH($AR$7,0)>=M714)),0,IF(COUNTA(B714:K714)>0,1,0)))","v":0},{"$f":"IF(M714=\"\",IF(COUNTA(B714:K714)>0,1,0),IF(OR(EOMONTH(M714,0)<$AS$7,AND(EOMONTH($AS$7,-1)+1<=M714,EOMONTH($AS$7,0)>=M714)),0,IF(COUNTA(B714:K714)>0,1,0)))","v":0},{"$f":"IF(M714=\"\",IF(COUNTA(B714:K714)>0,1,0),IF(OR(EOMONTH(M714,0)<$AT$7,AND(EOMONTH($AT$7,-1)+1<=M714,EOMONTH($AT$7,0)>=M714)),0,IF(COUNTA(B714:K714)>0,1,0)))","v":0},{"$f":"IF(M714=\"\",IF(COUNTA(B714:K714)>0,1,0),IF(OR(EOMONTH(M714,0)<$AU$7,AND(EOMONTH($AU$7,-1)+1<=M714,EOMONTH($AU$7,0)>=M714)),0,IF(COUNTA(B714:K714)>0,1,0)))","v":0},{"$f":"IF(M714=\"\",IF(COUNTA(B714:K714)>0,1,0),IF(OR(EOMONTH(M714,0)<$AV$7,AND(EOMONTH($AV$7,-1)+1<=M714,EOMONTH($AV$7,0)>=M714)),0,IF(COUNTA(B714:K714)>0,1,0)))","v":0},{"$f":"IF(M714=\"\",IF(COUNTA(B714:K714)>0,1,0),IF(OR(EOMONTH(M714,0)<$AW$7,AND(EOMONTH($AW$7,-1)+1<=M714,EOMONTH($AW$7,0)>=M714)),0,IF(COUNTA(B714:K714)>0,1,0)))","v":0},0,0,0,0,0,0,0,0,0,0,0,0,0,0,0,0,0,0,0,0,null,0,{"$f":"IF(M714=\"\",IF(G714<>\"\",1,0),IF(OR(EOMONTH(M714,0)<EOMONTH(TODAY(),0),AND(EOMONTH(TODAY(),-1)+1<=M714,EOMONTH(TODAY(),0)>=M714)),0,IF(G714<>\"\",1,0)))","v":0},{"$f":"IF(M714=\"\",IF(H714<>\"\",1,0),IF(OR(EOMONTH(M714,0)<EOMONTH(TODAY(),0),AND(EOMONTH(TODAY(),-1)+1<=M714,EOMONTH(TODAY(),0)>=M714)),0,IF(H714<>\"\",1,0)))","v":0},{"$f":"IF(M714=\"\",IF(I714<>\"\",1,0),IF(OR(EOMONTH(M714,0)<EOMONTH(TODAY(),0),AND(EOMONTH(TODAY(),-1)+1<=M714,EOMONTH(TODAY(),0)>=M714)),0,IF(I714<>\"\",1,0)))","v":0},null,0,{"$f":"IF(M714=\"\",IF(J714>0,1,0),IF(EOMONTH(M714,0)<$BQ$7,0,IF(J714>0,1,0)))","v":0}]
[707,null,null,null,null,null,null,null,null,null,null,null,null,null,null,null,null,null,0,null,null,0,0,0,0,{"$f":"IF(M715=\"\",IF(COUNTA(B715:K715)>0,1,0),IF(OR(EOMONTH(M715,0)<$Z$7,AND(EOMONTH($Z$7,-1)+1<=M715,EOMONTH($Z$7,0)>=M715)),0,IF(COUNTA(B715:K715)>0,1,0)))","v":0},0,0,0,0,0,0,0,0,0,0,0,0,0,0,0,0,0,0,0,0,0,0,0,0,0,0,0,0,0,0,0,0,0,0,0,0,0,0,0,0,0,0,0,null,0,0,0,0,null,0,0]
[708,null,null,null,null,null,null,null,null,null,null,null,null,null,null,null,null,null,0,null,null,0,0,0,0,0,0,0,0,0,0,0,0,0,0,0,0,0,0,0,0,0,0,0,0,0,0,0,0,0,0,0,0,0,0,0,0,0,0,0,0,0,0,0,0,0,0,0,0,null,0,0,0,0,null,0,0]
[709,null,null,null,null,null,null,null,null,null,null,null,null,null,null,null,null,null,0,null,null,0,0,0,0,0,0,0,0,0,0,0,0,0,0,0,0,0,0,0,0,0,0,0,0,0,0,0,0,0,0,0,0,0,0,0,0,0,0,0,0,0,0,0,0,0,0,0,0,null,{"$f":"IF(M717=\"\",IF(F717<>\"\",1,0),IF(OR(EOMONTH(M717,0)<EOMONTH(TODAY(),0),AND(EOMONTH(TODAY(),-1)+1<=M717,EOMONTH(TODAY(),0)>=M717)),0,IF(F717<>\"\",1,0)))","v":0},0,0,0,null,0,0]
[710,null,null,null,null,null,null,null,null,null,null,null,null,null,null,null,null,null,0,null,null,0,0,0,0,0,{"$f":"IF(M718=\"\",IF(COUNTA(B718:K718)>0,1,0),IF(OR(EOMONTH(M718,0)<$AA$7,AND(EOMONTH($AA$7,-1)+1<=M718,EOMONTH($AA$7,0)>=M718)),0,IF(COUNTA(B718:K718)>0,1,0)))","v":0},{"$f":"IF(M718=\"\",IF(COUNTA(B718:K718)>0,1,0),IF(OR(EOMONTH(M718,0)<$AB$7,AND(EOMONTH($AB$7,-1)+1<=M718,EOMONTH($AB$7,0)>=M718)),0,IF(COUNTA(B718:K718)>0,1,0)))","v":0},{"$f":"IF(M718=\"\",IF(COUNTA(B718:K718)>0,1,0),IF(OR(EOMONTH(M718,0)<$AC$7,AND(EOMONTH($AC$7,-1)+1<=M718,EOMONTH($AC$7,0)>=M718)),0,IF(COUNTA(B718:K718)>0,1,0)))","v":0},{"$f":"IF(M718=\"\",IF(COUNTA(B718:K718)>0,1,0),IF(OR(EOMONTH(M718,0)<$AD$7,AND(EOMONTH($AD$7,-1)+1<=M718,EOMONTH($AD$7,0)>=M718)),0,IF(COUNTA(B718:K718)>0,1,0)))","v":0},{"$f":"IF(M718=\"\",IF(COUNTA(B718:K718)>0,1,0),IF(OR(EOMONTH(M718,0)<$AE$7,AND(EOMONTH($AE$7,-1)+1<=M718,EOMONTH($AE$7,0)>=M718)),0,IF(COUNTA(B718:K718)>0,1,0)))","v":0},{"$f":"IF(M718=\"\",IF(COUNTA(B718:K718)>0,1,0),IF(OR(EOMONTH(M718,0)<$AF$7,AND(EOMONTH($AF$7,-1)+1<=M718,EOMONTH($AF$7,0)>=M718)),0,IF(COUNTA(B718:K718)>0,1,0)))","v":0},{"$f":"IF(M718=\"\",IF(COUNTA(B718:K718)>0,1,0),IF(OR(EOMONTH(M718,0)<$AG$7,AND(EOMONTH($AG$7,-1)+1<=M718,EOMONTH($AG$7,0)>=M718)),0,IF(COUNTA(B718:K718)>0,1,0)))","v":0},0,0,0,0,0,0,0,0,0,0,0,0,0,0,0,0,0,0,0,0,0,0,0,0,0,0,0,0,0,0,0,0,0,0,0,0,null,0,0,0,0,null,0,0]
[711,null,null,null,null,null,null,null,null,null,null,null,null,null,null,null,null,null,0,null,null,0,0,0,0,0,0,0,0,0,0,0,0,0,0,0,0,0,0,0,0,0,0,0,0,0,0,0,0,{"$f":"IF(M719=\"\",IF(COUNTA(B719:K719)>0,1,0),IF(OR(EOMONTH(M719,0)<$AX$7,AND(EOMONTH($AX$7,-1)+1<=M719,EOMONTH($AX$7,0)>=M719)),0,IF(COUNTA(B719:K719)>0,1,0)))","v":0},{"$f":"IF(M719=\"\",IF(COUNTA(B719:K719)>0,1,0),IF(OR(EOMONTH(M719,0)<$AY$7,AND(EOMONTH($AY$7,-1)+1<=M719,EOMONTH($AY$7,0)>=M719)),0,IF(COUNTA(B719:K719)>0,1,0)))","v":0},{"$f":"IF(M719=\"\",IF(COUNTA(B719:K719)>0,1,0),IF(OR(EOMONTH(M719,0)<$AZ$7,AND(EOMONTH($AZ$7,-1)+1<=M719,EOMONTH($AZ$7,0)>=M719)),0,IF(COUNTA(B719:K719)>0,1,0)))","v":0},{"$f":"IF(M719=\"\",IF(COUNTA(B719:K719)>0,1,0),IF(OR(EOMONTH(M719,0)<$BA$7,AND(EOMONTH($BA$7,-1)+1<=M719,EOMONTH($BA$7,0)>=M719)),0,IF(COUNTA(B719:K719)>0,1,0)))","v":0},{"$f":"IF(M719=\"\",IF(COUNTA(B719:K719)>0,1,0),IF(OR(EOMONTH(M719,0)<$BB$7,AND(EOMONTH($BB$7,-1)+1<=M719,EOMONTH($BB$7,0)>=M719)),0,IF(COUNTA(B719:K719)>0,1,0)))","v":0},{"$f":"IF(M719=\"\",IF(COUNTA(B719:K719)>0,1,0),IF(OR(EOMONTH(M719,0)<$BC$7,AND(EOMONTH($BC$7,-1)+1<=M719,EOMONTH($BC$7,0)>=M719)),0,IF(COUNTA(B719:K719)>0,1,0)))","v":0},{"$f":"IF(M719=\"\",IF(COUNTA(B719:K719)>0,1,0),IF(OR(EOMONTH(M719,0)<$BD$7,AND(EOMONTH($BD$7,-1)+1<=M719,EOMONTH($BD$7,0)>=M719)),0,IF(COUNTA(B719:K719)>0,1,0)))","v":0},{"$f":"IF(M719=\"\",IF(COUNTA(B719:K719)>0,1,0),IF(OR(EOMONTH(M719,0)<$BE$7,AND(EOMONTH($BE$7,-1)+1<=M719,EOMONTH($BE$7,0)>=M719)),0,IF(COUNTA(B719:K719)>0,1,0)))","v":0},{"$f":"IF(M719=\"\",IF(COUNTA(B719:K719)>0,1,0),IF(OR(EOMONTH(M719,0)<$BF$7,AND(EOMONTH($BF$7,-1)+1<=M719,EOMONTH($BF$7,0)>=M719)),0,IF(COUNTA(B719:K719)>0,1,0)))","v":0},{"$f":"IF(M719=\"\",IF(COUNTA(B719:K719)>0,1,0),IF(OR(EOMONTH(M719,0)<$BG$7,AND(EOMONTH($BG$7,-1)+1<=M719,EOMONTH($BG$7,0)>=M719)),0,IF(COUNTA(B719:K719)>0,1,0)))","v":0},{"$f":"IF(M719=\"\",IF(COUNTA(B719:K719)>0,1,0),IF(OR(EOMONTH(M719,0)<$BH$7,AND(EOMONTH($BH$7,-1)+1<=M719,EOMONTH($BH$7,0)>=M719)),0,IF(COUNTA(B719:K719)>0,1,0)))","v":0},{"$f":"IF(M719=\"\",IF(COUNTA(B719:K719)>0,1,0),IF(OR(EOMONTH(M719,0)<$BI$7,AND(EOMONTH($BI$7,-1)+1<=M719,EOMONTH($BI$7,0)>=M719)),0,IF(COUNTA(B719:K719)>0,1,0)))","v":0},{"$f":"IF(M719=\"\",IF(COUNTA(B719:K719)>0,1,0),IF(OR(EOMONTH(M719,0)<$BJ$7,AND(EOMONTH($BJ$7,-1)+1<=M719,EOMONTH($BJ$7,0)>=M719)),0,IF(COUNTA(B719:K719)>0,1,0)))","v":0},{"$f":"IF(M719=\"\",IF(COUNTA(B719:K719)>0,1,0),IF(OR(EOMONTH(M719,0)<$BK$7,AND(EOMONTH($BK$7,-1)+1<=M719,EOMONTH($BK$7,0)>=M719)),0,IF(COUNTA(B719:K719)>0,1,0)))","v":0},{"$f":"IF(M719=\"\",IF(COUNTA(B719:K719)>0,1,0),IF(OR(EOMONTH(M719,0)<$BL$7,AND(EOMONTH($BL$7,-1)+1<=M719,EOMONTH($BL$7,0)>=M719)),0,IF(COUNTA(B719:K719)>0,1,0)))","v":0},{"$f":"IF(M719=\"\",IF(COUNTA(B719:K719)>0,1,0),IF(OR(EOMONTH(M719,0)<$BM$7,AND(EOMONTH($BM$7,-1)+1<=M719,EOMONTH($BM$7,0)>=M719)),0,IF(COUNTA(B719:K719)>0,1,0)))","v":0},{"$f":"IF(M719=\"\",IF(COUNTA(B719:K719)>0,1,0),IF(OR(EOMONTH(M719,0)<$BN$7,AND(EOMONTH($BN$7,-1)+1<=M719,EOMONTH($BN$7,0)>=M719)),0,IF(COUNTA(B719:K719)>0,1,0)))","v":0},{"$f":"IF(M719=\"\",IF(COUNTA(B719:K719)>0,1,0),IF(OR(EOMONTH(M719,0)<$BO$7,AND(EOMONTH($BO$7,-1)+1<=M719,EOMONTH($BO$7,0)>=M719)),0,IF(COUNTA(B719:K719)>0,1,0)))","v":0},{"$f":"IF(M719=\"\",IF(COUNTA(B719:K719)>0,1,0),IF(OR(EOMONTH(M719,0)<$BP$7,AND(EOMONTH($BP$7,-1)+1<=M719,EOMONTH($BP$7,0)>=M719)),0,IF(COUNTA(B719:K719)>0,1,0)))","v":0},{"$f":"IF(M719=\"\",IF(COUNTA(B719:K719)>0,1,0),IF(OR(EOMONTH(M719,0)<$BQ$7,AND(EOMONTH($BQ$7,-1)+1<=M719,EOMONTH($BQ$7,0)>=M719)),0,IF(COUNTA(B719:K719)>0,1,0)))","v":0},null,0,0,0,0,null,0,0]
[712,null,null,null,null,null,null,null,null,null,null,null,null,null,null,null,null,null,0,null,null,0,0,0,0,0,0,0,0,0,0,0,0,0,0,0,0,0,0,0,0,0,0,0,0,0,0,0,0,0,0,0,0,0,0,0,0,0,0,0,0,0,0,0,0,0,0,0,0,null,0,0,0,0,null,0,0]
[713,null,null,null,null,null,null,null,null,null,null,null,null,null,null,null,null,null,0,null,null,0,0,0,0,0,0,0,0,0,0,0,0,0,0,0,0,0,0,0,0,0,0,0,0,0,0,0,0,0,0,0,0,0,0,0,0,0,0,0,0,0,0,0,0,0,0,0,0,null,0,0,0,0,null,0,0]
[714,null,null,null,null,null,null,null,null,null,null,null,null,null,null,null,null,null,0,null,null,0,0,0,0,0,0,0,0,0,0,0,0,0,0,0,0,0,0,0,0,0,0,0,0,0,0,0,0,0,0,0,0,0,0,0,0,0,0,0,0,0,0,0,0,0,0,0,0,null,0,0,0,0,null,0,0]
[715,null,null,null,null,null,null,null,null,null,null,null,null,null,null,null,null,null,0,null,null,0,0,0,0,0,0,0,0,0,0,0,0,0,0,0,0,0,0,0,0,0,0,0,0,0,0,0,0,0,0,0,0,0,0,0,0,0,0,0,0,0,0,0,0,0,0,0,0,null,0,0,0,0,null,0,0]
[716,null,null,null,null,null,null,null,null,null,null,null,null,null,null,null,null,null,0,null,null,0,0,0,0,0,0,0,0,0,0,0,0,0,0,0,0,0,0,0,0,0,0,0,0,0,0,0,0,0,0,0,0,0,0,0,0,0,0,0,0,0,0,0,0,0,0,0,0,null,0,0,0,0,null,0,0]
[717,null,null,null,null,null,null,null,null,null,null,null,null,null,null,null,null,null,0,null,null,0,0,0,0,0,0,0,0,0,0,0,0,0,0,0,0,0,0,0,0,0,0,0,0,0,0,0,0,0,0,0,0,0,0,0,0,0,0,0,0,0,0,0,0,0,0,0,0,null,0,0,0,0,null,0,0]
[718,null,null,null,null,null,null,null,null,null,null,null,null,null,null,null,null,null,0,null,null,0,0,0,0,0,0,0,0,0,0,0,0,0,0,0,0,0,0,0,0,0,0,0,0,0,0,0,0,0,0,0,0,0,0,0,0,0,0,0,0,0,0,0,0,0,0,0,0,null,0,0,0,0,null,0,0]
[719,null,null,null,null,null,null,null,null,null,null,null,null,null,null,null,null,null,0,null,null,0,0,0,0,0,0,0,0,0,0,0,0,0,0,0,0,0,0,0,0,0,0,0,0,0,0,0,0,0,0,0,0,0,0,0,0,0,0,0,0,0,0,0,0,0,0,0,0,null,0,0,0,0,null,0,0]
[720,null,null,null,null,null,null,null,null,null,null,null,null,null,null,null,null,null,0,null,null,0,0,0,0,0,0,0,0,0,0,0,0,0,0,0,0,0,0,0,0,0,0,0,0,0,0,0,0,0,0,0,0,0,0,0,0,0,0,0,0,0,0,0,0,0,0,0,0,null,0,0,0,0,null,0,0]
[721,null,null,null,null,null,null,null,null,null,null,null,null,null,null,null,null,null,0,null,null,0,0,0,0,0,0,0,0,0,0,0,0,0,0,0,0,0,0,0,0,0,0,0,0,0,0,0,0,0,0,0,0,0,0,0,0,0,0,0,0,0,0,0,0,0,0,0,0,null,0,0,0,0,null,0,0]
[722,null,null,null,null,null,null,null,null,null,null,null,null,null,null,null,null,null,0,null,null,0,0,0,0,0,0,0,0,0,0,0,0,0,0,0,0,0,0,0,0,0,0,0,0,0,0,0,0,0,0,0,0,0,0,0,0,0,0,0,0,0,0,0,0,0,0,0,0,null,0,0,0,0,null,0,0]
[723,null,null,null,null,null,null,null,null,null,null,null,null,null,null,null,null,null,0,null,null,0,0,0,0,0,0,0,0,0,0,0,0,0,0,0,0,0,0,0,0,0,0,0,0,0,0,0,0,0,0,0,0,0,0,0,0,0,0,0,0,0,0,0,0,0,0,0,0,null,0,0,0,0,null,0,0]
[724,null,null,null,null,null,null,null,null,null,null,null,null,null,null,null,null,null,0,null,null,0,0,0,0,0,0,0,0,0,0,0,0,0,0,0,0,0,0,0,0,0,0,0,0,0,0,0,0,0,0,0,0,0,0,0,0,0,0,0,0,0,0,0,0,0,0,0,0,null,0,0,0,0,null,0,0]
[725,null,null,null,null,null,null,null,null,null,null,null,null,null,null,null,null,null,0,null,null,0,0,0,0,0,0,0,0,0,0,0,0,0,0,0,0,0,0,0,0,0,0,0,0,0,0,0,0,0,0,0,0,0,0,0,0,0,0,0,0,0,0,0,0,0,0,0,0,null,0,0,0,0,null,0,0]
[726,null,null,null,null,null,null,null,null,null,null,null,null,null,null,null,null,null,0,null,null,0,0,0,0,0,0,0,0,0,0,0,0,0,0,0,0,0,0,0,0,0,0,0,0,0,0,0,0,0,0,0,0,0,0,0,0,0,0,0,0,0,0,0,0,0,0,0,0,null,0,0,0,0,null,0,0]
[727,null,null,null,null,null,null,null,null,null,null,null,null,null,null,null,null,null,0,null,null,0,0,0,0,0,0,0,0,0,0,0,0,0,0,0,0,0,0,0,0,0,0,0,0,0,0,0,0,0,0,0,0,0,0,0,0,0,0,0,0,0,0,0,0,0,0,0,0,null,0,0,0,0,null,0,0]
[728,null,null,null,null,null,null,null,null,null,null,null,null,null,null,null,null,null,0,null,null,0,0,0,0,0,0,0,0,0,0,0,0,0,0,0,0,0,0,0,0,0,0,0,0,0,0,0,0,0,0,0,0,0,0,0,0,0,0,0,0,0,0,0,0,0,0,0,0,null,0,0,0,0,null,0,0]
[729,null,null,null,null,null,null,null,null,null,null,null,null,null,null,null,null,null,0,null,null,0,0,0,0,0,0,0,0,0,0,0,0,0,0,0,0,0,0,0,0,0,0,0,0,0,0,0,0,0,0,0,0,0,0,0,0,0,0,0,0,0,0,0,0,0,0,0,0,null,0,0,0,0,null,0,0]
[730,null,null,null,null,null,null,null,null,null,null,null,null,null,null,null,null,null,0,null,null,0,0,0,0,0,0,0,0,0,0,0,0,0,0,0,0,0,0,0,0,0,0,0,0,0,0,0,0,0,0,0,0,0,0,0,0,0,0,0,0,0,0,0,0,0,0,0,0,null,0,0,0,0,null,0,0]
[731,null,null,null,null,null,null,null,null,null,null,null,null,null,null,null,null,null,0,null,null,0,0,0,0,0,0,0,0,0,0,0,0,0,0,0,0,0,0,0,0,0,0,0,0,0,0,0,0,0,0,0,0,0,0,0,0,0,0,0,0,0,0,0,0,0,0,0,0,null,0,0,0,0,null,0,0]
[732,null,null,null,null,null,null,null,null,null,null,null,null,null,null,null,null,null,0,null,null,0,0,0,0,0,0,0,0,0,0,0,0,0,0,0,0,0,0,0,0,0,0,0,0,0,0,0,0,0,0,0,0,0,0,0,0,0,0,0,0,0,0,0,0,0,0,0,0,null,0,0,0,0,null,0,0]
[733,null,null,null,null,null,null,null,null,null,null,null,null,null,null,null,null,null,0,null,null,0,0,0,0,0,0,0,0,0,0,0,0,0,0,0,0,0,0,0,0,0,0,0,0,0,0,0,0,0,0,0,0,0,0,0,0,0,0,0,0,0,0,0,0,0,0,0,0,null,0,0,0,0,null,0,0]
[734,null,null,null,null,null,null,null,null,null,null,null,null,null,null,null,null,null,{"$f":"IF(E742=\"\",0,IF(VALUE(E742)>VALUE($E$4),0,1))","v":0},null,null,0,0,0,0,0,0,0,0,0,0,0,0,0,0,0,0,0,0,0,0,0,0,0,0,0,0,0,0,0,0,0,0,0,0,0,0,0,0,0,0,0,0,0,0,0,0,0,0,null,0,0,0,0,null,{"$f":"SUMIFS(V742:BQ742,$V$7:$BQ$7,\">=\"&EOMONTH(TODAY(),-1)+1,$V$7:$BQ$7,\"<=\"&EOMONTH(TODAY(),0))","v":0},0]
[735,null,null,null,null,null,null,null,null,null,null,null,null,null,null,null,null,null,0,null,null,0,0,0,0,0,0,0,0,0,0,0,0,0,0,0,0,0,0,0,0,0,0,0,0,0,0,0,0,0,0,0,0,0,0,0,0,0,0,0,0,0,0,0,0,0,0,0,0,null,0,0,0,0,null,0,0]
[736,null,null,null,null,null,null,null,null,null,null,null,null,null,null,null,null,null,0,null,null,0,0,0,0,0,0,0,0,0,0,0,0,0,0,0,0,0,0,0,0,0,0,0,0,0,0,0,0,0,0,0,0,0,0,0,0,0,0,0,0,0,0,0,0,0,0,0,0,null,0,0,0,0,null,0,0]
[737,null,null,null,null,null,null,null,null,null,null,null,null,null,null,null,null,null,0,null,null,0,0,0,0,0,0,0,0,0,0,0,0,0,0,0,0,0,0,0,0,0,0,0,0,0,0,0,0,0,0,0,0,0,0,0,0,0,0,0,0,0,0,0,0,0,0,0,0,null,0,0,0,0,null,0,0]
[738,null,null,null,null,null,null,null,null,null,null,null,null,null,null,null,null,null,0,null,null,0,0,0,0,0,0,0,0,0,0,0,0,0,0,0,0,0,0,0,0,0,0,0,0,0,0,0,0,0,0,0,0,0,0,0,0,0,0,0,0,0,0,0,0,0,0,0,0,null,0,0,0,0,null,0,0]
[739,null,null,null,null,null,null,null,null,null,null,null,null,null,null,null,null,null,0,null,null,0,0,0,0,0,0,0,0,0,0,0,0,0,0,0,0,0,0,0,0,0,0,0,0,0,0,0,0,0,0,0,0,0,0,0,0,0,0,0,0,0,0,0,0,0,0,0,0,null,0,0,0,0,null,0,0]
[740,null,null,null,null,null,null,null,null,null,null,null,null,null,null,null,null,null,0,null,null,0,0,0,0,0,0,0,0,0,0,0,0,0,0,0,0,0,0,0,0,0,0,0,0,0,0,0,0,0,0,0,0,0,0,0,0,0,0,0,0,0,0,0,0,0,0,0,0,null,0,0,0,0,null,0,0]
[741,null,null,null,null,null,null,null,null,null,null,null,null,null,null,null,null,null,0,null,null,0,0,0,0,0,0,0,0,0,0,0,0,0,0,0,0,0,0,0,0,0,0,0,0,0,0,0,0,0,0,0,0,0,0,0,0,0,0,0,0,0,0,0,0,0,0,0,0,null,0,0,0,0,null,0,0]
[742,null,null,null,null,null,null,null,null,null,null,null,null,null,null,null,null,null,0,null,null,0,0,0,0,0,0,0,0,0,0,0,0,0,0,0,0,0,0,0,0,0,0,0,0,0,0,0,0,0,0,0,0,0,0,0,0,0,0,0,0,0,0,0,0,0,0,0,0,null,0,0,0,0,null,0,0]
[743,null,null,null,null,null,null,null,null,null,null,null,null,null,null,null,null,null,0,null,null,0,0,0,0,0,0,0,0,0,0,0,0,0,0,0,0,0,0,0,0,0,0,0,0,0,0,0,0,0,0,0,0,0,0,0,0,0,0,0,0,0,0,0,0,0,0,0,0,null,0,0,0,0,null,0,0]
[744,null,null,null,null,null,null,null,null,null,null,null,null,null,null,null,null,null,0,null,null,0,0,0,0,0,0,0,0,0,0,0,0,0,0,0,0,0,0,0,0,0,0,0,0,0,0,0,0,0,0,0,0,0,0,0,0,0,0,0,0,0,0,0,0,0,0,0,0,null,0,0,0,0,null,0,0]
[745,null,null,null,null,null,null,null,null,null,null,null,null,null,null,null,null,null,0,null,null,0,0,0,0,0,0,0,0,0,0,0,0,0,0,0,0,0,0,0,0,0,0,0,0,0,0,0,0,0,0,0,0,0,0,0,0,0,0,0,0,0,0,0,0,0,0,0,0,null,0,0,0,0,null,0,0]
[746,null,null,null,null,null,null,null,null,null,null,null,null,null,null,null,null,null,0,null,null,0,0,0,0,0,0,0,0,0,0,0,0,0,0,0,0,0,0,0,0,0,0,0,0,0,0,0,0,0,0,0,0,0,0,0,0,0,0,0,0,0,0,0,0,0,0,0,0,null,0,0,0,0,null,0,0]
[747,null,null,null,null,null,null,null,null,null,null,null,null,null,null,null,null,null,0,null,null,0,0,0,0,0,0,0,0,0,0,0,0,0,0,0,0,0,0,0,0,0,0,0,0,0,0,0,0,0,0,0,0,0,0,0,0,0,0,0,0,0,0,0,0,0,0,0,0,null,0,0,0,0,null,0,0]
[748,null,null,null,null,null,null,null,null,null,null,null,null,null,null,null,null,null,0,null,null,0,0,0,0,0,0,0,0,0,0,0,0,0,0,0,0,0,0,0,0,0,0,0,0,0,0,0,0,0,0,0,0,0,0,0,0,0,0,0,0,0,0,0,0,0,0,0,0,null,0,0,0,0,null,0,0]
[749,null,null,null,null,null,null,null,null,null,null,null,null,null,null,null,null,null,0,null,null,0,0,0,0,0,0,0,0,0,0,0,0,0,0,0,0,0,0,0,0,0,0,0,0,0,0,0,0,0,0,0,0,0,0,0,0,0,0,0,0,0,0,0,0,0,0,0,0,null,0,0,0,0,null,0,0]
[750,null,null,null,null,null,null,null,null,null,null,null,null,null,null,null,null,null,0,null,null,0,0,0,0,0,0,0,0,0,0,0,0,0,0,0,0,0,0,0,0,0,0,0,0,0,0,0,0,0,0,0,0,0,0,0,0,0,0,0,0,0,0,0,0,0,0,0,0,null,0,0,0,0,null,0,0]
[751,null,null,null,null,null,null,null,null,null,null,null,null,null,null,null,null,null,0,null,null,0,0,0,0,0,0,0,0,0,0,0,0,0,0,0,0,0,0,0,0,0,0,0,0,0,0,0,0,0,0,0,0,0,0,0,0,0,0,0,0,0,0,0,0,0,0,0,0,null,0,0,0,0,null,0,0]
[752,null,null,null,null,null,null,null,null,null,null,null,null,null,null,null,null,null,0,null,null,0,0,0,0,0,0,0,0,0,0,0,0,0,0,0,0,0,0,0,0,0,0,0,0,0,0,0,0,0,0,0,0,0,0,0,0,0,0,0,0,0,0,0,0,0,0,0,0,null,0,0,0,0,null,0,0]
[753,null,null,null,null,null,null,null,null,null,null,null,null,null,null,null,null,null,0,null,null,0,0,0,0,0,0,0,0,0,0,0,0,0,0,0,0,0,0,0,0,0,0,0,0,0,0,0,0,0,0,0,0,0,0,0,0,0,0,0,0,0,0,0,0,0,0,0,0,null,0,0,0,0,null,0,0]
[754,null,null,null,null,null,null,null,null,null,null,null,null,null,null,null,null,null,0,null,null,0,0,0,0,0,0,0,0,0,0,0,0,0,0,0,0,0,0,0,0,0,0,0,0,0,0,0,0,0,0,0,0,0,0,0,0,0,0,0,0,0,0,0,0,0,0,0,0,null,0,0,0,0,null,0,0]
[755,null,null,null,null,null,null,null,null,null,null,null,null,null,null,null,null,null,0,null,null,0,0,0,0,0,0,0,0,0,0,0,0,0,0,0,0,0,0,0,0,0,0,0,0,0,0,0,0,0,0,0,0,0,0,0,0,0,0,0,0,0,0,0,0,0,0,0,0,null,0,0,0,0,null,0,0]
[756,null,null,null,null,null,null,null,null,null,null,null,null,null,null,null,null,null,0,null,null,0,0,0,0,0,0,0,0,0,0,0,0,0,0,0,0,0,0,0,0,0,0,0,0,0,0,0,0,0,0,0,0,0,0,0,0,0,0,0,0,0,0,0,0,0,0,0,0,null,0,0,0,0,null,0,0]
[757,null,null,null,null,null,null,null,null,null,null,null,null,null,null,null,null,null,0,null,null,0,0,0,0,0,0,0,0,0,0,0,0,0,0,0,0,0,0,0,0,0,0,0,0,0,0,0,0,0,0,0,0,0,0,0,0,0,0,0,0,0,0,0,0,0,0,0,0,null,0,0,0,0,null,0,0]
[758,null,null,null,null,null,null,null,null,null,null,null,null,null,null,null,null,null,0,null,null,0,0,0,0,0,0,0,0,0,0,0,0,0,0,0,0,0,0,0,0,0,0,0,0,0,0,0,0,0,0,0,0,0,0,0,0,0,0,0,0,0,0,0,0,0,0,0,0,null,0,0,0,0,null,0,0]
[759,null,null,null,null,null,null,null,null,null,null,null,null,null,null,null,null,null,0,null,null,0,0,0,0,0,0,0,0,0,0,0,0,0,0,0,0,0,0,0,0,0,0,0,0,0,0,0,0,0,0,0,0,0,0,0,0,0,0,0,0,0,0,0,0,0,0,0,0,null,0,0,0,0,null,0,0]
[760,null,null,null,null,null,null,null,null,null,null,null,null,null,null,null,null,null,0,null,null,0,0,0,0,0,0,0,0,0,0,0,0,0,0,0,0,0,0,0,0,0,0,0,0,0,0,0,0,0,0,0,0,0,0,0,0,0,0,0,0,0,0,0,0,0,0,0,0,null,0,0,0,0,null,0,0]
[761,null,null,null,null,null,null,null,null,null,null,null,null,null,null,null,null,null,0,null,null,0,0,0,0,0,0,0,0,0,0,0,0,0,0,0,0,0,0,0,0,0,0,0,0,0,0,0,0,0,0,0,0,0,0,0,0,0,0,0,0,0,0,0,0,0,0,0,0,null,0,0,0,0,null,0,0]
[762,null,null,null,null,null,null,null,null,null,null,null,null,null,null,null,null,null,0,null,null,0,0,0,0,0,0,0,0,0,0,0,0,0,0,0,0,0,0,0,0,0,0,0,0,0,0,0,0,0,0,0,0,0,0,0,0,0,0,0,0,0,0,0,0,0,0,0,0,null,0,0,0,0,null,0,0]
[763,null,null,null,null,null,null,null,null,null,null,null,null,null,null,null,null,null,0,null,null,0,0,0,0,0,0,0,0,0,0,0,0,0,0,0,0,0,0,0,0,0,0,0,0,0,0,0,0,0,0,0,0,0,0,0,0,0,0,0,0,0,0,0,0,0,0,0,0,null,0,0,0,0,null,0,0]
[764,null,null,null,null,null,null,null,null,null,null,null,null,null,null,null,null,null,0,null,null,0,0,0,0,0,0,0,0,0,0,0,0,0,0,0,0,0,0,0,0,0,0,0,0,0,0,0,0,0,0,0,0,0,0,0,0,0,0,0,0,0,0,0,0,0,0,0,0,null,0,0,0,0,null,0,0]
[765,null,null,null,null,null,null,null,null,null,null,null,null,null,null,null,null,null,0,null,null,0,0,0,0,0,0,0,0,0,0,0,0,0,0,0,0,0,0,0,0,0,0,0,0,0,0,0,0,0,0,0,0,0,0,0,0,0,0,0,0,0,0,0,0,0,0,0,0,null,0,0,0,0,null,0,0]
[766,null,null,null,null,null,null,null,null,null,null,null,null,null,null,null,null,null,0,null,null,0,0,0,0,0,0,0,0,0,0,0,0,0,0,0,0,0,0,0,0,0,0,0,0,0,0,0,0,0,0,0,0,0,0,0,0,0,0,0,0,0,0,0,0,0,0,0,0,null,0,0,0,0,null,0,0]
[767,null,null,null,null,null,null,null,null,null,null,null,null,null,null,null,null,null,0,null,null,0,0,0,0,0,0,0,0,0,0,0,0,0,0,0,0,0,0,0,0,0,0,0,0,0,0,0,0,0,0,0,0,0,0,0,0,0,0,0,0,0,0,0,0,0,0,0,0,null,0,0,0,0,null,0,0]
[768,null,null,null,null,null,null,null,null,null,null,null,null,null,null,null,null,null,0,null,null,0,0,0,0,0,0,0,0,0,0,0,0,0,0,0,0,0,0,0,0,0,0,0,0,0,0,0,0,0,0,0,0,0,0,0,0,0,0,0,0,0,0,0,0,0,0,0,0,null,0,0,0,0,null,0,0]
[769,null,null,null,null,null,null,null,null,null,null,null,null,null,null,null,null,null,0,null,null,0,0,0,0,0,0,0,0,0,0,0,0,0,0,0,0,0,0,0,0,0,0,0,0,0,0,0,0,0,0,0,0,0,0,0,0,0,0,0,0,0,0,0,0,0,0,0,0,null,0,0,0,0,null,0,0]
[770,null,null,null,null,null,null,null,null,null,null,null,null,null,null,null,null,null,0,null,null,{"$f":"IF(M778=\"\",IF(COUNTA(B778:K778)>0,1,0),IF(OR(EOMONTH(M778,0)<$V$7,AND(EOMONTH($V$7,-1)+1<=M778,EOMONTH($V$7,0)>=M778)),0,IF(COUNTA(B778:K778)>0,1,0)))","v":0},{"$f":"IF(M778=\"\",IF(COUNTA(B778:K778)>0,1,0),IF(OR(EOMONTH(M778,0)<$W$7,AND(EOMONTH($W$7,-1)+1<=M778,EOMONTH($W$7,0)>=M778)),0,IF(COUNTA(B778:K778)>0,1,0)))","v":0},{"$f":"IF(M778=\"\",IF(COUNTA(B778:K778)>0,1,0),IF(OR(EOMONTH(M778,0)<$X$7,AND(EOMONTH($X$7,-1)+1<=M778,EOMONTH($X$7,0)>=M778)),0,IF(COUNTA(B778:K778)>0,1,0)))","v":0},{"$f":"IF(M778=\"\",IF(COUNTA(B778:K778)>0,1,0),IF(OR(EOMONTH(M778,0)<$Y$7,AND(EOMONTH($Y$7,-1)+1<=M778,EOMONTH($Y$7,0)>=M778)),0,IF(COUNTA(B778:K778)>0,1,0)))","v":0},0,0,0,0,0,0,0,0,{"$f":"IF(M778=\"\",IF(COUNTA(B778:K778)>0,1,0),IF(OR(EOMONTH(M778,0)<$AH$7,AND(EOMONTH($AH$7,-1)+1<=M778,EOMONTH($AH$7,0)>=M778)),0,IF(COUNTA(B778:K778)>0,1,0)))","v":0},{"$f":"IF(M778=\"\",IF(COUNTA(B778:K778)>0,1,0),IF(OR(EOMONTH(M778,0)<$AI$7,AND(EOMONTH($AI$7,-1)+1<=M778,EOMONTH($AI$7,0)>=M778)),0,IF(COUNTA(B778:K778)>0,1,0)))","v":0},{"$f":"IF(M778=\"\",IF(COUNTA(B778:K778)>0,1,0),IF(OR(EOMONTH(M778,0)<$AJ$7,AND(EOMONTH($AJ$7,-1)+1<=M778,EOMONTH($AJ$7,0)>=M778)),0,IF(COUNTA(B778:K778)>0,1,0)))","v":0},{"$f":"IF(M778=\"\",IF(COUNTA(B778:K778)>0,1,0),IF(OR(EOMONTH(M778,0)<$AK$7,AND(EOMONTH($AK$7,-1)+1<=M778,EOMONTH($AK$7,0)>=M778)),0,IF(COUNTA(B778:K778)>0,1,0)))","v":0},{"$f":"IF(M778=\"\",IF(COUNTA(B778:K778)>0,1,0),IF(OR(EOMONTH(M778,0)<$AL$7,AND(EOMONTH($AL$7,-1)+1<=M778,EOMONTH($AL$7,0)>=M778)),0,IF(COUNTA(B778:K778)>0,1,0)))","v":0},{"$f":"IF(M778=\"\",IF(COUNTA(B778:K778)>0,1,0),IF(OR(EOMONTH(M778,0)<$AM$7,AND(EOMONTH($AM$7,-1)+1<=M778,EOMONTH($AM$7,0)>=M778)),0,IF(COUNTA(B778:K778)>0,1,0)))","v":0},{"$f":"IF(M778=\"\",IF(COUNTA(B778:K778)>0,1,0),IF(OR(EOMONTH(M778,0)<$AN$7,AND(EOMONTH($AN$7,-1)+1<=M778,EOMONTH($AN$7,0)>=M778)),0,IF(COUNTA(B778:K778)>0,1,0)))","v":0},{"$f":"IF(M778=\"\",IF(COUNTA(B778:K778)>0,1,0),IF(OR(EOMONTH(M778,0)<$AO$7,AND(EOMONTH($AO$7,-1)+1<=M778,EOMONTH($AO$7,0)>=M778)),0,IF(COUNTA(B778:K778)>0,1,0)))","v":0},{"$f":"IF(M778=\"\",IF(COUNTA(B778:K778)>0,1,0),IF(OR(EOMONTH(M778,0)<$AP$7,AND(EOMONTH($AP$7,-1)+1<=M778,EOMONTH($AP$7,0)>=M778)),0,IF(COUNTA(B778:K778)>0,1,0)))","v":0},{"$f":"IF(M778=\"\",IF(COUNTA(B778:K778)>0,1,0),IF(OR(EOMONTH(M778,0)<$AQ$7,AND(EOMONTH($AQ$7,-1)+1<=M778,EOMONTH($AQ$7,0)>=M778)),0,IF(COUNTA(B778:K778)>0,1,0)))","v":0},{"$f":"IF(M778=\"\",IF(COUNTA(B778:K778)>0,1,0),IF(OR(EOMONTH(M778,0)<$AR$7,AND(EOMONTH($AR$7,-1)+1<=M778,EOMONTH($AR$7,0)>=M778)),0,IF(COUNTA(B778:K778)>0,1,0)))","v":0},{"$f":"IF(M778=\"\",IF(COUNTA(B778:K778)>0,1,0),IF(OR(EOMONTH(M778,0)<$AS$7,AND(EOMONTH($AS$7,-1)+1<=M778,EOMONTH($AS$7,0)>=M778)),0,IF(COUNTA(B778:K778)>0,1,0)))","v":0},{"$f":"IF(M778=\"\",IF(COUNTA(B778:K778)>0,1,0),IF(OR(EOMONTH(M778,0)<$AT$7,AND(EOMONTH($AT$7,-1)+1<=M778,EOMONTH($AT$7,0)>=M778)),0,IF(COUNTA(B778:K778)>0,1,0)))","v":0},{"$f":"IF(M778=\"\",IF(COUNTA(B778:K778)>0,1,0),IF(OR(EOMONTH(M778,0)<$AU$7,AND(EOMONTH($AU$7,-1)+1<=M778,EOMONTH($AU$7,0)>=M778)),0,IF(COUNTA(B778:K778)>0,1,0)))","v":0},{"$f":"IF(M778=\"\",IF(COUNTA(B778:K778)>0,1,0),IF(OR(EOMONTH(M778,0)<$AV$7,AND(EOMONTH($AV$7,-1)+1<=M778,EOMONTH($AV$7,0)>=M778)),0,IF(COUNTA(B778:K778)>0,1,0)))","v":0},{"$f":"IF(M778=\"\",IF(COUNTA(B778:K778)>0,1,0),IF(OR(EOMONTH(M778,0)<$AW$7,AND(EOMONTH($AW$7,-1)+1<=M778,EOMONTH($AW$7,0)>=M778)),0,IF(COUNTA(B778:K778)>0,1,0)))","v":0},0,0,0,0,0,0,0,0,0,0,0,0,0,0,0,0,0,0,0,0,null,0,{"$f":"IF(M778=\"\",IF(G778<>\"\",1,0),IF(OR(EOMONTH(M778,0)<EOMONTH(TODAY(),0),AND(EOMONTH(TODAY(),-1)+1<=M778,EOMONTH(TODAY(),0)>=M778)),0,IF(G778<>\"\",1,0)))","v":0},{"$f":"IF(M778=\"\",IF(H778<>\"\",1,0),IF(OR(EOMONTH(M778,0)<EOMONTH(TODAY(),0),AND(EOMONTH(TODAY(),-1)+1<=M778,EOMONTH(TODAY(),0)>=M778)),0,IF(H778<>\"\",1,0)))","v":0},{"$f":"IF(M778=\"\",IF(I778<>\"\",1,0),IF(OR(EOMONTH(M778,0)<EOMONTH(TODAY(),0),AND(EOMONTH(TODAY(),-1)+1<=M778,EOMONTH(TODAY(),0)>=M778)),0,IF(I778<>\"\",1,0)))","v":0},null,0,{"$f":"IF(M778=\"\",IF(J778>0,1,0),IF(EOMONTH(M778,0)<$BQ$7,0,IF(J778>0,1,0)))","v":0}]
[771,null,null,null,null,null,null,null,null,null,null,null,null,null,null,null,null,null,0,null,null,0,0,0,0,{"$f":"IF(M779=\"\",IF(COUNTA(B779:K779)>0,1,0),IF(OR(EOMONTH(M779,0)<$Z$7,AND(EOMONTH($Z$7,-1)+1<=M779,EOMONTH($Z$7,0)>=M779)),0,IF(COUNTA(B779:K779)>0,1,0)))","v":0},0,0,0,0,0,0,0,0,0,0,0,0,0,0,0,0,0,0,0,0,0,0,0,0,0,0,0,0,0,0,0,0,0,0,0,0,0,0,0,0,0,0,0,null,0,0,0,0,null,0,0]
[772,null,null,null,null,null,null,null,null,null,null,null,null,null,null,null,null,null,0,null,null,0,0,0,0,0,0,0,0,0,0,0,0,0,0,0,0,0,0,0,0,0,0,0,0,0,0,0,0,0,0,0,0,0,0,0,0,0,0,0,0,0,0,0,0,0,0,0,0,null,0,0,0,0,null,0,0]
[773,null,null,null,null,null,null,null,null,null,null,null,null,null,null,null,null,null,0,null,null,0,0,0,0,0,0,0,0,0,0,0,0,0,0,0,0,0,0,0,0,0,0,0,0,0,0,0,0,0,0,0,0,0,0,0,0,0,0,0,0,0,0,0,0,0,0,0,0,null,{"$f":"IF(M781=\"\",IF(F781<>\"\",1,0),IF(OR(EOMONTH(M781,0)<EOMONTH(TODAY(),0),AND(EOMONTH(TODAY(),-1)+1<=M781,EOMONTH(TODAY(),0)>=M781)),0,IF(F781<>\"\",1,0)))","v":0},0,0,0,null,0,0]
[774,null,null,null,null,null,null,null,null,null,null,null,null,null,null,null,null,null,0,null,null,0,0,0,0,0,{"$f":"IF(M782=\"\",IF(COUNTA(B782:K782)>0,1,0),IF(OR(EOMONTH(M782,0)<$AA$7,AND(EOMONTH($AA$7,-1)+1<=M782,EOMONTH($AA$7,0)>=M782)),0,IF(COUNTA(B782:K782)>0,1,0)))","v":0},{"$f":"IF(M782=\"\",IF(COUNTA(B782:K782)>0,1,0),IF(OR(EOMONTH(M782,0)<$AB$7,AND(EOMONTH($AB$7,-1)+1<=M782,EOMONTH($AB$7,0)>=M782)),0,IF(COUNTA(B782:K782)>0,1,0)))","v":0},{"$f":"IF(M782=\"\",IF(COUNTA(B782:K782)>0,1,0),IF(OR(EOMONTH(M782,0)<$AC$7,AND(EOMONTH($AC$7,-1)+1<=M782,EOMONTH($AC$7,0)>=M782)),0,IF(COUNTA(B782:K782)>0,1,0)))","v":0},{"$f":"IF(M782=\"\",IF(COUNTA(B782:K782)>0,1,0),IF(OR(EOMONTH(M782,0)<$AD$7,AND(EOMONTH($AD$7,-1)+1<=M782,EOMONTH($AD$7,0)>=M782)),0,IF(COUNTA(B782:K782)>0,1,0)))","v":0},{"$f":"IF(M782=\"\",IF(COUNTA(B782:K782)>0,1,0),IF(OR(EOMONTH(M782,0)<$AE$7,AND(EOMONTH($AE$7,-1)+1<=M782,EOMONTH($AE$7,0)>=M782)),0,IF(COUNTA(B782:K782)>0,1,0)))","v":0},{"$f":"IF(M782=\"\",IF(COUNTA(B782:K782)>0,1,0),IF(OR(EOMONTH(M782,0)<$AF$7,AND(EOMONTH($AF$7,-1)+1<=M782,EOMONTH($AF$7,0)>=M782)),0,IF(COUNTA(B782:K782)>0,1,0)))","v":0},{"$f":"IF(M782=\"\",IF(COUNTA(B782:K782)>0,1,0),IF(OR(EOMONTH(M782,0)<$AG$7,AND(EOMONTH($AG$7,-1)+1<=M782,EOMONTH($AG$7,0)>=M782)),0,IF(COUNTA(B782:K782)>0,1,0)))","v":0},0,0,0,0,0,0,0,0,0,0,0,0,0,0,0,0,0,0,0,0,0,0,0,0,0,0,0,0,0,0,0,0,0,0,0,0,null,0,0,0,0,null,0,0]
[775,null,null,null,null,null,null,null,null,null,null,null,null,null,null,null,null,null,0,null,null,0,0,0,0,0,0,0,0,0,0,0,0,0,0,0,0,0,0,0,0,0,0,0,0,0,0,0,0,{"$f":"IF(M783=\"\",IF(COUNTA(B783:K783)>0,1,0),IF(OR(EOMONTH(M783,0)<$AX$7,AND(EOMONTH($AX$7,-1)+1<=M783,EOMONTH($AX$7,0)>=M783)),0,IF(COUNTA(B783:K783)>0,1,0)))","v":0},{"$f":"IF(M783=\"\",IF(COUNTA(B783:K783)>0,1,0),IF(OR(EOMONTH(M783,0)<$AY$7,AND(EOMONTH($AY$7,-1)+1<=M783,EOMONTH($AY$7,0)>=M783)),0,IF(COUNTA(B783:K783)>0,1,0)))","v":0},{"$f":"IF(M783=\"\",IF(COUNTA(B783:K783)>0,1,0),IF(OR(EOMONTH(M783,0)<$AZ$7,AND(EOMONTH($AZ$7,-1)+1<=M783,EOMONTH($AZ$7,0)>=M783)),0,IF(COUNTA(B783:K783)>0,1,0)))","v":0},{"$f":"IF(M783=\"\",IF(COUNTA(B783:K783)>0,1,0),IF(OR(EOMONTH(M783,0)<$BA$7,AND(EOMONTH($BA$7,-1)+1<=M783,EOMONTH($BA$7,0)>=M783)),0,IF(COUNTA(B783:K783)>0,1,0)))","v":0},{"$f":"IF(M783=\"\",IF(COUNTA(B783:K783)>0,1,0),IF(OR(EOMONTH(M783,0)<$BB$7,AND(EOMONTH($BB$7,-1)+1<=M783,EOMONTH($BB$7,0)>=M783)),0,IF(COUNTA(B783:K783)>0,1,0)))","v":0},{"$f":"IF(M783=\"\",IF(COUNTA(B783:K783)>0,1,0),IF(OR(EOMONTH(M783,0)<$BC$7,AND(EOMONTH($BC$7,-1)+1<=M783,EOMONTH($BC$7,0)>=M783)),0,IF(COUNTA(B783:K783)>0,1,0)))","v":0},{"$f":"IF(M783=\"\",IF(COUNTA(B783:K783)>0,1,0),IF(OR(EOMONTH(M783,0)<$BD$7,AND(EOMONTH($BD$7,-1)+1<=M783,EOMONTH($BD$7,0)>=M783)),0,IF(COUNTA(B783:K783)>0,1,0)))","v":0},{"$f":"IF(M783=\"\",IF(COUNTA(B783:K783)>0,1,0),IF(OR(EOMONTH(M783,0)<$BE$7,AND(EOMONTH($BE$7,-1)+1<=M783,EOMONTH($BE$7,0)>=M783)),0,IF(COUNTA(B783:K783)>0,1,0)))","v":0},{"$f":"IF(M783=\"\",IF(COUNTA(B783:K783)>0,1,0),IF(OR(EOMONTH(M783,0)<$BF$7,AND(EOMONTH($BF$7,-1)+1<=M783,EOMONTH($BF$7,0)>=M783)),0,IF(COUNTA(B783:K783)>0,1,0)))","v":0},{"$f":"IF(M783=\"\",IF(COUNTA(B783:K783)>0,1,0),IF(OR(EOMONTH(M783,0)<$BG$7,AND(EOMONTH($BG$7,-1)+1<=M783,EOMONTH($BG$7,0)>=M783)),0,IF(COUNTA(B783:K783)>0,1,0)))","v":0},{"$f":"IF(M783=\"\",IF(COUNTA(B783:K783)>0,1,0),IF(OR(EOMONTH(M783,0)<$BH$7,AND(EOMONTH($BH$7,-1)+1<=M783,EOMONTH($BH$7,0)>=M783)),0,IF(COUNTA(B783:K783)>0,1,0)))","v":0},{"$f":"IF(M783=\"\",IF(COUNTA(B783:K783)>0,1,0),IF(OR(EOMONTH(M783,0)<$BI$7,AND(EOMONTH($BI$7,-1)+1<=M783,EOMONTH($BI$7,0)>=M783)),0,IF(COUNTA(B783:K783)>0,1,0)))","v":0},{"$f":"IF(M783=\"\",IF(COUNTA(B783:K783)>0,1,0),IF(OR(EOMONTH(M783,0)<$BJ$7,AND(EOMONTH($BJ$7,-1)+1<=M783,EOMONTH($BJ$7,0)>=M783)),0,IF(COUNTA(B783:K783)>0,1,0)))","v":0},{"$f":"IF(M783=\"\",IF(COUNTA(B783:K783)>0,1,0),IF(OR(EOMONTH(M783,0)<$BK$7,AND(EOMONTH($BK$7,-1)+1<=M783,EOMONTH($BK$7,0)>=M783)),0,IF(COUNTA(B783:K783)>0,1,0)))","v":0},{"$f":"IF(M783=\"\",IF(COUNTA(B783:K783)>0,1,0),IF(OR(EOMONTH(M783,0)<$BL$7,AND(EOMONTH($BL$7,-1)+1<=M783,EOMONTH($BL$7,0)>=M783)),0,IF(COUNTA(B783:K783)>0,1,0)))","v":0},{"$f":"IF(M783=\"\",IF(COUNTA(B783:K783)>0,1,0),IF(OR(EOMONTH(M783,0)<$BM$7,AND(EOMONTH($BM$7,-1)+1<=M783,EOMONTH($BM$7,0)>=M783)),0,IF(COUNTA(B783:K783)>0,1,0)))","v":0},{"$f":"IF(M783=\"\",IF(COUNTA(B783:K783)>0,1,0),IF(OR(EOMONTH(M783,0)<$BN$7,AND(EOMONTH($BN$7,-1)+1<=M783,EOMONTH($BN$7,0)>=M783)),0,IF(COUNTA(B783:K783)>0,1,0)))","v":0},{"$f":"IF(M783=\"\",IF(COUNTA(B783:K783)>0,1,0),IF(OR(EOMONTH(M783,0)<$BO$7,AND(EOMONTH($BO$7,-1)+1<=M783,EOMONTH($BO$7,0)>=M783)),0,IF(COUNTA(B783:K783)>0,1,0)))","v":0},{"$f":"IF(M783=\"\",IF(COUNTA(B783:K783)>0,1,0),IF(OR(EOMONTH(M783,0)<$BP$7,AND(EOMONTH($BP$7,-1)+1<=M783,EOMONTH($BP$7,0)>=M783)),0,IF(COUNTA(B783:K783)>0,1,0)))","v":0},{"$f":"IF(M783=\"\",IF(COUNTA(B783:K783)>0,1,0),IF(OR(EOMONTH(M783,0)<$BQ$7,AND(EOMONTH($BQ$7,-1)+1<=M783,EOMONTH($BQ$7,0)>=M783)),0,IF(COUNTA(B783:K783)>0,1,0)))","v":0},null,0,0,0,0,null,0,0]
[776,null,null,null,null,null,null,null,null,null,null,null,null,null,null,null,null,null,0,null,null,0,0,0,0,0,0,0,0,0,0,0,0,0,0,0,0,0,0,0,0,0,0,0,0,0,0,0,0,0,0,0,0,0,0,0,0,0,0,0,0,0,0,0,0,0,0,0,0,null,0,0,0,0,null,0,0]
[777,null,null,null,null,null,null,null,null,null,null,null,null,null,null,null,null,null,0,null,null,0,0,0,0,0,0,0,0,0,0,0,0,0,0,0,0,0,0,0,0,0,0,0,0,0,0,0,0,0,0,0,0,0,0,0,0,0,0,0,0,0,0,0,0,0,0,0,0,null,0,0,0,0,null,0,0]
[778,null,null,null,null,null,null,null,null,null,null,null,null,null,null,null,null,null,0,null,null,0,0,0,0,0,0,0,0,0,0,0,0,0,0,0,0,0,0,0,0,0,0,0,0,0,0,0,0,0,0,0,0,0,0,0,0,0,0,0,0,0,0,0,0,0,0,0,0,null,0,0,0,0,null,0,0]
[779,null,null,null,null,null,null,null,null,null,null,null,null,null,null,null,null,null,0,null,null,0,0,0,0,0,0,0,0,0,0,0,0,0,0,0,0,0,0,0,0,0,0,0,0,0,0,0,0,0,0,0,0,0,0,0,0,0,0,0,0,0,0,0,0,0,0,0,0,null,0,0,0,0,null,0,0]
[780,null,null,null,null,null,null,null,null,null,null,null,null,null,null,null,null,null,0,null,null,0,0,0,0,0,0,0,0,0,0,0,0,0,0,0,0,0,0,0,0,0,0,0,0,0,0,0,0,0,0,0,0,0,0,0,0,0,0,0,0,0,0,0,0,0,0,0,0,null,0,0,0,0,null,0,0]
[781,null,null,null,null,null,null,null,null,null,null,null,null,null,null,null,null,null,0,null,null,0,0,0,0,0,0,0,0,0,0,0,0,0,0,0,0,0,0,0,0,0,0,0,0,0,0,0,0,0,0,0,0,0,0,0,0,0,0,0,0,0,0,0,0,0,0,0,0,null,0,0,0,0,null,0,0]
[782,null,null,null,null,null,null,null,null,null,null,null,null,null,null,null,null,null,0,null,null,0,0,0,0,0,0,0,0,0,0,0,0,0,0,0,0,0,0,0,0,0,0,0,0,0,0,0,0,0,0,0,0,0,0,0,0,0,0,0,0,0,0,0,0,0,0,0,0,null,0,0,0,0,null,0,0]
[783,null,null,null,null,null,null,null,null,null,null,null,null,null,null,null,null,null,0,null,null,0,0,0,0,0,0,0,0,0,0,0,0,0,0,0,0,0,0,0,0,0,0,0,0,0,0,0,0,0,0,0,0,0,0,0,0,0,0,0,0,0,0,0,0,0,0,0,0,null,0,0,0,0,null,0,0]
[784,null,null,null,null,null,null,null,null,null,null,null,null,null,null,null,null,null,0,null,null,0,0,0,0,0,0,0,0,0,0,0,0,0,0,0,0,0,0,0,0,0,0,0,0,0,0,0,0,0,0,0,0,0,0,0,0,0,0,0,0,0,0,0,0,0,0,0,0,null,0,0,0,0,null,0,0]
[785,null,null,null,null,null,null,null,null,null,null,null,null,null,null,null,null,null,0,null,null,0,0,0,0,0,0,0,0,0,0,0,0,0,0,0,0,0,0,0,0,0,0,0,0,0,0,0,0,0,0,0,0,0,0,0,0,0,0,0,0,0,0,0,0,0,0,0,0,null,0,0,0,0,null,0,0]
[786,null,null,null,null,null,null,null,null,null,null,null,null,null,null,null,null,null,0,null,null,0,0,0,0,0,0,0,0,0,0,0,0,0,0,0,0,0,0,0,0,0,0,0,0,0,0,0,0,0,0,0,0,0,0,0,0,0,0,0,0,0,0,0,0,0,0,0,0,null,0,0,0,0,null,0,0]
[787,null,null,null,null,null,null,null,null,null,null,null,null,null,null,null,null,null,0,null,null,0,0,0,0,0,0,0,0,0,0,0,0,0,0,0,0,0,0,0,0,0,0,0,0,0,0,0,0,0,0,0,0,0,0,0,0,0,0,0,0,0,0,0,0,0,0,0,0,null,0,0,0,0,null,0,0]
[788,null,null,null,null,null,null,null,null,null,null,null,null,null,null,null,null,null,0,null,null,0,0,0,0,0,0,0,0,0,0,0,0,0,0,0,0,0,0,0,0,0,0,0,0,0,0,0,0,0,0,0,0,0,0,0,0,0,0,0,0,0,0,0,0,0,0,0,0,null,0,0,0,0,null,0,0]
[789,null,null,null,null,null,null,null,null,null,null,null,null,null,null,null,null,null,0,null,null,0,0,0,0,0,0,0,0,0,0,0,0,0,0,0,0,0,0,0,0,0,0,0,0,0,0,0,0,0,0,0,0,0,0,0,0,0,0,0,0,0,0,0,0,0,0,0,0,null,0,0,0,0,null,0,0]
[790,null,null,null,null,null,null,null,null,null,null,null,null,null,null,null,null,null,0,null,null,0,0,0,0,0,0,0,0,0,0,0,0,0,0,0,0,0,0,0,0,0,0,0,0,0,0,0,0,0,0,0,0,0,0,0,0,0,0,0,0,0,0,0,0,0,0,0,0,null,0,0,0,0,null,0,0]
[791,null,null,null,null,null,null,null,null,null,null,null,null,null,null,null,null,null,0,null,null,0,0,0,0,0,0,0,0,0,0,0,0,0,0,0,0,0,0,0,0,0,0,0,0,0,0,0,0,0,0,0,0,0,0,0,0,0,0,0,0,0,0,0,0,0,0,0,0,null,0,0,0,0,null,0,0]
[792,null,null,null,null,null,null,null,null,null,null,null,null,null,null,null,null,null,0,null,null,0,0,0,0,0,0,0,0,0,0,0,0,0,0,0,0,0,0,0,0,0,0,0,0,0,0,0,0,0,0,0,0,0,0,0,0,0,0,0,0,0,0,0,0,0,0,0,0,null,0,0,0,0,null,0,0]
[793,null,null,null,null,null,null,null,null,null,null,null,null,null,null,null,null,null,0,null,null,0,0,0,0,0,0,0,0,0,0,0,0,0,0,0,0,0,0,0,0,0,0,0,0,0,0,0,0,0,0,0,0,0,0,0,0,0,0,0,0,0,0,0,0,0,0,0,0,null,0,0,0,0,null,0,0]
[794,null,null,null,null,null,null,null,null,null,null,null,null,null,null,null,null,null,0,null,null,0,0,0,0,0,0,0,0,0,0,0,0,0,0,0,0,0,0,0,0,0,0,0,0,0,0,0,0,0,0,0,0,0,0,0,0,0,0,0,0,0,0,0,0,0,0,0,0,null,0,0,0,0,null,0,0]
[795,null,null,null,null,null,null,null,null,null,null,null,null,null,null,null,null,null,0,null,null,0,0,0,0,0,0,0,0,0,0,0,0,0,0,0,0,0,0,0,0,0,0,0,0,0,0,0,0,0,0,0,0,0,0,0,0,0,0,0,0,0,0,0,0,0,0,0,0,null,0,0,0,0,null,0,0]
[796,null,null,null,null,null,null,null,null,null,null,null,null,null,null,null,null,null,0,null,null,0,0,0,0,0,0,0,0,0,0,0,0,0,0,0,0,0,0,0,0,0,0,0,0,0,0,0,0,0,0,0,0,0,0,0,0,0,0,0,0,0,0,0,0,0,0,0,0,null,0,0,0,0,null,0,0]
[797,null,null,null,null,null,null,null,null,null,null,null,null,null,null,null,null,null,0,null,null,0,0,0,0,0,0,0,0,0,0,0,0,0,0,0,0,0,0,0,0,0,0,0,0,0,0,0,0,0,0,0,0,0,0,0,0,0,0,0,0,0,0,0,0,0,0,0,0,null,0,0,0,0,null,0,0]
[798,null,null,null,null,null,null,null,null,null,null,null,null,null,null,null,null,null,{"$f":"IF(E806=\"\",0,IF(VALUE(E806)>VALUE($E$4),0,1))","v":0},null,null,0,0,0,0,0,0,0,0,0,0,0,0,0,0,0,0,0,0,0,0,0,0,0,0,0,0,0,0,0,0,0,0,0,0,0,0,0,0,0,0,0,0,0,0,0,0,0,0,null,0,0,0,0,null,{"$f":"SUMIFS(V806:BQ806,$V$7:$BQ$7,\">=\"&EOMONTH(TODAY(),-1)+1,$V$7:$BQ$7,\"<=\"&EOMONTH(TODAY(),0))","v":0},0]
[799,null,null,null,null,null,null,null,null,null,null,null,null,null,null,null,null,null,0,null,null,0,0,0,0,0,0,0,0,0,0,0,0,0,0,0,0,0,0,0,0,0,0,0,0,0,0,0,0,0,0,0,0,0,0,0,0,0,0,0,0,0,0,0,0,0,0,0,0,null,0,0,0,0,null,0,0]
[800,null,null,null,null,null,null,null,null,null,null,null,null,null,null,null,null,null,0,null,null,0,0,0,0,0,0,0,0,0,0,0,0,0,0,0,0,0,0,0,0,0,0,0,0,0,0,0,0,0,0,0,0,0,0,0,0,0,0,0,0,0,0,0,0,0,0,0,0,null,0,0,0,0,null,0,0]
[801,null,null,null,null,null,null,null,null,null,null,null,null,null,null,null,null,null,0,null,null,0,0,0,0,0,0,0,0,0,0,0,0,0,0,0,0,0,0,0,0,0,0,0,0,0,0,0,0,0,0,0,0,0,0,0,0,0,0,0,0,0,0,0,0,0,0,0,0,null,0,0,0,0,null,0,0]
[802,null,null,null,null,null,null,null,null,null,null,null,null,null,null,null,null,null,0,null,null,0,0,0,0,0,0,0,0,0,0,0,0,0,0,0,0,0,0,0,0,0,0,0,0,0,0,0,0,0,0,0,0,0,0,0,0,0,0,0,0,0,0,0,0,0,0,0,0,null,0,0,0,0,null,0,0]
[803,null,null,null,null,null,null,null,null,null,null,null,null,null,null,null,null,null,0,null,null,0,0,0,0,0,0,0,0,0,0,0,0,0,0,0,0,0,0,0,0,0,0,0,0,0,0,0,0,0,0,0,0,0,0,0,0,0,0,0,0,0,0,0,0,0,0,0,0,null,0,0,0,0,null,0,0]
[804,null,null,null,null,null,null,null,null,null,null,null,null,null,null,null,null,null,0,null,null,0,0,0,0,0,0,0,0,0,0,0,0,0,0,0,0,0,0,0,0,0,0,0,0,0,0,0,0,0,0,0,0,0,0,0,0,0,0,0,0,0,0,0,0,0,0,0,0,null,0,0,0,0,null,0,0]
[805,null,null,null,null,null,null,null,null,null,null,null,null,null,null,null,null,null,0,null,null,0,0,0,0,0,0,0,0,0,0,0,0,0,0,0,0,0,0,0,0,0,0,0,0,0,0,0,0,0,0,0,0,0,0,0,0,0,0,0,0,0,0,0,0,0,0,0,0,null,0,0,0,0,null,0,0]
[806,null,null,null,null,null,null,null,null,null,null,null,null,null,null,null,null,null,0,null,null,0,0,0,0,0,0,0,0,0,0,0,0,0,0,0,0,0,0,0,0,0,0,0,0,0,0,0,0,0,0,0,0,0,0,0,0,0,0,0,0,0,0,0,0,0,0,0,0,null,0,0,0,0,null,0,0]
[807,null,null,null,null,null,null,null,null,null,null,null,null,null,null,null,null,null,0,null,null,0,0,0,0,0,0,0,0,0,0,0,0,0,0,0,0,0,0,0,0,0,0,0,0,0,0,0,0,0,0,0,0,0,0,0,0,0,0,0,0,0,0,0,0,0,0,0,0,null,0,0,0,0,null,0,0]
[808,null,null,null,null,null,null,null,null,null,null,null,null,null,null,null,null,null,0,null,null,0,0,0,0,0,0,0,0,0,0,0,0,0,0,0,0,0,0,0,0,0,0,0,0,0,0,0,0,0,0,0,0,0,0,0,0,0,0,0,0,0,0,0,0,0,0,0,0,null,0,0,0,0,null,0,0]
[809,null,null,null,null,null,null,null,null,null,null,null,null,null,null,null,null,null,0,null,null,0,0,0,0,0,0,0,0,0,0,0,0,0,0,0,0,0,0,0,0,0,0,0,0,0,0,0,0,0,0,0,0,0,0,0,0,0,0,0,0,0,0,0,0,0,0,0,0,null,0,0,0,0,null,0,0]
[810,null,null,null,null,null,null,null,null,null,null,null,null,null,null,null,null,null,0,null,null,0,0,0,0,0,0,0,0,0,0,0,0,0,0,0,0,0,0,0,0,0,0,0,0,0,0,0,0,0,0,0,0,0,0,0,0,0,0,0,0,0,0,0,0,0,0,0,0,null,0,0,0,0,null,0,0]
[811,null,null,null,null,null,null,null,null,null,null,null,null,null,null,null,null,null,0,null,null,0,0,0,0,0,0,0,0,0,0,0,0,0,0,0,0,0,0,0,0,0,0,0,0,0,0,0,0,0,0,0,0,0,0,0,0,0,0,0,0,0,0,0,0,0,0,0,0,null,0,0,0,0,null,0,0]
[812,null,null,null,null,null,null,null,null,null,null,null,null,null,null,null,null,null,0,null,null,0,0,0,0,0,0,0,0,0,0,0,0,0,0,0,0,0,0,0,0,0,0,0,0,0,0,0,0,0,0,0,0,0,0,0,0,0,0,0,0,0,0,0,0,0,0,0,0,null,0,0,0,0,null,0,0]
[813,null,null,null,null,null,null,null,null,null,null,null,null,null,null,null,null,null,0,null,null,0,0,0,0,0,0,0,0,0,0,0,0,0,0,0,0,0,0,0,0,0,0,0,0,0,0,0,0,0,0,0,0,0,0,0,0,0,0,0,0,0,0,0,0,0,0,0,0,null,0,0,0,0,null,0,0]
[814,null,null,null,null,null,null,null,null,null,null,null,null,null,null,null,null,null,0,null,null,0,0,0,0,0,0,0,0,0,0,0,0,0,0,0,0,0,0,0,0,0,0,0,0,0,0,0,0,0,0,0,0,0,0,0,0,0,0,0,0,0,0,0,0,0,0,0,0,null,0,0,0,0,null,0,0]
[815,null,null,null,null,null,null,null,null,null,null,null,null,null,null,null,null,null,0,null,null,0,0,0,0,0,0,0,0,0,0,0,0,0,0,0,0,0,0,0,0,0,0,0,0,0,0,0,0,0,0,0,0,0,0,0,0,0,0,0,0,0,0,0,0,0,0,0,0,null,0,0,0,0,null,0,0]
[816,null,null,null,null,null,null,null,null,null,null,null,null,null,null,null,null,null,0,null,null,0,0,0,0,0,0,0,0,0,0,0,0,0,0,0,0,0,0,0,0,0,0,0,0,0,0,0,0,0,0,0,0,0,0,0,0,0,0,0,0,0,0,0,0,0,0,0,0,null,0,0,0,0,null,0,0]
[817,null,null,null,null,null,null,null,null,null,null,null,null,null,null,null,null,null,0,null,null,0,0,0,0,0,0,0,0,0,0,0,0,0,0,0,0,0,0,0,0,0,0,0,0,0,0,0,0,0,0,0,0,0,0,0,0,0,0,0,0,0,0,0,0,0,0,0,0,null,0,0,0,0,null,0,0]
[818,null,null,null,null,null,null,null,null,null,null,null,null,null,null,null,null,null,0,null,null,0,0,0,0,0,0,0,0,0,0,0,0,0,0,0,0,0,0,0,0,0,0,0,0,0,0,0,0,0,0,0,0,0,0,0,0,0,0,0,0,0,0,0,0,0,0,0,0,null,0,0,0,0,null,0,0]
[819,null,null,null,null,null,null,null,null,null,null,null,null,null,null,null,null,null,0,null,null,0,0,0,0,0,0,0,0,0,0,0,0,0,0,0,0,0,0,0,0,0,0,0,0,0,0,0,0,0,0,0,0,0,0,0,0,0,0,0,0,0,0,0,0,0,0,0,0,null,0,0,0,0,null,0,0]
[820,null,null,null,null,null,null,null,null,null,null,null,null,null,null,null,null,null,0,null,null,0,0,0,0,0,0,0,0,0,0,0,0,0,0,0,0,0,0,0,0,0,0,0,0,0,0,0,0,0,0,0,0,0,0,0,0,0,0,0,0,0,0,0,0,0,0,0,0,null,0,0,0,0,null,0,0]
[821,null,null,null,null,null,null,null,null,null,null,null,null,null,null,null,null,null,0,null,null,0,0,0,0,0,0,0,0,0,0,0,0,0,0,0,0,0,0,0,0,0,0,0,0,0,0,0,0,0,0,0,0,0,0,0,0,0,0,0,0,0,0,0,0,0,0,0,0,null,0,0,0,0,null,0,0]
[822,null,null,null,null,null,null,null,null,null,null,null,null,null,null,null,null,null,0,null,null,0,0,0,0,0,0,0,0,0,0,0,0,0,0,0,0,0,0,0,0,0,0,0,0,0,0,0,0,0,0,0,0,0,0,0,0,0,0,0,0,0,0,0,0,0,0,0,0,null,0,0,0,0,null,0,0]
[823,null,null,null,null,null,null,null,null,null,null,null,null,null,null,null,null,null,0,null,null,0,0,0,0,0,0,0,0,0,0,0,0,0,0,0,0,0,0,0,0,0,0,0,0,0,0,0,0,0,0,0,0,0,0,0,0,0,0,0,0,0,0,0,0,0,0,0,0,null,0,0,0,0,null,0,0]
[824,null,null,null,null,null,null,null,null,null,null,null,null,null,null,null,null,null,0,null,null,0,0,0,0,0,0,0,0,0,0,0,0,0,0,0,0,0,0,0,0,0,0,0,0,0,0,0,0,0,0,0,0,0,0,0,0,0,0,0,0,0,0,0,0,0,0,0,0,null,0,0,0,0,null,0,0]
[825,null,null,null,null,null,null,null,null,null,null,null,null,null,null,null,null,null,0,null,null,0,0,0,0,0,0,0,0,0,0,0,0,0,0,0,0,0,0,0,0,0,0,0,0,0,0,0,0,0,0,0,0,0,0,0,0,0,0,0,0,0,0,0,0,0,0,0,0,null,0,0,0,0,null,0,0]
[826,null,null,null,null,null,null,null,null,null,null,null,null,null,null,null,null,null,0,null,null,0,0,0,0,0,0,0,0,0,0,0,0,0,0,0,0,0,0,0,0,0,0,0,0,0,0,0,0,0,0,0,0,0,0,0,0,0,0,0,0,0,0,0,0,0,0,0,0,null,0,0,0,0,null,0,0]
[827,null,null,null,null,null,null,null,null,null,null,null,null,null,null,null,null,null,0,null,null,0,0,0,0,0,0,0,0,0,0,0,0,0,0,0,0,0,0,0,0,0,0,0,0,0,0,0,0,0,0,0,0,0,0,0,0,0,0,0,0,0,0,0,0,0,0,0,0,null,0,0,0,0,null,0,0]
[828,null,null,null,null,null,null,null,null,null,null,null,null,null,null,null,null,null,0,null,null,0,0,0,0,0,0,0,0,0,0,0,0,0,0,0,0,0,0,0,0,0,0,0,0,0,0,0,0,0,0,0,0,0,0,0,0,0,0,0,0,0,0,0,0,0,0,0,0,null,0,0,0,0,null,0,0]
[829,null,null,null,null,null,null,null,null,null,null,null,null,null,null,null,null,null,0,null,null,0,0,0,0,0,0,0,0,0,0,0,0,0,0,0,0,0,0,0,0,0,0,0,0,0,0,0,0,0,0,0,0,0,0,0,0,0,0,0,0,0,0,0,0,0,0,0,0,null,0,0,0,0,null,0,0]
[830,null,null,null,null,null,null,null,null,null,null,null,null,null,null,null,null,null,0,null,null,0,0,0,0,0,0,0,0,0,0,0,0,0,0,0,0,0,0,0,0,0,0,0,0,0,0,0,0,0,0,0,0,0,0,0,0,0,0,0,0,0,0,0,0,0,0,0,0,null,0,0,0,0,null,0,0]
[831,null,null,null,null,null,null,null,null,null,null,null,null,null,null,null,null,null,0,null,null,0,0,0,0,0,0,0,0,0,0,0,0,0,0,0,0,0,0,0,0,0,0,0,0,0,0,0,0,0,0,0,0,0,0,0,0,0,0,0,0,0,0,0,0,0,0,0,0,null,0,0,0,0,null,0,0]
[832,null,null,null,null,null,null,null,null,null,null,null,null,null,null,null,null,null,0,null,null,0,0,0,0,0,0,0,0,0,0,0,0,0,0,0,0,0,0,0,0,0,0,0,0,0,0,0,0,0,0,0,0,0,0,0,0,0,0,0,0,0,0,0,0,0,0,0,0,null,0,0,0,0,null,0,0]
[833,null,null,null,null,null,null,null,null,null,null,null,null,null,null,null,null,null,0,null,null,0,0,0,0,0,0,0,0,0,0,0,0,0,0,0,0,0,0,0,0,0,0,0,0,0,0,0,0,0,0,0,0,0,0,0,0,0,0,0,0,0,0,0,0,0,0,0,0,null,0,0,0,0,null,0,0]
[834,null,null,null,null,null,null,null,null,null,null,null,null,null,null,null,null,null,0,null,null,{"$f":"IF(M842=\"\",IF(COUNTA(B842:K842)>0,1,0),IF(OR(EOMONTH(M842,0)<$V$7,AND(EOMONTH($V$7,-1)+1<=M842,EOMONTH($V$7,0)>=M842)),0,IF(COUNTA(B842:K842)>0,1,0)))","v":0},{"$f":"IF(M842=\"\",IF(COUNTA(B842:K842)>0,1,0),IF(OR(EOMONTH(M842,0)<$W$7,AND(EOMONTH($W$7,-1)+1<=M842,EOMONTH($W$7,0)>=M842)),0,IF(COUNTA(B842:K842)>0,1,0)))","v":0},{"$f":"IF(M842=\"\",IF(COUNTA(B842:K842)>0,1,0),IF(OR(EOMONTH(M842,0)<$X$7,AND(EOMONTH($X$7,-1)+1<=M842,EOMONTH($X$7,0)>=M842)),0,IF(COUNTA(B842:K842)>0,1,0)))","v":0},{"$f":"IF(M842=\"\",IF(COUNTA(B842:K842)>0,1,0),IF(OR(EOMONTH(M842,0)<$Y$7,AND(EOMONTH($Y$7,-1)+1<=M842,EOMONTH($Y$7,0)>=M842)),0,IF(COUNTA(B842:K842)>0,1,0)))","v":0},0,0,0,0,0,0,0,0,{"$f":"IF(M842=\"\",IF(COUNTA(B842:K842)>0,1,0),IF(OR(EOMONTH(M842,0)<$AH$7,AND(EOMONTH($AH$7,-1)+1<=M842,EOMONTH($AH$7,0)>=M842)),0,IF(COUNTA(B842:K842)>0,1,0)))","v":0},{"$f":"IF(M842=\"\",IF(COUNTA(B842:K842)>0,1,0),IF(OR(EOMONTH(M842,0)<$AI$7,AND(EOMONTH($AI$7,-1)+1<=M842,EOMONTH($AI$7,0)>=M842)),0,IF(COUNTA(B842:K842)>0,1,0)))","v":0},{"$f":"IF(M842=\"\",IF(COUNTA(B842:K842)>0,1,0),IF(OR(EOMONTH(M842,0)<$AJ$7,AND(EOMONTH($AJ$7,-1)+1<=M842,EOMONTH($AJ$7,0)>=M842)),0,IF(COUNTA(B842:K842)>0,1,0)))","v":0},{"$f":"IF(M842=\"\",IF(COUNTA(B842:K842)>0,1,0),IF(OR(EOMONTH(M842,0)<$AK$7,AND(EOMONTH($AK$7,-1)+1<=M842,EOMONTH($AK$7,0)>=M842)),0,IF(COUNTA(B842:K842)>0,1,0)))","v":0},{"$f":"IF(M842=\"\",IF(COUNTA(B842:K842)>0,1,0),IF(OR(EOMONTH(M842,0)<$AL$7,AND(EOMONTH($AL$7,-1)+1<=M842,EOMONTH($AL$7,0)>=M842)),0,IF(COUNTA(B842:K842)>0,1,0)))","v":0},{"$f":"IF(M842=\"\",IF(COUNTA(B842:K842)>0,1,0),IF(OR(EOMONTH(M842,0)<$AM$7,AND(EOMONTH($AM$7,-1)+1<=M842,EOMONTH($AM$7,0)>=M842)),0,IF(COUNTA(B842:K842)>0,1,0)))","v":0},{"$f":"IF(M842=\"\",IF(COUNTA(B842:K842)>0,1,0),IF(OR(EOMONTH(M842,0)<$AN$7,AND(EOMONTH($AN$7,-1)+1<=M842,EOMONTH($AN$7,0)>=M842)),0,IF(COUNTA(B842:K842)>0,1,0)))","v":0},{"$f":"IF(M842=\"\",IF(COUNTA(B842:K842)>0,1,0),IF(OR(EOMONTH(M842,0)<$AO$7,AND(EOMONTH($AO$7,-1)+1<=M842,EOMONTH($AO$7,0)>=M842)),0,IF(COUNTA(B842:K842)>0,1,0)))","v":0},{"$f":"IF(M842=\"\",IF(COUNTA(B842:K842)>0,1,0),IF(OR(EOMONTH(M842,0)<$AP$7,AND(EOMONTH($AP$7,-1)+1<=M842,EOMONTH($AP$7,0)>=M842)),0,IF(COUNTA(B842:K842)>0,1,0)))","v":0},{"$f":"IF(M842=\"\",IF(COUNTA(B842:K842)>0,1,0),IF(OR(EOMONTH(M842,0)<$AQ$7,AND(EOMONTH($AQ$7,-1)+1<=M842,EOMONTH($AQ$7,0)>=M842)),0,IF(COUNTA(B842:K842)>0,1,0)))","v":0},{"$f":"IF(M842=\"\",IF(COUNTA(B842:K842)>0,1,0),IF(OR(EOMONTH(M842,0)<$AR$7,AND(EOMONTH($AR$7,-1)+1<=M842,EOMONTH($AR$7,0)>=M842)),0,IF(COUNTA(B842:K842)>0,1,0)))","v":0},{"$f":"IF(M842=\"\",IF(COUNTA(B842:K842)>0,1,0),IF(OR(EOMONTH(M842,0)<$AS$7,AND(EOMONTH($AS$7,-1)+1<=M842,EOMONTH($AS$7,0)>=M842)),0,IF(COUNTA(B842:K842)>0,1,0)))","v":0},{"$f":"IF(M842=\"\",IF(COUNTA(B842:K842)>0,1,0),IF(OR(EOMONTH(M842,0)<$AT$7,AND(EOMONTH($AT$7,-1)+1<=M842,EOMONTH($AT$7,0)>=M842)),0,IF(COUNTA(B842:K842)>0,1,0)))","v":0},{"$f":"IF(M842=\"\",IF(COUNTA(B842:K842)>0,1,0),IF(OR(EOMONTH(M842,0)<$AU$7,AND(EOMONTH($AU$7,-1)+1<=M842,EOMONTH($AU$7,0)>=M842)),0,IF(COUNTA(B842:K842)>0,1,0)))","v":0},{"$f":"IF(M842=\"\",IF(COUNTA(B842:K842)>0,1,0),IF(OR(EOMONTH(M842,0)<$AV$7,AND(EOMONTH($AV$7,-1)+1<=M842,EOMONTH($AV$7,0)>=M842)),0,IF(COUNTA(B842:K842)>0,1,0)))","v":0},{"$f":"IF(M842=\"\",IF(COUNTA(B842:K842)>0,1,0),IF(OR(EOMONTH(M842,0)<$AW$7,AND(EOMONTH($AW$7,-1)+1<=M842,EOMONTH($AW$7,0)>=M842)),0,IF(COUNTA(B842:K842)>0,1,0)))","v":0},0,0,0,0,0,0,0,0,0,0,0,0,0,0,0,0,0,0,0,0,null,0,{"$f":"IF(M842=\"\",IF(G842<>\"\",1,0),IF(OR(EOMONTH(M842,0)<EOMONTH(TODAY(),0),AND(EOMONTH(TODAY(),-1)+1<=M842,EOMONTH(TODAY(),0)>=M842)),0,IF(G842<>\"\",1,0)))","v":0},{"$f":"IF(M842=\"\",IF(H842<>\"\",1,0),IF(OR(EOMONTH(M842,0)<EOMONTH(TODAY(),0),AND(EOMONTH(TODAY(),-1)+1<=M842,EOMONTH(TODAY(),0)>=M842)),0,IF(H842<>\"\",1,0)))","v":0},{"$f":"IF(M842=\"\",IF(I842<>\"\",1,0),IF(OR(EOMONTH(M842,0)<EOMONTH(TODAY(),0),AND(EOMONTH(TODAY(),-1)+1<=M842,EOMONTH(TODAY(),0)>=M842)),0,IF(I842<>\"\",1,0)))","v":0},null,0,{"$f":"IF(M842=\"\",IF(J842>0,1,0),IF(EOMONTH(M842,0)<$BQ$7,0,IF(J842>0,1,0)))","v":0}]
[835,null,null,null,null,null,null,null,null,null,null,null,null,null,null,null,null,null,0,null,null,0,0,0,0,{"$f":"IF(M843=\"\",IF(COUNTA(B843:K843)>0,1,0),IF(OR(EOMONTH(M843,0)<$Z$7,AND(EOMONTH($Z$7,-1)+1<=M843,EOMONTH($Z$7,0)>=M843)),0,IF(COUNTA(B843:K843)>0,1,0)))","v":0},0,0,0,0,0,0,0,0,0,0,0,0,0,0,0,0,0,0,0,0,0,0,0,0,0,0,0,0,0,0,0,0,0,0,0,0,0,0,0,0,0,0,0,null,0,0,0,0,null,0,0]
[836,null,null,null,null,null,null,null,null,null,null,null,null,null,null,null,null,null,0,null,null,0,0,0,0,0,0,0,0,0,0,0,0,0,0,0,0,0,0,0,0,0,0,0,0,0,0,0,0,0,0,0,0,0,0,0,0,0,0,0,0,0,0,0,0,0,0,0,0,null,0,0,0,0,null,0,0]
[837,null,null,null,null,null,null,null,null,null,null,null,null,null,null,null,null,null,0,null,null,0,0,0,0,0,0,0,0,0,0,0,0,0,0,0,0,0,0,0,0,0,0,0,0,0,0,0,0,0,0,0,0,0,0,0,0,0,0,0,0,0,0,0,0,0,0,0,0,null,{"$f":"IF(M845=\"\",IF(F845<>\"\",1,0),IF(OR(EOMONTH(M845,0)<EOMONTH(TODAY(),0),AND(EOMONTH(TODAY(),-1)+1<=M845,EOMONTH(TODAY(),0)>=M845)),0,IF(F845<>\"\",1,0)))","v":0},0,0,0,null,0,0]
[838,null,null,null,null,null,null,null,null,null,null,null,null,null,null,null,null,null,0,null,null,0,0,0,0,0,{"$f":"IF(M846=\"\",IF(COUNTA(B846:K846)>0,1,0),IF(OR(EOMONTH(M846,0)<$AA$7,AND(EOMONTH($AA$7,-1)+1<=M846,EOMONTH($AA$7,0)>=M846)),0,IF(COUNTA(B846:K846)>0,1,0)))","v":0},{"$f":"IF(M846=\"\",IF(COUNTA(B846:K846)>0,1,0),IF(OR(EOMONTH(M846,0)<$AB$7,AND(EOMONTH($AB$7,-1)+1<=M846,EOMONTH($AB$7,0)>=M846)),0,IF(COUNTA(B846:K846)>0,1,0)))","v":0},{"$f":"IF(M846=\"\",IF(COUNTA(B846:K846)>0,1,0),IF(OR(EOMONTH(M846,0)<$AC$7,AND(EOMONTH($AC$7,-1)+1<=M846,EOMONTH($AC$7,0)>=M846)),0,IF(COUNTA(B846:K846)>0,1,0)))","v":0},{"$f":"IF(M846=\"\",IF(COUNTA(B846:K846)>0,1,0),IF(OR(EOMONTH(M846,0)<$AD$7,AND(EOMONTH($AD$7,-1)+1<=M846,EOMONTH($AD$7,0)>=M846)),0,IF(COUNTA(B846:K846)>0,1,0)))","v":0},{"$f":"IF(M846=\"\",IF(COUNTA(B846:K846)>0,1,0),IF(OR(EOMONTH(M846,0)<$AE$7,AND(EOMONTH($AE$7,-1)+1<=M846,EOMONTH($AE$7,0)>=M846)),0,IF(COUNTA(B846:K846)>0,1,0)))","v":0},{"$f":"IF(M846=\"\",IF(COUNTA(B846:K846)>0,1,0),IF(OR(EOMONTH(M846,0)<$AF$7,AND(EOMONTH($AF$7,-1)+1<=M846,EOMONTH($AF$7,0)>=M846)),0,IF(COUNTA(B846:K846)>0,1,0)))","v":0},{"$f":"IF(M846=\"\",IF(COUNTA(B846:K846)>0,1,0),IF(OR(EOMONTH(M846,0)<$AG$7,AND(EOMONTH($AG$7,-1)+1<=M846,EOMONTH($AG$7,0)>=M846)),0,IF(COUNTA(B846:K846)>0,1,0)))","v":0},0,0,0,0,0,0,0,0,0,0,0,0,0,0,0,0,0,0,0,0,0,0,0,0,0,0,0,0,0,0,0,0,0,0,0,0,null,0,0,0,0,null,0,0]
[839,null,null,null,null,null,null,null,null,null,null,null,null,null,null,null,null,null,0,null,null,0,0,0,0,0,0,0,0,0,0,0,0,0,0,0,0,0,0,0,0,0,0,0,0,0,0,0,0,{"$f":"IF(M847=\"\",IF(COUNTA(B847:K847)>0,1,0),IF(OR(EOMONTH(M847,0)<$AX$7,AND(EOMONTH($AX$7,-1)+1<=M847,EOMONTH($AX$7,0)>=M847)),0,IF(COUNTA(B847:K847)>0,1,0)))","v":0},{"$f":"IF(M847=\"\",IF(COUNTA(B847:K847)>0,1,0),IF(OR(EOMONTH(M847,0)<$AY$7,AND(EOMONTH($AY$7,-1)+1<=M847,EOMONTH($AY$7,0)>=M847)),0,IF(COUNTA(B847:K847)>0,1,0)))","v":0},{"$f":"IF(M847=\"\",IF(COUNTA(B847:K847)>0,1,0),IF(OR(EOMONTH(M847,0)<$AZ$7,AND(EOMONTH($AZ$7,-1)+1<=M847,EOMONTH($AZ$7,0)>=M847)),0,IF(COUNTA(B847:K847)>0,1,0)))","v":0},{"$f":"IF(M847=\"\",IF(COUNTA(B847:K847)>0,1,0),IF(OR(EOMONTH(M847,0)<$BA$7,AND(EOMONTH($BA$7,-1)+1<=M847,EOMONTH($BA$7,0)>=M847)),0,IF(COUNTA(B847:K847)>0,1,0)))","v":0},{"$f":"IF(M847=\"\",IF(COUNTA(B847:K847)>0,1,0),IF(OR(EOMONTH(M847,0)<$BB$7,AND(EOMONTH($BB$7,-1)+1<=M847,EOMONTH($BB$7,0)>=M847)),0,IF(COUNTA(B847:K847)>0,1,0)))","v":0},{"$f":"IF(M847=\"\",IF(COUNTA(B847:K847)>0,1,0),IF(OR(EOMONTH(M847,0)<$BC$7,AND(EOMONTH($BC$7,-1)+1<=M847,EOMONTH($BC$7,0)>=M847)),0,IF(COUNTA(B847:K847)>0,1,0)))","v":0},{"$f":"IF(M847=\"\",IF(COUNTA(B847:K847)>0,1,0),IF(OR(EOMONTH(M847,0)<$BD$7,AND(EOMONTH($BD$7,-1)+1<=M847,EOMONTH($BD$7,0)>=M847)),0,IF(COUNTA(B847:K847)>0,1,0)))","v":0},{"$f":"IF(M847=\"\",IF(COUNTA(B847:K847)>0,1,0),IF(OR(EOMONTH(M847,0)<$BE$7,AND(EOMONTH($BE$7,-1)+1<=M847,EOMONTH($BE$7,0)>=M847)),0,IF(COUNTA(B847:K847)>0,1,0)))","v":0},{"$f":"IF(M847=\"\",IF(COUNTA(B847:K847)>0,1,0),IF(OR(EOMONTH(M847,0)<$BF$7,AND(EOMONTH($BF$7,-1)+1<=M847,EOMONTH($BF$7,0)>=M847)),0,IF(COUNTA(B847:K847)>0,1,0)))","v":0},{"$f":"IF(M847=\"\",IF(COUNTA(B847:K847)>0,1,0),IF(OR(EOMONTH(M847,0)<$BG$7,AND(EOMONTH($BG$7,-1)+1<=M847,EOMONTH($BG$7,0)>=M847)),0,IF(COUNTA(B847:K847)>0,1,0)))","v":0},{"$f":"IF(M847=\"\",IF(COUNTA(B847:K847)>0,1,0),IF(OR(EOMONTH(M847,0)<$BH$7,AND(EOMONTH($BH$7,-1)+1<=M847,EOMONTH($BH$7,0)>=M847)),0,IF(COUNTA(B847:K847)>0,1,0)))","v":0},{"$f":"IF(M847=\"\",IF(COUNTA(B847:K847)>0,1,0),IF(OR(EOMONTH(M847,0)<$BI$7,AND(EOMONTH($BI$7,-1)+1<=M847,EOMONTH($BI$7,0)>=M847)),0,IF(COUNTA(B847:K847)>0,1,0)))","v":0},{"$f":"IF(M847=\"\",IF(COUNTA(B847:K847)>0,1,0),IF(OR(EOMONTH(M847,0)<$BJ$7,AND(EOMONTH($BJ$7,-1)+1<=M847,EOMONTH($BJ$7,0)>=M847)),0,IF(COUNTA(B847:K847)>0,1,0)))","v":0},{"$f":"IF(M847=\"\",IF(COUNTA(B847:K847)>0,1,0),IF(OR(EOMONTH(M847,0)<$BK$7,AND(EOMONTH($BK$7,-1)+1<=M847,EOMONTH($BK$7,0)>=M847)),0,IF(COUNTA(B847:K847)>0,1,0)))","v":0},{"$f":"IF(M847=\"\",IF(COUNTA(B847:K847)>0,1,0),IF(OR(EOMONTH(M847,0)<$BL$7,AND(EOMONTH($BL$7,-1)+1<=M847,EOMONTH($BL$7,0)>=M847)),0,IF(COUNTA(B847:K847)>0,1,0)))","v":0},{"$f":"IF(M847=\"\",IF(COUNTA(B847:K847)>0,1,0),IF(OR(EOMONTH(M847,0)<$BM$7,AND(EOMONTH($BM$7,-1)+1<=M847,EOMONTH($BM$7,0)>=M847)),0,IF(COUNTA(B847:K847)>0,1,0)))","v":0},{"$f":"IF(M847=\"\",IF(COUNTA(B847:K847)>0,1,0),IF(OR(EOMONTH(M847,0)<$BN$7,AND(EOMONTH($BN$7,-1)+1<=M847,EOMONTH($BN$7,0)>=M847)),0,IF(COUNTA(B847:K847)>0,1,0)))","v":0},{"$f":"IF(M847=\"\",IF(COUNTA(B847:K847)>0,1,0),IF(OR(EOMONTH(M847,0)<$BO$7,AND(EOMONTH($BO$7,-1)+1<=M847,EOMONTH($BO$7,0)>=M847)),0,IF(COUNTA(B847:K847)>0,1,0)))","v":0},{"$f":"IF(M847=\"\",IF(COUNTA(B847:K847)>0,1,0),IF(OR(EOMONTH(M847,0)<$BP$7,AND(EOMONTH($BP$7,-1)+1<=M847,EOMONTH($BP$7,0)>=M847)),0,IF(COUNTA(B847:K847)>0,1,0)))","v":0},{"$f":"IF(M847=\"\",IF(COUNTA(B847:K847)>0,1,0),IF(OR(EOMONTH(M847,0)<$BQ$7,AND(EOMONTH($BQ$7,-1)+1<=M847,EOMONTH($BQ$7,0)>=M847)),0,IF(COUNTA(B847:K847)>0,1,0)))","v":0},null,0,0,0,0,null,0,0]
[840,null,null,null,null,null,null,null,null,null,null,null,null,null,null,null,null,null,0,null,null,0,0,0,0,0,0,0,0,0,0,0,0,0,0,0,0,0,0,0,0,0,0,0,0,0,0,0,0,0,0,0,0,0,0,0,0,0,0,0,0,0,0,0,0,0,0,0,0,null,0,0,0,0,null,0,0]
[841,null,null,null,null,null,null,null,null,null,null,null,null,null,null,null,null,null,0,null,null,0,0,0,0,0,0,0,0,0,0,0,0,0,0,0,0,0,0,0,0,0,0,0,0,0,0,0,0,0,0,0,0,0,0,0,0,0,0,0,0,0,0,0,0,0,0,0,0,null,0,0,0,0,null,0,0]
[842,null,null,null,null,null,null,null,null,null,null,null,null,null,null,null,null,null,0,null,null,0,0,0,0,0,0,0,0,0,0,0,0,0,0,0,0,0,0,0,0,0,0,0,0,0,0,0,0,0,0,0,0,0,0,0,0,0,0,0,0,0,0,0,0,0,0,0,0,null,0,0,0,0,null,0,0]
[843,null,null,null,null,null,null,null,null,null,null,null,null,null,null,null,null,null,0,null,null,0,0,0,0,0,0,0,0,0,0,0,0,0,0,0,0,0,0,0,0,0,0,0,0,0,0,0,0,0,0,0,0,0,0,0,0,0,0,0,0,0,0,0,0,0,0,0,0,null,0,0,0,0,null,0,0]
[844,null,null,null,null,null,null,null,null,null,null,null,null,null,null,null,null,null,0,null,null,0,0,0,0,0,0,0,0,0,0,0,0,0,0,0,0,0,0,0,0,0,0,0,0,0,0,0,0,0,0,0,0,0,0,0,0,0,0,0,0,0,0,0,0,0,0,0,0,null,0,0,0,0,null,0,0]
[845,null,null,null,null,null,null,null,null,null,null,null,null,null,null,null,null,null,0,null,null,0,0,0,0,0,0,0,0,0,0,0,0,0,0,0,0,0,0,0,0,0,0,0,0,0,0,0,0,0,0,0,0,0,0,0,0,0,0,0,0,0,0,0,0,0,0,0,0,null,0,0,0,0,null,0,0]
[846,null,null,null,null,null,null,null,null,null,null,null,null,null,null,null,null,null,0,null,null,0,0,0,0,0,0,0,0,0,0,0,0,0,0,0,0,0,0,0,0,0,0,0,0,0,0,0,0,0,0,0,0,0,0,0,0,0,0,0,0,0,0,0,0,0,0,0,0,null,0,0,0,0,null,0,0]
[847,null,null,null,null,null,null,null,null,null,null,null,null,null,null,null,null,null,0,null,null,0,0,0,0,0,0,0,0,0,0,0,0,0,0,0,0,0,0,0,0,0,0,0,0,0,0,0,0,0,0,0,0,0,0,0,0,0,0,0,0,0,0,0,0,0,0,0,0,null,0,0,0,0,null,0,0]
[848,null,null,null,null,null,null,null,null,null,null,null,null,null,null,null,null,null,0,null,null,0,0,0,0,0,0,0,0,0,0,0,0,0,0,0,0,0,0,0,0,0,0,0,0,0,0,0,0,0,0,0,0,0,0,0,0,0,0,0,0,0,0,0,0,0,0,0,0,null,0,0,0,0,null,0,0]
[849,null,null,null,null,null,null,null,null,null,null,null,null,null,null,null,null,null,0,null,null,0,0,0,0,0,0,0,0,0,0,0,0,0,0,0,0,0,0,0,0,0,0,0,0,0,0,0,0,0,0,0,0,0,0,0,0,0,0,0,0,0,0,0,0,0,0,0,0,null,0,0,0,0,null,0,0]
[850,null,null,null,null,null,null,null,null,null,null,null,null,null,null,null,null,null,0,null,null,0,0,0,0,0,0,0,0,0,0,0,0,0,0,0,0,0,0,0,0,0,0,0,0,0,0,0,0,0,0,0,0,0,0,0,0,0,0,0,0,0,0,0,0,0,0,0,0,null,0,0,0,0,null,0,0]
[851,null,null,null,null,null,null,null,null,null,null,null,null,null,null,null,null,null,0,null,null,0,0,0,0,0,0,0,0,0,0,0,0,0,0,0,0,0,0,0,0,0,0,0,0,0,0,0,0,0,0,0,0,0,0,0,0,0,0,0,0,0,0,0,0,0,0,0,0,null,0,0,0,0,null,0,0]
[852,null,null,null,null,null,null,null,null,null,null,null,null,null,null,null,null,null,0,null,null,0,0,0,0,0,0,0,0,0,0,0,0,0,0,0,0,0,0,0,0,0,0,0,0,0,0,0,0,0,0,0,0,0,0,0,0,0,0,0,0,0,0,0,0,0,0,0,0,null,0,0,0,0,null,0,0]
[853,null,null,null,null,null,null,null,null,null,null,null,null,null,null,null,null,null,0,null,null,0,0,0,0,0,0,0,0,0,0,0,0,0,0,0,0,0,0,0,0,0,0,0,0,0,0,0,0,0,0,0,0,0,0,0,0,0,0,0,0,0,0,0,0,0,0,0,0,null,0,0,0,0,null,0,0]
[854,null,null,null,null,null,null,null,null,null,null,null,null,null,null,null,null,null,0,null,null,0,0,0,0,0,0,0,0,0,0,0,0,0,0,0,0,0,0,0,0,0,0,0,0,0,0,0,0,0,0,0,0,0,0,0,0,0,0,0,0,0,0,0,0,0,0,0,0,null,0,0,0,0,null,0,0]
[855,null,null,null,null,null,null,null,null,null,null,null,null,null,null,null,null,null,0,null,null,0,0,0,0,0,0,0,0,0,0,0,0,0,0,0,0,0,0,0,0,0,0,0,0,0,0,0,0,0,0,0,0,0,0,0,0,0,0,0,0,0,0,0,0,0,0,0,0,null,0,0,0,0,null,0,0]
[856,null,null,null,null,null,null,null,null,null,null,null,null,null,null,null,null,null,0,null,null,0,0,0,0,0,0,0,0,0,0,0,0,0,0,0,0,0,0,0,0,0,0,0,0,0,0,0,0,0,0,0,0,0,0,0,0,0,0,0,0,0,0,0,0,0,0,0,0,null,0,0,0,0,null,0,0]
[857,null,null,null,null,null,null,null,null,null,null,null,null,null,null,null,null,null,0,null,null,0,0,0,0,0,0,0,0,0,0,0,0,0,0,0,0,0,0,0,0,0,0,0,0,0,0,0,0,0,0,0,0,0,0,0,0,0,0,0,0,0,0,0,0,0,0,0,0,null,0,0,0,0,null,0,0]
[858,null,null,null,null,null,null,null,null,null,null,null,null,null,null,null,null,null,0,null,null,0,0,0,0,0,0,0,0,0,0,0,0,0,0,0,0,0,0,0,0,0,0,0,0,0,0,0,0,0,0,0,0,0,0,0,0,0,0,0,0,0,0,0,0,0,0,0,0,null,0,0,0,0,null,0,0]
[859,null,null,null,null,null,null,null,null,null,null,null,null,null,null,null,null,null,0,null,null,0,0,0,0,0,0,0,0,0,0,0,0,0,0,0,0,0,0,0,0,0,0,0,0,0,0,0,0,0,0,0,0,0,0,0,0,0,0,0,0,0,0,0,0,0,0,0,0,null,0,0,0,0,null,0,0]
[860,null,null,null,null,null,null,null,null,null,null,null,null,null,null,null,null,null,0,null,null,0,0,0,0,0,0,0,0,0,0,0,0,0,0,0,0,0,0,0,0,0,0,0,0,0,0,0,0,0,0,0,0,0,0,0,0,0,0,0,0,0,0,0,0,0,0,0,0,null,0,0,0,0,null,0,0]
[861,null,null,null,null,null,null,null,null,null,null,null,null,null,null,null,null,null,0,null,null,0,0,0,0,0,0,0,0,0,0,0,0,0,0,0,0,0,0,0,0,0,0,0,0,0,0,0,0,0,0,0,0,0,0,0,0,0,0,0,0,0,0,0,0,0,0,0,0,null,0,0,0,0,null,0,0]
[862,null,null,null,null,null,null,null,null,null,null,null,null,null,null,null,null,null,{"$f":"IF(E870=\"\",0,IF(VALUE(E870)>VALUE($E$4),0,1))","v":0},null,null,0,0,0,0,0,0,0,0,0,0,0,0,0,0,0,0,0,0,0,0,0,0,0,0,0,0,0,0,0,0,0,0,0,0,0,0,0,0,0,0,0,0,0,0,0,0,0,0,null,0,0,0,0,null,{"$f":"SUMIFS(V870:BQ870,$V$7:$BQ$7,\">=\"&EOMONTH(TODAY(),-1)+1,$V$7:$BQ$7,\"<=\"&EOMONTH(TODAY(),0))","v":0},0]
[863,null,null,null,null,null,null,null,null,null,null,null,null,null,null,null,null,null,0,null,null,0,0,0,0,0,0,0,0,0,0,0,0,0,0,0,0,0,0,0,0,0,0,0,0,0,0,0,0,0,0,0,0,0,0,0,0,0,0,0,0,0,0,0,0,0,0,0,0,null,0,0,0,0,null,0,0]
[864,null,null,null,null,null,null,null,null,null,null,null,null,null,null,null,null,null,0,null,null,0,0,0,0,0,0,0,0,0,0,0,0,0,0,0,0,0,0,0,0,0,0,0,0,0,0,0,0,0,0,0,0,0,0,0,0,0,0,0,0,0,0,0,0,0,0,0,0,null,0,0,0,0,null,0,0]
[865,null,null,null,null,null,null,null,null,null,null,null,null,null,null,null,null,null,0,null,null,0,0,0,0,0,0,0,0,0,0,0,0,0,0,0,0,0,0,0,0,0,0,0,0,0,0,0,0,0,0,0,0,0,0,0,0,0,0,0,0,0,0,0,0,0,0,0,0,null,0,0,0,0,null,0,0]
[866,null,null,null,null,null,null,null,null,null,null,null,null,null,null,null,null,null,0,null,null,0,0,0,0,0,0,0,0,0,0,0,0,0,0,0,0,0,0,0,0,0,0,0,0,0,0,0,0,0,0,0,0,0,0,0,0,0,0,0,0,0,0,0,0,0,0,0,0,null,0,0,0,0,null,0,0]
[867,null,null,null,null,null,null,null,null,null,null,null,null,null,null,null,null,null,0,null,null,0,0,0,0,0,0,0,0,0,0,0,0,0,0,0,0,0,0,0,0,0,0,0,0,0,0,0,0,0,0,0,0,0,0,0,0,0,0,0,0,0,0,0,0,0,0,0,0,null,0,0,0,0,null,0,0]
[868,null,null,null,null,null,null,null,null,null,null,null,null,null,null,null,null,null,0,null,null,0,0,0,0,0,0,0,0,0,0,0,0,0,0,0,0,0,0,0,0,0,0,0,0,0,0,0,0,0,0,0,0,0,0,0,0,0,0,0,0,0,0,0,0,0,0,0,0,null,0,0,0,0,null,0,0]
[869,null,null,null,null,null,null,null,null,null,null,null,null,null,null,null,null,null,0,null,null,0,0,0,0,0,0,0,0,0,0,0,0,0,0,0,0,0,0,0,0,0,0,0,0,0,0,0,0,0,0,0,0,0,0,0,0,0,0,0,0,0,0,0,0,0,0,0,0,null,0,0,0,0,null,0,0]
[870,null,null,null,null,null,null,null,null,null,null,null,null,null,null,null,null,null,0,null,null,0,0,0,0,0,0,0,0,0,0,0,0,0,0,0,0,0,0,0,0,0,0,0,0,0,0,0,0,0,0,0,0,0,0,0,0,0,0,0,0,0,0,0,0,0,0,0,0,null,0,0,0,0,null,0,0]
[871,null,null,null,null,null,null,null,null,null,null,null,null,null,null,null,null,null,0,null,null,0,0,0,0,0,0,0,0,0,0,0,0,0,0,0,0,0,0,0,0,0,0,0,0,0,0,0,0,0,0,0,0,0,0,0,0,0,0,0,0,0,0,0,0,0,0,0,0,null,0,0,0,0,null,0,0]
[872,null,null,null,null,null,null,null,null,null,null,null,null,null,null,null,null,null,0,null,null,0,0,0,0,0,0,0,0,0,0,0,0,0,0,0,0,0,0,0,0,0,0,0,0,0,0,0,0,0,0,0,0,0,0,0,0,0,0,0,0,0,0,0,0,0,0,0,0,null,0,0,0,0,null,0,0]
[873,null,null,null,null,null,null,null,null,null,null,null,null,null,null,null,null,null,0,null,null,0,0,0,0,0,0,0,0,0,0,0,0,0,0,0,0,0,0,0,0,0,0,0,0,0,0,0,0,0,0,0,0,0,0,0,0,0,0,0,0,0,0,0,0,0,0,0,0,null,0,0,0,0,null,0,0]
[874,null,null,null,null,null,null,null,null,null,null,null,null,null,null,null,null,null,0,null,null,0,0,0,0,0,0,0,0,0,0,0,0,0,0,0,0,0,0,0,0,0,0,0,0,0,0,0,0,0,0,0,0,0,0,0,0,0,0,0,0,0,0,0,0,0,0,0,0,null,0,0,0,0,null,0,0]
[875,null,null,null,null,null,null,null,null,null,null,null,null,null,null,null,null,null,0,null,null,0,0,0,0,0,0,0,0,0,0,0,0,0,0,0,0,0,0,0,0,0,0,0,0,0,0,0,0,0,0,0,0,0,0,0,0,0,0,0,0,0,0,0,0,0,0,0,0,null,0,0,0,0,null,0,0]
[876,null,null,null,null,null,null,null,null,null,null,null,null,null,null,null,null,null,0,null,null,0,0,0,0,0,0,0,0,0,0,0,0,0,0,0,0,0,0,0,0,0,0,0,0,0,0,0,0,0,0,0,0,0,0,0,0,0,0,0,0,0,0,0,0,0,0,0,0,null,0,0,0,0,null,0,0]
[877,null,null,null,null,null,null,null,null,null,null,null,null,null,null,null,null,null,0,null,null,0,0,0,0,0,0,0,0,0,0,0,0,0,0,0,0,0,0,0,0,0,0,0,0,0,0,0,0,0,0,0,0,0,0,0,0,0,0,0,0,0,0,0,0,0,0,0,0,null,0,0,0,0,null,0,0]
[878,null,null,null,null,null,null,null,null,null,null,null,null,null,null,null,null,null,0,null,null,0,0,0,0,0,0,0,0,0,0,0,0,0,0,0,0,0,0,0,0,0,0,0,0,0,0,0,0,0,0,0,0,0,0,0,0,0,0,0,0,0,0,0,0,0,0,0,0,null,0,0,0,0,null,0,0]
[879,null,null,null,null,null,null,null,null,null,null,null,null,null,null,null,null,null,0,null,null,0,0,0,0,0,0,0,0,0,0,0,0,0,0,0,0,0,0,0,0,0,0,0,0,0,0,0,0,0,0,0,0,0,0,0,0,0,0,0,0,0,0,0,0,0,0,0,0,null,0,0,0,0,null,0,0]
[880,null,null,null,null,null,null,null,null,null,null,null,null,null,null,null,null,null,0,null,null,0,0,0,0,0,0,0,0,0,0,0,0,0,0,0,0,0,0,0,0,0,0,0,0,0,0,0,0,0,0,0,0,0,0,0,0,0,0,0,0,0,0,0,0,0,0,0,0,null,0,0,0,0,null,0,0]
[881,null,null,null,null,null,null,null,null,null,null,null,null,null,null,null,null,null,0,null,null,0,0,0,0,0,0,0,0,0,0,0,0,0,0,0,0,0,0,0,0,0,0,0,0,0,0,0,0,0,0,0,0,0,0,0,0,0,0,0,0,0,0,0,0,0,0,0,0,null,0,0,0,0,null,0,0]
[882,null,null,null,null,null,null,null,null,null,null,null,null,null,null,null,null,null,0,null,null,0,0,0,0,0,0,0,0,0,0,0,0,0,0,0,0,0,0,0,0,0,0,0,0,0,0,0,0,0,0,0,0,0,0,0,0,0,0,0,0,0,0,0,0,0,0,0,0,null,0,0,0,0,null,0,0]
[883,null,null,null,null,null,null,null,null,null,null,null,null,null,null,null,null,null,0,null,null,0,0,0,0,0,0,0,0,0,0,0,0,0,0,0,0,0,0,0,0,0,0,0,0,0,0,0,0,0,0,0,0,0,0,0,0,0,0,0,0,0,0,0,0,0,0,0,0,null,0,0,0,0,null,0,0]
[884,null,null,null,null,null,null,null,null,null,null,null,null,null,null,null,null,null,0,null,null,0,0,0,0,0,0,0,0,0,0,0,0,0,0,0,0,0,0,0,0,0,0,0,0,0,0,0,0,0,0,0,0,0,0,0,0,0,0,0,0,0,0,0,0,0,0,0,0,null,0,0,0,0,null,0,0]
[885,null,null,null,null,null,null,null,null,null,null,null,null,null,null,null,null,null,0,null,null,0,0,0,0,0,0,0,0,0,0,0,0,0,0,0,0,0,0,0,0,0,0,0,0,0,0,0,0,0,0,0,0,0,0,0,0,0,0,0,0,0,0,0,0,0,0,0,0,null,0,0,0,0,null,0,0]
[886,null,null,null,null,null,null,null,null,null,null,null,null,null,null,null,null,null,0,null,null,0,0,0,0,0,0,0,0,0,0,0,0,0,0,0,0,0,0,0,0,0,0,0,0,0,0,0,0,0,0,0,0,0,0,0,0,0,0,0,0,0,0,0,0,0,0,0,0,null,0,0,0,0,null,0,0]
[887,null,null,null,null,null,null,null,null,null,null,null,null,null,null,null,null,null,0,null,null,0,0,0,0,0,0,0,0,0,0,0,0,0,0,0,0,0,0,0,0,0,0,0,0,0,0,0,0,0,0,0,0,0,0,0,0,0,0,0,0,0,0,0,0,0,0,0,0,null,0,0,0,0,null,0,0]
[888,null,null,null,null,null,null,null,null,null,null,null,null,null,null,null,null,null,0,null,null,0,0,0,0,0,0,0,0,0,0,0,0,0,0,0,0,0,0,0,0,0,0,0,0,0,0,0,0,0,0,0,0,0,0,0,0,0,0,0,0,0,0,0,0,0,0,0,0,null,0,0,0,0,null,0,0]
[889,null,null,null,null,null,null,null,null,null,null,null,null,null,null,null,null,null,0,null,null,0,0,0,0,0,0,0,0,0,0,0,0,0,0,0,0,0,0,0,0,0,0,0,0,0,0,0,0,0,0,0,0,0,0,0,0,0,0,0,0,0,0,0,0,0,0,0,0,null,0,0,0,0,null,0,0]
[890,null,null,null,null,null,null,null,null,null,null,null,null,null,null,null,null,null,0,null,null,0,0,0,0,0,0,0,0,0,0,0,0,0,0,0,0,0,0,0,0,0,0,0,0,0,0,0,0,0,0,0,0,0,0,0,0,0,0,0,0,0,0,0,0,0,0,0,0,null,0,0,0,0,null,0,0]
[891,null,null,null,null,null,null,null,null,null,null,null,null,null,null,null,null,null,0,null,null,0,0,0,0,0,0,0,0,0,0,0,0,0,0,0,0,0,0,0,0,0,0,0,0,0,0,0,0,0,0,0,0,0,0,0,0,0,0,0,0,0,0,0,0,0,0,0,0,null,0,0,0,0,null,0,0]
[892,null,null,null,null,null,null,null,null,null,null,null,null,null,null,null,null,null,0,null,null,0,0,0,0,0,0,0,0,0,0,0,0,0,0,0,0,0,0,0,0,0,0,0,0,0,0,0,0,0,0,0,0,0,0,0,0,0,0,0,0,0,0,0,0,0,0,0,0,null,0,0,0,0,null,0,0]
[893,null,null,null,null,null,null,null,null,null,null,null,null,null,null,null,null,null,0,null,null,0,0,0,0,0,0,0,0,0,0,0,0,0,0,0,0,0,0,0,0,0,0,0,0,0,0,0,0,0,0,0,0,0,0,0,0,0,0,0,0,0,0,0,0,0,0,0,0,null,0,0,0,0,null,0,0]
[894,null,null,null,null,null,null,null,null,null,null,null,null,null,null,null,null,null,0,null,null,0,0,0,0,0,0,0,0,0,0,0,0,0,0,0,0,0,0,0,0,0,0,0,0,0,0,0,0,0,0,0,0,0,0,0,0,0,0,0,0,0,0,0,0,0,0,0,0,null,0,0,0,0,null,0,0]
[895,null,null,null,null,null,null,null,null,null,null,null,null,null,null,null,null,null,0,null,null,0,0,0,0,0,0,0,0,0,0,0,0,0,0,0,0,0,0,0,0,0,0,0,0,0,0,0,0,0,0,0,0,0,0,0,0,0,0,0,0,0,0,0,0,0,0,0,0,null,0,0,0,0,null,0,0]
[896,null,null,null,null,null,null,null,null,null,null,null,null,null,null,null,null,null,0,null,null,0,0,0,0,0,0,0,0,0,0,0,0,0,0,0,0,0,0,0,0,0,0,0,0,0,0,0,0,0,0,0,0,0,0,0,0,0,0,0,0,0,0,0,0,0,0,0,0,null,0,0,0,0,null,0,0]
[897,null,null,null,null,null,null,null,null,null,null,null,null,null,null,null,null,null,0,null,null,0,0,0,0,0,0,0,0,0,0,0,0,0,0,0,0,0,0,0,0,0,0,0,0,0,0,0,0,0,0,0,0,0,0,0,0,0,0,0,0,0,0,0,0,0,0,0,0,null,0,0,0,0,null,0,0]
[898,null,null,null,null,null,null,null,null,null,null,null,null,null,null,null,null,null,0,null,null,{"$f":"IF(M906=\"\",IF(COUNTA(B906:K906)>0,1,0),IF(OR(EOMONTH(M906,0)<$V$7,AND(EOMONTH($V$7,-1)+1<=M906,EOMONTH($V$7,0)>=M906)),0,IF(COUNTA(B906:K906)>0,1,0)))","v":0},{"$f":"IF(M906=\"\",IF(COUNTA(B906:K906)>0,1,0),IF(OR(EOMONTH(M906,0)<$W$7,AND(EOMONTH($W$7,-1)+1<=M906,EOMONTH($W$7,0)>=M906)),0,IF(COUNTA(B906:K906)>0,1,0)))","v":0},{"$f":"IF(M906=\"\",IF(COUNTA(B906:K906)>0,1,0),IF(OR(EOMONTH(M906,0)<$X$7,AND(EOMONTH($X$7,-1)+1<=M906,EOMONTH($X$7,0)>=M906)),0,IF(COUNTA(B906:K906)>0,1,0)))","v":0},{"$f":"IF(M906=\"\",IF(COUNTA(B906:K906)>0,1,0),IF(OR(EOMONTH(M906,0)<$Y$7,AND(EOMONTH($Y$7,-1)+1<=M906,EOMONTH($Y$7,0)>=M906)),0,IF(COUNTA(B906:K906)>0,1,0)))","v":0},0,0,0,0,0,0,0,0,{"$f":"IF(M906=\"\",IF(COUNTA(B906:K906)>0,1,0),IF(OR(EOMONTH(M906,0)<$AH$7,AND(EOMONTH($AH$7,-1)+1<=M906,EOMONTH($AH$7,0)>=M906)),0,IF(COUNTA(B906:K906)>0,1,0)))","v":0},{"$f":"IF(M906=\"\",IF(COUNTA(B906:K906)>0,1,0),IF(OR(EOMONTH(M906,0)<$AI$7,AND(EOMONTH($AI$7,-1)+1<=M906,EOMONTH($AI$7,0)>=M906)),0,IF(COUNTA(B906:K906)>0,1,0)))","v":0},{"$f":"IF(M906=\"\",IF(COUNTA(B906:K906)>0,1,0),IF(OR(EOMONTH(M906,0)<$AJ$7,AND(EOMONTH($AJ$7,-1)+1<=M906,EOMONTH($AJ$7,0)>=M906)),0,IF(COUNTA(B906:K906)>0,1,0)))","v":0},{"$f":"IF(M906=\"\",IF(COUNTA(B906:K906)>0,1,0),IF(OR(EOMONTH(M906,0)<$AK$7,AND(EOMONTH($AK$7,-1)+1<=M906,EOMONTH($AK$7,0)>=M906)),0,IF(COUNTA(B906:K906)>0,1,0)))","v":0},{"$f":"IF(M906=\"\",IF(COUNTA(B906:K906)>0,1,0),IF(OR(EOMONTH(M906,0)<$AL$7,AND(EOMONTH($AL$7,-1)+1<=M906,EOMONTH($AL$7,0)>=M906)),0,IF(COUNTA(B906:K906)>0,1,0)))","v":0},{"$f":"IF(M906=\"\",IF(COUNTA(B906:K906)>0,1,0),IF(OR(EOMONTH(M906,0)<$AM$7,AND(EOMONTH($AM$7,-1)+1<=M906,EOMONTH($AM$7,0)>=M906)),0,IF(COUNTA(B906:K906)>0,1,0)))","v":0},{"$f":"IF(M906=\"\",IF(COUNTA(B906:K906)>0,1,0),IF(OR(EOMONTH(M906,0)<$AN$7,AND(EOMONTH($AN$7,-1)+1<=M906,EOMONTH($AN$7,0)>=M906)),0,IF(COUNTA(B906:K906)>0,1,0)))","v":0},{"$f":"IF(M906=\"\",IF(COUNTA(B906:K906)>0,1,0),IF(OR(EOMONTH(M906,0)<$AO$7,AND(EOMONTH($AO$7,-1)+1<=M906,EOMONTH($AO$7,0)>=M906)),0,IF(COUNTA(B906:K906)>0,1,0)))","v":0},{"$f":"IF(M906=\"\",IF(COUNTA(B906:K906)>0,1,0),IF(OR(EOMONTH(M906,0)<$AP$7,AND(EOMONTH($AP$7,-1)+1<=M906,EOMONTH($AP$7,0)>=M906)),0,IF(COUNTA(B906:K906)>0,1,0)))","v":0},{"$f":"IF(M906=\"\",IF(COUNTA(B906:K906)>0,1,0),IF(OR(EOMONTH(M906,0)<$AQ$7,AND(EOMONTH($AQ$7,-1)+1<=M906,EOMONTH($AQ$7,0)>=M906)),0,IF(COUNTA(B906:K906)>0,1,0)))","v":0},{"$f":"IF(M906=\"\",IF(COUNTA(B906:K906)>0,1,0),IF(OR(EOMONTH(M906,0)<$AR$7,AND(EOMONTH($AR$7,-1)+1<=M906,EOMONTH($AR$7,0)>=M906)),0,IF(COUNTA(B906:K906)>0,1,0)))","v":0},{"$f":"IF(M906=\"\",IF(COUNTA(B906:K906)>0,1,0),IF(OR(EOMONTH(M906,0)<$AS$7,AND(EOMONTH($AS$7,-1)+1<=M906,EOMONTH($AS$7,0)>=M906)),0,IF(COUNTA(B906:K906)>0,1,0)))","v":0},{"$f":"IF(M906=\"\",IF(COUNTA(B906:K906)>0,1,0),IF(OR(EOMONTH(M906,0)<$AT$7,AND(EOMONTH($AT$7,-1)+1<=M906,EOMONTH($AT$7,0)>=M906)),0,IF(COUNTA(B906:K906)>0,1,0)))","v":0},{"$f":"IF(M906=\"\",IF(COUNTA(B906:K906)>0,1,0),IF(OR(EOMONTH(M906,0)<$AU$7,AND(EOMONTH($AU$7,-1)+1<=M906,EOMONTH($AU$7,0)>=M906)),0,IF(COUNTA(B906:K906)>0,1,0)))","v":0},{"$f":"IF(M906=\"\",IF(COUNTA(B906:K906)>0,1,0),IF(OR(EOMONTH(M906,0)<$AV$7,AND(EOMONTH($AV$7,-1)+1<=M906,EOMONTH($AV$7,0)>=M906)),0,IF(COUNTA(B906:K906)>0,1,0)))","v":0},{"$f":"IF(M906=\"\",IF(COUNTA(B906:K906)>0,1,0),IF(OR(EOMONTH(M906,0)<$AW$7,AND(EOMONTH($AW$7,-1)+1<=M906,EOMONTH($AW$7,0)>=M906)),0,IF(COUNTA(B906:K906)>0,1,0)))","v":0},0,0,0,0,0,0,0,0,0,0,0,0,0,0,0,0,0,0,0,0,null,0,{"$f":"IF(M906=\"\",IF(G906<>\"\",1,0),IF(OR(EOMONTH(M906,0)<EOMONTH(TODAY(),0),AND(EOMONTH(TODAY(),-1)+1<=M906,EOMONTH(TODAY(),0)>=M906)),0,IF(G906<>\"\",1,0)))","v":0},{"$f":"IF(M906=\"\",IF(H906<>\"\",1,0),IF(OR(EOMONTH(M906,0)<EOMONTH(TODAY(),0),AND(EOMONTH(TODAY(),-1)+1<=M906,EOMONTH(TODAY(),0)>=M906)),0,IF(H906<>\"\",1,0)))","v":0},{"$f":"IF(M906=\"\",IF(I906<>\"\",1,0),IF(OR(EOMONTH(M906,0)<EOMONTH(TODAY(),0),AND(EOMONTH(TODAY(),-1)+1<=M906,EOMONTH(TODAY(),0)>=M906)),0,IF(I906<>\"\",1,0)))","v":0},null,0,{"$f":"IF(M906=\"\",IF(J906>0,1,0),IF(EOMONTH(M906,0)<$BQ$7,0,IF(J906>0,1,0)))","v":0}]
[899,null,null,null,null,null,null,null,null,null,null,null,null,null,null,null,null,null,0,null,null,0,0,0,0,{"$f":"IF(M907=\"\",IF(COUNTA(B907:K907)>0,1,0),IF(OR(EOMONTH(M907,0)<$Z$7,AND(EOMONTH($Z$7,-1)+1<=M907,EOMONTH($Z$7,0)>=M907)),0,IF(COUNTA(B907:K907)>0,1,0)))","v":0},0,0,0,0,0,0,0,0,0,0,0,0,0,0,0,0,0,0,0,0,0,0,0,0,0,0,0,0,0,0,0,0,0,0,0,0,0,0,0,0,0,0,0,null,0,0,0,0,null,0,0]
[900,null,null,null,null,null,null,null,null,null,null,null,null,null,null,null,null,null,0,null,null,0,0,0,0,0,0,0,0,0,0,0,0,0,0,0,0,0,0,0,0,0,0,0,0,0,0,0,0,0,0,0,0,0,0,0,0,0,0,0,0,0,0,0,0,0,0,0,0,null,0,0,0,0,null,0,0]
[901,null,null,null,null,null,null,null,null,null,null,null,null,null,null,null,null,null,0,null,null,0,0,0,0,0,0,0,0,0,0,0,0,0,0,0,0,0,0,0,0,0,0,0,0,0,0,0,0,0,0,0,0,0,0,0,0,0,0,0,0,0,0,0,0,0,0,0,0,null,{"$f":"IF(M909=\"\",IF(F909<>\"\",1,0),IF(OR(EOMONTH(M909,0)<EOMONTH(TODAY(),0),AND(EOMONTH(TODAY(),-1)+1<=M909,EOMONTH(TODAY(),0)>=M909)),0,IF(F909<>\"\",1,0)))","v":0},0,0,0,null,0,0]
[902,null,null,null,null,null,null,null,null,null,null,null,null,null,null,null,null,null,0,null,null,0,0,0,0,0,{"$f":"IF(M910=\"\",IF(COUNTA(B910:K910)>0,1,0),IF(OR(EOMONTH(M910,0)<$AA$7,AND(EOMONTH($AA$7,-1)+1<=M910,EOMONTH($AA$7,0)>=M910)),0,IF(COUNTA(B910:K910)>0,1,0)))","v":0},{"$f":"IF(M910=\"\",IF(COUNTA(B910:K910)>0,1,0),IF(OR(EOMONTH(M910,0)<$AB$7,AND(EOMONTH($AB$7,-1)+1<=M910,EOMONTH($AB$7,0)>=M910)),0,IF(COUNTA(B910:K910)>0,1,0)))","v":0},{"$f":"IF(M910=\"\",IF(COUNTA(B910:K910)>0,1,0),IF(OR(EOMONTH(M910,0)<$AC$7,AND(EOMONTH($AC$7,-1)+1<=M910,EOMONTH($AC$7,0)>=M910)),0,IF(COUNTA(B910:K910)>0,1,0)))","v":0},{"$f":"IF(M910=\"\",IF(COUNTA(B910:K910)>0,1,0),IF(OR(EOMONTH(M910,0)<$AD$7,AND(EOMONTH($AD$7,-1)+1<=M910,EOMONTH($AD$7,0)>=M910)),0,IF(COUNTA(B910:K910)>0,1,0)))","v":0},{"$f":"IF(M910=\"\",IF(COUNTA(B910:K910)>0,1,0),IF(OR(EOMONTH(M910,0)<$AE$7,AND(EOMONTH($AE$7,-1)+1<=M910,EOMONTH($AE$7,0)>=M910)),0,IF(COUNTA(B910:K910)>0,1,0)))","v":0},{"$f":"IF(M910=\"\",IF(COUNTA(B910:K910)>0,1,0),IF(OR(EOMONTH(M910,0)<$AF$7,AND(EOMONTH($AF$7,-1)+1<=M910,EOMONTH($AF$7,0)>=M910)),0,IF(COUNTA(B910:K910)>0,1,0)))","v":0},{"$f":"IF(M910=\"\",IF(COUNTA(B910:K910)>0,1,0),IF(OR(EOMONTH(M910,0)<$AG$7,AND(EOMONTH($AG$7,-1)+1<=M910,EOMONTH($AG$7,0)>=M910)),0,IF(COUNTA(B910:K910)>0,1,0)))","v":0},0,0,0,0,0,0,0,0,0,0,0,0,0,0,0,0,0,0,0,0,0,0,0,0,0,0,0,0,0,0,0,0,0,0,0,0,null,0,0,0,0,null,0,0]
[903,null,null,null,null,null,null,null,null,null,null,null,null,null,null,null,null,null,0,null,null,0,0,0,0,0,0,0,0,0,0,0,0,0,0,0,0,0,0,0,0,0,0,0,0,0,0,0,0,{"$f":"IF(M911=\"\",IF(COUNTA(B911:K911)>0,1,0),IF(OR(EOMONTH(M911,0)<$AX$7,AND(EOMONTH($AX$7,-1)+1<=M911,EOMONTH($AX$7,0)>=M911)),0,IF(COUNTA(B911:K911)>0,1,0)))","v":0},{"$f":"IF(M911=\"\",IF(COUNTA(B911:K911)>0,1,0),IF(OR(EOMONTH(M911,0)<$AY$7,AND(EOMONTH($AY$7,-1)+1<=M911,EOMONTH($AY$7,0)>=M911)),0,IF(COUNTA(B911:K911)>0,1,0)))","v":0},{"$f":"IF(M911=\"\",IF(COUNTA(B911:K911)>0,1,0),IF(OR(EOMONTH(M911,0)<$AZ$7,AND(EOMONTH($AZ$7,-1)+1<=M911,EOMONTH($AZ$7,0)>=M911)),0,IF(COUNTA(B911:K911)>0,1,0)))","v":0},{"$f":"IF(M911=\"\",IF(COUNTA(B911:K911)>0,1,0),IF(OR(EOMONTH(M911,0)<$BA$7,AND(EOMONTH($BA$7,-1)+1<=M911,EOMONTH($BA$7,0)>=M911)),0,IF(COUNTA(B911:K911)>0,1,0)))","v":0},{"$f":"IF(M911=\"\",IF(COUNTA(B911:K911)>0,1,0),IF(OR(EOMONTH(M911,0)<$BB$7,AND(EOMONTH($BB$7,-1)+1<=M911,EOMONTH($BB$7,0)>=M911)),0,IF(COUNTA(B911:K911)>0,1,0)))","v":0},{"$f":"IF(M911=\"\",IF(COUNTA(B911:K911)>0,1,0),IF(OR(EOMONTH(M911,0)<$BC$7,AND(EOMONTH($BC$7,-1)+1<=M911,EOMONTH($BC$7,0)>=M911)),0,IF(COUNTA(B911:K911)>0,1,0)))","v":0},{"$f":"IF(M911=\"\",IF(COUNTA(B911:K911)>0,1,0),IF(OR(EOMONTH(M911,0)<$BD$7,AND(EOMONTH($BD$7,-1)+1<=M911,EOMONTH($BD$7,0)>=M911)),0,IF(COUNTA(B911:K911)>0,1,0)))","v":0},{"$f":"IF(M911=\"\",IF(COUNTA(B911:K911)>0,1,0),IF(OR(EOMONTH(M911,0)<$BE$7,AND(EOMONTH($BE$7,-1)+1<=M911,EOMONTH($BE$7,0)>=M911)),0,IF(COUNTA(B911:K911)>0,1,0)))","v":0},{"$f":"IF(M911=\"\",IF(COUNTA(B911:K911)>0,1,0),IF(OR(EOMONTH(M911,0)<$BF$7,AND(EOMONTH($BF$7,-1)+1<=M911,EOMONTH($BF$7,0)>=M911)),0,IF(COUNTA(B911:K911)>0,1,0)))","v":0},{"$f":"IF(M911=\"\",IF(COUNTA(B911:K911)>0,1,0),IF(OR(EOMONTH(M911,0)<$BG$7,AND(EOMONTH($BG$7,-1)+1<=M911,EOMONTH($BG$7,0)>=M911)),0,IF(COUNTA(B911:K911)>0,1,0)))","v":0},{"$f":"IF(M911=\"\",IF(COUNTA(B911:K911)>0,1,0),IF(OR(EOMONTH(M911,0)<$BH$7,AND(EOMONTH($BH$7,-1)+1<=M911,EOMONTH($BH$7,0)>=M911)),0,IF(COUNTA(B911:K911)>0,1,0)))","v":0},{"$f":"IF(M911=\"\",IF(COUNTA(B911:K911)>0,1,0),IF(OR(EOMONTH(M911,0)<$BI$7,AND(EOMONTH($BI$7,-1)+1<=M911,EOMONTH($BI$7,0)>=M911)),0,IF(COUNTA(B911:K911)>0,1,0)))","v":0},{"$f":"IF(M911=\"\",IF(COUNTA(B911:K911)>0,1,0),IF(OR(EOMONTH(M911,0)<$BJ$7,AND(EOMONTH($BJ$7,-1)+1<=M911,EOMONTH($BJ$7,0)>=M911)),0,IF(COUNTA(B911:K911)>0,1,0)))","v":0},{"$f":"IF(M911=\"\",IF(COUNTA(B911:K911)>0,1,0),IF(OR(EOMONTH(M911,0)<$BK$7,AND(EOMONTH($BK$7,-1)+1<=M911,EOMONTH($BK$7,0)>=M911)),0,IF(COUNTA(B911:K911)>0,1,0)))","v":0},{"$f":"IF(M911=\"\",IF(COUNTA(B911:K911)>0,1,0),IF(OR(EOMONTH(M911,0)<$BL$7,AND(EOMONTH($BL$7,-1)+1<=M911,EOMONTH($BL$7,0)>=M911)),0,IF(COUNTA(B911:K911)>0,1,0)))","v":0},{"$f":"IF(M911=\"\",IF(COUNTA(B911:K911)>0,1,0),IF(OR(EOMONTH(M911,0)<$BM$7,AND(EOMONTH($BM$7,-1)+1<=M911,EOMONTH($BM$7,0)>=M911)),0,IF(COUNTA(B911:K911)>0,1,0)))","v":0},{"$f":"IF(M911=\"\",IF(COUNTA(B911:K911)>0,1,0),IF(OR(EOMONTH(M911,0)<$BN$7,AND(EOMONTH($BN$7,-1)+1<=M911,EOMONTH($BN$7,0)>=M911)),0,IF(COUNTA(B911:K911)>0,1,0)))","v":0},{"$f":"IF(M911=\"\",IF(COUNTA(B911:K911)>0,1,0),IF(OR(EOMONTH(M911,0)<$BO$7,AND(EOMONTH($BO$7,-1)+1<=M911,EOMONTH($BO$7,0)>=M911)),0,IF(COUNTA(B911:K911)>0,1,0)))","v":0},{"$f":"IF(M911=\"\",IF(COUNTA(B911:K911)>0,1,0),IF(OR(EOMONTH(M911,0)<$BP$7,AND(EOMONTH($BP$7,-1)+1<=M911,EOMONTH($BP$7,0)>=M911)),0,IF(COUNTA(B911:K911)>0,1,0)))","v":0},{"$f":"IF(M911=\"\",IF(COUNTA(B911:K911)>0,1,0),IF(OR(EOMONTH(M911,0)<$BQ$7,AND(EOMONTH($BQ$7,-1)+1<=M911,EOMONTH($BQ$7,0)>=M911)),0,IF(COUNTA(B911:K911)>0,1,0)))","v":0},null,0,0,0,0,null,0,0]
[904,null,null,null,null,null,null,null,null,null,null,null,null,null,null,null,null,null,0,null,null,0,0,0,0,0,0,0,0,0,0,0,0,0,0,0,0,0,0,0,0,0,0,0,0,0,0,0,0,0,0,0,0,0,0,0,0,0,0,0,0,0,0,0,0,0,0,0,0,null,0,0,0,0,null,0,0]
[905,null,null,null,null,null,null,null,null,null,null,null,null,null,null,null,null,null,0,null,null,0,0,0,0,0,0,0,0,0,0,0,0,0,0,0,0,0,0,0,0,0,0,0,0,0,0,0,0,0,0,0,0,0,0,0,0,0,0,0,0,0,0,0,0,0,0,0,0,null,0,0,0,0,null,0,0]
[906,null,null,null,null,null,null,null,null,null,null,null,null,null,null,null,null,null,0,null,null,0,0,0,0,0,0,0,0,0,0,0,0,0,0,0,0,0,0,0,0,0,0,0,0,0,0,0,0,0,0,0,0,0,0,0,0,0,0,0,0,0,0,0,0,0,0,0,0,null,0,0,0,0,null,0,0]
[907,null,null,null,null,null,null,null,null,null,null,null,null,null,null,null,null,null,0,null,null,0,0,0,0,0,0,0,0,0,0,0,0,0,0,0,0,0,0,0,0,0,0,0,0,0,0,0,0,0,0,0,0,0,0,0,0,0,0,0,0,0,0,0,0,0,0,0,0,null,0,0,0,0,null,0,0]
[908,null,null,null,null,null,null,null,null,null,null,null,null,null,null,null,null,null,0,null,null,0,0,0,0,0,0,0,0,0,0,0,0,0,0,0,0,0,0,0,0,0,0,0,0,0,0,0,0,0,0,0,0,0,0,0,0,0,0,0,0,0,0,0,0,0,0,0,0,null,0,0,0,0,null,0,0]
[909,null,null,null,null,null,null,null,null,null,null,null,null,null,null,null,null,null,0,null,null,0,0,0,0,0,0,0,0,0,0,0,0,0,0,0,0,0,0,0,0,0,0,0,0,0,0,0,0,0,0,0,0,0,0,0,0,0,0,0,0,0,0,0,0,0,0,0,0,null,0,0,0,0,null,0,0]
[910,null,null,null,null,null,null,null,null,null,null,null,null,null,null,null,null,null,0,null,null,0,0,0,0,0,0,0,0,0,0,0,0,0,0,0,0,0,0,0,0,0,0,0,0,0,0,0,0,0,0,0,0,0,0,0,0,0,0,0,0,0,0,0,0,0,0,0,0,null,0,0,0,0,null,0,0]
[911,null,null,null,null,null,null,null,null,null,null,null,null,null,null,null,null,null,0,null,null,0,0,0,0,0,0,0,0,0,0,0,0,0,0,0,0,0,0,0,0,0,0,0,0,0,0,0,0,0,0,0,0,0,0,0,0,0,0,0,0,0,0,0,0,0,0,0,0,null,0,0,0,0,null,0,0]
[912,null,null,null,null,null,null,null,null,null,null,null,null,null,null,null,null,null,0,null,null,0,0,0,0,0,0,0,0,0,0,0,0,0,0,0,0,0,0,0,0,0,0,0,0,0,0,0,0,0,0,0,0,0,0,0,0,0,0,0,0,0,0,0,0,0,0,0,0,null,0,0,0,0,null,0,0]
[913,null,null,null,null,null,null,null,null,null,null,null,null,null,null,null,null,null,0,null,null,0,0,0,0,0,0,0,0,0,0,0,0,0,0,0,0,0,0,0,0,0,0,0,0,0,0,0,0,0,0,0,0,0,0,0,0,0,0,0,0,0,0,0,0,0,0,0,0,null,0,0,0,0,null,0,0]
[914,null,null,null,null,null,null,null,null,null,null,null,null,null,null,null,null,null,0,null,null,0,0,0,0,0,0,0,0,0,0,0,0,0,0,0,0,0,0,0,0,0,0,0,0,0,0,0,0,0,0,0,0,0,0,0,0,0,0,0,0,0,0,0,0,0,0,0,0,null,0,0,0,0,null,0,0]
[915,null,null,null,null,null,null,null,null,null,null,null,null,null,null,null,null,null,0,null,null,0,0,0,0,0,0,0,0,0,0,0,0,0,0,0,0,0,0,0,0,0,0,0,0,0,0,0,0,0,0,0,0,0,0,0,0,0,0,0,0,0,0,0,0,0,0,0,0,null,0,0,0,0,null,0,0]
[916,null,null,null,null,null,null,null,null,null,null,null,null,null,null,null,null,null,0,null,null,0,0,0,0,0,0,0,0,0,0,0,0,0,0,0,0,0,0,0,0,0,0,0,0,0,0,0,0,0,0,0,0,0,0,0,0,0,0,0,0,0,0,0,0,0,0,0,0,null,0,0,0,0,null,0,0]
[917,null,null,null,null,null,null,null,null,null,null,null,null,null,null,null,null,null,0,null,null,0,0,0,0,0,0,0,0,0,0,0,0,0,0,0,0,0,0,0,0,0,0,0,0,0,0,0,0,0,0,0,0,0,0,0,0,0,0,0,0,0,0,0,0,0,0,0,0,null,0,0,0,0,null,0,0]
[918,null,null,null,null,null,null,null,null,null,null,null,null,null,null,null,null,null,0,null,null,0,0,0,0,0,0,0,0,0,0,0,0,0,0,0,0,0,0,0,0,0,0,0,0,0,0,0,0,0,0,0,0,0,0,0,0,0,0,0,0,0,0,0,0,0,0,0,0,null,0,0,0,0,null,0,0]
[919,null,null,null,null,null,null,null,null,null,null,null,null,null,null,null,null,null,0,null,null,0,0,0,0,0,0,0,0,0,0,0,0,0,0,0,0,0,0,0,0,0,0,0,0,0,0,0,0,0,0,0,0,0,0,0,0,0,0,0,0,0,0,0,0,0,0,0,0,null,0,0,0,0,null,0,0]
[920,null,null,null,null,null,null,null,null,null,null,null,null,null,null,null,null,null,0,null,null,0,0,0,0,0,0,0,0,0,0,0,0,0,0,0,0,0,0,0,0,0,0,0,0,0,0,0,0,0,0,0,0,0,0,0,0,0,0,0,0,0,0,0,0,0,0,0,0,null,0,0,0,0,null,0,0]
[921,null,null,null,null,null,null,null,null,null,null,null,null,null,null,null,null,null,0,null,null,0,0,0,0,0,0,0,0,0,0,0,0,0,0,0,0,0,0,0,0,0,0,0,0,0,0,0,0,0,0,0,0,0,0,0,0,0,0,0,0,0,0,0,0,0,0,0,0,null,0,0,0,0,null,0,0]
[922,null,null,null,null,null,null,null,null,null,null,null,null,null,null,null,null,null,0,null,null,0,0,0,0,0,0,0,0,0,0,0,0,0,0,0,0,0,0,0,0,0,0,0,0,0,0,0,0,0,0,0,0,0,0,0,0,0,0,0,0,0,0,0,0,0,0,0,0,null,0,0,0,0,null,0,0]
[923,null,null,null,null,null,null,null,null,null,null,null,null,null,null,null,null,null,0,null,null,0,0,0,0,0,0,0,0,0,0,0,0,0,0,0,0,0,0,0,0,0,0,0,0,0,0,0,0,0,0,0,0,0,0,0,0,0,0,0,0,0,0,0,0,0,0,0,0,null,0,0,0,0,null,0,0]
[924,null,null,null,null,null,null,null,null,null,null,null,null,null,null,null,null,null,0,null,null,0,0,0,0,0,0,0,0,0,0,0,0,0,0,0,0,0,0,0,0,0,0,0,0,0,0,0,0,0,0,0,0,0,0,0,0,0,0,0,0,0,0,0,0,0,0,0,0,null,0,0,0,0,null,0,0]
[925,null,null,null,null,null,null,null,null,null,null,null,null,null,null,null,null,null,0,null,null,0,0,0,0,0,0,0,0,0,0,0,0,0,0,0,0,0,0,0,0,0,0,0,0,0,0,0,0,0,0,0,0,0,0,0,0,0,0,0,0,0,0,0,0,0,0,0,0,null,0,0,0,0,null,0,0]
[926,null,null,null,null,null,null,null,null,null,null,null,null,null,null,null,null,null,{"$f":"IF(E934=\"\",0,IF(VALUE(E934)>VALUE($E$4),0,1))","v":0},null,null,0,0,0,0,0,0,0,0,0,0,0,0,0,0,0,0,0,0,0,0,0,0,0,0,0,0,0,0,0,0,0,0,0,0,0,0,0,0,0,0,0,0,0,0,0,0,0,0,null,0,0,0,0,null,{"$f":"SUMIFS(V934:BQ934,$V$7:$BQ$7,\">=\"&EOMONTH(TODAY(),-1)+1,$V$7:$BQ$7,\"<=\"&EOMONTH(TODAY(),0))","v":0},0]
[927,null,null,null,null,null,null,null,null,null,null,null,null,null,null,null,null,null,0,null,null,0,0,0,0,0,0,0,0,0,0,0,0,0,0,0,0,0,0,0,0,0,0,0,0,0,0,0,0,0,0,0,0,0,0,0,0,0,0,0,0,0,0,0,0,0,0,0,0,null,0,0,0,0,null,0,0]
[928,null,null,null,null,null,null,null,null,null,null,null,null,null,null,null,null,null,0,null,null,0,0,0,0,0,0,0,0,0,0,0,0,0,0,0,0,0,0,0,0,0,0,0,0,0,0,0,0,0,0,0,0,0,0,0,0,0,0,0,0,0,0,0,0,0,0,0,0,null,0,0,0,0,null,0,0]
[929,null,null,null,null,null,null,null,null,null,null,null,null,null,null,null,null,null,0,null,null,0,0,0,0,0,0,0,0,0,0,0,0,0,0,0,0,0,0,0,0,0,0,0,0,0,0,0,0,0,0,0,0,0,0,0,0,0,0,0,0,0,0,0,0,0,0,0,0,null,0,0,0,0,null,0,0]
[930,null,null,null,null,null,null,null,null,null,null,null,null,null,null,null,null,null,0,null,null,0,0,0,0,0,0,0,0,0,0,0,0,0,0,0,0,0,0,0,0,0,0,0,0,0,0,0,0,0,0,0,0,0,0,0,0,0,0,0,0,0,0,0,0,0,0,0,0,null,0,0,0,0,null,0,0]
[931,null,null,null,null,null,null,null,null,null,null,null,null,null,null,null,null,null,0,null,null,0,0,0,0,0,0,0,0,0,0,0,0,0,0,0,0,0,0,0,0,0,0,0,0,0,0,0,0,0,0,0,0,0,0,0,0,0,0,0,0,0,0,0,0,0,0,0,0,null,0,0,0,0,null,0,0]
[932,null,null,null,null,null,null,null,null,null,null,null,null,null,null,null,null,null,0,null,null,0,0,0,0,0,0,0,0,0,0,0,0,0,0,0,0,0,0,0,0,0,0,0,0,0,0,0,0,0,0,0,0,0,0,0,0,0,0,0,0,0,0,0,0,0,0,0,0,null,0,0,0,0,null,0,0]
[933,null,null,null,null,null,null,null,null,null,null,null,null,null,null,null,null,null,0,null,null,0,0,0,0,0,0,0,0,0,0,0,0,0,0,0,0,0,0,0,0,0,0,0,0,0,0,0,0,0,0,0,0,0,0,0,0,0,0,0,0,0,0,0,0,0,0,0,0,null,0,0,0,0,null,0,0]
[934,null,null,null,null,null,null,null,null,null,null,null,null,null,null,null,null,null,0,null,null,0,0,0,0,0,0,0,0,0,0,0,0,0,0,0,0,0,0,0,0,0,0,0,0,0,0,0,0,0,0,0,0,0,0,0,0,0,0,0,0,0,0,0,0,0,0,0,0,null,0,0,0,0,null,0,0]
[935,null,null,null,null,null,null,null,null,null,null,null,null,null,null,null,null,null,0,null,null,0,0,0,0,0,0,0,0,0,0,0,0,0,0,0,0,0,0,0,0,0,0,0,0,0,0,0,0,0,0,0,0,0,0,0,0,0,0,0,0,0,0,0,0,0,0,0,0,null,0,0,0,0,null,0,0]
[936,null,null,null,null,null,null,null,null,null,null,null,null,null,null,null,null,null,0,null,null,0,0,0,0,0,0,0,0,0,0,0,0,0,0,0,0,0,0,0,0,0,0,0,0,0,0,0,0,0,0,0,0,0,0,0,0,0,0,0,0,0,0,0,0,0,0,0,0,null,0,0,0,0,null,0,0]
[937,null,null,null,null,null,null,null,null,null,null,null,null,null,null,null,null,null,0,null,null,0,0,0,0,0,0,0,0,0,0,0,0,0,0,0,0,0,0,0,0,0,0,0,0,0,0,0,0,0,0,0,0,0,0,0,0,0,0,0,0,0,0,0,0,0,0,0,0,null,0,0,0,0,null,0,0]
[938,null,null,null,null,null,null,null,null,null,null,null,null,null,null,null,null,null,0,null,null,0,0,0,0,0,0,0,0,0,0,0,0,0,0,0,0,0,0,0,0,0,0,0,0,0,0,0,0,0,0,0,0,0,0,0,0,0,0,0,0,0,0,0,0,0,0,0,0,null,0,0,0,0,null,0,0]
[939,null,null,null,null,null,null,null,null,null,null,null,null,null,null,null,null,null,0,null,null,0,0,0,0,0,0,0,0,0,0,0,0,0,0,0,0,0,0,0,0,0,0,0,0,0,0,0,0,0,0,0,0,0,0,0,0,0,0,0,0,0,0,0,0,0,0,0,0,null,0,0,0,0,null,0,0]
[940,null,null,null,null,null,null,null,null,null,null,null,null,null,null,null,null,null,0,null,null,0,0,0,0,0,0,0,0,0,0,0,0,0,0,0,0,0,0,0,0,0,0,0,0,0,0,0,0,0,0,0,0,0,0,0,0,0,0,0,0,0,0,0,0,0,0,0,0,null,0,0,0,0,null,0,0]
[941,null,null,null,null,null,null,null,null,null,null,null,null,null,null,null,null,null,0,null,null,0,0,0,0,0,0,0,0,0,0,0,0,0,0,0,0,0,0,0,0,0,0,0,0,0,0,0,0,0,0,0,0,0,0,0,0,0,0,0,0,0,0,0,0,0,0,0,0,null,0,0,0,0,null,0,0]
[942,null,null,null,null,null,null,null,null,null,null,null,null,null,null,null,null,null,0,null,null,0,0,0,0,0,0,0,0,0,0,0,0,0,0,0,0,0,0,0,0,0,0,0,0,0,0,0,0,0,0,0,0,0,0,0,0,0,0,0,0,0,0,0,0,0,0,0,0,null,0,0,0,0,null,0,0]
[943,null,null,null,null,null,null,null,null,null,null,null,null,null,null,null,null,null,0,null,null,0,0,0,0,0,0,0,0,0,0,0,0,0,0,0,0,0,0,0,0,0,0,0,0,0,0,0,0,0,0,0,0,0,0,0,0,0,0,0,0,0,0,0,0,0,0,0,0,null,0,0,0,0,null,0,0]
[944,null,null,null,null,null,null,null,null,null,null,null,null,null,null,null,null,null,0,null,null,0,0,0,0,0,0,0,0,0,0,0,0,0,0,0,0,0,0,0,0,0,0,0,0,0,0,0,0,0,0,0,0,0,0,0,0,0,0,0,0,0,0,0,0,0,0,0,0,null,0,0,0,0,null,0,0]
[945,null,null,null,null,null,null,null,null,null,null,null,null,null,null,null,null,null,0,null,null,0,0,0,0,0,0,0,0,0,0,0,0,0,0,0,0,0,0,0,0,0,0,0,0,0,0,0,0,0,0,0,0,0,0,0,0,0,0,0,0,0,0,0,0,0,0,0,0,null,0,0,0,0,null,0,0]
[946,null,null,null,null,null,null,null,null,null,null,null,null,null,null,null,null,null,0,null,null,0,0,0,0,0,0,0,0,0,0,0,0,0,0,0,0,0,0,0,0,0,0,0,0,0,0,0,0,0,0,0,0,0,0,0,0,0,0,0,0,0,0,0,0,0,0,0,0,null,0,0,0,0,null,0,0]
[947,null,null,null,null,null,null,null,null,null,null,null,null,null,null,null,null,null,0,null,null,0,0,0,0,0,0,0,0,0,0,0,0,0,0,0,0,0,0,0,0,0,0,0,0,0,0,0,0,0,0,0,0,0,0,0,0,0,0,0,0,0,0,0,0,0,0,0,0,null,0,0,0,0,null,0,0]
[948,null,null,null,null,null,null,null,null,null,null,null,null,null,null,null,null,null,0,null,null,0,0,0,0,0,0,0,0,0,0,0,0,0,0,0,0,0,0,0,0,0,0,0,0,0,0,0,0,0,0,0,0,0,0,0,0,0,0,0,0,0,0,0,0,0,0,0,0,null,0,0,0,0,null,0,0]
[949,null,null,null,null,null,null,null,null,null,null,null,null,null,null,null,null,null,0,null,null,0,0,0,0,0,0,0,0,0,0,0,0,0,0,0,0,0,0,0,0,0,0,0,0,0,0,0,0,0,0,0,0,0,0,0,0,0,0,0,0,0,0,0,0,0,0,0,0,null,0,0,0,0,null,0,0]
[950,null,null,null,null,null,null,null,null,null,null,null,null,null,null,null,null,null,0,null,null,0,0,0,0,0,0,0,0,0,0,0,0,0,0,0,0,0,0,0,0,0,0,0,0,0,0,0,0,0,0,0,0,0,0,0,0,0,0,0,0,0,0,0,0,0,0,0,0,null,0,0,0,0,null,0,0]
[951,null,null,null,null,null,null,null,null,null,null,null,null,null,null,null,null,null,0,null,null,0,0,0,0,0,0,0,0,0,0,0,0,0,0,0,0,0,0,0,0,0,0,0,0,0,0,0,0,0,0,0,0,0,0,0,0,0,0,0,0,0,0,0,0,0,0,0,0,null,0,0,0,0,null,0,0]
[952,null,null,null,null,null,null,null,null,null,null,null,null,null,null,null,null,null,0,null,null,0,0,0,0,0,0,0,0,0,0,0,0,0,0,0,0,0,0,0,0,0,0,0,0,0,0,0,0,0,0,0,0,0,0,0,0,0,0,0,0,0,0,0,0,0,0,0,0,null,0,0,0,0,null,0,0]
[953,null,null,null,null,null,null,null,null,null,null,null,null,null,null,null,null,null,0,null,null,0,0,0,0,0,0,0,0,0,0,0,0,0,0,0,0,0,0,0,0,0,0,0,0,0,0,0,0,0,0,0,0,0,0,0,0,0,0,0,0,0,0,0,0,0,0,0,0,null,0,0,0,0,null,0,0]
[954,null,null,null,null,null,null,null,null,null,null,null,null,null,null,null,null,null,0,null,null,0,0,0,0,0,0,0,0,0,0,0,0,0,0,0,0,0,0,0,0,0,0,0,0,0,0,0,0,0,0,0,0,0,0,0,0,0,0,0,0,0,0,0,0,0,0,0,0,null,0,0,0,0,null,0,0]
[955,null,null,null,null,null,null,null,null,null,null,null,null,null,null,null,null,null,0,null,null,0,0,0,0,0,0,0,0,0,0,0,0,0,0,0,0,0,0,0,0,0,0,0,0,0,0,0,0,0,0,0,0,0,0,0,0,0,0,0,0,0,0,0,0,0,0,0,0,null,0,0,0,0,null,0,0]
[956,null,null,null,null,null,null,null,null,null,null,null,null,null,null,null,null,null,0,null,null,0,0,0,0,0,0,0,0,0,0,0,0,0,0,0,0,0,0,0,0,0,0,0,0,0,0,0,0,0,0,0,0,0,0,0,0,0,0,0,0,0,0,0,0,0,0,0,0,null,0,0,0,0,null,0,0]
[957,null,null,null,null,null,null,null,null,null,null,null,null,null,null,null,null,null,0,null,null,0,0,0,0,0,0,0,0,0,0,0,0,0,0,0,0,0,0,0,0,0,0,0,0,0,0,0,0,0,0,0,0,0,0,0,0,0,0,0,0,0,0,0,0,0,0,0,0,null,0,0,0,0,null,0,0]
[958,null,null,null,null,null,null,null,null,null,null,null,null,null,null,null,null,null,0,null,null,0,0,0,0,0,0,0,0,0,0,0,0,0,0,0,0,0,0,0,0,0,0,0,0,0,0,0,0,0,0,0,0,0,0,0,0,0,0,0,0,0,0,0,0,0,0,0,0,null,0,0,0,0,null,0,0]
[959,null,null,null,null,null,null,null,null,null,null,null,null,null,null,null,null,null,0,null,null,0,0,0,0,0,0,0,0,0,0,0,0,0,0,0,0,0,0,0,0,0,0,0,0,0,0,0,0,0,0,0,0,0,0,0,0,0,0,0,0,0,0,0,0,0,0,0,0,null,0,0,0,0,null,0,0]
[960,null,null,null,null,null,null,null,null,null,null,null,null,null,null,null,null,null,0,null,null,0,0,0,0,0,0,0,0,0,0,0,0,0,0,0,0,0,0,0,0,0,0,0,0,0,0,0,0,0,0,0,0,0,0,0,0,0,0,0,0,0,0,0,0,0,0,0,0,null,0,0,0,0,null,0,0]
[961,null,null,null,null,null,null,null,null,null,null,null,null,null,null,null,null,null,0,null,null,0,0,0,0,0,0,0,0,0,0,0,0,0,0,0,0,0,0,0,0,0,0,0,0,0,0,0,0,0,0,0,0,0,0,0,0,0,0,0,0,0,0,0,0,0,0,0,0,null,0,0,0,0,null,0,0]
[962,null,null,null,null,null,null,null,null,null,null,null,null,null,null,null,null,null,0,null,null,{"$f":"IF(M970=\"\",IF(COUNTA(B970:K970)>0,1,0),IF(OR(EOMONTH(M970,0)<$V$7,AND(EOMONTH($V$7,-1)+1<=M970,EOMONTH($V$7,0)>=M970)),0,IF(COUNTA(B970:K970)>0,1,0)))","v":0},{"$f":"IF(M970=\"\",IF(COUNTA(B970:K970)>0,1,0),IF(OR(EOMONTH(M970,0)<$W$7,AND(EOMONTH($W$7,-1)+1<=M970,EOMONTH($W$7,0)>=M970)),0,IF(COUNTA(B970:K970)>0,1,0)))","v":0},{"$f":"IF(M970=\"\",IF(COUNTA(B970:K970)>0,1,0),IF(OR(EOMONTH(M970,0)<$X$7,AND(EOMONTH($X$7,-1)+1<=M970,EOMONTH($X$7,0)>=M970)),0,IF(COUNTA(B970:K970)>0,1,0)))","v":0},{"$f":"IF(M970=\"\",IF(COUNTA(B970:K970)>0,1,0),IF(OR(EOMONTH(M970,0)<$Y$7,AND(EOMONTH($Y$7,-1)+1<=M970,EOMONTH($Y$7,0)>=M970)),0,IF(COUNTA(B970:K970)>0,1,0)))","v":0},0,0,0,0,0,0,0,0,{"$f":"IF(M970=\"\",IF(COUNTA(B970:K970)>0,1,0),IF(OR(EOMONTH(M970,0)<$AH$7,AND(EOMONTH($AH$7,-1)+1<=M970,EOMONTH($AH$7,0)>=M970)),0,IF(COUNTA(B970:K970)>0,1,0)))","v":0},{"$f":"IF(M970=\"\",IF(COUNTA(B970:K970)>0,1,0),IF(OR(EOMONTH(M970,0)<$AI$7,AND(EOMONTH($AI$7,-1)+1<=M970,EOMONTH($AI$7,0)>=M970)),0,IF(COUNTA(B970:K970)>0,1,0)))","v":0},{"$f":"IF(M970=\"\",IF(COUNTA(B970:K970)>0,1,0),IF(OR(EOMONTH(M970,0)<$AJ$7,AND(EOMONTH($AJ$7,-1)+1<=M970,EOMONTH($AJ$7,0)>=M970)),0,IF(COUNTA(B970:K970)>0,1,0)))","v":0},{"$f":"IF(M970=\"\",IF(COUNTA(B970:K970)>0,1,0),IF(OR(EOMONTH(M970,0)<$AK$7,AND(EOMONTH($AK$7,-1)+1<=M970,EOMONTH($AK$7,0)>=M970)),0,IF(COUNTA(B970:K970)>0,1,0)))","v":0},{"$f":"IF(M970=\"\",IF(COUNTA(B970:K970)>0,1,0),IF(OR(EOMONTH(M970,0)<$AL$7,AND(EOMONTH($AL$7,-1)+1<=M970,EOMONTH($AL$7,0)>=M970)),0,IF(COUNTA(B970:K970)>0,1,0)))","v":0},{"$f":"IF(M970=\"\",IF(COUNTA(B970:K970)>0,1,0),IF(OR(EOMONTH(M970,0)<$AM$7,AND(EOMONTH($AM$7,-1)+1<=M970,EOMONTH($AM$7,0)>=M970)),0,IF(COUNTA(B970:K970)>0,1,0)))","v":0},{"$f":"IF(M970=\"\",IF(COUNTA(B970:K970)>0,1,0),IF(OR(EOMONTH(M970,0)<$AN$7,AND(EOMONTH($AN$7,-1)+1<=M970,EOMONTH($AN$7,0)>=M970)),0,IF(COUNTA(B970:K970)>0,1,0)))","v":0},{"$f":"IF(M970=\"\",IF(COUNTA(B970:K970)>0,1,0),IF(OR(EOMONTH(M970,0)<$AO$7,AND(EOMONTH($AO$7,-1)+1<=M970,EOMONTH($AO$7,0)>=M970)),0,IF(COUNTA(B970:K970)>0,1,0)))","v":0},{"$f":"IF(M970=\"\",IF(COUNTA(B970:K970)>0,1,0),IF(OR(EOMONTH(M970,0)<$AP$7,AND(EOMONTH($AP$7,-1)+1<=M970,EOMONTH($AP$7,0)>=M970)),0,IF(COUNTA(B970:K970)>0,1,0)))","v":0},{"$f":"IF(M970=\"\",IF(COUNTA(B970:K970)>0,1,0),IF(OR(EOMONTH(M970,0)<$AQ$7,AND(EOMONTH($AQ$7,-1)+1<=M970,EOMONTH($AQ$7,0)>=M970)),0,IF(COUNTA(B970:K970)>0,1,0)))","v":0},{"$f":"IF(M970=\"\",IF(COUNTA(B970:K970)>0,1,0),IF(OR(EOMONTH(M970,0)<$AR$7,AND(EOMONTH($AR$7,-1)+1<=M970,EOMONTH($AR$7,0)>=M970)),0,IF(COUNTA(B970:K970)>0,1,0)))","v":0},{"$f":"IF(M970=\"\",IF(COUNTA(B970:K970)>0,1,0),IF(OR(EOMONTH(M970,0)<$AS$7,AND(EOMONTH($AS$7,-1)+1<=M970,EOMONTH($AS$7,0)>=M970)),0,IF(COUNTA(B970:K970)>0,1,0)))","v":0},{"$f":"IF(M970=\"\",IF(COUNTA(B970:K970)>0,1,0),IF(OR(EOMONTH(M970,0)<$AT$7,AND(EOMONTH($AT$7,-1)+1<=M970,EOMONTH($AT$7,0)>=M970)),0,IF(COUNTA(B970:K970)>0,1,0)))","v":0},{"$f":"IF(M970=\"\",IF(COUNTA(B970:K970)>0,1,0),IF(OR(EOMONTH(M970,0)<$AU$7,AND(EOMONTH($AU$7,-1)+1<=M970,EOMONTH($AU$7,0)>=M970)),0,IF(COUNTA(B970:K970)>0,1,0)))","v":0},{"$f":"IF(M970=\"\",IF(COUNTA(B970:K970)>0,1,0),IF(OR(EOMONTH(M970,0)<$AV$7,AND(EOMONTH($AV$7,-1)+1<=M970,EOMONTH($AV$7,0)>=M970)),0,IF(COUNTA(B970:K970)>0,1,0)))","v":0},{"$f":"IF(M970=\"\",IF(COUNTA(B970:K970)>0,1,0),IF(OR(EOMONTH(M970,0)<$AW$7,AND(EOMONTH($AW$7,-1)+1<=M970,EOMONTH($AW$7,0)>=M970)),0,IF(COUNTA(B970:K970)>0,1,0)))","v":0},0,0,0,0,0,0,0,0,0,0,0,0,0,0,0,0,0,0,0,0,null,0,{"$f":"IF(M970=\"\",IF(G970<>\"\",1,0),IF(OR(EOMONTH(M970,0)<EOMONTH(TODAY(),0),AND(EOMONTH(TODAY(),-1)+1<=M970,EOMONTH(TODAY(),0)>=M970)),0,IF(G970<>\"\",1,0)))","v":0},{"$f":"IF(M970=\"\",IF(H970<>\"\",1,0),IF(OR(EOMONTH(M970,0)<EOMONTH(TODAY(),0),AND(EOMONTH(TODAY(),-1)+1<=M970,EOMONTH(TODAY(),0)>=M970)),0,IF(H970<>\"\",1,0)))","v":0},{"$f":"IF(M970=\"\",IF(I970<>\"\",1,0),IF(OR(EOMONTH(M970,0)<EOMONTH(TODAY(),0),AND(EOMONTH(TODAY(),-1)+1<=M970,EOMONTH(TODAY(),0)>=M970)),0,IF(I970<>\"\",1,0)))","v":0},null,0,{"$f":"IF(M970=\"\",IF(J970>0,1,0),IF(EOMONTH(M970,0)<$BQ$7,0,IF(J970>0,1,0)))","v":0}]
[963,null,null,null,null,null,null,null,null,null,null,null,null,null,null,null,null,null,0,null,null,0,0,0,0,{"$f":"IF(M971=\"\",IF(COUNTA(B971:K971)>0,1,0),IF(OR(EOMONTH(M971,0)<$Z$7,AND(EOMONTH($Z$7,-1)+1<=M971,EOMONTH($Z$7,0)>=M971)),0,IF(COUNTA(B971:K971)>0,1,0)))","v":0},0,0,0,0,0,0,0,0,0,0,0,0,0,0,0,0,0,0,0,0,0,0,0,0,0,0,0,0,0,0,0,0,0,0,0,0,0,0,0,0,0,0,0,null,0,0,0,0,null,0,0]
[964,null,null,null,null,null,null,null,null,null,null,null,null,null,null,null,null,null,0,null,null,0,0,0,0,0,0,0,0,0,0,0,0,0,0,0,0,0,0,0,0,0,0,0,0,0,0,0,0,0,0,0,0,0,0,0,0,0,0,0,0,0,0,0,0,0,0,0,0,null,0,0,0,0,null,0,0]
[965,null,null,null,null,null,null,null,null,null,null,null,null,null,null,null,null,null,0,null,null,0,0,0,0,0,0,0,0,0,0,0,0,0,0,0,0,0,0,0,0,0,0,0,0,0,0,0,0,0,0,0,0,0,0,0,0,0,0,0,0,0,0,0,0,0,0,0,0,null,{"$f":"IF(M973=\"\",IF(F973<>\"\",1,0),IF(OR(EOMONTH(M973,0)<EOMONTH(TODAY(),0),AND(EOMONTH(TODAY(),-1)+1<=M973,EOMONTH(TODAY(),0)>=M973)),0,IF(F973<>\"\",1,0)))","v":0},0,0,0,null,0,0]
[966,null,null,null,null,null,null,null,null,null,null,null,null,null,null,null,null,null,0,null,null,0,0,0,0,0,{"$f":"IF(M974=\"\",IF(COUNTA(B974:K974)>0,1,0),IF(OR(EOMONTH(M974,0)<$AA$7,AND(EOMONTH($AA$7,-1)+1<=M974,EOMONTH($AA$7,0)>=M974)),0,IF(COUNTA(B974:K974)>0,1,0)))","v":0},{"$f":"IF(M974=\"\",IF(COUNTA(B974:K974)>0,1,0),IF(OR(EOMONTH(M974,0)<$AB$7,AND(EOMONTH($AB$7,-1)+1<=M974,EOMONTH($AB$7,0)>=M974)),0,IF(COUNTA(B974:K974)>0,1,0)))","v":0},{"$f":"IF(M974=\"\",IF(COUNTA(B974:K974)>0,1,0),IF(OR(EOMONTH(M974,0)<$AC$7,AND(EOMONTH($AC$7,-1)+1<=M974,EOMONTH($AC$7,0)>=M974)),0,IF(COUNTA(B974:K974)>0,1,0)))","v":0},{"$f":"IF(M974=\"\",IF(COUNTA(B974:K974)>0,1,0),IF(OR(EOMONTH(M974,0)<$AD$7,AND(EOMONTH($AD$7,-1)+1<=M974,EOMONTH($AD$7,0)>=M974)),0,IF(COUNTA(B974:K974)>0,1,0)))","v":0},{"$f":"IF(M974=\"\",IF(COUNTA(B974:K974)>0,1,0),IF(OR(EOMONTH(M974,0)<$AE$7,AND(EOMONTH($AE$7,-1)+1<=M974,EOMONTH($AE$7,0)>=M974)),0,IF(COUNTA(B974:K974)>0,1,0)))","v":0},{"$f":"IF(M974=\"\",IF(COUNTA(B974:K974)>0,1,0),IF(OR(EOMONTH(M974,0)<$AF$7,AND(EOMONTH($AF$7,-1)+1<=M974,EOMONTH($AF$7,0)>=M974)),0,IF(COUNTA(B974:K974)>0,1,0)))","v":0},{"$f":"IF(M974=\"\",IF(COUNTA(B974:K974)>0,1,0),IF(OR(EOMONTH(M974,0)<$AG$7,AND(EOMONTH($AG$7,-1)+1<=M974,EOMONTH($AG$7,0)>=M974)),0,IF(COUNTA(B974:K974)>0,1,0)))","v":0},0,0,0,0,0,0,0,0,0,0,0,0,0,0,0,0,0,0,0,0,0,0,0,0,0,0,0,0,0,0,0,0,0,0,0,0,null,0,0,0,0,null,0,0]
[967,null,null,null,null,null,null,null,null,null,null,null,null,null,null,null,null,null,0,null,null,0,0,0,0,0,0,0,0,0,0,0,0,0,0,0,0,0,0,0,0,0,0,0,0,0,0,0,0,{"$f":"IF(M975=\"\",IF(COUNTA(B975:K975)>0,1,0),IF(OR(EOMONTH(M975,0)<$AX$7,AND(EOMONTH($AX$7,-1)+1<=M975,EOMONTH($AX$7,0)>=M975)),0,IF(COUNTA(B975:K975)>0,1,0)))","v":0},{"$f":"IF(M975=\"\",IF(COUNTA(B975:K975)>0,1,0),IF(OR(EOMONTH(M975,0)<$AY$7,AND(EOMONTH($AY$7,-1)+1<=M975,EOMONTH($AY$7,0)>=M975)),0,IF(COUNTA(B975:K975)>0,1,0)))","v":0},{"$f":"IF(M975=\"\",IF(COUNTA(B975:K975)>0,1,0),IF(OR(EOMONTH(M975,0)<$AZ$7,AND(EOMONTH($AZ$7,-1)+1<=M975,EOMONTH($AZ$7,0)>=M975)),0,IF(COUNTA(B975:K975)>0,1,0)))","v":0},{"$f":"IF(M975=\"\",IF(COUNTA(B975:K975)>0,1,0),IF(OR(EOMONTH(M975,0)<$BA$7,AND(EOMONTH($BA$7,-1)+1<=M975,EOMONTH($BA$7,0)>=M975)),0,IF(COUNTA(B975:K975)>0,1,0)))","v":0},{"$f":"IF(M975=\"\",IF(COUNTA(B975:K975)>0,1,0),IF(OR(EOMONTH(M975,0)<$BB$7,AND(EOMONTH($BB$7,-1)+1<=M975,EOMONTH($BB$7,0)>=M975)),0,IF(COUNTA(B975:K975)>0,1,0)))","v":0},{"$f":"IF(M975=\"\",IF(COUNTA(B975:K975)>0,1,0),IF(OR(EOMONTH(M975,0)<$BC$7,AND(EOMONTH($BC$7,-1)+1<=M975,EOMONTH($BC$7,0)>=M975)),0,IF(COUNTA(B975:K975)>0,1,0)))","v":0},{"$f":"IF(M975=\"\",IF(COUNTA(B975:K975)>0,1,0),IF(OR(EOMONTH(M975,0)<$BD$7,AND(EOMONTH($BD$7,-1)+1<=M975,EOMONTH($BD$7,0)>=M975)),0,IF(COUNTA(B975:K975)>0,1,0)))","v":0},{"$f":"IF(M975=\"\",IF(COUNTA(B975:K975)>0,1,0),IF(OR(EOMONTH(M975,0)<$BE$7,AND(EOMONTH($BE$7,-1)+1<=M975,EOMONTH($BE$7,0)>=M975)),0,IF(COUNTA(B975:K975)>0,1,0)))","v":0},{"$f":"IF(M975=\"\",IF(COUNTA(B975:K975)>0,1,0),IF(OR(EOMONTH(M975,0)<$BF$7,AND(EOMONTH($BF$7,-1)+1<=M975,EOMONTH($BF$7,0)>=M975)),0,IF(COUNTA(B975:K975)>0,1,0)))","v":0},{"$f":"IF(M975=\"\",IF(COUNTA(B975:K975)>0,1,0),IF(OR(EOMONTH(M975,0)<$BG$7,AND(EOMONTH($BG$7,-1)+1<=M975,EOMONTH($BG$7,0)>=M975)),0,IF(COUNTA(B975:K975)>0,1,0)))","v":0},{"$f":"IF(M975=\"\",IF(COUNTA(B975:K975)>0,1,0),IF(OR(EOMONTH(M975,0)<$BH$7,AND(EOMONTH($BH$7,-1)+1<=M975,EOMONTH($BH$7,0)>=M975)),0,IF(COUNTA(B975:K975)>0,1,0)))","v":0},{"$f":"IF(M975=\"\",IF(COUNTA(B975:K975)>0,1,0),IF(OR(EOMONTH(M975,0)<$BI$7,AND(EOMONTH($BI$7,-1)+1<=M975,EOMONTH($BI$7,0)>=M975)),0,IF(COUNTA(B975:K975)>0,1,0)))","v":0},{"$f":"IF(M975=\"\",IF(COUNTA(B975:K975)>0,1,0),IF(OR(EOMONTH(M975,0)<$BJ$7,AND(EOMONTH($BJ$7,-1)+1<=M975,EOMONTH($BJ$7,0)>=M975)),0,IF(COUNTA(B975:K975)>0,1,0)))","v":0},{"$f":"IF(M975=\"\",IF(COUNTA(B975:K975)>0,1,0),IF(OR(EOMONTH(M975,0)<$BK$7,AND(EOMONTH($BK$7,-1)+1<=M975,EOMONTH($BK$7,0)>=M975)),0,IF(COUNTA(B975:K975)>0,1,0)))","v":0},{"$f":"IF(M975=\"\",IF(COUNTA(B975:K975)>0,1,0),IF(OR(EOMONTH(M975,0)<$BL$7,AND(EOMONTH($BL$7,-1)+1<=M975,EOMONTH($BL$7,0)>=M975)),0,IF(COUNTA(B975:K975)>0,1,0)))","v":0},{"$f":"IF(M975=\"\",IF(COUNTA(B975:K975)>0,1,0),IF(OR(EOMONTH(M975,0)<$BM$7,AND(EOMONTH($BM$7,-1)+1<=M975,EOMONTH($BM$7,0)>=M975)),0,IF(COUNTA(B975:K975)>0,1,0)))","v":0},{"$f":"IF(M975=\"\",IF(COUNTA(B975:K975)>0,1,0),IF(OR(EOMONTH(M975,0)<$BN$7,AND(EOMONTH($BN$7,-1)+1<=M975,EOMONTH($BN$7,0)>=M975)),0,IF(COUNTA(B975:K975)>0,1,0)))","v":0},{"$f":"IF(M975=\"\",IF(COUNTA(B975:K975)>0,1,0),IF(OR(EOMONTH(M975,0)<$BO$7,AND(EOMONTH($BO$7,-1)+1<=M975,EOMONTH($BO$7,0)>=M975)),0,IF(COUNTA(B975:K975)>0,1,0)))","v":0},{"$f":"IF(M975=\"\",IF(COUNTA(B975:K975)>0,1,0),IF(OR(EOMONTH(M975,0)<$BP$7,AND(EOMONTH($BP$7,-1)+1<=M975,EOMONTH($BP$7,0)>=M975)),0,IF(COUNTA(B975:K975)>0,1,0)))","v":0},{"$f":"IF(M975=\"\",IF(COUNTA(B975:K975)>0,1,0),IF(OR(EOMONTH(M975,0)<$BQ$7,AND(EOMONTH($BQ$7,-1)+1<=M975,EOMONTH($BQ$7,0)>=M975)),0,IF(COUNTA(B975:K975)>0,1,0)))","v":0},null,0,0,0,0,null,0,0]
[968,null,null,null,null,null,null,null,null,null,null,null,null,null,null,null,null,null,0,null,null,0,0,0,0,0,0,0,0,0,0,0,0,0,0,0,0,0,0,0,0,0,0,0,0,0,0,0,0,0,0,0,0,0,0,0,0,0,0,0,0,0,0,0,0,0,0,0,0,null,0,0,0,0,null,0,0]
[969,null,null,null,null,null,null,null,null,null,null,null,null,null,null,null,null,null,0,null,null,0,0,0,0,0,0,0,0,0,0,0,0,0,0,0,0,0,0,0,0,0,0,0,0,0,0,0,0,0,0,0,0,0,0,0,0,0,0,0,0,0,0,0,0,0,0,0,0,null,0,0,0,0,null,0,0]
[970,null,null,null,null,null,null,null,null,null,null,null,null,null,null,null,null,null,0,null,null,0,0,0,0,0,0,0,0,0,0,0,0,0,0,0,0,0,0,0,0,0,0,0,0,0,0,0,0,0,0,0,0,0,0,0,0,0,0,0,0,0,0,0,0,0,0,0,0,null,0,0,0,0,null,0,0]
[971,null,null,null,null,null,null,null,null,null,null,null,null,null,null,null,null,null,0,null,null,0,0,0,0,0,0,0,0,0,0,0,0,0,0,0,0,0,0,0,0,0,0,0,0,0,0,0,0,0,0,0,0,0,0,0,0,0,0,0,0,0,0,0,0,0,0,0,0,null,0,0,0,0,null,0,0]
[972,null,null,null,null,null,null,null,null,null,null,null,null,null,null,null,null,null,0,null,null,0,0,0,0,0,0,0,0,0,0,0,0,0,0,0,0,0,0,0,0,0,0,0,0,0,0,0,0,0,0,0,0,0,0,0,0,0,0,0,0,0,0,0,0,0,0,0,0,null,0,0,0,0,null,0,0]
[973,null,null,null,null,null,null,null,null,null,null,null,null,null,null,null,null,null,0,null,null,0,0,0,0,0,0,0,0,0,0,0,0,0,0,0,0,0,0,0,0,0,0,0,0,0,0,0,0,0,0,0,0,0,0,0,0,0,0,0,0,0,0,0,0,0,0,0,0,null,0,0,0,0,null,0,0]
[974,null,null,null,null,null,null,null,null,null,null,null,null,null,null,null,null,null,0,null,null,0,0,0,0,0,0,0,0,0,0,0,0,0,0,0,0,0,0,0,0,0,0,0,0,0,0,0,0,0,0,0,0,0,0,0,0,0,0,0,0,0,0,0,0,0,0,0,0,null,0,0,0,0,null,0,0]
[975,null,null,null,null,null,null,null,null,null,null,null,null,null,null,null,null,null,0,null,null,0,0,0,0,0,0,0,0,0,0,0,0,0,0,0,0,0,0,0,0,0,0,0,0,0,0,0,0,0,0,0,0,0,0,0,0,0,0,0,0,0,0,0,0,0,0,0,0,null,0,0,0,0,null,0,0]
[976,null,null,null,null,null,null,null,null,null,null,null,null,null,null,null,null,null,0,null,null,0,0,0,0,0,0,0,0,0,0,0,0,0,0,0,0,0,0,0,0,0,0,0,0,0,0,0,0,0,0,0,0,0,0,0,0,0,0,0,0,0,0,0,0,0,0,0,0,null,0,0,0,0,null,0,0]
[977,null,null,null,null,null,null,null,null,null,null,null,null,null,null,null,null,null,0,null,null,0,0,0,0,0,0,0,0,0,0,0,0,0,0,0,0,0,0,0,0,0,0,0,0,0,0,0,0,0,0,0,0,0,0,0,0,0,0,0,0,0,0,0,0,0,0,0,0,null,0,0,0,0,null,0,0]
[978,null,null,null,null,null,null,null,null,null,null,null,null,null,null,null,null,null,0,null,null,0,0,0,0,0,0,0,0,0,0,0,0,0,0,0,0,0,0,0,0,0,0,0,0,0,0,0,0,0,0,0,0,0,0,0,0,0,0,0,0,0,0,0,0,0,0,0,0,null,0,0,0,0,null,0,0]
[979,null,null,null,null,null,null,null,null,null,null,null,null,null,null,null,null,null,0,null,null,0,0,0,0,0,0,0,0,0,0,0,0,0,0,0,0,0,0,0,0,0,0,0,0,0,0,0,0,0,0,0,0,0,0,0,0,0,0,0,0,0,0,0,0,0,0,0,0,null,0,0,0,0,null,0,0]
[980,null,null,null,null,null,null,null,null,null,null,null,null,null,null,null,null,null,0,null,null,0,0,0,0,0,0,0,0,0,0,0,0,0,0,0,0,0,0,0,0,0,0,0,0,0,0,0,0,0,0,0,0,0,0,0,0,0,0,0,0,0,0,0,0,0,0,0,0,null,0,0,0,0,null,0,0]
[981,null,null,null,null,null,null,null,null,null,null,null,null,null,null,null,null,null,0,null,null,0,0,0,0,0,0,0,0,0,0,0,0,0,0,0,0,0,0,0,0,0,0,0,0,0,0,0,0,0,0,0,0,0,0,0,0,0,0,0,0,0,0,0,0,0,0,0,0,null,0,0,0,0,null,0,0]
[982,null,null,null,null,null,null,null,null,null,null,null,null,null,null,null,null,null,0,null,null,0,0,0,0,0,0,0,0,0,0,0,0,0,0,0,0,0,0,0,0,0,0,0,0,0,0,0,0,0,0,0,0,0,0,0,0,0,0,0,0,0,0,0,0,0,0,0,0,null,0,0,0,0,null,0,0]
[983,null,null,null,null,null,null,null,null,null,null,null,null,null,null,null,null,null,0,null,null,0,0,0,0,0,0,0,0,0,0,0,0,0,0,0,0,0,0,0,0,0,0,0,0,0,0,0,0,0,0,0,0,0,0,0,0,0,0,0,0,0,0,0,0,0,0,0,0,null,0,0,0,0,null,0,0]
[984,null,null,null,null,null,null,null,null,null,null,null,null,null,null,null,null,null,0,null,null,0,0,0,0,0,0,0,0,0,0,0,0,0,0,0,0,0,0,0,0,0,0,0,0,0,0,0,0,0,0,0,0,0,0,0,0,0,0,0,0,0,0,0,0,0,0,0,0,null,0,0,0,0,null,0,0]
[985,null,null,null,null,null,null,null,null,null,null,null,null,null,null,null,null,null,0,null,null,0,0,0,0,0,0,0,0,0,0,0,0,0,0,0,0,0,0,0,0,0,0,0,0,0,0,0,0,0,0,0,0,0,0,0,0,0,0,0,0,0,0,0,0,0,0,0,0,null,0,0,0,0,null,0,0]
[986,null,null,null,null,null,null,null,null,null,null,null,null,null,null,null,null,null,0,null,null,0,0,0,0,0,0,0,0,0,0,0,0,0,0,0,0,0,0,0,0,0,0,0,0,0,0,0,0,0,0,0,0,0,0,0,0,0,0,0,0,0,0,0,0,0,0,0,0,null,0,0,0,0,null,0,0]
[987,null,null,null,null,null,null,null,null,null,null,null,null,null,null,null,null,null,0,null,null,0,0,0,0,0,0,0,0,0,0,0,0,0,0,0,0,0,0,0,0,0,0,0,0,0,0,0,0,0,0,0,0,0,0,0,0,0,0,0,0,0,0,0,0,0,0,0,0,null,0,0,0,0,null,0,0]
[988,null,null,null,null,null,null,null,null,null,null,null,null,null,null,null,null,null,0,null,null,0,0,0,0,0,0,0,0,0,0,0,0,0,0,0,0,0,0,0,0,0,0,0,0,0,0,0,0,0,0,0,0,0,0,0,0,0,0,0,0,0,0,0,0,0,0,0,0,null,0,0,0,0,null,0,0]
[989,null,null,null,null,null,null,null,null,null,null,null,null,null,null,null,null,null,0,null,null,0,0,0,0,0,0,0,0,0,0,0,0,0,0,0,0,0,0,0,0,0,0,0,0,0,0,0,0,0,0,0,0,0,0,0,0,0,0,0,0,0,0,0,0,0,0,0,0,null,0,0,0,0,null,0,0]
[990,null,null,null,null,null,null,null,null,null,null,null,null,null,null,null,null,null,{"$f":"IF(E998=\"\",0,IF(VALUE(E998)>VALUE($E$4),0,1))","v":0},null,null,0,0,0,0,0,0,0,0,0,0,0,0,0,0,0,0,0,0,0,0,0,0,0,0,0,0,0,0,0,0,0,0,0,0,0,0,0,0,0,0,0,0,0,0,0,0,0,0,null,0,0,0,0,null,{"$f":"SUMIFS(V998:BQ998,$V$7:$BQ$7,\">=\"&EOMONTH(TODAY(),-1)+1,$V$7:$BQ$7,\"<=\"&EOMONTH(TODAY(),0))","v":0},0]
[991,null,null,null,null,null,null,null,null,null,null,null,null,null,null,null,null,null,0,null,null,0,0,0,0,0,0,0,0,0,0,0,0,0,0,0,0,0,0,0,0,0,0,0,0,0,0,0,0,0,0,0,0,0,0,0,0,0,0,0,0,0,0,0,0,0,0,0,0,null,0,0,0,0,null,0,0]
[992,null,null,null,null,null,null,null,null,null,null,null,null,null,null,null,null,null,0,null,null,0,0,0,0,0,0,0,0,0,0,0,0,0,0,0,0,0,0,0,0,0,0,0,0,0,0,0,0,0,0,0,0,0,0,0,0,0,0,0,0,0,0,0,0,0,0,0,0,null,0,0,0,0,null,0,0]
[993,null,null,null,null,null,null,null,null,null,null,null,null,null,null,null,null,null,0,null,null,0,0,0,0,0,0,0,0,0,0,0,0,0,0,0,0,0,0,0,0,0,0,0,0,0,0,0,0,0,0,0,0,0,0,0,0,0,0,0,0,0,0,0,0,0,0,0,0,null,0,0,0,0,null,0,0]
[994,null,null,null,null,null,null,null,null,null,null,null,null,null,null,null,null,null,0,null,null,0,0,0,0,0,0,0,0,0,0,0,0,0,0,0,0,0,0,0,0,0,0,0,0,0,0,0,0,0,0,0,0,0,0,0,0,0,0,0,0,0,0,0,0,0,0,0,0,null,0,0,0,0,null,0,0]
[995,null,null,null,null,null,null,null,null,null,null,null,null,null,null,null,null,null,0,null,null,0,0,0,0,0,0,0,0,0,0,0,0,0,0,0,0,0,0,0,0,0,0,0,0,0,0,0,0,0,0,0,0,0,0,0,0,0,0,0,0,0,0,0,0,0,0,0,0,null,0,0,0,0,null,0,0]
[996,null,null,null,null,null,null,null,null,null,null,null,null,null,null,null,null,null,0,null,null,0,0,0,0,0,0,0,0,0,0,0,0,0,0,0,0,0,0,0,0,0,0,0,0,0,0,0,0,0,0,0,0,0,0,0,0,0,0,0,0,0,0,0,0,0,0,0,0,null,0,0,0,0,null,0,0]
[997,null,null,null,null,null,null,null,null,null,null,null,null,null,null,null,null,null,0,null,null,0,0,0,0,0,0,0,0,0,0,0,0,0,0,0,0,0,0,0,0,0,0,0,0,0,0,0,0,0,0,0,0,0,0,0,0,0,0,0,0,0,0,0,0,0,0,0,0,null,0,0,0,0,null,0,0]
[998,null,null,null,null,null,null,null,null,null,null,null,null,null,null,null,null,null,0,null,null,0,0,0,0,0,0,0,0,0,0,0,0,0,0,0,0,0,0,0,0,0,0,0,0,0,0,0,0,0,0,0,0,0,0,0,0,0,0,0,0,0,0,0,0,0,0,0,0,null,0,0,0,0,null,{"$f":"SUMIFS(V1006:BQ1006,$V$7:$BQ$7,\">=\"&EOMONTH(TODAY(),-1)+1,$V$7:$BQ$7,\"<=\"&EOMONTH(TODAY(),0))","v":0},0]
[999,null,null,null,null,null,null,null,null,null,null,null,null,null,null,null,null,null,0,null,null,0,0,0,0,0,0,0,0,0,0,0,0,0,0,0,0,0,0,0,0,0,0,0,0,0,0,0,0,0,0,0,0,0,0,0,0,0,0,0,0,0,0,0,0,0,0,0,0,null,0,0,0,0,null,0,0]
[1000,null,null,null,null,null,null,null,null,null,null,null,null,null,null,null,null,null,{"$f":"IF(E1008=\"\",0,IF(VALUE(E1008)>VALUE($E$4),0,1))","v":0},null,null,0,0,0,0,0,0,0,0,0,0,0,0,0,0,0,0,0,0,0,0,0,0,0,0,0,0,0,0,0,0,0,0,0,0,0,0,0,0,0,0,0,0,0,0,0,0,0,0,null,0,0,0,0,null,0,0]
[null,null,null,null,null,null,null,null,null,null,null,null,null,null,null,null,null,null,null,null,"Total:",{"$f":"SUM(V9:V358)","v":0},{"$f":"SUM(W9:W358)","v":0},0,0,0,0,0,0,0,0,0,0,0,0,0,0,0,0,0,0,0,0,0,0,0,0,0,0,0,0,0,0,0,0,0,0,0,0,0,0,0,0,0,0,0,0,0,0,null,{"$f":"SUM(BS9:BS358)","v":0},0,0,{"$f":"SUM(BV9:BV358)","v":0},null,{"$f":"SUM(BX9:BX358)","v":0},0]
[null,null,null,null,null,null,null,null,null,null,null,null,null,null,null,null,null,null,null,null,null,{"$f":"V7","v":"2019-08-08"},{"$f":"W7","v":"2019-09-01"},"2019-10-01","2019-11-01","2019-12-01","2020-01-01","2020-02-01","2020-03-01","2020-04-01","2020-05-01","2020-06-01","2020-07-01","2020-08-01","2020-09-01","2020-10-01","2020-11-01","2020-12-01","2021-01-01","2021-02-01","2021-03-01","2021-04-01","2021-05-01","2021-06-01","2021-07-01","2021-08-01","2021-09-01","2021-10-01","2021-11-01","2021-12-01","2022-01-01","2022-02-01","2022-03-01","2022-04-01","2022-05-01","2022-06-01","2022-07-01","2022-08-01","2022-09-01","2022-10-01","2022-11-01","2022-12-01","2023-01-01","2023-02-01","2023-03-01","2023-04-01","2023-05-01","2023-06-01","2023-07-01"]

{"sheet":"3. Training Progress","index":2,"n_rows":320,"n_cols":36,"rows_kept":320,"cut":false,"hidden":false,"merged":[[20,1,20,4],[5,1,5,3],[1,21,1,35],[3,21,3,24],[3,27,3,30],[3,33,3,35]]}
[]
[null,null,null,null,null,null,null,null,null,null,null,null,null,null,null,null,null,null,null,null,null,"Training Progress"]
[null,null,"% Staff Trained By Month",null,null,"Previous Month:",{"$f":"EOMONTH(I4,-1)","v":{"$error":"#VALUE!"}},"MonthYear","x display","Month","Year","Num: # Trained","Denom: # Staff","Monthly%","Cum.%",null,"Monthly Diff  In # Staff","# Trained Staff Removed","New Cum %","Cum # Trained"]
[null,null,"Today's Date:",{"$f":"TODAY()","v":"2019-08-08"},null,null,{"$f":"OR(EOMONTH(I4,0)+1<=$D$4,AND($D$4>=EOMONTH(I4,-1)+1,$D$4<EOMONTH(I5,-1)+1))","v":{"$error":"#VALUE!"}},{"$f":"J4&K4","v":{"$error":"#N/A"}},{"$f":"IFERROR(CONCATENATE(MONTH(DATEVALUE(J4&\" 1\")),\"/\",K4),\"\")","v":""},{"$f":"IF(COUNTA('2. Staff Training Log'!$J$9:$J$1008)=0,NA(),TEXT(MIN('2. Staff Training Log'!$J$9:$J$1008),\"mmm\"))","v":{"$error":"#N/A"}},{"$f":"IF(COUNTA('2. Staff Training Log'!$J$9:$J$1008)=0,NA(),TEXT(MIN('2. Staff Training Log'!$J$9:$J$1008),\"yyyy\"))","v":{"$error":"#N/A"}},{"$f":"IF(G4=TRUE(),COUNTIFS('2. Staff Training Log'!$J$9:$J$1008,\">=\"&EOMONTH(I4,-1)+1,'2. Staff Training Log'!$J$9:$J$1008,\"<\"&EOMONTH(I5,-1)+1,'2. Staff Training Log'!$S$9:$S$1008,0),NA())","v":{"$error":"#VALUE!"}},{"$f":"IF(G4=TRUE(),'2. Staff Training Log'!V1009,NA())","v":{"$error":"#VALUE!"}},{"$f":"IFERROR(IF(IFERROR(L4/M4,NA())=0,NA(),IFERROR(L4/M4,NA())),0)","v":0},{"$f":"IFERROR(IFERROR(IF(G4=TRUE(),SUMPRODUCT($N$4:$N4),NA()),NA()),0)","v":0},null,0,{"$f":"COUNTIFS('2. Staff Training Log'!$J$9:$J$1008,\"<>\"&\"\",'2. Staff Training Log'!$M$9:$M$1008,\">=\"&G3,'2. Staff Training Log'!$M$9:$M$1008,\"<\"&I4,'2. Staff Training Log'!$S$9:$S$1008,0)","v":0},{"$f":"IFERROR(IFERROR(IF(G4=TRUE(),(SUM(L4)-SUM(R4))/M4,NA()),NA()),0)","v":0},{"$f":"IF(G4=TRUE(),SUM(L4)-SUM(R4),NA())","v":{"$error":"#VALUE!"}},null,"Overall Staff Training Progress",null,null,null,null,null,"Progress Per Specified Unit",null,null,null,null,null,"Progress Per Competency"]
[null,null,null,null,null,null,{"$f":"OR(EOMONTH(I5,0)+1<=$D$4,AND($D$4>=EOMONTH(I5,-1)+1,$D$4<EOMONTH(I6,-1)+1))","v":{"$error":"#VALUE!"}},{"$f":"J5&K5","v":""},{"$f":"IFERROR(CONCATENATE(MONTH(DATEVALUE(J5&\" 1\")),\"/\",K5),\"\")","v":""},{"$f":"IFERROR(TEXT(EOMONTH(H4,1),\"mmm\"),\"\")","v":""},{"$f":"IFERROR(TEXT(EOMONTH(H4,1),\"yyyy\"),\"\")","v":""},{"$f":"IF(G5=TRUE(),COUNTIFS('2. Staff Training Log'!$J$9:$J$1008,\">=\"&EOMONTH(I5,-1)+1,'2. Staff Training Log'!$J$9:$J$1008,\"<\"&EOMONTH(I6,-1)+1,'2. Staff Training Log'!$S$9:$S$1008,0),NA())","v":{"$error":"#VALUE!"}},{"$f":"IF(G5=TRUE(),'2. Staff Training Log'!W1009,NA())","v":{"$error":"#VALUE!"}},{"$f":"IF(IFERROR(L5/M5,NA())=0,NA(),IFERROR(L5/M5,NA()))","v":{"$error":"#N/A"}},{"$f":"IFERROR(IF(G5=TRUE(),SUMPRODUCT($N$4:$N5),NA()),NA())","v":{"$error":"#N/A"}},null,{"$f":"M5-M4","v":{"$error":"#VALUE!"}},{"$f":"COUNTIFS('2. Staff Training Log'!$J$9:$J$1008,\"<>\"&\"\",'2. Staff Training Log'!$M$9:$M$1008,\">=\"&G4,'2. Staff Training Log'!$M$9:$M$1008,\"<\"&I5,'2. Staff Training Log'!$S$9:$S$1008,0)","v":0},{"$f":"IFERROR(IF(G5=TRUE(),(SUM(L4:L5)-SUM(R4:R5))/M5,NA()),NA())","v":{"$error":"#N/A"}},{"$f":"IF(G5=TRUE(),SUM(L4:L5)-SUM(R4:R5),NA())","v":{"$error":"#VALUE!"}}]
[null,"Overall Staff Training Progress",null,null,null,null,{"$f":"OR(EOMONTH(I6,0)+1<=$D$4,AND($D$4>=EOMONTH(I6,-1)+1,$D$4<EOMONTH(I7,-1)+1))","v":{"$error":"#VALUE!"}},{"$f":"J6&K6","v":""},{"$f":"IFERROR(CONCATENATE(MONTH(DATEVALUE(J6&\" 1\")),\"/\",K6),\"\")","v":""},{"$f":"IFERROR(TEXT(EOMONTH(H5,1),\"mmm\"),\"\")","v":""},{"$f":"IFERROR(TEXT(EOMONTH(H5,1),\"yyyy\"),\"\")","v":""},{"$f":"IF(G6=TRUE(),COUNTIFS('2. Staff Training Log'!$J$9:$J$1008,\">=\"&EOMONTH(I6,-1)+1,'2. Staff Training Log'!$J$9:$J$1008,\"<\"&EOMONTH(I7,-1)+1,'2. Staff Training Log'!$S$9:$S$1008,0),NA())","v":{"$error":"#VALUE!"}},{"$f":"IF(G6=TRUE(),'2. Staff Training Log'!X1009,NA())","v":{"$error":"#VALUE!"}},{"$f":"IF(IFERROR(L6/M6,NA())=0,NA(),IFERROR(L6/M6,NA()))","v":{"$error":"#N/A"}},{"$f":"IFERROR(IF(G6=TRUE(),SUMPRODUCT($N$4:$N6),NA()),NA())","v":{"$error":"#N/A"}},null,{"$f":"M6-M5","v":{"$error":"#VALUE!"}},{"$f":"COUNTIFS('2. Staff Training Log'!$J$9:$J$1008,\"<>\"&\"\",'2. Staff Training Log'!$M$9:$M$1008,\">=\"&G5,'2. Staff Training Log'!$M$9:$M$1008,\"<\"&I6,'2. Staff Training Log'!$S$9:$S$1008,0)","v":0},{"$f":"IFERROR(IF(G6=TRUE(),(SUM(L4:L6)-SUM(R4:R6))/M6,NA()),NA())","v":{"$error":"#N/A"}},{"$f":"IF(G6=TRUE(),SUM(L4:L6)-SUM(R4:R6),NA())","v":{"$error":"#VALUE!"}},null,null,null,null,null,null,null,"Specified Unit","# Staff","# Completed","% Completed",null,null,"Competency","# Completed","% Completed"]
[null,null,"Actual:",{"$f":"D18","v":0},null,null,{"$error":"#VALUE!"},"","",{"$f":"IFERROR(TEXT(EOMONTH(H6,1),\"mmm\"),\"\")","v":""},"",{"$f":"IF(G7=TRUE(),COUNTIFS('2. Staff Training Log'!$J$9:$J$1008,\">=\"&EOMONTH(I7,-1)+1,'2. Staff Training Log'!$J$9:$J$1008,\"<\"&EOMONTH(I8,-1)+1,'2. Staff Training Log'!$S$9:$S$1008,0),NA())","v":{"$error":"#VALUE!"}},{"$f":"IF(G7=TRUE(),'2. Staff Training Log'!Y1009,NA())","v":{"$error":"#VALUE!"}},{"$f":"IF(IFERROR(L7/M7,NA())=0,NA(),IFERROR(L7/M7,NA()))","v":{"$error":"#N/A"}},{"$f":"IFERROR(IF(G7=TRUE(),SUMPRODUCT($N$4:$N7),NA()),NA())","v":{"$error":"#N/A"}},null,{"$error":"#VALUE!"},{"$f":"COUNTIFS('2. Staff Training Log'!$J$9:$J$1008,\"<>\"&\"\",'2. Staff Training Log'!$M$9:$M$1008,\">=\"&G6,'2. Staff Training Log'!$M$9:$M$1008,\"<\"&I7,'2. Staff Training Log'!$S$9:$S$1008,0)","v":0},{"$f":"IFERROR(IF(G7=TRUE(),(SUM(L4:L7)-SUM(R4:R7))/M7,NA()),NA())","v":{"$error":"#N/A"}},{"$f":"IF(G7=TRUE(),SUM(L4:L7)-SUM(R4:R7),NA())","v":{"$error":"#VALUE!"}},null,null,null,null,null,null,null,{"$f":"IFERROR(#REF!,\"\")","v":""},{"$f":"IF(AB7=\"\",\"\",#REF!)","v":""},{"$f":"IF(AB7=\"\",\"\",#REF!)","v":""},{"$f":"IFERROR(AD7/AC7,\"\")","v":""},null,null,"Competency 1",{"$f":"IF(X18=\"\",\"\",'2. Staff Training Log'!BS1009)","v":""},{"$f":"IFERROR(AI7/X18,\"\")","v":""}]
[null,null,null,null,null,null,{"$error":"#VALUE!"},"",{"$f":"IFERROR(CONCATENATE(MONTH(DATEVALUE(J8&\" 1\")),\"/\",K8),\"\")","v":""},{"$f":"IFERROR(TEXT(EOMONTH(H7,1),\"mmm\"),\"\")","v":""},"",{"$f":"IF(G8=TRUE(),COUNTIFS('2. Staff Training Log'!$J$9:$J$1008,\">=\"&EOMONTH(I8,-1)+1,'2. Staff Training Log'!$J$9:$J$1008,\"<\"&EOMONTH(I9,-1)+1,'2. Staff Training Log'!$S$9:$S$1008,0),NA())","v":{"$error":"#VALUE!"}},{"$f":"IF(G8=TRUE(),'2. Staff Training Log'!Z1009,NA())","v":{"$error":"#VALUE!"}},{"$f":"IF(IFERROR(L8/M8,NA())=0,NA(),IFERROR(L8/M8,NA()))","v":{"$error":"#N/A"}},{"$f":"IFERROR(IF(G8=TRUE(),SUMPRODUCT($N$4:$N8),NA()),NA())","v":{"$error":"#N/A"}},null,{"$f":"M8-M7","v":{"$error":"#VALUE!"}},{"$f":"COUNTIFS('2. Staff Training Log'!$J$9:$J$1008,\"<>\"&\"\",'2. Staff Training Log'!$M$9:$M$1008,\">=\"&G7,'2. Staff Training Log'!$M$9:$M$1008,\"<\"&I8,'2. Staff Training Log'!$S$9:$S$1008,0)","v":0},{"$f":"IFERROR(IF(G8=TRUE(),(SUM(L4:L8)-SUM(R4:R8))/M8,NA()),NA())","v":{"$error":"#N/A"}},{"$f":"IF(G8=TRUE(),SUM(L4:L8)-SUM(R4:R8),NA())","v":{"$error":"#VALUE!"}},null,null,null,null,null,null,null,{"$f":"IFERROR(#REF!,\"\")","v":""},{"$f":"IF(AB8=\"\",\"\",#REF!)","v":""},{"$f":"IF(AB8=\"\",\"\",#REF!)","v":""},{"$f":"IFERROR(AD8/AC8,\"\")","v":""},null,null,"Competency 2",{"$f":"IF(X18=\"\",\"\",'2. Staff Training Log'!BT1009)","v":""},{"$f":"IFERROR(AI8/X18,\"\")","v":""}]
[null,null,"Level Max","Data Series",null,null,{"$error":"#VALUE!"},{"$f":"J9&K9","v":""},"","","",{"$f":"IF(G9=TRUE(),COUNTIFS('2. Staff Training Log'!$J$9:$J$1008,\">=\"&EOMONTH(I9,-1)+1,'2. Staff Training Log'!$J$9:$J$1008,\"<\"&EOMONTH(I10,-1)+1,'2. Staff Training Log'!$S$9:$S$1008,0),NA())","v":{"$error":"#VALUE!"}},{"$f":"IF(G9=TRUE(),'2. Staff Training Log'!AA1009,NA())","v":{"$error":"#VALUE!"}},{"$error":"#N/A"},{"$f":"IFERROR(IF(G9=TRUE(),SUMPRODUCT($N$4:$N9),NA()),NA())","v":{"$error":"#N/A"}},null,{"$error":"#VALUE!"},{"$f":"COUNTIFS('2. Staff Training Log'!$J$9:$J$1008,\"<>\"&\"\",'2. Staff Training Log'!$M$9:$M$1008,\">=\"&G8,'2. Staff Training Log'!$M$9:$M$1008,\"<\"&I9,'2. Staff Training Log'!$S$9:$S$1008,0)","v":0},{"$f":"IFERROR(IF(G9=TRUE(),(SUM(L4:L9)-SUM(R4:R9))/M9,NA()),NA())","v":{"$error":"#N/A"}},{"$f":"IF(G9=TRUE(),SUM(L4:L9)-SUM(R4:R9),NA())","v":{"$error":"#VALUE!"}},null,null,null,null,null,null,null,{"$f":"IFERROR(C23,\"\")","v":""},{"$f":"IF(AB9=\"\",\"\",D23)","v":""},{"$f":"IF(AB9=\"\",\"\",E23)","v":""},"",null,null,"Competency 3",{"$f":"IF(X18=\"\",\"\",'2. Staff Training Log'!BU1009)","v":""},{"$f":"IFERROR(AI9/X18,\"\")","v":""}]
[null,"Level 1",0.75,{"$f":"IF(D$7<=$C$10,D$7,\" \")","v":0},null,null,{"$f":"OR(EOMONTH(I10,0)+1<=$D$4,AND($D$4>=EOMONTH(I10,-1)+1,$D$4<EOMONTH(I11,-1)+1))","v":{"$error":"#VALUE!"}},"","","","",{"$f":"IF(G10=TRUE(),COUNTIFS('2. Staff Training Log'!$J$9:$J$1008,\">=\"&EOMONTH(I10,-1)+1,'2. Staff Training Log'!$J$9:$J$1008,\"<\"&EOMONTH(I11,-1)+1,'2. Staff Training Log'!$S$9:$S$1008,0),NA())","v":{"$error":"#VALUE!"}},{"$f":"IF(G10=TRUE(),'2. Staff Training Log'!AB1009,NA())","v":{"$error":"#VALUE!"}},{"$error":"#N/A"},{"$f":"IFERROR(IF(G10=TRUE(),SUMPRODUCT($N$4:$N10),NA()),NA())","v":{"$error":"#N/A"}},null,{"$error":"#VALUE!"},{"$f":"COUNTIFS('2. Staff Training Log'!$J$9:$J$1008,\"<>\"&\"\",'2. Staff Training Log'!$M$9:$M$1008,\">=\"&G9,'2. Staff Training Log'!$M$9:$M$1008,\"<\"&I10,'2. Staff Training Log'!$S$9:$S$1008,0)","v":0},{"$f":"IFERROR(IF(G10=TRUE(),(SUM(L4:L10)-SUM(R4:R10))/M10,NA()),NA())","v":{"$error":"#N/A"}},{"$f":"IF(G10=TRUE(),SUM(L4:L10)-SUM(R4:R10),NA())","v":{"$error":"#VALUE!"}},null,null,null,null,null,null,null,"","","","",null,null,"Competency 4",{"$f":"IF(X18=\"\",\"\",'2. Staff Training Log'!BV1009)","v":""},{"$f":"IFERROR(AI10/X18,\"\")","v":""}]
[null,"Level 2",0.95,{"$f":"IF(AND(D$7>$C10,D$7<=$C11),D$7,\" \")","v":" "},null,null,{"$error":"#VALUE!"},"","","","",{"$f":"IF(G11=TRUE(),COUNTIFS('2. Staff Training Log'!$J$9:$J$1008,\">=\"&EOMONTH(I11,-1)+1,'2. Staff Training Log'!$J$9:$J$1008,\"<\"&EOMONTH(I12,-1)+1,'2. Staff Training Log'!$S$9:$S$1008,0),NA())","v":{"$error":"#VALUE!"}},{"$f":"IF(G11=TRUE(),'2. Staff Training Log'!AC1009,NA())","v":{"$error":"#VALUE!"}},{"$error":"#N/A"},{"$f":"IFERROR(IF(G11=TRUE(),SUMPRODUCT($N$4:$N11),NA()),NA())","v":{"$error":"#N/A"}},null,{"$error":"#VALUE!"},{"$f":"COUNTIFS('2. Staff Training Log'!$J$9:$J$1008,\"<>\"&\"\",'2. Staff Training Log'!$M$9:$M$1008,\">=\"&G10,'2. Staff Training Log'!$M$9:$M$1008,\"<\"&I11,'2. Staff Training Log'!$S$9:$S$1008,0)","v":0},{"$f":"IFERROR(IF(G11=TRUE(),(SUM(L4:L11)-SUM(R4:R11))/M11,NA()),NA())","v":{"$error":"#N/A"}},{"$f":"IF(G11=TRUE(),SUM(L4:L11)-SUM(R4:R11),NA())","v":{"$error":"#VALUE!"}},null,null,null,null,null,null,null,"","","","",null,null,null,null,1]
[null,"Level 3",1,{"$f":"IF(D$7>$C11,D$7,\" \")","v":" "},null,null,{"$error":"#VALUE!"},"","","","",{"$f":"IF(G12=TRUE(),COUNTIFS('2. Staff Training Log'!$J$9:$J$1008,\">=\"&EOMONTH(I12,-1)+1,'2. Staff Training Log'!$J$9:$J$1008,\"<\"&EOMONTH(I13,-1)+1,'2. Staff Training Log'!$S$9:$S$1008,0),NA())","v":{"$error":"#VALUE!"}},{"$f":"IF(G12=TRUE(),'2. Staff Training Log'!AD1009,NA())","v":{"$error":"#VALUE!"}},{"$error":"#N/A"},{"$f":"IFERROR(IF(G12=TRUE(),SUMPRODUCT($N$4:$N12),NA()),NA())","v":{"$error":"#N/A"}},null,{"$error":"#VALUE!"},{"$f":"COUNTIFS('2. Staff Training Log'!$J$9:$J$1008,\"<>\"&\"\",'2. Staff Training Log'!$M$9:$M$1008,\">=\"&G11,'2. Staff Training Log'!$M$9:$M$1008,\"<\"&I12,'2. Staff Training Log'!$S$9:$S$1008,0)","v":0},{"$f":"IFERROR(IF(G12=TRUE(),(SUM(L4:L12)-SUM(R4:R12))/M12,NA()),NA())","v":{"$error":"#N/A"}},{"$f":"IF(G12=TRUE(),SUM(L4:L12)-SUM(R4:R12),NA())","v":{"$error":"#VALUE!"}},null,null,null,null,null,null,null,"","","",""]
[null,null,"Remainder:",{"$f":"MAX(1,D7)-D7","v":1},null,null,{"$error":"#VALUE!"},"","","","",{"$f":"IF(G13=TRUE(),COUNTIFS('2. Staff Training Log'!$J$9:$J$1008,\">=\"&EOMONTH(I13,-1)+1,'2. Staff Training Log'!$J$9:$J$1008,\"<\"&EOMONTH(I14,-1)+1,'2. Staff Training Log'!$S$9:$S$1008,0),NA())","v":{"$error":"#VALUE!"}},{"$f":"IF(G13=TRUE(),'2. Staff Training Log'!AE1009,NA())","v":{"$error":"#VALUE!"}},{"$error":"#N/A"},{"$f":"IFERROR(IF(G13=TRUE(),SUMPRODUCT($N$4:$N13),NA()),NA())","v":{"$error":"#N/A"}},null,{"$error":"#VALUE!"},{"$f":"COUNTIFS('2. Staff Training Log'!$J$9:$J$1008,\"<>\"&\"\",'2. Staff Training Log'!$M$9:$M$1008,\">=\"&G12,'2. Staff Training Log'!$M$9:$M$1008,\"<\"&I13,'2. Staff Training Log'!$S$9:$S$1008,0)","v":0},{"$f":"IFERROR(IF(G13=TRUE(),(SUM(L4:L13)-SUM(R4:R13))/M13,NA()),NA())","v":{"$error":"#N/A"}},{"$f":"IF(G13=TRUE(),SUM(L4:L13)-SUM(R4:R13),NA())","v":{"$error":"#VALUE!"}},null,null,null,null,null,null,null,"","","",""]
[null,null,null,null,null,null,{"$error":"#VALUE!"},"","","","",{"$f":"IF(G14=TRUE(),COUNTIFS('2. Staff Training Log'!$J$9:$J$1008,\">=\"&EOMONTH(I14,-1)+1,'2. Staff Training Log'!$J$9:$J$1008,\"<\"&EOMONTH(I15,-1)+1,'2. Staff Training Log'!$S$9:$S$1008,0),NA())","v":{"$error":"#VALUE!"}},{"$f":"IF(G14=TRUE(),'2. Staff Training Log'!AF1009,NA())","v":{"$error":"#VALUE!"}},{"$f":"IF(IFERROR(L14/M14,NA())=0,NA(),IFERROR(L14/M14,NA()))","v":{"$error":"#N/A"}},{"$f":"IFERROR(IF(G14=TRUE(),SUMPRODUCT($N$4:$N14),NA()),NA())","v":{"$error":"#N/A"}},null,{"$f":"M14-M13","v":{"$error":"#VALUE!"}},{"$f":"COUNTIFS('2. Staff Training Log'!$J$9:$J$1008,\"<>\"&\"\",'2. Staff Training Log'!$M$9:$M$1008,\">=\"&G13,'2. Staff Training Log'!$M$9:$M$1008,\"<\"&I14,'2. Staff Training Log'!$S$9:$S$1008,0)","v":0},{"$f":"IFERROR(IF(G14=TRUE(),(SUM(L4:L14)-SUM(R4:R14))/M14,NA()),NA())","v":{"$error":"#N/A"}},{"$f":"IF(G14=TRUE(),SUM($L$4:L14)-SUM($R$4:R14),NA())","v":{"$error":"#VALUE!"}},null,null,null,null,null,null,null,"","","",""]
[null,null,null,null,null,null,{"$error":"#VALUE!"},"","","","",{"$f":"IF(G15=TRUE(),COUNTIFS('2. Staff Training Log'!$J$9:$J$1008,\">=\"&EOMONTH(I15,-1)+1,'2. Staff Training Log'!$J$9:$J$1008,\"<\"&EOMONTH(I16,-1)+1,'2. Staff Training Log'!$S$9:$S$1008,0),NA())","v":{"$error":"#VALUE!"}},{"$f":"IF(G15=TRUE(),'2. Staff Training Log'!AG1009,NA())","v":{"$error":"#VALUE!"}},{"$error":"#N/A"},{"$f":"IFERROR(IF(G15=TRUE(),SUMPRODUCT($N$4:$N15),NA()),NA())","v":{"$error":"#N/A"}},null,{"$error":"#VALUE!"},{"$f":"COUNTIFS('2. Staff Training Log'!$J$9:$J$1008,\"<>\"&\"\",'2. Staff Training Log'!$M$9:$M$1008,\">=\"&G14,'2. Staff Training Log'!$M$9:$M$1008,\"<\"&I15,'2. Staff Training Log'!$S$9:$S$1008,0)","v":0},{"$f":"IFERROR(IF(G15=TRUE(),(SUM(L4:L15)-SUM(R4:R15))/M15,NA()),NA())","v":{"$error":"#N/A"}},{"$f":"IF(G15=TRUE(),SUM($L$4:L15)-SUM($R$4:R15),NA())","v":{"$error":"#VALUE!"}},null,null,null,null,null,null,null,"","","",""]
[null,null,"# total staff:",{"$f":"INDEX(M4:M49,MATCH(9.99999999999999E+307,M4:M49))","v":{"$error":"#N/A"}},null,null,{"$error":"#VALUE!"},"","","","",{"$f":"IF(G16=TRUE(),COUNTIFS('2. Staff Training Log'!$J$9:$J$1008,\">=\"&EOMONTH(I16,-1)+1,'2. Staff Training Log'!$J$9:$J$1008,\"<\"&EOMONTH(I17,-1)+1,'2. Staff Training Log'!$S$9:$S$1008,0),NA())","v":{"$error":"#VALUE!"}},{"$f":"IF(G16=TRUE(),'2. Staff Training Log'!AH1009,NA())","v":{"$error":"#VALUE!"}},{"$error":"#N/A"},{"$f":"IFERROR(IF(G16=TRUE(),SUMPRODUCT($N$4:$N16),NA()),NA())","v":{"$error":"#N/A"}},null,{"$error":"#VALUE!"},{"$f":"COUNTIFS('2. Staff Training Log'!$J$9:$J$1008,\"<>\"&\"\",'2. Staff Training Log'!$M$9:$M$1008,\">=\"&G15,'2. Staff Training Log'!$M$9:$M$1008,\"<\"&I16,'2. Staff Training Log'!$S$9:$S$1008,0)","v":0},{"$f":"IFERROR(IF(G16=TRUE(),(SUM(L4:L16)-SUM(R4:R16))/M16,NA()),NA())","v":{"$error":"#N/A"}},{"$f":"IF(G16=TRUE(),SUM($L$4:L16)-SUM($R$4:R16),NA())","v":{"$error":"#VALUE!"}},null,null,null,null,null,null,null,"","","",""]
[null,null,"# completed:",{"$f":"INDEX(T4:T49,MATCH(9.99999999999999E+307,T4:T49))","v":{"$error":"#N/A"}},null,null,{"$error":"#VALUE!"},"","","","",{"$f":"IF(G17=TRUE(),COUNTIFS('2. Staff Training Log'!$J$9:$J$1008,\">=\"&EOMONTH(I17,-1)+1,'2. Staff Training Log'!$J$9:$J$1008,\"<\"&EOMONTH(I18,-1)+1,'2. Staff Training Log'!$S$9:$S$1008,0),NA())","v":{"$error":"#VALUE!"}},{"$f":"IF(G17=TRUE(),'2. Staff Training Log'!AI1009,NA())","v":{"$error":"#VALUE!"}},{"$error":"#N/A"},{"$f":"IFERROR(IF(G17=TRUE(),SUMPRODUCT($N$4:$N17),NA()),NA())","v":{"$error":"#N/A"}},null,{"$error":"#VALUE!"},{"$f":"COUNTIFS('2. Staff Training Log'!$J$9:$J$1008,\"<>\"&\"\",'2. Staff Training Log'!$M$9:$M$1008,\">=\"&G16,'2. Staff Training Log'!$M$9:$M$1008,\"<\"&I17,'2. Staff Training Log'!$S$9:$S$1008,0)","v":0},{"$f":"IFERROR(IF(G17=TRUE(),(SUM(L4:L17)-SUM(R4:R17))/M17,NA()),NA())","v":{"$error":"#N/A"}},{"$f":"IF(G17=TRUE(),SUM($L$4:L17)-SUM($R$4:R17),NA())","v":{"$error":"#VALUE!"}},null,null,null,null,null,null,null,"","","",""]
[null,null,"% completed:",{"$f":"IFERROR(D17/D16,0)","v":0},null,null,{"$error":"#VALUE!"},{"$f":"J18&K18","v":""},{"$f":"IFERROR(CONCATENATE(MONTH(DATEVALUE(J18&\" 1\")),\"/\",K18),\"\")","v":""},"","",{"$f":"IF(G18=TRUE(),COUNTIFS('2. Staff Training Log'!$J$9:$J$1008,\">=\"&EOMONTH(I18,-1)+1,'2. Staff Training Log'!$J$9:$J$1008,\"<\"&EOMONTH(I19,-1)+1,'2. Staff Training Log'!$S$9:$S$1008,0),NA())","v":{"$error":"#VALUE!"}},{"$f":"IF(G18=TRUE(),'2. Staff Training Log'!AJ1009,NA())","v":{"$error":"#VALUE!"}},{"$error":"#N/A"},{"$f":"IFERROR(IF(G18=TRUE(),SUMPRODUCT($N$4:$N18),NA()),NA())","v":{"$error":"#N/A"}},null,{"$error":"#VALUE!"},{"$f":"COUNTIFS('2. Staff Training Log'!$J$9:$J$1008,\"<>\"&\"\",'2. Staff Training Log'!$M$9:$M$1008,\">=\"&G17,'2. Staff Training Log'!$M$9:$M$1008,\"<\"&I18,'2. Staff Training Log'!$S$9:$S$1008,0)","v":0},{"$f":"IFERROR(IF(G18=TRUE(),(SUM(L4:L18)-SUM(R4:R18))/M18,NA()),NA())","v":{"$error":"#N/A"}},{"$f":"IF(G18=TRUE(),SUM($L$4:L18)-SUM($R$4:R18),NA())","v":{"$error":"#VALUE!"}},null,null,"# Total Staff:",{"$f":"IF(IFERROR(INDEX(M4:M49,MATCH(9.99999999999999E+307,M4:M49)),IFERROR('2. Staff Training Log'!V1009,\"\"))=0,\"\",IFERROR(INDEX(M4:M49,MATCH(9.99999999999999E+307,M4:M49)),IFERROR('2. Staff Training Log'!V1009,\"\")))","v":""},null,null,null,"","","",""]
[null,null,null,null,null,null,{"$error":"#VALUE!"},"","","","",{"$f":"IF(G19=TRUE(),COUNTIFS('2. Staff Training Log'!$J$9:$J$1008,\">=\"&EOMONTH(I19,-1)+1,'2. Staff Training Log'!$J$9:$J$1008,\"<\"&EOMONTH(I20,-1)+1,'2. Staff Training Log'!$S$9:$S$1008,0),NA())","v":{"$error":"#VALUE!"}},{"$f":"IF(G19=TRUE(),'2. Staff Training Log'!AK1009,NA())","v":{"$error":"#VALUE!"}},{"$error":"#N/A"},{"$f":"IFERROR(IF(G19=TRUE(),SUMPRODUCT($N$4:$N19),NA()),NA())","v":{"$error":"#N/A"}},null,{"$error":"#VALUE!"},{"$f":"COUNTIFS('2. Staff Training Log'!$J$9:$J$1008,\"<>\"&\"\",'2. Staff Training Log'!$M$9:$M$1008,\">=\"&G18,'2. Staff Training Log'!$M$9:$M$1008,\"<\"&I19,'2. Staff Training Log'!$S$9:$S$1008,0)","v":0},{"$f":"IFERROR(IF(G19=TRUE(),(SUM(L4:L19)-SUM(R4:R19))/M19,NA()),NA())","v":{"$error":"#N/A"}},{"$f":"IF(G19=TRUE(),SUM($L$4:L19)-SUM($R$4:R19),NA())","v":{"$error":"#VALUE!"}},null,null,"# Total Staff Trained:",{"$f":"IFERROR(IF(X18=\"\",\"\",INDEX(T4:T49,MATCH(9.99999999999999E+307,T4:T49))),\"\")","v":""},null,null,null,"","","",""]
[null,null,null,null,null,null,{"$error":"#VALUE!"},"","","","",{"$f":"IF(G20=TRUE(),COUNTIFS('2. Staff Training Log'!$J$9:$J$1008,\">=\"&EOMONTH(I20,-1)+1,'2. Staff Training Log'!$J$9:$J$1008,\"<\"&EOMONTH(I21,-1)+1,'2. Staff Training Log'!$S$9:$S$1008,0),NA())","v":{"$error":"#VALUE!"}},{"$f":"IF(G20=TRUE(),'2. Staff Training Log'!AL1009,NA())","v":{"$error":"#VALUE!"}},{"$error":"#N/A"},{"$f":"IFERROR(IF(G20=TRUE(),SUMPRODUCT($N$4:$N20),NA()),NA())","v":{"$error":"#N/A"}},null,{"$error":"#VALUE!"},{"$f":"COUNTIFS('2. Staff Training Log'!$J$9:$J$1008,\"<>\"&\"\",'2. Staff Training Log'!$M$9:$M$1008,\">=\"&G19,'2. Staff Training Log'!$M$9:$M$1008,\"<\"&I20,'2. Staff Training Log'!$S$9:$S$1008,0)","v":0},{"$f":"IFERROR(IF(G20=TRUE(),(SUM(L4:L20)-SUM(R4:R20))/M20,NA()),NA())","v":{"$error":"#N/A"}},{"$f":"IF(G20=TRUE(),SUM($L$4:L20)-SUM($R$4:R20),NA())","v":{"$error":"#VALUE!"}},null,null,"% Total Staff Trained:",{"$f":"IFERROR(X19/X18,\"\")","v":""},null,null,null,"","","",""]
[null,"Progress per Specified Unit",null,null,null,null,{"$error":"#VALUE!"},"","","","",{"$f":"IF(G21=TRUE(),COUNTIFS('2. Staff Training Log'!$J$9:$J$1008,\">=\"&EOMONTH(I21,-1)+1,'2. Staff Training Log'!$J$9:$J$1008,\"<\"&EOMONTH(I22,-1)+1,'2. Staff Training Log'!$S$9:$S$1008,0),NA())","v":{"$error":"#VALUE!"}},{"$f":"IF(G21=TRUE(),'2. Staff Training Log'!AM1009,NA())","v":{"$error":"#VALUE!"}},{"$error":"#N/A"},{"$f":"IFERROR(IF(G21=TRUE(),SUMPRODUCT($N$4:$N21),NA()),NA())","v":{"$error":"#N/A"}},null,{"$error":"#VALUE!"},{"$f":"COUNTIFS('2. Staff Training Log'!$J$9:$J$1008,\"<>\"&\"\",'2. Staff Training Log'!$M$9:$M$1008,\">=\"&G20,'2. Staff Training Log'!$M$9:$M$1008,\"<\"&I21,'2. Staff Training Log'!$S$9:$S$1008,0)","v":0},{"$f":"IFERROR(IF(G21=TRUE(),(SUM(L4:L21)-SUM(R4:R21))/M21,NA()),NA())","v":{"$error":"#N/A"}},{"$f":"IF(G21=TRUE(),SUM($L$4:L21)-SUM($R$4:R21),NA())","v":{"$error":"#VALUE!"}},null,null,null,null,null,null,null,"","","",""]
[null,"Unique list of Specified Units","Sorted List","Count","# Completed Per Unit",null,{"$f":"OR(EOMONTH(I22,0)+1<=$D$4,AND($D$4>=EOMONTH(I22,-1)+1,$D$4<EOMONTH(#REF!,-1)+1))","v":{"$error":"#VALUE!"}},"","","","",{"$f":"IF(G22=TRUE(),COUNTIFS('2. Staff Training Log'!$J$9:$J$1008,\">=\"&EOMONTH(I22,-1)+1,'2. Staff Training Log'!$J$9:$J$1008,\"<\"&EOMONTH(#REF!,-1)+1,'2. Staff Training Log'!$S$9:$S$1008,0),NA())","v":{"$error":"#VALUE!"}},{"$f":"IF(G22=TRUE(),'2. Staff Training Log'!AN1009,NA())","v":{"$error":"#VALUE!"}},{"$error":"#N/A"},{"$f":"IFERROR(IF(G22=TRUE(),SUMPRODUCT($N$4:$N22),NA()),NA())","v":{"$error":"#N/A"}},null,{"$error":"#VALUE!"},{"$f":"COUNTIFS('2. Staff Training Log'!$J$9:$J$1008,\"<>\"&\"\",'2. Staff Training Log'!$M$9:$M$1008,\">=\"&G21,'2. Staff Training Log'!$M$9:$M$1008,\"<\"&I22,'2. Staff Training Log'!$S$9:$S$1008,0)","v":0},{"$f":"IFERROR(IF(G22=TRUE(),(SUM(L4:L22)-SUM(R4:R22))/M22,NA()),NA())","v":{"$error":"#N/A"}},{"$f":"IF(G22=TRUE(),SUM($L$4:L22)-SUM($R$4:R22),NA())","v":{"$error":"#VALUE!"}}]
[null,{"$f":"LOOKUP(2, 1/((COUNTIF($B$22:B22, '2. Staff Training Log'!$D$9:$D$1008)=0)*('2. Staff Training Log'!$D$9:$D$1008<>\"\")), '2. Staff Training Log'!$D$9:$D$1008)","v":{"$error":"#N/A"}},{"$f":"INDEX($B$23:$B$320,MATCH(ROWS($B$23:B23),COUNTIF($B$23:$B$320,\"<=\"&$B$23:$B$320),0))","v":{"$error":"#N/A"}},{"$f":"COUNTIFS('2. Staff Training Log'!$D$9:$D$1008,C23,'2. Staff Training Log'!$BX$9:$BX$1008,1)","v":0},{"$f":"COUNTIFS('2. Staff Training Log'!$D$9:$D$1008,'3. Training Progress'!C23,'2. Staff Training Log'!$BY$9:$BY$1008,1)","v":0},null,{"$error":"#VALUE!"},{"$f":"J23&K23","v":""},{"$f":"IFERROR(CONCATENATE(MONTH(DATEVALUE(J23&\" 1\")),\"/\",K23),\"\")","v":""},{"$f":"IFERROR(TEXT(EOMONTH(#REF!,1),\"mmm\"),\"\")","v":""},{"$f":"IFERROR(TEXT(EOMONTH(#REF!,1),\"yyyy\"),\"\")","v":""},{"$f":"IF(G23=TRUE(),COUNTIFS('2. Staff Training Log'!$J$9:$J$1008,\">=\"&EOMONTH(I23,-1)+1,'2. Staff Training Log'!$J$9:$J$1008,\"<\"&EOMONTH(I24,-1)+1,'2. Staff Training Log'!$S$9:$S$1008,0),NA())","v":{"$error":"#VALUE!"}},{"$f":"IF(G23=TRUE(),'2. Staff Training Log'!AQ1009,NA())","v":{"$error":"#VALUE!"}},{"$error":"#N/A"},{"$f":"IFERROR(IF(G23=TRUE(),SUMPRODUCT($N$4:$N23),NA()),NA())","v":{"$error":"#N/A"}},null,{"$f":"M23-#REF!","v":{"$error":"#VALUE!"}},{"$f":"COUNTIFS('2. Staff Training Log'!$J$9:$J$1008,\"<>\"&\"\",'2. Staff Training Log'!$M$9:$M$1008,\">=\"&#REF!,'2. Staff Training Log'!$M$9:$M$1008,\"<\"&I23,'2. Staff Training Log'!$S$9:$S$1008,0)","v":0},{"$f":"IFERROR(IF(G23=TRUE(),(SUM(L4:L23)-SUM(R4:R23))/M23,NA()),NA())","v":{"$error":"#N/A"}},{"$f":"IF(G23=TRUE(),SUM($L$4:L23)-SUM($R$4:R23),NA())","v":{"$error":"#VALUE!"}}]
[null,{"$f":"LOOKUP(2, 1/((COUNTIF($B$22:B23, '2. Staff Training Log'!$D$9:$D$1008)=0)*('2. Staff Training Log'!$D$9:$D$1008<>\"\")), '2. Staff Training Log'!$D$9:$D$1008)","v":{"$error":"#N/A"}},{"$f":"INDEX($B$23:$B$320,MATCH(ROWS($B$23:B24),COUNTIF($B$23:$B$320,\"<=\"&$B$23:$B$320),0))","v":{"$error":"#N/A"}},{"$f":"COUNTIFS('2. Staff Training Log'!$D$9:$D$1008,C24,'2. Staff Training Log'!$BX$9:$BX$1008,1)","v":0},{"$f":"COUNTIFS('2. Staff Training Log'!$D$9:$D$1008,'3. Training Progress'!C24,'2. Staff Training Log'!$BY$9:$BY$1008,1)","v":0},null,{"$error":"#VALUE!"},"","","","",{"$f":"IF(G24=TRUE(),COUNTIFS('2. Staff Training Log'!$J$9:$J$1008,\">=\"&EOMONTH(I24,-1)+1,'2. Staff Training Log'!$J$9:$J$1008,\"<\"&EOMONTH(I25,-1)+1,'2. Staff Training Log'!$S$9:$S$1008,0),NA())","v":{"$error":"#VALUE!"}},{"$f":"IF(G24=TRUE(),'2. Staff Training Log'!AR1009,NA())","v":{"$error":"#VALUE!"}},{"$error":"#N/A"},{"$f":"IFERROR(IF(G24=TRUE(),SUMPRODUCT($N$4:$N24),NA()),NA())","v":{"$error":"#N/A"}},null,{"$error":"#VALUE!"},{"$f":"COUNTIFS('2. Staff Training Log'!$J$9:$J$1008,\"<>\"&\"\",'2. Staff Training Log'!$M$9:$M$1008,\">=\"&G23,'2. Staff Training Log'!$M$9:$M$1008,\"<\"&I24,'2. Staff Training Log'!$S$9:$S$1008,0)","v":0},{"$f":"IFERROR(IF(G24=TRUE(),(SUM(L4:L24)-SUM(R4:R24))/M24,NA()),NA())","v":{"$error":"#N/A"}},{"$f":"IF(G24=TRUE(),SUM($L$4:L24)-SUM($R$4:R24),NA())","v":{"$error":"#VALUE!"}}]
[null,{"$f":"LOOKUP(2, 1/((COUNTIF($B$22:B24, '2. Staff Training Log'!$D$9:$D$1008)=0)*('2. Staff Training Log'!$D$9:$D$1008<>\"\")), '2. Staff Training Log'!$D$9:$D$1008)","v":{"$error":"#N/A"}},{"$f":"INDEX($B$23:$B$320,MATCH(ROWS($B$23:B25),COUNTIF($B$23:$B$320,\"<=\"&$B$23:$B$320),0))","v":{"$error":"#N/A"}},{"$f":"COUNTIFS('2. Staff Training Log'!$D$9:$D$1008,C25,'2. Staff Training Log'!$BX$9:$BX$1008,1)","v":0},{"$f":"COUNTIFS('2. Staff Training Log'!$D$9:$D$1008,'3. Training Progress'!C25,'2. Staff Training Log'!$BY$9:$BY$1008,1)","v":0},null,{"$error":"#VALUE!"},"","","","",{"$f":"IF(G25=TRUE(),COUNTIFS('2. Staff Training Log'!$J$9:$J$1008,\">=\"&EOMONTH(I25,-1)+1,'2. Staff Training Log'!$J$9:$J$1008,\"<\"&EOMONTH(I26,-1)+1,'2. Staff Training Log'!$S$9:$S$1008,0),NA())","v":{"$error":"#VALUE!"}},{"$f":"IF(G25=TRUE(),'2. Staff Training Log'!AS1009,NA())","v":{"$error":"#VALUE!"}},{"$error":"#N/A"},{"$f":"IFERROR(IF(G25=TRUE(),SUMPRODUCT($N$4:$N25),NA()),NA())","v":{"$error":"#N/A"}},null,{"$error":"#VALUE!"},{"$f":"COUNTIFS('2. Staff Training Log'!$J$9:$J$1008,\"<>\"&\"\",'2. Staff Training Log'!$M$9:$M$1008,\">=\"&G24,'2. Staff Training Log'!$M$9:$M$1008,\"<\"&I25,'2. Staff Training Log'!$S$9:$S$1008,0)","v":0},{"$f":"IFERROR(IF(G25=TRUE(),(SUM($L$4:L25)-SUM($R$4:R25))/M25,NA()),NA())","v":{"$error":"#N/A"}},{"$f":"IF(G25=TRUE(),SUM($L$4:L25)-SUM($R$4:R25),NA())","v":{"$error":"#VALUE!"}}]
[null,{"$f":"LOOKUP(2, 1/((COUNTIF($B$22:B25, '2. Staff Training Log'!$D$9:$D$1008)=0)*('2. Staff Training Log'!$D$9:$D$1008<>\"\")), '2. Staff Training Log'!$D$9:$D$1008)","v":{"$error":"#N/A"}},{"$f":"INDEX($B$23:$B$320,MATCH(ROWS($B$23:B26),COUNTIF($B$23:$B$320,\"<=\"&$B$23:$B$320),0))","v":{"$error":"#N/A"}},{"$f":"COUNTIFS('2. Staff Training Log'!$D$9:$D$1008,C26,'2. Staff Training Log'!$BX$9:$BX$1008,1)","v":0},{"$f":"COUNTIFS('2. Staff Training Log'!$D$9:$D$1008,'3. Training Progress'!C26,'2. Staff Training Log'!$BY$9:$BY$1008,1)","v":0},null,{"$error":"#VALUE!"},"","","","",{"$f":"IF(G26=TRUE(),COUNTIFS('2. Staff Training Log'!$J$9:$J$1008,\">=\"&EOMONTH(I26,-1)+1,'2. Staff Training Log'!$J$9:$J$1008,\"<\"&EOMONTH(I27,-1)+1,'2. Staff Training Log'!$S$9:$S$1008,0),NA())","v":{"$error":"#VALUE!"}},{"$f":"IF(G26=TRUE(),'2. Staff Training Log'!AT1009,NA())","v":{"$error":"#VALUE!"}},{"$error":"#N/A"},{"$f":"IFERROR(IF(G26=TRUE(),SUMPRODUCT($N$4:$N26),NA()),NA())","v":{"$error":"#N/A"}},null,{"$error":"#VALUE!"},{"$f":"COUNTIFS('2. Staff Training Log'!$J$9:$J$1008,\"<>\"&\"\",'2. Staff Training Log'!$M$9:$M$1008,\">=\"&G25,'2. Staff Training Log'!$M$9:$M$1008,\"<\"&I26,'2. Staff Training Log'!$S$9:$S$1008,0)","v":0},{"$f":"IFERROR(IF(G26=TRUE(),(SUM($L$4:L26)-SUM($R$4:R26))/M26,NA()),NA())","v":{"$error":"#N/A"}},{"$f":"IF(G26=TRUE(),SUM($L$4:L26)-SUM($R$4:R26),NA())","v":{"$error":"#VALUE!"}}]
[null,{"$f":"LOOKUP(2, 1/((COUNTIF($B$22:B26, '2. Staff Training Log'!$D$9:$D$1008)=0)*('2. Staff Training Log'!$D$9:$D$1008<>\"\")), '2. Staff Training Log'!$D$9:$D$1008)","v":{"$error":"#N/A"}},{"$f":"INDEX($B$23:$B$320,MATCH(ROWS($B$23:B27),COUNTIF($B$23:$B$320,\"<=\"&$B$23:$B$320),0))","v":{"$error":"#N/A"}},{"$f":"COUNTIFS('2. Staff Training Log'!$D$9:$D$1008,C27,'2. Staff Training Log'!$BX$9:$BX$1008,1)","v":0},{"$f":"COUNTIFS('2. Staff Training Log'!$D$9:$D$1008,'3. Training Progress'!C27,'2. Staff Training Log'!$BY$9:$BY$1008,1)","v":0},null,{"$error":"#VALUE!"},"","","","",{"$f":"IF(G27=TRUE(),COUNTIFS('2. Staff Training Log'!$J$9:$J$1008,\">=\"&EOMONTH(I27,-1)+1,'2. Staff Training Log'!$J$9:$J$1008,\"<\"&EOMONTH(I28,-1)+1,'2. Staff Training Log'!$S$9:$S$1008,0),NA())","v":{"$error":"#VALUE!"}},{"$f":"IF(G27=TRUE(),'2. Staff Training Log'!AU1009,NA())","v":{"$error":"#VALUE!"}},{"$error":"#N/A"},{"$f":"IFERROR(IF(G27=TRUE(),SUMPRODUCT($N$4:$N27),NA()),NA())","v":{"$error":"#N/A"}},null,{"$error":"#VALUE!"},{"$f":"COUNTIFS('2. Staff Training Log'!$J$9:$J$1008,\"<>\"&\"\",'2. Staff Training Log'!$M$9:$M$1008,\">=\"&G26,'2. Staff Training Log'!$M$9:$M$1008,\"<\"&I27,'2. Staff Training Log'!$S$9:$S$1008,0)","v":0},{"$f":"IFERROR(IF(G27=TRUE(),(SUM($L$4:L27)-SUM($R$4:R27))/M27,NA()),NA())","v":{"$error":"#N/A"}},{"$f":"IF(G27=TRUE(),SUM($L$4:L27)-SUM($R$4:R27),NA())","v":{"$error":"#VALUE!"}}]
[null,{"$f":"LOOKUP(2, 1/((COUNTIF($B$22:B27, '2. Staff Training Log'!$D$9:$D$1008)=0)*('2. Staff Training Log'!$D$9:$D$1008<>\"\")), '2. Staff Training Log'!$D$9:$D$1008)","v":{"$error":"#N/A"}},{"$f":"INDEX($B$23:$B$320,MATCH(ROWS($B$23:B28),COUNTIF($B$23:$B$320,\"<=\"&$B$23:$B$320),0))","v":{"$error":"#N/A"}},{"$f":"COUNTIFS('2. Staff Training Log'!$D$9:$D$1008,C28,'2. Staff Training Log'!$BX$9:$BX$1008,1)","v":0},{"$f":"COUNTIFS('2. Staff Training Log'!$D$9:$D$1008,'3. Training Progress'!C28,'2. Staff Training Log'!$BY$9:$BY$1008,1)","v":0},null,{"$error":"#VALUE!"},"","","","",{"$f":"IF(G28=TRUE(),COUNTIFS('2. Staff Training Log'!$J$9:$J$1008,\">=\"&EOMONTH(I28,-1)+1,'2. Staff Training Log'!$J$9:$J$1008,\"<\"&EOMONTH(I29,-1)+1,'2. Staff Training Log'!$S$9:$S$1008,0),NA())","v":{"$error":"#VALUE!"}},{"$f":"IF(G28=TRUE(),'2. Staff Training Log'!AV1009,NA())","v":{"$error":"#VALUE!"}},{"$error":"#N/A"},{"$f":"IFERROR(IF(G28=TRUE(),SUMPRODUCT($N$4:$N28),NA()),NA())","v":{"$error":"#N/A"}},null,{"$error":"#VALUE!"},{"$f":"COUNTIFS('2. Staff Training Log'!$J$9:$J$1008,\"<>\"&\"\",'2. Staff Training Log'!$M$9:$M$1008,\">=\"&G27,'2. Staff Training Log'!$M$9:$M$1008,\"<\"&I28,'2. Staff Training Log'!$S$9:$S$1008,0)","v":0},{"$f":"IFERROR(IF(G28=TRUE(),(SUM($L$4:L28)-SUM($R$4:R28))/M28,NA()),NA())","v":{"$error":"#N/A"}},{"$f":"IF(G28=TRUE(),SUM($L$4:L28)-SUM($R$4:R28),NA())","v":{"$error":"#VALUE!"}}]
[null,{"$f":"LOOKUP(2, 1/((COUNTIF($B$22:B28, '2. Staff Training Log'!$D$9:$D$1008)=0)*('2. Staff Training Log'!$D$9:$D$1008<>\"\")), '2. Staff Training Log'!$D$9:$D$1008)","v":{"$error":"#N/A"}},{"$f":"INDEX($B$23:$B$320,MATCH(ROWS($B$23:B29),COUNTIF($B$23:$B$320,\"<=\"&$B$23:$B$320),0))","v":{"$error":"#N/A"}},{"$f":"COUNTIFS('2. Staff Training Log'!$D$9:$D$1008,C29,'2. Staff Training Log'!$BX$9:$BX$1008,1)","v":0},{"$f":"COUNTIFS('2. Staff Training Log'!$D$9:$D$1008,'3. Training Progress'!C29,'2. Staff Training Log'!$BY$9:$BY$1008,1)","v":0},null,{"$error":"#VALUE!"},"","","","",{"$f":"IF(G29=TRUE(),COUNTIFS('2. Staff Training Log'!$J$9:$J$1008,\">=\"&EOMONTH(I29,-1)+1,'2. Staff Training Log'!$J$9:$J$1008,\"<\"&EOMONTH(I30,-1)+1,'2. Staff Training Log'!$S$9:$S$1008,0),NA())","v":{"$error":"#VALUE!"}},{"$f":"IF(G29=TRUE(),'2. Staff Training Log'!AW1009,NA())","v":{"$error":"#VALUE!"}},{"$error":"#N/A"},{"$f":"IFERROR(IF(G29=TRUE(),SUMPRODUCT($N$4:$N29),NA()),NA())","v":{"$error":"#N/A"}},null,{"$error":"#VALUE!"},{"$f":"COUNTIFS('2. Staff Training Log'!$J$9:$J$1008,\"<>\"&\"\",'2. Staff Training Log'!$M$9:$M$1008,\">=\"&G28,'2. Staff Training Log'!$M$9:$M$1008,\"<\"&I29,'2. Staff Training Log'!$S$9:$S$1008,0)","v":0},{"$f":"IFERROR(IF(G29=TRUE(),(SUM($L$4:L29)-SUM($R$4:R29))/M29,NA()),NA())","v":{"$error":"#N/A"}},{"$f":"IF(G29=TRUE(),SUM($L$4:L29)-SUM($R$4:R29),NA())","v":{"$error":"#VALUE!"}}]
[null,{"$f":"LOOKUP(2, 1/((COUNTIF($B$22:B29, '2. Staff Training Log'!$D$9:$D$1008)=0)*('2. Staff Training Log'!$D$9:$D$1008<>\"\")), '2. Staff Training Log'!$D$9:$D$1008)","v":{"$error":"#N/A"}},{"$f":"INDEX($B$23:$B$320,MATCH(ROWS($B$23:B30),COUNTIF($B$23:$B$320,\"<=\"&$B$23:$B$320),0))","v":{"$error":"#N/A"}},{"$f":"COUNTIFS('2. Staff Training Log'!$D$9:$D$1008,C30,'2. Staff Training Log'!$BX$9:$BX$1008,1)","v":0},{"$f":"COUNTIFS('2. Staff Training Log'!$D$9:$D$1008,'3. Training Progress'!C30,'2. Staff Training Log'!$BY$9:$BY$1008,1)","v":0},null,{"$error":"#VALUE!"},"","","","",{"$f":"IF(G30=TRUE(),COUNTIFS('2. Staff Training Log'!$J$9:$J$1008,\">=\"&EOMONTH(I30,-1)+1,'2. Staff Training Log'!$J$9:$J$1008,\"<\"&EOMONTH(I31,-1)+1,'2. Staff Training Log'!$S$9:$S$1008,0),NA())","v":{"$error":"#VALUE!"}},{"$f":"IF(G30=TRUE(),'2. Staff Training Log'!AX1009,NA())","v":{"$error":"#VALUE!"}},{"$error":"#N/A"},{"$f":"IFERROR(IF(G30=TRUE(),SUMPRODUCT($N$4:$N30),NA()),NA())","v":{"$error":"#N/A"}},null,{"$error":"#VALUE!"},{"$f":"COUNTIFS('2. Staff Training Log'!$J$9:$J$1008,\"<>\"&\"\",'2. Staff Training Log'!$M$9:$M$1008,\">=\"&G29,'2. Staff Training Log'!$M$9:$M$1008,\"<\"&I30,'2. Staff Training Log'!$S$9:$S$1008,0)","v":0},{"$f":"IFERROR(IF(G30=TRUE(),(SUM($L$4:L30)-SUM($R$4:R30))/M30,NA()),NA())","v":{"$error":"#N/A"}},{"$f":"IF(G30=TRUE(),SUM($L$4:L30)-SUM($R$4:R30),NA())","v":{"$error":"#VALUE!"}}]
[null,{"$f":"LOOKUP(2, 1/((COUNTIF($B$22:B30, '2. Staff Training Log'!$D$9:$D$1008)=0)*('2. Staff Training Log'!$D$9:$D$1008<>\"\")), '2. Staff Training Log'!$D$9:$D$1008)","v":{"$error":"#N/A"}},{"$f":"INDEX($B$23:$B$320,MATCH(ROWS($B$23:B31),COUNTIF($B$23:$B$320,\"<=\"&$B$23:$B$320),0))","v":{"$error":"#N/A"}},{"$f":"COUNTIFS('2. Staff Training Log'!$D$9:$D$1008,C31,'2. Staff Training Log'!$BX$9:$BX$1008,1)","v":0},{"$f":"COUNTIFS('2. Staff Training Log'!$D$9:$D$1008,'3. Training Progress'!C31,'2. Staff Training Log'!$BY$9:$BY$1008,1)","v":0},null,{"$error":"#VALUE!"},"","","","",{"$f":"IF(G31=TRUE(),COUNTIFS('2. Staff Training Log'!$J$9:$J$1008,\">=\"&EOMONTH(I31,-1)+1,'2. Staff Training Log'!$J$9:$J$1008,\"<\"&EOMONTH(I32,-1)+1,'2. Staff Training Log'!$S$9:$S$1008,0),NA())","v":{"$error":"#VALUE!"}},{"$f":"IF(G31=TRUE(),'2. Staff Training Log'!AY1009,NA())","v":{"$error":"#VALUE!"}},{"$error":"#N/A"},{"$f":"IFERROR(IF(G31=TRUE(),SUMPRODUCT($N$4:$N31),NA()),NA())","v":{"$error":"#N/A"}},null,{"$error":"#VALUE!"},{"$f":"COUNTIFS('2. Staff Training Log'!$J$9:$J$1008,\"<>\"&\"\",'2. Staff Training Log'!$M$9:$M$1008,\">=\"&G30,'2. Staff Training Log'!$M$9:$M$1008,\"<\"&I31,'2. Staff Training Log'!$S$9:$S$1008,0)","v":0},{"$f":"IFERROR(IF(G31=TRUE(),(SUM($L$4:L31)-SUM($R$4:R31))/M31,NA()),NA())","v":{"$error":"#N/A"}},{"$f":"IF(G31=TRUE(),SUM($L$4:L31)-SUM($R$4:R31),NA())","v":{"$error":"#VALUE!"}}]
[null,{"$f":"LOOKUP(2, 1/((COUNTIF($B$22:B31, '2. Staff Training Log'!$D$9:$D$1008)=0)*('2. Staff Training Log'!$D$9:$D$1008<>\"\")), '2. Staff Training Log'!$D$9:$D$1008)","v":{"$error":"#N/A"}},{"$f":"INDEX($B$23:$B$320,MATCH(ROWS($B$23:B32),COUNTIF($B$23:$B$320,\"<=\"&$B$23:$B$320),0))","v":{"$error":"#N/A"}},{"$f":"COUNTIFS('2. Staff Training Log'!$D$9:$D$1008,C32,'2. Staff Training Log'!$BX$9:$BX$1008,1)","v":0},{"$f":"COUNTIFS('2. Staff Training Log'!$D$9:$D$1008,'3. Training Progress'!C32,'2. Staff Training Log'!$BY$9:$BY$1008,1)","v":0},null,{"$error":"#VALUE!"},"","","","",{"$f":"IF(G32=TRUE(),COUNTIFS('2. Staff Training Log'!$J$9:$J$1008,\">=\"&EOMONTH(I32,-1)+1,'2. Staff Training Log'!$J$9:$J$1008,\"<\"&EOMONTH(I33,-1)+1,'2. Staff Training Log'!$S$9:$S$1008,0),NA())","v":{"$error":"#VALUE!"}},{"$f":"IF(G32=TRUE(),'2. Staff Training Log'!AZ1009,NA())","v":{"$error":"#VALUE!"}},{"$error":"#N/A"},{"$f":"IFERROR(IF(G32=TRUE(),SUMPRODUCT($N$4:$N32),NA()),NA())","v":{"$error":"#N/A"}},null,{"$error":"#VALUE!"},{"$f":"COUNTIFS('2. Staff Training Log'!$J$9:$J$1008,\"<>\"&\"\",'2. Staff Training Log'!$M$9:$M$1008,\">=\"&G31,'2. Staff Training Log'!$M$9:$M$1008,\"<\"&I32,'2. Staff Training Log'!$S$9:$S$1008,0)","v":0},{"$f":"IFERROR(IF(G32=TRUE(),(SUM($L$4:L32)-SUM($R$4:R32))/M32,NA()),NA())","v":{"$error":"#N/A"}},{"$f":"IF(G32=TRUE(),SUM($L$4:L32)-SUM($R$4:R32),NA())","v":{"$error":"#VALUE!"}}]
[null,{"$f":"LOOKUP(2, 1/((COUNTIF($B$22:B32, '2. Staff Training Log'!$D$9:$D$1008)=0)*('2. Staff Training Log'!$D$9:$D$1008<>\"\")), '2. Staff Training Log'!$D$9:$D$1008)","v":{"$error":"#N/A"}},{"$f":"INDEX($B$23:$B$320,MATCH(ROWS($B$23:B33),COUNTIF($B$23:$B$320,\"<=\"&$B$23:$B$320),0))","v":{"$error":"#N/A"}},{"$f":"COUNTIFS('2. Staff Training Log'!$D$9:$D$1008,C33,'2. Staff Training Log'!$BX$9:$BX$1008,1)","v":0},{"$f":"COUNTIFS('2. Staff Training Log'!$D$9:$D$1008,'3. Training Progress'!C33,'2. Staff Training Log'!$BY$9:$BY$1008,1)","v":0},null,{"$error":"#VALUE!"},"","","","",{"$f":"IF(G33=TRUE(),COUNTIFS('2. Staff Training Log'!$J$9:$J$1008,\">=\"&EOMONTH(I33,-1)+1,'2. Staff Training Log'!$J$9:$J$1008,\"<\"&EOMONTH(I34,-1)+1,'2. Staff Training Log'!$S$9:$S$1008,0),NA())","v":{"$error":"#VALUE!"}},{"$f":"IF(G33=TRUE(),'2. Staff Training Log'!BA1009,NA())","v":{"$error":"#VALUE!"}},{"$error":"#N/A"},{"$f":"IFERROR(IF(G33=TRUE(),SUMPRODUCT($N$4:$N33),NA()),NA())","v":{"$error":"#N/A"}},null,{"$error":"#VALUE!"},{"$f":"COUNTIFS('2. Staff Training Log'!$J$9:$J$1008,\"<>\"&\"\",'2. Staff Training Log'!$M$9:$M$1008,\">=\"&G32,'2. Staff Training Log'!$M$9:$M$1008,\"<\"&I33,'2. Staff Training Log'!$S$9:$S$1008,0)","v":0},{"$f":"IFERROR(IF(G33=TRUE(),(SUM($L$4:L33)-SUM($R$4:R33))/M33,NA()),NA())","v":{"$error":"#N/A"}},{"$f":"IF(G33=TRUE(),SUM($L$4:L33)-SUM($R$4:R33),NA())","v":{"$error":"#VALUE!"}}]
[null,{"$f":"LOOKUP(2, 1/((COUNTIF($B$22:B33, '2. Staff Training Log'!$D$9:$D$1008)=0)*('2. Staff Training Log'!$D$9:$D$1008<>\"\")), '2. Staff Training Log'!$D$9:$D$1008)","v":{"$error":"#N/A"}},{"$f":"INDEX($B$23:$B$320,MATCH(ROWS($B$23:B34),COUNTIF($B$23:$B$320,\"<=\"&$B$23:$B$320),0))","v":{"$error":"#N/A"}},{"$f":"COUNTIFS('2. Staff Training Log'!$D$9:$D$1008,C34,'2. Staff Training Log'!$BX$9:$BX$1008,1)","v":0},{"$f":"COUNTIFS('2. Staff Training Log'!$D$9:$D$1008,'3. Training Progress'!C34,'2. Staff Training Log'!$BY$9:$BY$1008,1)","v":0},null,{"$error":"#VALUE!"},"","","","",{"$f":"IF(G34=TRUE(),COUNTIFS('2. Staff Training Log'!$J$9:$J$1008,\">=\"&EOMONTH(I34,-1)+1,'2. Staff Training Log'!$J$9:$J$1008,\"<\"&EOMONTH(I35,-1)+1,'2. Staff Training Log'!$S$9:$S$1008,0),NA())","v":{"$error":"#VALUE!"}},{"$f":"IF(G34=TRUE(),'2. Staff Training Log'!BB1009,NA())","v":{"$error":"#VALUE!"}},{"$error":"#N/A"},{"$f":"IFERROR(IF(G34=TRUE(),SUMPRODUCT($N$4:$N34),NA()),NA())","v":{"$error":"#N/A"}},null,{"$error":"#VALUE!"},{"$f":"COUNTIFS('2. Staff Training Log'!$J$9:$J$1008,\"<>\"&\"\",'2. Staff Training Log'!$M$9:$M$1008,\">=\"&G33,'2. Staff Training Log'!$M$9:$M$1008,\"<\"&I34,'2. Staff Training Log'!$S$9:$S$1008,0)","v":0},{"$f":"IFERROR(IF(G34=TRUE(),(SUM($L$4:L34)-SUM($R$4:R34))/M34,NA()),NA())","v":{"$error":"#N/A"}},{"$f":"IF(G34=TRUE(),SUM($L$4:L34)-SUM($R$4:R34),NA())","v":{"$error":"#VALUE!"}}]
[null,{"$f":"LOOKUP(2, 1/((COUNTIF($B$22:B34, '2. Staff Training Log'!$D$9:$D$1008)=0)*('2. Staff Training Log'!$D$9:$D$1008<>\"\")), '2. Staff Training Log'!$D$9:$D$1008)","v":{"$error":"#N/A"}},{"$f":"INDEX($B$23:$B$320,MATCH(ROWS($B$23:B35),COUNTIF($B$23:$B$320,\"<=\"&$B$23:$B$320),0))","v":{"$error":"#N/A"}},{"$f":"COUNTIFS('2. Staff Training Log'!$D$9:$D$1008,C35,'2. Staff Training Log'!$BX$9:$BX$1008,1)","v":0},{"$f":"COUNTIFS('2. Staff Training Log'!$D$9:$D$1008,'3. Training Progress'!C35,'2. Staff Training Log'!$BY$9:$BY$1008,1)","v":0},null,{"$error":"#VALUE!"},"","","","",{"$f":"IF(G35=TRUE(),COUNTIFS('2. Staff Training Log'!$J$9:$J$1008,\">=\"&EOMONTH(I35,-1)+1,'2. Staff Training Log'!$J$9:$J$1008,\"<\"&EOMONTH(I36,-1)+1,'2. Staff Training Log'!$S$9:$S$1008,0),NA())","v":{"$error":"#VALUE!"}},{"$f":"IF(G35=TRUE(),'2. Staff Training Log'!BC1009,NA())","v":{"$error":"#VALUE!"}},{"$error":"#N/A"},{"$f":"IFERROR(IF(G35=TRUE(),SUMPRODUCT($N$4:$N35),NA()),NA())","v":{"$error":"#N/A"}},null,{"$error":"#VALUE!"},{"$f":"COUNTIFS('2. Staff Training Log'!$J$9:$J$1008,\"<>\"&\"\",'2. Staff Training Log'!$M$9:$M$1008,\">=\"&G34,'2. Staff Training Log'!$M$9:$M$1008,\"<\"&I35,'2. Staff Training Log'!$S$9:$S$1008,0)","v":0},{"$f":"IFERROR(IF(G35=TRUE(),(SUM($L$4:L35)-SUM($R$4:R35))/M35,NA()),NA())","v":{"$error":"#N/A"}},{"$f":"IF(G35=TRUE(),SUM($L$4:L35)-SUM($R$4:R35),NA())","v":{"$error":"#VALUE!"}}]
[null,{"$f":"LOOKUP(2, 1/((COUNTIF($B$22:B35, '2. Staff Training Log'!$D$9:$D$1008)=0)*('2. Staff Training Log'!$D$9:$D$1008<>\"\")), '2. Staff Training Log'!$D$9:$D$1008)","v":{"$error":"#N/A"}},{"$f":"INDEX($B$23:$B$320,MATCH(ROWS($B$23:B36),COUNTIF($B$23:$B$320,\"<=\"&$B$23:$B$320),0))","v":{"$error":"#N/A"}},{"$f":"COUNTIFS('2. Staff Training Log'!$D$9:$D$1008,C36,'2. Staff Training Log'!$BX$9:$BX$1008,1)","v":0},{"$f":"COUNTIFS('2. Staff Training Log'!$D$9:$D$1008,'3. Training Progress'!C36,'2. Staff Training Log'!$BY$9:$BY$1008,1)","v":0},null,{"$error":"#VALUE!"},"","","","",{"$f":"IF(G36=TRUE(),COUNTIFS('2. Staff Training Log'!$J$9:$J$1008,\">=\"&EOMONTH(I36,-1)+1,'2. Staff Training Log'!$J$9:$J$1008,\"<\"&EOMONTH(I37,-1)+1,'2. Staff Training Log'!$S$9:$S$1008,0),NA())","v":{"$error":"#VALUE!"}},{"$f":"IF(G36=TRUE(),'2. Staff Training Log'!BD1009,NA())","v":{"$error":"#VALUE!"}},{"$error":"#N/A"},{"$f":"IFERROR(IF(G36=TRUE(),SUMPRODUCT($N$4:$N36),NA()),NA())","v":{"$error":"#N/A"}},null,{"$error":"#VALUE!"},{"$f":"COUNTIFS('2. Staff Training Log'!$J$9:$J$1008,\"<>\"&\"\",'2. Staff Training Log'!$M$9:$M$1008,\">=\"&G35,'2. Staff Training Log'!$M$9:$M$1008,\"<\"&I36,'2. Staff Training Log'!$S$9:$S$1008,0)","v":0},{"$f":"IFERROR(IF(G36=TRUE(),(SUM($L$4:L36)-SUM($R$4:R36))/M36,NA()),NA())","v":{"$error":"#N/A"}},{"$f":"IF(G36=TRUE(),SUM($L$4:L36)-SUM($R$4:R36),NA())","v":{"$error":"#VALUE!"}}]
[null,{"$f":"LOOKUP(2, 1/((COUNTIF($B$22:B36, '2. Staff Training Log'!$D$9:$D$1008)=0)*('2. Staff Training Log'!$D$9:$D$1008<>\"\")), '2. Staff Training Log'!$D$9:$D$1008)","v":{"$error":"#N/A"}},{"$f":"INDEX($B$23:$B$320,MATCH(ROWS($B$23:B37),COUNTIF($B$23:$B$320,\"<=\"&$B$23:$B$320),0))","v":{"$error":"#N/A"}},{"$f":"COUNTIFS('2. Staff Training Log'!$D$9:$D$1008,C37,'2. Staff Training Log'!$BX$9:$BX$1008,1)","v":0},{"$f":"COUNTIFS('2. Staff Training Log'!$D$9:$D$1008,'3. Training Progress'!C37,'2. Staff Training Log'!$BY$9:$BY$1008,1)","v":0},null,{"$error":"#VALUE!"},"","","","",{"$f":"IF(G37=TRUE(),COUNTIFS('2. Staff Training Log'!$J$9:$J$1008,\">=\"&EOMONTH(I37,-1)+1,'2. Staff Training Log'!$J$9:$J$1008,\"<\"&EOMONTH(I38,-1)+1,'2. Staff Training Log'!$S$9:$S$1008,0),NA())","v":{"$error":"#VALUE!"}},{"$f":"IF(G37=TRUE(),'2. Staff Training Log'!BE1009,NA())","v":{"$error":"#VALUE!"}},{"$error":"#N/A"},{"$f":"IFERROR(IF(G37=TRUE(),SUMPRODUCT($N$4:$N37),NA()),NA())","v":{"$error":"#N/A"}},null,{"$error":"#VALUE!"},{"$f":"COUNTIFS('2. Staff Training Log'!$J$9:$J$1008,\"<>\"&\"\",'2. Staff Training Log'!$M$9:$M$1008,\">=\"&G36,'2. Staff Training Log'!$M$9:$M$1008,\"<\"&I37,'2. Staff Training Log'!$S$9:$S$1008,0)","v":0},{"$f":"IFERROR(IF(G37=TRUE(),(SUM($L$4:L37)-SUM($R$4:R37))/M37,NA()),NA())","v":{"$error":"#N/A"}},{"$f":"IF(G37=TRUE(),SUM($L$4:L37)-SUM($R$4:R37),NA())","v":{"$error":"#VALUE!"}}]
[null,{"$f":"LOOKUP(2, 1/((COUNTIF($B$22:B37, '2. Staff Training Log'!$D$9:$D$1008)=0)*('2. Staff Training Log'!$D$9:$D$1008<>\"\")), '2. Staff Training Log'!$D$9:$D$1008)","v":{"$error":"#N/A"}},{"$f":"INDEX($B$23:$B$320,MATCH(ROWS($B$23:B38),COUNTIF($B$23:$B$320,\"<=\"&$B$23:$B$320),0))","v":{"$error":"#N/A"}},{"$f":"COUNTIFS('2. Staff Training Log'!$D$9:$D$1008,C38,'2. Staff Training Log'!$BX$9:$BX$1008,1)","v":0},{"$f":"COUNTIFS('2. Staff Training Log'!$D$9:$D$1008,'3. Training Progress'!C38,'2. Staff Training Log'!$BY$9:$BY$1008,1)","v":0},null,{"$error":"#VALUE!"},"","","","",{"$f":"IF(G38=TRUE(),COUNTIFS('2. Staff Training Log'!$J$9:$J$1008,\">=\"&EOMONTH(I38,-1)+1,'2. Staff Training Log'!$J$9:$J$1008,\"<\"&EOMONTH(I39,-1)+1,'2. Staff Training Log'!$S$9:$S$1008,0),NA())","v":{"$error":"#VALUE!"}},{"$f":"IF(G38=TRUE(),'2. Staff Training Log'!BF1009,NA())","v":{"$error":"#VALUE!"}},{"$error":"#N/A"},{"$f":"IFERROR(IF(G38=TRUE(),SUMPRODUCT($N$4:$N38),NA()),NA())","v":{"$error":"#N/A"}},null,{"$error":"#VALUE!"},{"$f":"COUNTIFS('2. Staff Training Log'!$J$9:$J$1008,\"<>\"&\"\",'2. Staff Training Log'!$M$9:$M$1008,\">=\"&G37,'2. Staff Training Log'!$M$9:$M$1008,\"<\"&I38,'2. Staff Training Log'!$S$9:$S$1008,0)","v":0},{"$f":"IFERROR(IF(G38=TRUE(),(SUM($L$4:L38)-SUM($R$4:R38))/M38,NA()),NA())","v":{"$error":"#N/A"}},{"$f":"IF(G38=TRUE(),SUM($L$4:L38)-SUM($R$4:R38),NA())","v":{"$error":"#VALUE!"}}]
[null,{"$f":"LOOKUP(2, 1/((COUNTIF($B$22:B38, '2. Staff Training Log'!$D$9:$D$1008)=0)*('2. Staff Training Log'!$D$9:$D$1008<>\"\")), '2. Staff Training Log'!$D$9:$D$1008)","v":{"$error":"#N/A"}},{"$f":"INDEX($B$23:$B$320,MATCH(ROWS($B$23:B39),COUNTIF($B$23:$B$320,\"<=\"&$B$23:$B$320),0))","v":{"$error":"#N/A"}},{"$f":"COUNTIFS('2. Staff Training Log'!$D$9:$D$1008,C39,'2. Staff Training Log'!$BX$9:$BX$1008,1)","v":0},{"$f":"COUNTIFS('2. Staff Training Log'!$D$9:$D$1008,'3. Training Progress'!C39,'2. Staff Training Log'!$BY$9:$BY$1008,1)","v":0},null,{"$error":"#VALUE!"},"","","","",{"$f":"IF(G39=TRUE(),COUNTIFS('2. Staff Training Log'!$J$9:$J$1008,\">=\"&EOMONTH(I39,-1)+1,'2. Staff Training Log'!$J$9:$J$1008,\"<\"&EOMONTH(I40,-1)+1,'2. Staff Training Log'!$S$9:$S$1008,0),NA())","v":{"$error":"#VALUE!"}},{"$f":"IF(G39=TRUE(),'2. Staff Training Log'!BG1009,NA())","v":{"$error":"#VALUE!"}},{"$error":"#N/A"},{"$f":"IFERROR(IF(G39=TRUE(),SUMPRODUCT($N$4:$N39),NA()),NA())","v":{"$error":"#N/A"}},null,{"$error":"#VALUE!"},{"$f":"COUNTIFS('2. Staff Training Log'!$J$9:$J$1008,\"<>\"&\"\",'2. Staff Training Log'!$M$9:$M$1008,\">=\"&G38,'2. Staff Training Log'!$M$9:$M$1008,\"<\"&I39,'2. Staff Training Log'!$S$9:$S$1008,0)","v":0},{"$f":"IFERROR(IF(G39=TRUE(),(SUM($L$4:L39)-SUM($R$4:R39))/M39,NA()),NA())","v":{"$error":"#N/A"}},{"$f":"IF(G39=TRUE(),SUM($L$4:L39)-SUM($R$4:R39),NA())","v":{"$error":"#VALUE!"}}]
[null,{"$f":"LOOKUP(2, 1/((COUNTIF($B$22:B39, '2. Staff Training Log'!$D$9:$D$1008)=0)*('2. Staff Training Log'!$D$9:$D$1008<>\"\")), '2. Staff Training Log'!$D$9:$D$1008)","v":{"$error":"#N/A"}},{"$f":"INDEX($B$23:$B$320,MATCH(ROWS($B$23:B40),COUNTIF($B$23:$B$320,\"<=\"&$B$23:$B$320),0))","v":{"$error":"#N/A"}},{"$f":"COUNTIFS('2. Staff Training Log'!$D$9:$D$1008,C40,'2. Staff Training Log'!$BX$9:$BX$1008,1)","v":0},{"$f":"COUNTIFS('2. Staff Training Log'!$D$9:$D$1008,'3. Training Progress'!C40,'2. Staff Training Log'!$BY$9:$BY$1008,1)","v":0},null,{"$error":"#VALUE!"},"","","","",{"$f":"IF(G40=TRUE(),COUNTIFS('2. Staff Training Log'!$J$9:$J$1008,\">=\"&EOMONTH(I40,-1)+1,'2. Staff Training Log'!$J$9:$J$1008,\"<\"&EOMONTH(I41,-1)+1,'2. Staff Training Log'!$S$9:$S$1008,0),NA())","v":{"$error":"#VALUE!"}},{"$f":"IF(G40=TRUE(),'2. Staff Training Log'!BH1009,NA())","v":{"$error":"#VALUE!"}},{"$error":"#N/A"},{"$f":"IFERROR(IF(G40=TRUE(),SUMPRODUCT($N$4:$N40),NA()),NA())","v":{"$error":"#N/A"}},null,{"$error":"#VALUE!"},{"$f":"COUNTIFS('2. Staff Training Log'!$J$9:$J$1008,\"<>\"&\"\",'2. Staff Training Log'!$M$9:$M$1008,\">=\"&G39,'2. Staff Training Log'!$M$9:$M$1008,\"<\"&I40,'2. Staff Training Log'!$S$9:$S$1008,0)","v":0},{"$f":"IFERROR(IF(G40=TRUE(),(SUM($L$4:L40)-SUM($R$4:R40))/M40,NA()),NA())","v":{"$error":"#N/A"}},{"$f":"IF(G40=TRUE(),SUM($L$4:L40)-SUM($R$4:R40),NA())","v":{"$error":"#VALUE!"}}]
[null,{"$f":"LOOKUP(2, 1/((COUNTIF($B$22:B40, '2. Staff Training Log'!$D$9:$D$1008)=0)*('2. Staff Training Log'!$D$9:$D$1008<>\"\")), '2. Staff Training Log'!$D$9:$D$1008)","v":{"$error":"#N/A"}},{"$f":"INDEX($B$23:$B$320,MATCH(ROWS($B$23:B41),COUNTIF($B$23:$B$320,\"<=\"&$B$23:$B$320),0))","v":{"$error":"#N/A"}},{"$f":"COUNTIFS('2. Staff Training Log'!$D$9:$D$1008,C41,'2. Staff Training Log'!$BX$9:$BX$1008,1)","v":0},{"$f":"COUNTIFS('2. Staff Training Log'!$D$9:$D$1008,'3. Training Progress'!C41,'2. Staff Training Log'!$BY$9:$BY$1008,1)","v":0},null,{"$error":"#VALUE!"},"","","","",{"$f":"IF(G41=TRUE(),COUNTIFS('2. Staff Training Log'!$J$9:$J$1008,\">=\"&EOMONTH(I41,-1)+1,'2. Staff Training Log'!$J$9:$J$1008,\"<\"&EOMONTH(I42,-1)+1,'2. Staff Training Log'!$S$9:$S$1008,0),NA())","v":{"$error":"#VALUE!"}},{"$f":"IF(G41=TRUE(),'2. Staff Training Log'!BI1009,NA())","v":{"$error":"#VALUE!"}},{"$error":"#N/A"},{"$f":"IFERROR(IF(G41=TRUE(),SUMPRODUCT($N$4:$N41),NA()),NA())","v":{"$error":"#N/A"}},null,{"$error":"#VALUE!"},{"$f":"COUNTIFS('2. Staff Training Log'!$J$9:$J$1008,\"<>\"&\"\",'2. Staff Training Log'!$M$9:$M$1008,\">=\"&G40,'2. Staff Training Log'!$M$9:$M$1008,\"<\"&I41,'2. Staff Training Log'!$S$9:$S$1008,0)","v":0},{"$f":"IFERROR(IF(G41=TRUE(),(SUM($L$4:L41)-SUM($R$4:R41))/M41,NA()),NA())","v":{"$error":"#N/A"}},{"$f":"IF(G41=TRUE(),SUM($L$4:L41)-SUM($R$4:R41),NA())","v":{"$error":"#VALUE!"}}]
[null,{"$f":"LOOKUP(2, 1/((COUNTIF($B$22:B41, '2. Staff Training Log'!$D$9:$D$1008)=0)*('2. Staff Training Log'!$D$9:$D$1008<>\"\")), '2. Staff Training Log'!$D$9:$D$1008)","v":{"$error":"#N/A"}},{"$f":"INDEX($B$23:$B$320,MATCH(ROWS($B$23:B42),COUNTIF($B$23:$B$320,\"<=\"&$B$23:$B$320),0))","v":{"$error":"#N/A"}},{"$f":"COUNTIFS('2. Staff Training Log'!$D$9:$D$1008,C42,'2. Staff Training Log'!$BX$9:$BX$1008,1)","v":0},{"$f":"COUNTIFS('2. Staff Training Log'!$D$9:$D$1008,'3. Training Progress'!C42,'2. Staff Training Log'!$BY$9:$BY$1008,1)","v":0},null,{"$error":"#VALUE!"},"","","","",{"$f":"IF(G42=TRUE(),COUNTIFS('2. Staff Training Log'!$J$9:$J$1008,\">=\"&EOMONTH(I42,-1)+1,'2. Staff Training Log'!$J$9:$J$1008,\"<\"&EOMONTH(I43,-1)+1,'2. Staff Training Log'!$S$9:$S$1008,0),NA())","v":{"$error":"#VALUE!"}},{"$f":"IF(G42=TRUE(),'2. Staff Training Log'!BJ1009,NA())","v":{"$error":"#VALUE!"}},{"$error":"#N/A"},{"$f":"IFERROR(IF(G42=TRUE(),SUMPRODUCT($N$4:$N42),NA()),NA())","v":{"$error":"#N/A"}},null,{"$error":"#VALUE!"},{"$f":"COUNTIFS('2. Staff Training Log'!$J$9:$J$1008,\"<>\"&\"\",'2. Staff Training Log'!$M$9:$M$1008,\">=\"&G41,'2. Staff Training Log'!$M$9:$M$1008,\"<\"&I42,'2. Staff Training Log'!$S$9:$S$1008,0)","v":0},{"$f":"IFERROR(IF(G42=TRUE(),(SUM($L$4:L42)-SUM($R$4:R42))/M42,NA()),NA())","v":{"$error":"#N/A"}},{"$f":"IF(G42=TRUE(),SUM($L$4:L42)-SUM($R$4:R42),NA())","v":{"$error":"#VALUE!"}}]
[null,{"$f":"LOOKUP(2, 1/((COUNTIF($B$22:B42, '2. Staff Training Log'!$D$9:$D$1008)=0)*('2. Staff Training Log'!$D$9:$D$1008<>\"\")), '2. Staff Training Log'!$D$9:$D$1008)","v":{"$error":"#N/A"}},{"$f":"INDEX($B$23:$B$320,MATCH(ROWS($B$23:B43),COUNTIF($B$23:$B$320,\"<=\"&$B$23:$B$320),0))","v":{"$error":"#N/A"}},{"$f":"COUNTIFS('2. Staff Training Log'!$D$9:$D$1008,C43,'2. Staff Training Log'!$BX$9:$BX$1008,1)","v":0},{"$f":"COUNTIFS('2. Staff Training Log'!$D$9:$D$1008,'3. Training Progress'!C43,'2. Staff Training Log'!$BY$9:$BY$1008,1)","v":0},null,{"$error":"#VALUE!"},"","","","",{"$f":"IF(G43=TRUE(),COUNTIFS('2. Staff Training Log'!$J$9:$J$1008,\">=\"&EOMONTH(I43,-1)+1,'2. Staff Training Log'!$J$9:$J$1008,\"<\"&EOMONTH(I44,-1)+1,'2. Staff Training Log'!$S$9:$S$1008,0),NA())","v":{"$error":"#VALUE!"}},{"$f":"IF(G43=TRUE(),'2. Staff Training Log'!BK1009,NA())","v":{"$error":"#VALUE!"}},{"$error":"#N/A"},{"$f":"IFERROR(IF(G43=TRUE(),SUMPRODUCT($N$4:$N43),NA()),NA())","v":{"$error":"#N/A"}},null,{"$error":"#VALUE!"},{"$f":"COUNTIFS('2. Staff Training Log'!$J$9:$J$1008,\"<>\"&\"\",'2. Staff Training Log'!$M$9:$M$1008,\">=\"&G42,'2. Staff Training Log'!$M$9:$M$1008,\"<\"&I43,'2. Staff Training Log'!$S$9:$S$1008,0)","v":0},{"$f":"IFERROR(IF(G43=TRUE(),(SUM($L$4:L43)-SUM($R$4:R43))/M43,NA()),NA())","v":{"$error":"#N/A"}},{"$f":"IF(G43=TRUE(),SUM($L$4:L43)-SUM($R$4:R43),NA())","v":{"$error":"#VALUE!"}}]
[null,{"$f":"LOOKUP(2, 1/((COUNTIF($B$22:B43, '2. Staff Training Log'!$D$9:$D$1008)=0)*('2. Staff Training Log'!$D$9:$D$1008<>\"\")), '2. Staff Training Log'!$D$9:$D$1008)","v":{"$error":"#N/A"}},{"$f":"INDEX($B$23:$B$320,MATCH(ROWS($B$23:B44),COUNTIF($B$23:$B$320,\"<=\"&$B$23:$B$320),0))","v":{"$error":"#N/A"}},{"$f":"COUNTIFS('2. Staff Training Log'!$D$9:$D$1008,C44,'2. Staff Training Log'!$BX$9:$BX$1008,1)","v":0},{"$f":"COUNTIFS('2. Staff Training Log'!$D$9:$D$1008,'3. Training Progress'!C44,'2. Staff Training Log'!$BY$9:$BY$1008,1)","v":0},null,{"$error":"#VALUE!"},"","","","",{"$f":"IF(G44=TRUE(),COUNTIFS('2. Staff Training Log'!$J$9:$J$1008,\">=\"&EOMONTH(I44,-1)+1,'2. Staff Training Log'!$J$9:$J$1008,\"<\"&EOMONTH(I45,-1)+1,'2. Staff Training Log'!$S$9:$S$1008,0),NA())","v":{"$error":"#VALUE!"}},{"$f":"IF(G44=TRUE(),'2. Staff Training Log'!BL1009,NA())","v":{"$error":"#VALUE!"}},{"$error":"#N/A"},{"$f":"IFERROR(IF(G44=TRUE(),SUMPRODUCT($N$4:$N44),NA()),NA())","v":{"$error":"#N/A"}},null,{"$error":"#VALUE!"},{"$f":"COUNTIFS('2. Staff Training Log'!$J$9:$J$1008,\"<>\"&\"\",'2. Staff Training Log'!$M$9:$M$1008,\">=\"&G43,'2. Staff Training Log'!$M$9:$M$1008,\"<\"&I44,'2. Staff Training Log'!$S$9:$S$1008,0)","v":0},{"$f":"IFERROR(IF(G44=TRUE(),(SUM($L$4:L44)-SUM($R$4:R44))/M44,NA()),NA())","v":{"$error":"#N/A"}},{"$f":"IF(G44=TRUE(),SUM($L$4:L44)-SUM($R$4:R44),NA())","v":{"$error":"#VALUE!"}}]
[null,{"$f":"LOOKUP(2, 1/((COUNTIF($B$22:B44, '2. Staff Training Log'!$D$9:$D$1008)=0)*('2. Staff Training Log'!$D$9:$D$1008<>\"\")), '2. Staff Training Log'!$D$9:$D$1008)","v":{"$error":"#N/A"}},{"$f":"INDEX($B$23:$B$320,MATCH(ROWS($B$23:B45),COUNTIF($B$23:$B$320,\"<=\"&$B$23:$B$320),0))","v":{"$error":"#N/A"}},{"$f":"COUNTIFS('2. Staff Training Log'!$D$9:$D$1008,C45,'2. Staff Training Log'!$BX$9:$BX$1008,1)","v":0},{"$f":"COUNTIFS('2. Staff Training Log'!$D$9:$D$1008,'3. Training Progress'!C45,'2. Staff Training Log'!$BY$9:$BY$1008,1)","v":0},null,{"$error":"#VALUE!"},"","","","",{"$f":"IF(G45=TRUE(),COUNTIFS('2. Staff Training Log'!$J$9:$J$1008,\">=\"&EOMONTH(I45,-1)+1,'2. Staff Training Log'!$J$9:$J$1008,\"<\"&EOMONTH(I46,-1)+1,'2. Staff Training Log'!$S$9:$S$1008,0),NA())","v":{"$error":"#VALUE!"}},{"$f":"IF(G45=TRUE(),'2. Staff Training Log'!BM1009,NA())","v":{"$error":"#VALUE!"}},{"$error":"#N/A"},{"$f":"IFERROR(IF(G45=TRUE(),SUMPRODUCT($N$4:$N45),NA()),NA())","v":{"$error":"#N/A"}},null,{"$error":"#VALUE!"},{"$f":"COUNTIFS('2. Staff Training Log'!$J$9:$J$1008,\"<>\"&\"\",'2. Staff Training Log'!$M$9:$M$1008,\">=\"&G44,'2. Staff Training Log'!$M$9:$M$1008,\"<\"&I45,'2. Staff Training Log'!$S$9:$S$1008,0)","v":0},{"$f":"IFERROR(IF(G45=TRUE(),(SUM($L$4:L45)-SUM($R$4:R45))/M45,NA()),NA())","v":{"$error":"#N/A"}},{"$f":"IF(G45=TRUE(),SUM($L$4:L45)-SUM($R$4:R45),NA())","v":{"$error":"#VALUE!"}}]
[null,{"$f":"LOOKUP(2, 1/((COUNTIF($B$22:B45, '2. Staff Training Log'!$D$9:$D$1008)=0)*('2. Staff Training Log'!$D$9:$D$1008<>\"\")), '2. Staff Training Log'!$D$9:$D$1008)","v":{"$error":"#N/A"}},{"$f":"INDEX($B$23:$B$320,MATCH(ROWS($B$23:B46),COUNTIF($B$23:$B$320,\"<=\"&$B$23:$B$320),0))","v":{"$error":"#N/A"}},{"$f":"COUNTIFS('2. Staff Training Log'!$D$9:$D$1008,C46,'2. Staff Training Log'!$BX$9:$BX$1008,1)","v":0},{"$f":"COUNTIFS('2. Staff Training Log'!$D$9:$D$1008,'3. Training Progress'!C46,'2. Staff Training Log'!$BY$9:$BY$1008,1)","v":0},null,{"$error":"#VALUE!"},"","","","",{"$f":"IF(G46=TRUE(),COUNTIFS('2. Staff Training Log'!$J$9:$J$1008,\">=\"&EOMONTH(I46,-1)+1,'2. Staff Training Log'!$J$9:$J$1008,\"<\"&EOMONTH(I47,-1)+1,'2. Staff Training Log'!$S$9:$S$1008,0),NA())","v":{"$error":"#VALUE!"}},{"$f":"IF(G46=TRUE(),'2. Staff Training Log'!BN1009,NA())","v":{"$error":"#VALUE!"}},{"$error":"#N/A"},{"$f":"IFERROR(IF(G46=TRUE(),SUMPRODUCT($N$4:$N46),NA()),NA())","v":{"$error":"#N/A"}},null,{"$error":"#VALUE!"},{"$f":"COUNTIFS('2. Staff Training Log'!$J$9:$J$1008,\"<>\"&\"\",'2. Staff Training Log'!$M$9:$M$1008,\">=\"&G45,'2. Staff Training Log'!$M$9:$M$1008,\"<\"&I46,'2. Staff Training Log'!$S$9:$S$1008,0)","v":0},{"$f":"IFERROR(IF(G46=TRUE(),(SUM($L$4:L46)-SUM($R$4:R46))/M46,NA()),NA())","v":{"$error":"#N/A"}},{"$f":"IF(G46=TRUE(),SUM($L$4:L46)-SUM($R$4:R46),NA())","v":{"$error":"#VALUE!"}}]
[null,{"$f":"LOOKUP(2, 1/((COUNTIF($B$22:B46, '2. Staff Training Log'!$D$9:$D$1008)=0)*('2. Staff Training Log'!$D$9:$D$1008<>\"\")), '2. Staff Training Log'!$D$9:$D$1008)","v":{"$error":"#N/A"}},{"$f":"INDEX($B$23:$B$320,MATCH(ROWS($B$23:B47),COUNTIF($B$23:$B$320,\"<=\"&$B$23:$B$320),0))","v":{"$error":"#N/A"}},{"$f":"COUNTIFS('2. Staff Training Log'!$D$9:$D$1008,C47,'2. Staff Training Log'!$BX$9:$BX$1008,1)","v":0},{"$f":"COUNTIFS('2. Staff Training Log'!$D$9:$D$1008,'3. Training Progress'!C47,'2. Staff Training Log'!$BY$9:$BY$1008,1)","v":0},null,{"$error":"#VALUE!"},"","","","",{"$f":"IF(G47=TRUE(),COUNTIFS('2. Staff Training Log'!$J$9:$J$1008,\">=\"&EOMONTH(I47,-1)+1,'2. Staff Training Log'!$J$9:$J$1008,\"<\"&EOMONTH(I48,-1)+1,'2. Staff Training Log'!$S$9:$S$1008,0),NA())","v":{"$error":"#VALUE!"}},{"$f":"IF(G47=TRUE(),'2. Staff Training Log'!BO1009,NA())","v":{"$error":"#VALUE!"}},{"$f":"IF(IFERROR(L47/M47,NA())=0,NA(),IFERROR(L47/M47,NA()))","v":{"$error":"#N/A"}},{"$f":"IFERROR(IF(G47=TRUE(),SUMPRODUCT($N$4:$N47),NA()),NA())","v":{"$error":"#N/A"}},null,{"$error":"#VALUE!"},{"$f":"COUNTIFS('2. Staff Training Log'!$J$9:$J$1008,\"<>\"&\"\",'2. Staff Training Log'!$M$9:$M$1008,\">=\"&G46,'2. Staff Training Log'!$M$9:$M$1008,\"<\"&I47,'2. Staff Training Log'!$S$9:$S$1008,0)","v":0},{"$f":"IFERROR(IF(G47=TRUE(),(SUM($L$4:L47)-SUM($R$4:R47))/M47,NA()),NA())","v":{"$error":"#N/A"}},{"$f":"IF(G47=TRUE(),SUM($L$4:L47)-SUM($R$4:R47),NA())","v":{"$error":"#VALUE!"}}]
[null,{"$f":"LOOKUP(2, 1/((COUNTIF($B$22:B47, '2. Staff Training Log'!$D$9:$D$1008)=0)*('2. Staff Training Log'!$D$9:$D$1008<>\"\")), '2. Staff Training Log'!$D$9:$D$1008)","v":{"$error":"#N/A"}},{"$f":"INDEX($B$23:$B$320,MATCH(ROWS($B$23:B48),COUNTIF($B$23:$B$320,\"<=\"&$B$23:$B$320),0))","v":{"$error":"#N/A"}},{"$f":"COUNTIFS('2. Staff Training Log'!$D$9:$D$1008,C48,'2. Staff Training Log'!$BX$9:$BX$1008,1)","v":0},{"$f":"COUNTIFS('2. Staff Training Log'!$D$9:$D$1008,'3. Training Progress'!C48,'2. Staff Training Log'!$BY$9:$BY$1008,1)","v":0},null,{"$error":"#VALUE!"},"","","","",{"$f":"IF(G48=TRUE(),COUNTIFS('2. Staff Training Log'!$J$9:$J$1008,\">=\"&EOMONTH(I48,-1)+1,'2. Staff Training Log'!$J$9:$J$1008,\"<\"&EOMONTH(I49,-1)+1,'2. Staff Training Log'!$S$9:$S$1008,0),NA())","v":{"$error":"#VALUE!"}},{"$f":"IF(G48=TRUE(),'2. Staff Training Log'!BP1009,NA())","v":{"$error":"#VALUE!"}},{"$error":"#N/A"},{"$f":"IFERROR(IF(G48=TRUE(),SUMPRODUCT($N$4:$N48),NA()),NA())","v":{"$error":"#N/A"}},null,{"$error":"#VALUE!"},{"$f":"COUNTIFS('2. Staff Training Log'!$J$9:$J$1008,\"<>\"&\"\",'2. Staff Training Log'!$M$9:$M$1008,\">=\"&G47,'2. Staff Training Log'!$M$9:$M$1008,\"<\"&I48,'2. Staff Training Log'!$S$9:$S$1008,0)","v":0},{"$f":"IFERROR(IF(G48=TRUE(),(SUM($L$4:L48)-SUM($R$4:R48))/M48,NA()),NA())","v":{"$error":"#N/A"}},{"$f":"IF(G48=TRUE(),SUM($L$4:L48)-SUM($R$4:R48),NA())","v":{"$error":"#VALUE!"}}]
[null,{"$f":"LOOKUP(2, 1/((COUNTIF($B$22:B48, '2. Staff Training Log'!$D$9:$D$1008)=0)*('2. Staff Training Log'!$D$9:$D$1008<>\"\")), '2. Staff Training Log'!$D$9:$D$1008)","v":{"$error":"#N/A"}},{"$f":"INDEX($B$23:$B$320,MATCH(ROWS($B$23:B49),COUNTIF($B$23:$B$320,\"<=\"&$B$23:$B$320),0))","v":{"$error":"#N/A"}},{"$f":"COUNTIFS('2. Staff Training Log'!$D$9:$D$1008,C49,'2. Staff Training Log'!$BX$9:$BX$1008,1)","v":0},{"$f":"COUNTIFS('2. Staff Training Log'!$D$9:$D$1008,'3. Training Progress'!C49,'2. Staff Training Log'!$BY$9:$BY$1008,1)","v":0},null,{"$error":"#VALUE!"},{"$f":"J49&K49","v":""},{"$f":"IFERROR(CONCATENATE(MONTH(DATEVALUE(J49&\" 1\")),\"/\",K49),\"\")","v":""},"","",{"$f":"IF(G49=TRUE(),COUNTIFS('2. Staff Training Log'!$J$9:$J$1008,\">=\"&EOMONTH(I49,-1)+1,'2. Staff Training Log'!$J$9:$J$1008,\"<\"&EOMONTH(I50,-1)+1,'2. Staff Training Log'!$S$9:$S$1008,0),NA())","v":{"$error":"#VALUE!"}},{"$f":"IF(G49=TRUE(),'2. Staff Training Log'!BQ1009,NA())","v":{"$error":"#VALUE!"}},{"$error":"#N/A"},{"$f":"IFERROR(IF(G49=TRUE(),SUMPRODUCT($N$4:$N49),NA()),NA())","v":{"$error":"#N/A"}},null,{"$error":"#VALUE!"},{"$f":"COUNTIFS('2. Staff Training Log'!$J$9:$J$1008,\"<>\"&\"\",'2. Staff Training Log'!$M$9:$M$1008,\">=\"&G48,'2. Staff Training Log'!$M$9:$M$1008,\"<\"&I49,'2. Staff Training Log'!$S$9:$S$1008,0)","v":0},{"$f":"IFERROR(IF(G49=TRUE(),(SUM($L$4:L49)-SUM($R$4:R49))/M49,NA()),NA())","v":{"$error":"#N/A"}},{"$f":"IF(G49=TRUE(),SUM($L$4:L49)-SUM($R$4:R49),NA())","v":{"$error":"#VALUE!"}}]
[null,{"$f":"LOOKUP(2, 1/((COUNTIF($B$22:B49, '2. Staff Training Log'!$D$9:$D$1008)=0)*('2. Staff Training Log'!$D$9:$D$1008<>\"\")), '2. Staff Training Log'!$D$9:$D$1008)","v":{"$error":"#N/A"}},{"$f":"INDEX($B$23:$B$320,MATCH(ROWS($B$23:B50),COUNTIF($B$23:$B$320,\"<=\"&$B$23:$B$320),0))","v":{"$error":"#N/A"}},{"$f":"COUNTIFS('2. Staff Training Log'!$D$9:$D$1008,C50,'2. Staff Training Log'!$BX$9:$BX$1008,1)","v":0},{"$f":"COUNTIFS('2. Staff Training Log'!$D$9:$D$1008,'3. Training Progress'!C50,'2. Staff Training Log'!$BY$9:$BY$1008,1)","v":0},null,null,null,{"$f":"EOMONTH(I49,0)+1","v":{"$error":"#VALUE!"}}]
[null,{"$f":"LOOKUP(2, 1/((COUNTIF($B$22:B50, '2. Staff Training Log'!$D$9:$D$1008)=0)*('2. Staff Training Log'!$D$9:$D$1008<>\"\")), '2. Staff Training Log'!$D$9:$D$1008)","v":{"$error":"#N/A"}},{"$f":"INDEX($B$23:$B$320,MATCH(ROWS($B$23:B51),COUNTIF($B$23:$B$320,\"<=\"&$B$23:$B$320),0))","v":{"$error":"#N/A"}},{"$f":"COUNTIFS('2. Staff Training Log'!$D$9:$D$1008,C51,'2. Staff Training Log'!$BX$9:$BX$1008,1)","v":0},{"$f":"COUNTIFS('2. Staff Training Log'!$D$9:$D$1008,'3. Training Progress'!C51,'2. Staff Training Log'!$BY$9:$BY$1008,1)","v":0}]
[null,{"$f":"LOOKUP(2, 1/((COUNTIF($B$22:B51, '2. Staff Training Log'!$D$9:$D$1008)=0)*('2. Staff Training Log'!$D$9:$D$1008<>\"\")), '2. Staff Training Log'!$D$9:$D$1008)","v":{"$error":"#N/A"}},{"$f":"INDEX($B$23:$B$320,MATCH(ROWS($B$23:B52),COUNTIF($B$23:$B$320,\"<=\"&$B$23:$B$320),0))","v":{"$error":"#N/A"}},{"$f":"COUNTIFS('2. Staff Training Log'!$D$9:$D$1008,C52,'2. Staff Training Log'!$BX$9:$BX$1008,1)","v":0},{"$f":"COUNTIFS('2. Staff Training Log'!$D$9:$D$1008,'3. Training Progress'!C52,'2. Staff Training Log'!$BY$9:$BY$1008,1)","v":0}]
[null,{"$f":"LOOKUP(2, 1/((COUNTIF($B$22:B52, '2. Staff Training Log'!$D$9:$D$1008)=0)*('2. Staff Training Log'!$D$9:$D$1008<>\"\")), '2. Staff Training Log'!$D$9:$D$1008)","v":{"$error":"#N/A"}},{"$f":"INDEX($B$23:$B$320,MATCH(ROWS($B$23:B53),COUNTIF($B$23:$B$320,\"<=\"&$B$23:$B$320),0))","v":{"$error":"#N/A"}},{"$f":"COUNTIFS('2. Staff Training Log'!$D$9:$D$1008,C53,'2. Staff Training Log'!$BX$9:$BX$1008,1)","v":0},{"$f":"COUNTIFS('2. Staff Training Log'!$D$9:$D$1008,'3. Training Progress'!C53,'2. Staff Training Log'!$BY$9:$BY$1008,1)","v":0},null,"Dynamic Charts (in name manager)"]
[null,{"$f":"LOOKUP(2, 1/((COUNTIF($B$22:B53, '2. Staff Training Log'!$D$9:$D$1008)=0)*('2. Staff Training Log'!$D$9:$D$1008<>\"\")), '2. Staff Training Log'!$D$9:$D$1008)","v":{"$error":"#N/A"}},{"$f":"INDEX($B$23:$B$320,MATCH(ROWS($B$23:B54),COUNTIF($B$23:$B$320,\"<=\"&$B$23:$B$320),0))","v":{"$error":"#N/A"}},{"$f":"COUNTIFS('2. Staff Training Log'!$D$9:$D$1008,C54,'2. Staff Training Log'!$BX$9:$BX$1008,1)","v":0},{"$f":"COUNTIFS('2. Staff Training Log'!$D$9:$D$1008,'3. Training Progress'!C54,'2. Staff Training Log'!$BY$9:$BY$1008,1)","v":0},null,"Name","Formula"]
[null,{"$f":"LOOKUP(2, 1/((COUNTIF($B$22:B54, '2. Staff Training Log'!$D$9:$D$1008)=0)*('2. Staff Training Log'!$D$9:$D$1008<>\"\")), '2. Staff Training Log'!$D$9:$D$1008)","v":{"$error":"#N/A"}},{"$f":"INDEX($B$23:$B$320,MATCH(ROWS($B$23:B55),COUNTIF($B$23:$B$320,\"<=\"&$B$23:$B$320),0))","v":{"$error":"#N/A"}},{"$f":"COUNTIFS('2. Staff Training Log'!$D$9:$D$1008,C55,'2. Staff Training Log'!$BX$9:$BX$1008,1)","v":0},{"$f":"COUNTIFS('2. Staff Training Log'!$D$9:$D$1008,'3. Training Progress'!C55,'2. Staff Training Log'!$BY$9:$BY$1008,1)","v":0},null,"Cumulative Staff: ","OFFSET('Staff Progress'!$M:$M,1,,COUNT('Staff Progress'!$M:$M),)"]
[null,{"$f":"LOOKUP(2, 1/((COUNTIF($B$22:B55, '2. Staff Training Log'!$D$9:$D$1008)=0)*('2. Staff Training Log'!$D$9:$D$1008<>\"\")), '2. Staff Training Log'!$D$9:$D$1008)","v":{"$error":"#N/A"}},{"$f":"INDEX($B$23:$B$320,MATCH(ROWS($B$23:B56),COUNTIF($B$23:$B$320,\"<=\"&$B$23:$B$320),0))","v":{"$error":"#N/A"}},{"$f":"COUNTIFS('2. Staff Training Log'!$D$9:$D$1008,C56,'2. Staff Training Log'!$BX$9:$BX$1008,1)","v":0},{"$f":"COUNTIFS('2. Staff Training Log'!$D$9:$D$1008,'3. Training Progress'!C56,'2. Staff Training Log'!$BY$9:$BY$1008,1)","v":0},null,"StaffXAxis:","OFFSET('Staff Progress'!$H:$H,1,,COUNTA('Staff Progress'!$H:$H)-1,)"]
[null,{"$f":"LOOKUP(2, 1/((COUNTIF($B$22:B56, '2. Staff Training Log'!$D$9:$D$1008)=0)*('2. Staff Training Log'!$D$9:$D$1008<>\"\")), '2. Staff Training Log'!$D$9:$D$1008)","v":{"$error":"#N/A"}},{"$f":"INDEX($B$23:$B$320,MATCH(ROWS($B$23:B57),COUNTIF($B$23:$B$320,\"<=\"&$B$23:$B$320),0))","v":{"$error":"#N/A"}},{"$f":"COUNTIFS('2. Staff Training Log'!$D$9:$D$1008,C57,'2. Staff Training Log'!$BX$9:$BX$1008,1)","v":0},{"$f":"COUNTIFS('2. Staff Training Log'!$D$9:$D$1008,'3. Training Progress'!C57,'2. Staff Training Log'!$BY$9:$BY$1008,1)","v":0},null,"Monthly Staff:","OFFSET('3. Staff Progress'!$L:$L,1,,COUNT('3. Staff Progress'!$L:$L),)"]
[null,{"$f":"LOOKUP(2, 1/((COUNTIF($B$22:B57, '2. Staff Training Log'!$D$9:$D$1008)=0)*('2. Staff Training Log'!$D$9:$D$1008<>\"\")), '2. Staff Training Log'!$D$9:$D$1008)","v":{"$error":"#N/A"}},{"$f":"INDEX($B$23:$B$320,MATCH(ROWS($B$23:B58),COUNTIF($B$23:$B$320,\"<=\"&$B$23:$B$320),0))","v":{"$error":"#N/A"}},{"$f":"COUNTIFS('2. Staff Training Log'!$D$9:$D$1008,C58,'2. Staff Training Log'!$BX$9:$BX$1008,1)","v":0},{"$f":"COUNTIFS('2. Staff Training Log'!$D$9:$D$1008,'3. Training Progress'!C58,'2. Staff Training Log'!$BY$9:$BY$1008,1)","v":0}]
[null,{"$f":"LOOKUP(2, 1/((COUNTIF($B$22:B58, '2. Staff Training Log'!$D$9:$D$1008)=0)*('2. Staff Training Log'!$D$9:$D$1008<>\"\")), '2. Staff Training Log'!$D$9:$D$1008)","v":{"$error":"#N/A"}},{"$f":"INDEX($B$23:$B$320,MATCH(ROWS($B$23:B59),COUNTIF($B$23:$B$320,\"<=\"&$B$23:$B$320),0))","v":{"$error":"#N/A"}},{"$f":"COUNTIFS('2. Staff Training Log'!$D$9:$D$1008,C59,'2. Staff Training Log'!$BX$9:$BX$1008,1)","v":0},{"$f":"COUNTIFS('2. Staff Training Log'!$D$9:$D$1008,'3. Training Progress'!C59,'2. Staff Training Log'!$BY$9:$BY$1008,1)","v":0}]
[null,{"$f":"LOOKUP(2, 1/((COUNTIF($B$22:B59, '2. Staff Training Log'!$D$9:$D$1008)=0)*('2. Staff Training Log'!$D$9:$D$1008<>\"\")), '2. Staff Training Log'!$D$9:$D$1008)","v":{"$error":"#N/A"}},{"$f":"INDEX($B$23:$B$320,MATCH(ROWS($B$23:B60),COUNTIF($B$23:$B$320,\"<=\"&$B$23:$B$320),0))","v":{"$error":"#N/A"}},{"$f":"COUNTIFS('2. Staff Training Log'!$D$9:$D$1008,C60,'2. Staff Training Log'!$BX$9:$BX$1008,1)","v":0},{"$f":"COUNTIFS('2. Staff Training Log'!$D$9:$D$1008,'3. Training Progress'!C60,'2. Staff Training Log'!$BY$9:$BY$1008,1)","v":0}]
[null,{"$f":"LOOKUP(2, 1/((COUNTIF($B$22:B60, '2. Staff Training Log'!$D$9:$D$1008)=0)*('2. Staff Training Log'!$D$9:$D$1008<>\"\")), '2. Staff Training Log'!$D$9:$D$1008)","v":{"$error":"#N/A"}},{"$f":"INDEX($B$23:$B$320,MATCH(ROWS($B$23:B61),COUNTIF($B$23:$B$320,\"<=\"&$B$23:$B$320),0))","v":{"$error":"#N/A"}},{"$f":"COUNTIFS('2. Staff Training Log'!$D$9:$D$1008,C61,'2. Staff Training Log'!$BX$9:$BX$1008,1)","v":0},{"$f":"COUNTIFS('2. Staff Training Log'!$D$9:$D$1008,'3. Training Progress'!C61,'2. Staff Training Log'!$BY$9:$BY$1008,1)","v":0}]
[null,{"$f":"LOOKUP(2, 1/((COUNTIF($B$22:B61, '2. Staff Training Log'!$D$9:$D$1008)=0)*('2. Staff Training Log'!$D$9:$D$1008<>\"\")), '2. Staff Training Log'!$D$9:$D$1008)","v":{"$error":"#N/A"}},{"$f":"INDEX($B$23:$B$320,MATCH(ROWS($B$23:B62),COUNTIF($B$23:$B$320,\"<=\"&$B$23:$B$320),0))","v":{"$error":"#N/A"}},{"$f":"COUNTIFS('2. Staff Training Log'!$D$9:$D$1008,C62,'2. Staff Training Log'!$BX$9:$BX$1008,1)","v":0},{"$f":"COUNTIFS('2. Staff Training Log'!$D$9:$D$1008,'3. Training Progress'!C62,'2. Staff Training Log'!$BY$9:$BY$1008,1)","v":0}]
[null,{"$f":"LOOKUP(2, 1/((COUNTIF($B$22:B62, '2. Staff Training Log'!$D$9:$D$1008)=0)*('2. Staff Training Log'!$D$9:$D$1008<>\"\")), '2. Staff Training Log'!$D$9:$D$1008)","v":{"$error":"#N/A"}},{"$f":"INDEX($B$23:$B$320,MATCH(ROWS($B$23:B63),COUNTIF($B$23:$B$320,\"<=\"&$B$23:$B$320),0))","v":{"$error":"#N/A"}},{"$f":"COUNTIFS('2. Staff Training Log'!$D$9:$D$1008,C63,'2. Staff Training Log'!$BX$9:$BX$1008,1)","v":0},{"$f":"COUNTIFS('2. Staff Training Log'!$D$9:$D$1008,'3. Training Progress'!C63,'2. Staff Training Log'!$BY$9:$BY$1008,1)","v":0}]
[null,{"$f":"LOOKUP(2, 1/((COUNTIF($B$22:B63, '2. Staff Training Log'!$D$9:$D$1008)=0)*('2. Staff Training Log'!$D$9:$D$1008<>\"\")), '2. Staff Training Log'!$D$9:$D$1008)","v":{"$error":"#N/A"}},{"$f":"INDEX($B$23:$B$320,MATCH(ROWS($B$23:B64),COUNTIF($B$23:$B$320,\"<=\"&$B$23:$B$320),0))","v":{"$error":"#N/A"}},{"$f":"COUNTIFS('2. Staff Training Log'!$D$9:$D$1008,C64,'2. Staff Training Log'!$BX$9:$BX$1008,1)","v":0},{"$f":"COUNTIFS('2. Staff Training Log'!$D$9:$D$1008,'3. Training Progress'!C64,'2. Staff Training Log'!$BY$9:$BY$1008,1)","v":0}]
[null,{"$f":"LOOKUP(2, 1/((COUNTIF($B$22:B64, '2. Staff Training Log'!$D$9:$D$1008)=0)*('2. Staff Training Log'!$D$9:$D$1008<>\"\")), '2. Staff Training Log'!$D$9:$D$1008)","v":{"$error":"#N/A"}},{"$f":"INDEX($B$23:$B$320,MATCH(ROWS($B$23:B65),COUNTIF($B$23:$B$320,\"<=\"&$B$23:$B$320),0))","v":{"$error":"#N/A"}},{"$f":"COUNTIFS('2. Staff Training Log'!$D$9:$D$1008,C65,'2. Staff Training Log'!$BX$9:$BX$1008,1)","v":0},{"$f":"COUNTIFS('2. Staff Training Log'!$D$9:$D$1008,'3. Training Progress'!C65,'2. Staff Training Log'!$BY$9:$BY$1008,1)","v":0}]
[null,{"$f":"LOOKUP(2, 1/((COUNTIF($B$22:B65, '2. Staff Training Log'!$D$9:$D$1008)=0)*('2. Staff Training Log'!$D$9:$D$1008<>\"\")), '2. Staff Training Log'!$D$9:$D$1008)","v":{"$error":"#N/A"}},{"$f":"INDEX($B$23:$B$320,MATCH(ROWS($B$23:B66),COUNTIF($B$23:$B$320,\"<=\"&$B$23:$B$320),0))","v":{"$error":"#N/A"}},{"$f":"COUNTIFS('2. Staff Training Log'!$D$9:$D$1008,C66,'2. Staff Training Log'!$BX$9:$BX$1008,1)","v":0},{"$f":"COUNTIFS('2. Staff Training Log'!$D$9:$D$1008,'3. Training Progress'!C66,'2. Staff Training Log'!$BY$9:$BY$1008,1)","v":0}]
[null,{"$f":"LOOKUP(2, 1/((COUNTIF($B$22:B66, '2. Staff Training Log'!$D$9:$D$1008)=0)*('2. Staff Training Log'!$D$9:$D$1008<>\"\")), '2. Staff Training Log'!$D$9:$D$1008)","v":{"$error":"#N/A"}},{"$f":"INDEX($B$23:$B$320,MATCH(ROWS($B$23:B67),COUNTIF($B$23:$B$320,\"<=\"&$B$23:$B$320),0))","v":{"$error":"#N/A"}},{"$f":"COUNTIFS('2. Staff Training Log'!$D$9:$D$1008,C67,'2. Staff Training Log'!$BX$9:$BX$1008,1)","v":0},{"$f":"COUNTIFS('2. Staff Training Log'!$D$9:$D$1008,'3. Training Progress'!C67,'2. Staff Training Log'!$BY$9:$BY$1008,1)","v":0}]
[null,{"$f":"LOOKUP(2, 1/((COUNTIF($B$22:B67, '2. Staff Training Log'!$D$9:$D$1008)=0)*('2. Staff Training Log'!$D$9:$D$1008<>\"\")), '2. Staff Training Log'!$D$9:$D$1008)","v":{"$error":"#N/A"}},{"$f":"INDEX($B$23:$B$320,MATCH(ROWS($B$23:B68),COUNTIF($B$23:$B$320,\"<=\"&$B$23:$B$320),0))","v":{"$error":"#N/A"}},{"$f":"COUNTIFS('2. Staff Training Log'!$D$9:$D$1008,C68,'2. Staff Training Log'!$BX$9:$BX$1008,1)","v":0},{"$f":"COUNTIFS('2. Staff Training Log'!$D$9:$D$1008,'3. Training Progress'!C68,'2. Staff Training Log'!$BY$9:$BY$1008,1)","v":0}]
[null,{"$f":"LOOKUP(2, 1/((COUNTIF($B$22:B68, '2. Staff Training Log'!$D$9:$D$1008)=0)*('2. Staff Training Log'!$D$9:$D$1008<>\"\")), '2. Staff Training Log'!$D$9:$D$1008)","v":{"$error":"#N/A"}},{"$f":"INDEX($B$23:$B$320,MATCH(ROWS($B$23:B69),COUNTIF($B$23:$B$320,\"<=\"&$B$23:$B$320),0))","v":{"$error":"#N/A"}},{"$f":"COUNTIFS('2. Staff Training Log'!$D$9:$D$1008,C69,'2. Staff Training Log'!$BX$9:$BX$1008,1)","v":0},{"$f":"COUNTIFS('2. Staff Training Log'!$D$9:$D$1008,'3. Training Progress'!C69,'2. Staff Training Log'!$BY$9:$BY$1008,1)","v":0}]
[null,{"$f":"LOOKUP(2, 1/((COUNTIF($B$22:B69, '2. Staff Training Log'!$D$9:$D$1008)=0)*('2. Staff Training Log'!$D$9:$D$1008<>\"\")), '2. Staff Training Log'!$D$9:$D$1008)","v":{"$error":"#N/A"}},{"$f":"INDEX($B$23:$B$320,MATCH(ROWS($B$23:B70),COUNTIF($B$23:$B$320,\"<=\"&$B$23:$B$320),0))","v":{"$error":"#N/A"}},{"$f":"COUNTIFS('2. Staff Training Log'!$D$9:$D$1008,C70,'2. Staff Training Log'!$BX$9:$BX$1008,1)","v":0},{"$f":"COUNTIFS('2. Staff Training Log'!$D$9:$D$1008,'3. Training Progress'!C70,'2. Staff Training Log'!$BY$9:$BY$1008,1)","v":0}]
[null,{"$f":"LOOKUP(2, 1/((COUNTIF($B$22:B70, '2. Staff Training Log'!$D$9:$D$1008)=0)*('2. Staff Training Log'!$D$9:$D$1008<>\"\")), '2. Staff Training Log'!$D$9:$D$1008)","v":{"$error":"#N/A"}},{"$f":"INDEX($B$23:$B$320,MATCH(ROWS($B$23:B71),COUNTIF($B$23:$B$320,\"<=\"&$B$23:$B$320),0))","v":{"$error":"#N/A"}},{"$f":"COUNTIFS('2. Staff Training Log'!$D$9:$D$1008,C71,'2. Staff Training Log'!$BX$9:$BX$1008,1)","v":0},{"$f":"COUNTIFS('2. Staff Training Log'!$D$9:$D$1008,'3. Training Progress'!C71,'2. Staff Training Log'!$BY$9:$BY$1008,1)","v":0}]
[null,{"$f":"LOOKUP(2, 1/((COUNTIF($B$22:B71, '2. Staff Training Log'!$D$9:$D$1008)=0)*('2. Staff Training Log'!$D$9:$D$1008<>\"\")), '2. Staff Training Log'!$D$9:$D$1008)","v":{"$error":"#N/A"}},{"$f":"INDEX($B$23:$B$320,MATCH(ROWS($B$23:B72),COUNTIF($B$23:$B$320,\"<=\"&$B$23:$B$320),0))","v":{"$error":"#N/A"}},{"$f":"COUNTIFS('2. Staff Training Log'!$D$9:$D$1008,C72,'2. Staff Training Log'!$BX$9:$BX$1008,1)","v":0},{"$f":"COUNTIFS('2. Staff Training Log'!$D$9:$D$1008,'3. Training Progress'!C72,'2. Staff Training Log'!$BY$9:$BY$1008,1)","v":0}]
[null,{"$f":"LOOKUP(2, 1/((COUNTIF($B$22:B72, '2. Staff Training Log'!$D$9:$D$1008)=0)*('2. Staff Training Log'!$D$9:$D$1008<>\"\")), '2. Staff Training Log'!$D$9:$D$1008)","v":{"$error":"#N/A"}},{"$f":"INDEX($B$23:$B$320,MATCH(ROWS($B$23:B73),COUNTIF($B$23:$B$320,\"<=\"&$B$23:$B$320),0))","v":{"$error":"#N/A"}},{"$f":"COUNTIFS('2. Staff Training Log'!$D$9:$D$1008,C73,'2. Staff Training Log'!$BX$9:$BX$1008,1)","v":0},{"$f":"COUNTIFS('2. Staff Training Log'!$D$9:$D$1008,'3. Training Progress'!C73,'2. Staff Training Log'!$BY$9:$BY$1008,1)","v":0}]
[null,{"$f":"LOOKUP(2, 1/((COUNTIF($B$22:B73, '2. Staff Training Log'!$D$9:$D$1008)=0)*('2. Staff Training Log'!$D$9:$D$1008<>\"\")), '2. Staff Training Log'!$D$9:$D$1008)","v":{"$error":"#N/A"}},{"$f":"INDEX($B$23:$B$320,MATCH(ROWS($B$23:B74),COUNTIF($B$23:$B$320,\"<=\"&$B$23:$B$320),0))","v":{"$error":"#N/A"}},{"$f":"COUNTIFS('2. Staff Training Log'!$D$9:$D$1008,C74,'2. Staff Training Log'!$BX$9:$BX$1008,1)","v":0},{"$f":"COUNTIFS('2. Staff Training Log'!$D$9:$D$1008,'3. Training Progress'!C74,'2. Staff Training Log'!$BY$9:$BY$1008,1)","v":0}]
[null,{"$f":"LOOKUP(2, 1/((COUNTIF($B$22:B74, '2. Staff Training Log'!$D$9:$D$1008)=0)*('2. Staff Training Log'!$D$9:$D$1008<>\"\")), '2. Staff Training Log'!$D$9:$D$1008)","v":{"$error":"#N/A"}},{"$f":"INDEX($B$23:$B$320,MATCH(ROWS($B$23:B75),COUNTIF($B$23:$B$320,\"<=\"&$B$23:$B$320),0))","v":{"$error":"#N/A"}},{"$f":"COUNTIFS('2. Staff Training Log'!$D$9:$D$1008,C75,'2. Staff Training Log'!$BX$9:$BX$1008,1)","v":0},{"$f":"COUNTIFS('2. Staff Training Log'!$D$9:$D$1008,'3. Training Progress'!C75,'2. Staff Training Log'!$BY$9:$BY$1008,1)","v":0}]
[null,{"$f":"LOOKUP(2, 1/((COUNTIF($B$22:B75, '2. Staff Training Log'!$D$9:$D$1008)=0)*('2. Staff Training Log'!$D$9:$D$1008<>\"\")), '2. Staff Training Log'!$D$9:$D$1008)","v":{"$error":"#N/A"}},{"$f":"INDEX($B$23:$B$320,MATCH(ROWS($B$23:B76),COUNTIF($B$23:$B$320,\"<=\"&$B$23:$B$320),0))","v":{"$error":"#N/A"}},{"$f":"COUNTIFS('2. Staff Training Log'!$D$9:$D$1008,C76,'2. Staff Training Log'!$BX$9:$BX$1008,1)","v":0},{"$f":"COUNTIFS('2. Staff Training Log'!$D$9:$D$1008,'3. Training Progress'!C76,'2. Staff Training Log'!$BY$9:$BY$1008,1)","v":0}]
[null,{"$f":"LOOKUP(2, 1/((COUNTIF($B$22:B76, '2. Staff Training Log'!$D$9:$D$1008)=0)*('2. Staff Training Log'!$D$9:$D$1008<>\"\")), '2. Staff Training Log'!$D$9:$D$1008)","v":{"$error":"#N/A"}},{"$f":"INDEX($B$23:$B$320,MATCH(ROWS($B$23:B77),COUNTIF($B$23:$B$320,\"<=\"&$B$23:$B$320),0))","v":{"$error":"#N/A"}},{"$f":"COUNTIFS('2. Staff Training Log'!$D$9:$D$1008,C77,'2. Staff Training Log'!$BX$9:$BX$1008,1)","v":0},{"$f":"COUNTIFS('2. Staff Training Log'!$D$9:$D$1008,'3. Training Progress'!C77,'2. Staff Training Log'!$BY$9:$BY$1008,1)","v":0}]
[null,{"$f":"LOOKUP(2, 1/((COUNTIF($B$22:B77, '2. Staff Training Log'!$D$9:$D$1008)=0)*('2. Staff Training Log'!$D$9:$D$1008<>\"\")), '2. Staff Training Log'!$D$9:$D$1008)","v":{"$error":"#N/A"}},{"$f":"INDEX($B$23:$B$320,MATCH(ROWS($B$23:B78),COUNTIF($B$23:$B$320,\"<=\"&$B$23:$B$320),0))","v":{"$error":"#N/A"}},{"$f":"COUNTIFS('2. Staff Training Log'!$D$9:$D$1008,C78,'2. Staff Training Log'!$BX$9:$BX$1008,1)","v":0},{"$f":"COUNTIFS('2. Staff Training Log'!$D$9:$D$1008,'3. Training Progress'!C78,'2. Staff Training Log'!$BY$9:$BY$1008,1)","v":0}]
[null,{"$f":"LOOKUP(2, 1/((COUNTIF($B$22:B78, '2. Staff Training Log'!$D$9:$D$1008)=0)*('2. Staff Training Log'!$D$9:$D$1008<>\"\")), '2. Staff Training Log'!$D$9:$D$1008)","v":{"$error":"#N/A"}},{"$f":"INDEX($B$23:$B$320,MATCH(ROWS($B$23:B79),COUNTIF($B$23:$B$320,\"<=\"&$B$23:$B$320),0))","v":{"$error":"#N/A"}},{"$f":"COUNTIFS('2. Staff Training Log'!$D$9:$D$1008,C79,'2. Staff Training Log'!$BX$9:$BX$1008,1)","v":0},{"$f":"COUNTIFS('2. Staff Training Log'!$D$9:$D$1008,'3. Training Progress'!C79,'2. Staff Training Log'!$BY$9:$BY$1008,1)","v":0}]
[null,{"$f":"LOOKUP(2, 1/((COUNTIF($B$22:B79, '2. Staff Training Log'!$D$9:$D$1008)=0)*('2. Staff Training Log'!$D$9:$D$1008<>\"\")), '2. Staff Training Log'!$D$9:$D$1008)","v":{"$error":"#N/A"}},{"$f":"INDEX($B$23:$B$320,MATCH(ROWS($B$23:B80),COUNTIF($B$23:$B$320,\"<=\"&$B$23:$B$320),0))","v":{"$error":"#N/A"}},{"$f":"COUNTIFS('2. Staff Training Log'!$D$9:$D$1008,C80,'2. Staff Training Log'!$BX$9:$BX$1008,1)","v":0},{"$f":"COUNTIFS('2. Staff Training Log'!$D$9:$D$1008,'3. Training Progress'!C80,'2. Staff Training Log'!$BY$9:$BY$1008,1)","v":0}]
[null,{"$f":"LOOKUP(2, 1/((COUNTIF($B$22:B80, '2. Staff Training Log'!$D$9:$D$1008)=0)*('2. Staff Training Log'!$D$9:$D$1008<>\"\")), '2. Staff Training Log'!$D$9:$D$1008)","v":{"$error":"#N/A"}},{"$f":"INDEX($B$23:$B$320,MATCH(ROWS($B$23:B81),COUNTIF($B$23:$B$320,\"<=\"&$B$23:$B$320),0))","v":{"$error":"#N/A"}},{"$f":"COUNTIFS('2. Staff Training Log'!$D$9:$D$1008,C81,'2. Staff Training Log'!$BX$9:$BX$1008,1)","v":0},{"$f":"COUNTIFS('2. Staff Training Log'!$D$9:$D$1008,'3. Training Progress'!C81,'2. Staff Training Log'!$BY$9:$BY$1008,1)","v":0}]
[null,{"$f":"LOOKUP(2, 1/((COUNTIF($B$22:B81, '2. Staff Training Log'!$D$9:$D$1008)=0)*('2. Staff Training Log'!$D$9:$D$1008<>\"\")), '2. Staff Training Log'!$D$9:$D$1008)","v":{"$error":"#N/A"}},{"$f":"INDEX($B$23:$B$320,MATCH(ROWS($B$23:B82),COUNTIF($B$23:$B$320,\"<=\"&$B$23:$B$320),0))","v":{"$error":"#N/A"}},{"$f":"COUNTIFS('2. Staff Training Log'!$D$9:$D$1008,C82,'2. Staff Training Log'!$BX$9:$BX$1008,1)","v":0},{"$f":"COUNTIFS('2. Staff Training Log'!$D$9:$D$1008,'3. Training Progress'!C82,'2. Staff Training Log'!$BY$9:$BY$1008,1)","v":0}]
[null,{"$f":"LOOKUP(2, 1/((COUNTIF($B$22:B82, '2. Staff Training Log'!$D$9:$D$1008)=0)*('2. Staff Training Log'!$D$9:$D$1008<>\"\")), '2. Staff Training Log'!$D$9:$D$1008)","v":{"$error":"#N/A"}},{"$f":"INDEX($B$23:$B$320,MATCH(ROWS($B$23:B83),COUNTIF($B$23:$B$320,\"<=\"&$B$23:$B$320),0))","v":{"$error":"#N/A"}},{"$f":"COUNTIFS('2. Staff Training Log'!$D$9:$D$1008,C83,'2. Staff Training Log'!$BX$9:$BX$1008,1)","v":0},{"$f":"COUNTIFS('2. Staff Training Log'!$D$9:$D$1008,'3. Training Progress'!C83,'2. Staff Training Log'!$BY$9:$BY$1008,1)","v":0}]
[null,{"$f":"LOOKUP(2, 1/((COUNTIF($B$22:B83, '2. Staff Training Log'!$D$9:$D$1008)=0)*('2. Staff Training Log'!$D$9:$D$1008<>\"\")), '2. Staff Training Log'!$D$9:$D$1008)","v":{"$error":"#N/A"}},{"$f":"INDEX($B$23:$B$320,MATCH(ROWS($B$23:B84),COUNTIF($B$23:$B$320,\"<=\"&$B$23:$B$320),0))","v":{"$error":"#N/A"}},{"$f":"COUNTIFS('2. Staff Training Log'!$D$9:$D$1008,C84,'2. Staff Training Log'!$BX$9:$BX$1008,1)","v":0},{"$f":"COUNTIFS('2. Staff Training Log'!$D$9:$D$1008,'3. Training Progress'!C84,'2. Staff Training Log'!$BY$9:$BY$1008,1)","v":0}]
[null,{"$f":"LOOKUP(2, 1/((COUNTIF($B$22:B84, '2. Staff Training Log'!$D$9:$D$1008)=0)*('2. Staff Training Log'!$D$9:$D$1008<>\"\")), '2. Staff Training Log'!$D$9:$D$1008)","v":{"$error":"#N/A"}},{"$f":"INDEX($B$23:$B$320,MATCH(ROWS($B$23:B85),COUNTIF($B$23:$B$320,\"<=\"&$B$23:$B$320),0))","v":{"$error":"#N/A"}},{"$f":"COUNTIFS('2. Staff Training Log'!$D$9:$D$1008,C85,'2. Staff Training Log'!$BX$9:$BX$1008,1)","v":0},{"$f":"COUNTIFS('2. Staff Training Log'!$D$9:$D$1008,'3. Training Progress'!C85,'2. Staff Training Log'!$BY$9:$BY$1008,1)","v":0}]
[null,{"$f":"LOOKUP(2, 1/((COUNTIF($B$22:B85, '2. Staff Training Log'!$D$9:$D$1008)=0)*('2. Staff Training Log'!$D$9:$D$1008<>\"\")), '2. Staff Training Log'!$D$9:$D$1008)","v":{"$error":"#N/A"}},{"$f":"INDEX($B$23:$B$320,MATCH(ROWS($B$23:B86),COUNTIF($B$23:$B$320,\"<=\"&$B$23:$B$320),0))","v":{"$error":"#N/A"}},{"$f":"COUNTIFS('2. Staff Training Log'!$D$9:$D$1008,C86,'2. Staff Training Log'!$BX$9:$BX$1008,1)","v":0},{"$f":"COUNTIFS('2. Staff Training Log'!$D$9:$D$1008,'3. Training Progress'!C86,'2. Staff Training Log'!$BY$9:$BY$1008,1)","v":0}]
[null,{"$f":"LOOKUP(2, 1/((COUNTIF($B$22:B86, '2. Staff Training Log'!$D$9:$D$1008)=0)*('2. Staff Training Log'!$D$9:$D$1008<>\"\")), '2. Staff Training Log'!$D$9:$D$1008)","v":{"$error":"#N/A"}},{"$f":"INDEX($B$23:$B$320,MATCH(ROWS($B$23:B87),COUNTIF($B$23:$B$320,\"<=\"&$B$23:$B$320),0))","v":{"$error":"#N/A"}},{"$f":"COUNTIFS('2. Staff Training Log'!$D$9:$D$1008,C87,'2. Staff Training Log'!$BX$9:$BX$1008,1)","v":0},{"$f":"COUNTIFS('2. Staff Training Log'!$D$9:$D$1008,'3. Training Progress'!C87,'2. Staff Training Log'!$BY$9:$BY$1008,1)","v":0}]
[null,{"$f":"LOOKUP(2, 1/((COUNTIF($B$22:B87, '2. Staff Training Log'!$D$9:$D$1008)=0)*('2. Staff Training Log'!$D$9:$D$1008<>\"\")), '2. Staff Training Log'!$D$9:$D$1008)","v":{"$error":"#N/A"}},{"$f":"INDEX($B$23:$B$320,MATCH(ROWS($B$23:B88),COUNTIF($B$23:$B$320,\"<=\"&$B$23:$B$320),0))","v":{"$error":"#N/A"}},{"$f":"COUNTIFS('2. Staff Training Log'!$D$9:$D$1008,C88,'2. Staff Training Log'!$BX$9:$BX$1008,1)","v":0},{"$f":"COUNTIFS('2. Staff Training Log'!$D$9:$D$1008,'3. Training Progress'!C88,'2. Staff Training Log'!$BY$9:$BY$1008,1)","v":0}]
[null,{"$f":"LOOKUP(2, 1/((COUNTIF($B$22:B88, '2. Staff Training Log'!$D$9:$D$1008)=0)*('2. Staff Training Log'!$D$9:$D$1008<>\"\")), '2. Staff Training Log'!$D$9:$D$1008)","v":{"$error":"#N/A"}},{"$f":"INDEX($B$23:$B$320,MATCH(ROWS($B$23:B89),COUNTIF($B$23:$B$320,\"<=\"&$B$23:$B$320),0))","v":{"$error":"#N/A"}},{"$f":"COUNTIFS('2. Staff Training Log'!$D$9:$D$1008,C89,'2. Staff Training Log'!$BX$9:$BX$1008,1)","v":0},{"$f":"COUNTIFS('2. Staff Training Log'!$D$9:$D$1008,'3. Training Progress'!C89,'2. Staff Training Log'!$BY$9:$BY$1008,1)","v":0}]
[null,{"$f":"LOOKUP(2, 1/((COUNTIF($B$22:B89, '2. Staff Training Log'!$D$9:$D$1008)=0)*('2. Staff Training Log'!$D$9:$D$1008<>\"\")), '2. Staff Training Log'!$D$9:$D$1008)","v":{"$error":"#N/A"}},{"$f":"INDEX($B$23:$B$320,MATCH(ROWS($B$23:B90),COUNTIF($B$23:$B$320,\"<=\"&$B$23:$B$320),0))","v":{"$error":"#N/A"}},{"$f":"COUNTIFS('2. Staff Training Log'!$D$9:$D$1008,C90,'2. Staff Training Log'!$BX$9:$BX$1008,1)","v":0},{"$f":"COUNTIFS('2. Staff Training Log'!$D$9:$D$1008,'3. Training Progress'!C90,'2. Staff Training Log'!$BY$9:$BY$1008,1)","v":0}]
[null,{"$f":"LOOKUP(2, 1/((COUNTIF($B$22:B90, '2. Staff Training Log'!$D$9:$D$1008)=0)*('2. Staff Training Log'!$D$9:$D$1008<>\"\")), '2. Staff Training Log'!$D$9:$D$1008)","v":{"$error":"#N/A"}},{"$f":"INDEX($B$23:$B$320,MATCH(ROWS($B$23:B91),COUNTIF($B$23:$B$320,\"<=\"&$B$23:$B$320),0))","v":{"$error":"#N/A"}},{"$f":"COUNTIFS('2. Staff Training Log'!$D$9:$D$1008,C91,'2. Staff Training Log'!$BX$9:$BX$1008,1)","v":0},{"$f":"COUNTIFS('2. Staff Training Log'!$D$9:$D$1008,'3. Training Progress'!C91,'2. Staff Training Log'!$BY$9:$BY$1008,1)","v":0}]
[null,{"$f":"LOOKUP(2, 1/((COUNTIF($B$22:B91, '2. Staff Training Log'!$D$9:$D$1008)=0)*('2. Staff Training Log'!$D$9:$D$1008<>\"\")), '2. Staff Training Log'!$D$9:$D$1008)","v":{"$error":"#N/A"}},{"$f":"INDEX($B$23:$B$320,MATCH(ROWS($B$23:B92),COUNTIF($B$23:$B$320,\"<=\"&$B$23:$B$320),0))","v":{"$error":"#N/A"}},{"$f":"COUNTIFS('2. Staff Training Log'!$D$9:$D$1008,C92,'2. Staff Training Log'!$BX$9:$BX$1008,1)","v":0},{"$f":"COUNTIFS('2. Staff Training Log'!$D$9:$D$1008,'3. Training Progress'!C92,'2. Staff Training Log'!$BY$9:$BY$1008,1)","v":0}]
[null,{"$f":"LOOKUP(2, 1/((COUNTIF($B$22:B92, '2. Staff Training Log'!$D$9:$D$1008)=0)*('2. Staff Training Log'!$D$9:$D$1008<>\"\")), '2. Staff Training Log'!$D$9:$D$1008)","v":{"$error":"#N/A"}},{"$f":"INDEX($B$23:$B$320,MATCH(ROWS($B$23:B93),COUNTIF($B$23:$B$320,\"<=\"&$B$23:$B$320),0))","v":{"$error":"#N/A"}},{"$f":"COUNTIFS('2. Staff Training Log'!$D$9:$D$1008,C93,'2. Staff Training Log'!$BX$9:$BX$1008,1)","v":0},{"$f":"COUNTIFS('2. Staff Training Log'!$D$9:$D$1008,'3. Training Progress'!C93,'2. Staff Training Log'!$BY$9:$BY$1008,1)","v":0}]
[null,{"$f":"LOOKUP(2, 1/((COUNTIF($B$22:B93, '2. Staff Training Log'!$D$9:$D$1008)=0)*('2. Staff Training Log'!$D$9:$D$1008<>\"\")), '2. Staff Training Log'!$D$9:$D$1008)","v":{"$error":"#N/A"}},{"$f":"INDEX($B$23:$B$320,MATCH(ROWS($B$23:B94),COUNTIF($B$23:$B$320,\"<=\"&$B$23:$B$320),0))","v":{"$error":"#N/A"}},{"$f":"COUNTIFS('2. Staff Training Log'!$D$9:$D$1008,C94,'2. Staff Training Log'!$BX$9:$BX$1008,1)","v":0},{"$f":"COUNTIFS('2. Staff Training Log'!$D$9:$D$1008,'3. Training Progress'!C94,'2. Staff Training Log'!$BY$9:$BY$1008,1)","v":0}]
[null,{"$f":"LOOKUP(2, 1/((COUNTIF($B$22:B94, '2. Staff Training Log'!$D$9:$D$1008)=0)*('2. Staff Training Log'!$D$9:$D$1008<>\"\")), '2. Staff Training Log'!$D$9:$D$1008)","v":{"$error":"#N/A"}},{"$f":"INDEX($B$23:$B$320,MATCH(ROWS($B$23:B95),COUNTIF($B$23:$B$320,\"<=\"&$B$23:$B$320),0))","v":{"$error":"#N/A"}},{"$f":"COUNTIFS('2. Staff Training Log'!$D$9:$D$1008,C95,'2. Staff Training Log'!$BX$9:$BX$1008,1)","v":0},{"$f":"COUNTIFS('2. Staff Training Log'!$D$9:$D$1008,'3. Training Progress'!C95,'2. Staff Training Log'!$BY$9:$BY$1008,1)","v":0}]
[null,{"$f":"LOOKUP(2, 1/((COUNTIF($B$22:B95, '2. Staff Training Log'!$D$9:$D$1008)=0)*('2. Staff Training Log'!$D$9:$D$1008<>\"\")), '2. Staff Training Log'!$D$9:$D$1008)","v":{"$error":"#N/A"}},{"$f":"INDEX($B$23:$B$320,MATCH(ROWS($B$23:B96),COUNTIF($B$23:$B$320,\"<=\"&$B$23:$B$320),0))","v":{"$error":"#N/A"}},{"$f":"COUNTIFS('2. Staff Training Log'!$D$9:$D$1008,C96,'2. Staff Training Log'!$BX$9:$BX$1008,1)","v":0},{"$f":"COUNTIFS('2. Staff Training Log'!$D$9:$D$1008,'3. Training Progress'!C96,'2. Staff Training Log'!$BY$9:$BY$1008,1)","v":0}]
[null,{"$f":"LOOKUP(2, 1/((COUNTIF($B$22:B96, '2. Staff Training Log'!$D$9:$D$1008)=0)*('2. Staff Training Log'!$D$9:$D$1008<>\"\")), '2. Staff Training Log'!$D$9:$D$1008)","v":{"$error":"#N/A"}},{"$f":"INDEX($B$23:$B$320,MATCH(ROWS($B$23:B97),COUNTIF($B$23:$B$320,\"<=\"&$B$23:$B$320),0))","v":{"$error":"#N/A"}},{"$f":"COUNTIFS('2. Staff Training Log'!$D$9:$D$1008,C97,'2. Staff Training Log'!$BX$9:$BX$1008,1)","v":0},{"$f":"COUNTIFS('2. Staff Training Log'!$D$9:$D$1008,'3. Training Progress'!C97,'2. Staff Training Log'!$BY$9:$BY$1008,1)","v":0}]
[null,{"$f":"LOOKUP(2, 1/((COUNTIF($B$22:B97, '2. Staff Training Log'!$D$9:$D$1008)=0)*('2. Staff Training Log'!$D$9:$D$1008<>\"\")), '2. Staff Training Log'!$D$9:$D$1008)","v":{"$error":"#N/A"}},{"$f":"INDEX($B$23:$B$320,MATCH(ROWS($B$23:B98),COUNTIF($B$23:$B$320,\"<=\"&$B$23:$B$320),0))","v":{"$error":"#N/A"}},{"$f":"COUNTIFS('2. Staff Training Log'!$D$9:$D$1008,C98,'2. Staff Training Log'!$BX$9:$BX$1008,1)","v":0},{"$f":"COUNTIFS('2. Staff Training Log'!$D$9:$D$1008,'3. Training Progress'!C98,'2. Staff Training Log'!$BY$9:$BY$1008,1)","v":0}]
[null,{"$f":"LOOKUP(2, 1/((COUNTIF($B$22:B98, '2. Staff Training Log'!$D$9:$D$1008)=0)*('2. Staff Training Log'!$D$9:$D$1008<>\"\")), '2. Staff Training Log'!$D$9:$D$1008)","v":{"$error":"#N/A"}},{"$f":"INDEX($B$23:$B$320,MATCH(ROWS($B$23:B99),COUNTIF($B$23:$B$320,\"<=\"&$B$23:$B$320),0))","v":{"$error":"#N/A"}},{"$f":"COUNTIFS('2. Staff Training Log'!$D$9:$D$1008,C99,'2. Staff Training Log'!$BX$9:$BX$1008,1)","v":0},{"$f":"COUNTIFS('2. Staff Training Log'!$D$9:$D$1008,'3. Training Progress'!C99,'2. Staff Training Log'!$BY$9:$BY$1008,1)","v":0}]
[null,{"$f":"LOOKUP(2, 1/((COUNTIF($B$22:B99, '2. Staff Training Log'!$D$9:$D$1008)=0)*('2. Staff Training Log'!$D$9:$D$1008<>\"\")), '2. Staff Training Log'!$D$9:$D$1008)","v":{"$error":"#N/A"}},{"$f":"INDEX($B$23:$B$320,MATCH(ROWS($B$23:B100),COUNTIF($B$23:$B$320,\"<=\"&$B$23:$B$320),0))","v":{"$error":"#N/A"}},{"$f":"COUNTIFS('2. Staff Training Log'!$D$9:$D$1008,C100,'2. Staff Training Log'!$BX$9:$BX$1008,1)","v":0},{"$f":"COUNTIFS('2. Staff Training Log'!$D$9:$D$1008,'3. Training Progress'!C100,'2. Staff Training Log'!$BY$9:$BY$1008,1)","v":0}]
[null,{"$f":"LOOKUP(2, 1/((COUNTIF($B$22:B100, '2. Staff Training Log'!$D$9:$D$1008)=0)*('2. Staff Training Log'!$D$9:$D$1008<>\"\")), '2. Staff Training Log'!$D$9:$D$1008)","v":{"$error":"#N/A"}},{"$f":"INDEX($B$23:$B$320,MATCH(ROWS($B$23:B101),COUNTIF($B$23:$B$320,\"<=\"&$B$23:$B$320),0))","v":{"$error":"#N/A"}},{"$f":"COUNTIFS('2. Staff Training Log'!$D$9:$D$1008,C101,'2. Staff Training Log'!$BX$9:$BX$1008,1)","v":0},{"$f":"COUNTIFS('2. Staff Training Log'!$D$9:$D$1008,'3. Training Progress'!C101,'2. Staff Training Log'!$BY$9:$BY$1008,1)","v":0}]
[null,{"$f":"LOOKUP(2, 1/((COUNTIF($B$22:B101, '2. Staff Training Log'!$D$9:$D$1008)=0)*('2. Staff Training Log'!$D$9:$D$1008<>\"\")), '2. Staff Training Log'!$D$9:$D$1008)","v":{"$error":"#N/A"}},{"$f":"INDEX($B$23:$B$320,MATCH(ROWS($B$23:B102),COUNTIF($B$23:$B$320,\"<=\"&$B$23:$B$320),0))","v":{"$error":"#N/A"}},{"$f":"COUNTIFS('2. Staff Training Log'!$D$9:$D$1008,C102,'2. Staff Training Log'!$BX$9:$BX$1008,1)","v":0},{"$f":"COUNTIFS('2. Staff Training Log'!$D$9:$D$1008,'3. Training Progress'!C102,'2. Staff Training Log'!$BY$9:$BY$1008,1)","v":0}]
[null,{"$f":"LOOKUP(2, 1/((COUNTIF($B$22:B102, '2. Staff Training Log'!$D$9:$D$1008)=0)*('2. Staff Training Log'!$D$9:$D$1008<>\"\")), '2. Staff Training Log'!$D$9:$D$1008)","v":{"$error":"#N/A"}},{"$f":"INDEX($B$23:$B$320,MATCH(ROWS($B$23:B103),COUNTIF($B$23:$B$320,\"<=\"&$B$23:$B$320),0))","v":{"$error":"#N/A"}},{"$f":"COUNTIFS('2. Staff Training Log'!$D$9:$D$1008,C103,'2. Staff Training Log'!$BX$9:$BX$1008,1)","v":0},{"$f":"COUNTIFS('2. Staff Training Log'!$D$9:$D$1008,'3. Training Progress'!C103,'2. Staff Training Log'!$BY$9:$BY$1008,1)","v":0}]
[null,{"$f":"LOOKUP(2, 1/((COUNTIF($B$22:B103, '2. Staff Training Log'!$D$9:$D$1008)=0)*('2. Staff Training Log'!$D$9:$D$1008<>\"\")), '2. Staff Training Log'!$D$9:$D$1008)","v":{"$error":"#N/A"}},{"$f":"INDEX($B$23:$B$320,MATCH(ROWS($B$23:B104),COUNTIF($B$23:$B$320,\"<=\"&$B$23:$B$320),0))","v":{"$error":"#N/A"}},{"$f":"COUNTIFS('2. Staff Training Log'!$D$9:$D$1008,C104,'2. Staff Training Log'!$BX$9:$BX$1008,1)","v":0},{"$f":"COUNTIFS('2. Staff Training Log'!$D$9:$D$1008,'3. Training Progress'!C104,'2. Staff Training Log'!$BY$9:$BY$1008,1)","v":0}]
[null,{"$f":"LOOKUP(2, 1/((COUNTIF($B$22:B104, '2. Staff Training Log'!$D$9:$D$1008)=0)*('2. Staff Training Log'!$D$9:$D$1008<>\"\")), '2. Staff Training Log'!$D$9:$D$1008)","v":{"$error":"#N/A"}},{"$f":"INDEX($B$23:$B$320,MATCH(ROWS($B$23:B105),COUNTIF($B$23:$B$320,\"<=\"&$B$23:$B$320),0))","v":{"$error":"#N/A"}},{"$f":"COUNTIFS('2. Staff Training Log'!$D$9:$D$1008,C105,'2. Staff Training Log'!$BX$9:$BX$1008,1)","v":0},{"$f":"COUNTIFS('2. Staff Training Log'!$D$9:$D$1008,'3. Training Progress'!C105,'2. Staff Training Log'!$BY$9:$BY$1008,1)","v":0}]
[null,{"$f":"LOOKUP(2, 1/((COUNTIF($B$22:B105, '2. Staff Training Log'!$D$9:$D$1008)=0)*('2. Staff Training Log'!$D$9:$D$1008<>\"\")), '2. Staff Training Log'!$D$9:$D$1008)","v":{"$error":"#N/A"}},{"$f":"INDEX($B$23:$B$320,MATCH(ROWS($B$23:B106),COUNTIF($B$23:$B$320,\"<=\"&$B$23:$B$320),0))","v":{"$error":"#N/A"}},{"$f":"COUNTIFS('2. Staff Training Log'!$D$9:$D$1008,C106,'2. Staff Training Log'!$BX$9:$BX$1008,1)","v":0},{"$f":"COUNTIFS('2. Staff Training Log'!$D$9:$D$1008,'3. Training Progress'!C106,'2. Staff Training Log'!$BY$9:$BY$1008,1)","v":0}]
[null,{"$f":"LOOKUP(2, 1/((COUNTIF($B$22:B106, '2. Staff Training Log'!$D$9:$D$1008)=0)*('2. Staff Training Log'!$D$9:$D$1008<>\"\")), '2. Staff Training Log'!$D$9:$D$1008)","v":{"$error":"#N/A"}},{"$f":"INDEX($B$23:$B$320,MATCH(ROWS($B$23:B107),COUNTIF($B$23:$B$320,\"<=\"&$B$23:$B$320),0))","v":{"$error":"#N/A"}},{"$f":"COUNTIFS('2. Staff Training Log'!$D$9:$D$1008,C107,'2. Staff Training Log'!$BX$9:$BX$1008,1)","v":0},{"$f":"COUNTIFS('2. Staff Training Log'!$D$9:$D$1008,'3. Training Progress'!C107,'2. Staff Training Log'!$BY$9:$BY$1008,1)","v":0}]
[null,{"$f":"LOOKUP(2, 1/((COUNTIF($B$22:B107, '2. Staff Training Log'!$D$9:$D$1008)=0)*('2. Staff Training Log'!$D$9:$D$1008<>\"\")), '2. Staff Training Log'!$D$9:$D$1008)","v":{"$error":"#N/A"}},{"$f":"INDEX($B$23:$B$320,MATCH(ROWS($B$23:B108),COUNTIF($B$23:$B$320,\"<=\"&$B$23:$B$320),0))","v":{"$error":"#N/A"}},{"$f":"COUNTIFS('2. Staff Training Log'!$D$9:$D$1008,C108,'2. Staff Training Log'!$BX$9:$BX$1008,1)","v":0},{"$f":"COUNTIFS('2. Staff Training Log'!$D$9:$D$1008,'3. Training Progress'!C108,'2. Staff Training Log'!$BY$9:$BY$1008,1)","v":0}]
[null,{"$f":"LOOKUP(2, 1/((COUNTIF($B$22:B108, '2. Staff Training Log'!$D$9:$D$1008)=0)*('2. Staff Training Log'!$D$9:$D$1008<>\"\")), '2. Staff Training Log'!$D$9:$D$1008)","v":{"$error":"#N/A"}},{"$f":"INDEX($B$23:$B$320,MATCH(ROWS($B$23:B109),COUNTIF($B$23:$B$320,\"<=\"&$B$23:$B$320),0))","v":{"$error":"#N/A"}},{"$f":"COUNTIFS('2. Staff Training Log'!$D$9:$D$1008,C109,'2. Staff Training Log'!$BX$9:$BX$1008,1)","v":0},{"$f":"COUNTIFS('2. Staff Training Log'!$D$9:$D$1008,'3. Training Progress'!C109,'2. Staff Training Log'!$BY$9:$BY$1008,1)","v":0}]
[null,{"$f":"LOOKUP(2, 1/((COUNTIF($B$22:B109, '2. Staff Training Log'!$D$9:$D$1008)=0)*('2. Staff Training Log'!$D$9:$D$1008<>\"\")), '2. Staff Training Log'!$D$9:$D$1008)","v":{"$error":"#N/A"}},{"$f":"INDEX($B$23:$B$320,MATCH(ROWS($B$23:B110),COUNTIF($B$23:$B$320,\"<=\"&$B$23:$B$320),0))","v":{"$error":"#N/A"}},{"$f":"COUNTIFS('2. Staff Training Log'!$D$9:$D$1008,C110,'2. Staff Training Log'!$BX$9:$BX$1008,1)","v":0},{"$f":"COUNTIFS('2. Staff Training Log'!$D$9:$D$1008,'3. Training Progress'!C110,'2. Staff Training Log'!$BY$9:$BY$1008,1)","v":0}]
[null,{"$f":"LOOKUP(2, 1/((COUNTIF($B$22:B110, '2. Staff Training Log'!$D$9:$D$1008)=0)*('2. Staff Training Log'!$D$9:$D$1008<>\"\")), '2. Staff Training Log'!$D$9:$D$1008)","v":{"$error":"#N/A"}},{"$f":"INDEX($B$23:$B$320,MATCH(ROWS($B$23:B111),COUNTIF($B$23:$B$320,\"<=\"&$B$23:$B$320),0))","v":{"$error":"#N/A"}},{"$f":"COUNTIFS('2. Staff Training Log'!$D$9:$D$1008,C111,'2. Staff Training Log'!$BX$9:$BX$1008,1)","v":0},{"$f":"COUNTIFS('2. Staff Training Log'!$D$9:$D$1008,'3. Training Progress'!C111,'2. Staff Training Log'!$BY$9:$BY$1008,1)","v":0}]
[null,{"$f":"LOOKUP(2, 1/((COUNTIF($B$22:B111, '2. Staff Training Log'!$D$9:$D$1008)=0)*('2. Staff Training Log'!$D$9:$D$1008<>\"\")), '2. Staff Training Log'!$D$9:$D$1008)","v":{"$error":"#N/A"}},{"$f":"INDEX($B$23:$B$320,MATCH(ROWS($B$23:B112),COUNTIF($B$23:$B$320,\"<=\"&$B$23:$B$320),0))","v":{"$error":"#N/A"}},{"$f":"COUNTIFS('2. Staff Training Log'!$D$9:$D$1008,C112,'2. Staff Training Log'!$BX$9:$BX$1008,1)","v":0},{"$f":"COUNTIFS('2. Staff Training Log'!$D$9:$D$1008,'3. Training Progress'!C112,'2. Staff Training Log'!$BY$9:$BY$1008,1)","v":0}]
[null,{"$f":"LOOKUP(2, 1/((COUNTIF($B$22:B112, '2. Staff Training Log'!$D$9:$D$1008)=0)*('2. Staff Training Log'!$D$9:$D$1008<>\"\")), '2. Staff Training Log'!$D$9:$D$1008)","v":{"$error":"#N/A"}},{"$f":"INDEX($B$23:$B$320,MATCH(ROWS($B$23:B113),COUNTIF($B$23:$B$320,\"<=\"&$B$23:$B$320),0))","v":{"$error":"#N/A"}},{"$f":"COUNTIFS('2. Staff Training Log'!$D$9:$D$1008,C113,'2. Staff Training Log'!$BX$9:$BX$1008,1)","v":0},{"$f":"COUNTIFS('2. Staff Training Log'!$D$9:$D$1008,'3. Training Progress'!C113,'2. Staff Training Log'!$BY$9:$BY$1008,1)","v":0}]
[null,{"$f":"LOOKUP(2, 1/((COUNTIF($B$22:B113, '2. Staff Training Log'!$D$9:$D$1008)=0)*('2. Staff Training Log'!$D$9:$D$1008<>\"\")), '2. Staff Training Log'!$D$9:$D$1008)","v":{"$error":"#N/A"}},{"$f":"INDEX($B$23:$B$320,MATCH(ROWS($B$23:B114),COUNTIF($B$23:$B$320,\"<=\"&$B$23:$B$320),0))","v":{"$error":"#N/A"}},{"$f":"COUNTIFS('2. Staff Training Log'!$D$9:$D$1008,C114,'2. Staff Training Log'!$BX$9:$BX$1008,1)","v":0},{"$f":"COUNTIFS('2. Staff Training Log'!$D$9:$D$1008,'3. Training Progress'!C114,'2. Staff Training Log'!$BY$9:$BY$1008,1)","v":0}]
[null,{"$f":"LOOKUP(2, 1/((COUNTIF($B$22:B114, '2. Staff Training Log'!$D$9:$D$1008)=0)*('2. Staff Training Log'!$D$9:$D$1008<>\"\")), '2. Staff Training Log'!$D$9:$D$1008)","v":{"$error":"#N/A"}},{"$f":"INDEX($B$23:$B$320,MATCH(ROWS($B$23:B115),COUNTIF($B$23:$B$320,\"<=\"&$B$23:$B$320),0))","v":{"$error":"#N/A"}},{"$f":"COUNTIFS('2. Staff Training Log'!$D$9:$D$1008,C115,'2. Staff Training Log'!$BX$9:$BX$1008,1)","v":0},{"$f":"COUNTIFS('2. Staff Training Log'!$D$9:$D$1008,'3. Training Progress'!C115,'2. Staff Training Log'!$BY$9:$BY$1008,1)","v":0}]
[null,{"$f":"LOOKUP(2, 1/((COUNTIF($B$22:B115, '2. Staff Training Log'!$D$9:$D$1008)=0)*('2. Staff Training Log'!$D$9:$D$1008<>\"\")), '2. Staff Training Log'!$D$9:$D$1008)","v":{"$error":"#N/A"}},{"$f":"INDEX($B$23:$B$320,MATCH(ROWS($B$23:B116),COUNTIF($B$23:$B$320,\"<=\"&$B$23:$B$320),0))","v":{"$error":"#N/A"}},{"$f":"COUNTIFS('2. Staff Training Log'!$D$9:$D$1008,C116,'2. Staff Training Log'!$BX$9:$BX$1008,1)","v":0},{"$f":"COUNTIFS('2. Staff Training Log'!$D$9:$D$1008,'3. Training Progress'!C116,'2. Staff Training Log'!$BY$9:$BY$1008,1)","v":0}]
[null,{"$f":"LOOKUP(2, 1/((COUNTIF($B$22:B116, '2. Staff Training Log'!$D$9:$D$1008)=0)*('2. Staff Training Log'!$D$9:$D$1008<>\"\")), '2. Staff Training Log'!$D$9:$D$1008)","v":{"$error":"#N/A"}},{"$f":"INDEX($B$23:$B$320,MATCH(ROWS($B$23:B117),COUNTIF($B$23:$B$320,\"<=\"&$B$23:$B$320),0))","v":{"$error":"#N/A"}},{"$f":"COUNTIFS('2. Staff Training Log'!$D$9:$D$1008,C117,'2. Staff Training Log'!$BX$9:$BX$1008,1)","v":0},{"$f":"COUNTIFS('2. Staff Training Log'!$D$9:$D$1008,'3. Training Progress'!C117,'2. Staff Training Log'!$BY$9:$BY$1008,1)","v":0}]
[null,{"$f":"LOOKUP(2, 1/((COUNTIF($B$22:B117, '2. Staff Training Log'!$D$9:$D$1008)=0)*('2. Staff Training Log'!$D$9:$D$1008<>\"\")), '2. Staff Training Log'!$D$9:$D$1008)","v":{"$error":"#N/A"}},{"$f":"INDEX($B$23:$B$320,MATCH(ROWS($B$23:B118),COUNTIF($B$23:$B$320,\"<=\"&$B$23:$B$320),0))","v":{"$error":"#N/A"}},{"$f":"COUNTIFS('2. Staff Training Log'!$D$9:$D$1008,C118,'2. Staff Training Log'!$BX$9:$BX$1008,1)","v":0},{"$f":"COUNTIFS('2. Staff Training Log'!$D$9:$D$1008,'3. Training Progress'!C118,'2. Staff Training Log'!$BY$9:$BY$1008,1)","v":0}]
[null,{"$f":"LOOKUP(2, 1/((COUNTIF($B$22:B118, '2. Staff Training Log'!$D$9:$D$1008)=0)*('2. Staff Training Log'!$D$9:$D$1008<>\"\")), '2. Staff Training Log'!$D$9:$D$1008)","v":{"$error":"#N/A"}},{"$f":"INDEX($B$23:$B$320,MATCH(ROWS($B$23:B119),COUNTIF($B$23:$B$320,\"<=\"&$B$23:$B$320),0))","v":{"$error":"#N/A"}},{"$f":"COUNTIFS('2. Staff Training Log'!$D$9:$D$1008,C119,'2. Staff Training Log'!$BX$9:$BX$1008,1)","v":0},{"$f":"COUNTIFS('2. Staff Training Log'!$D$9:$D$1008,'3. Training Progress'!C119,'2. Staff Training Log'!$BY$9:$BY$1008,1)","v":0}]
[null,{"$f":"LOOKUP(2, 1/((COUNTIF($B$22:B119, '2. Staff Training Log'!$D$9:$D$1008)=0)*('2. Staff Training Log'!$D$9:$D$1008<>\"\")), '2. Staff Training Log'!$D$9:$D$1008)","v":{"$error":"#N/A"}},{"$f":"INDEX($B$23:$B$320,MATCH(ROWS($B$23:B120),COUNTIF($B$23:$B$320,\"<=\"&$B$23:$B$320),0))","v":{"$error":"#N/A"}},{"$f":"COUNTIFS('2. Staff Training Log'!$D$9:$D$1008,C120,'2. Staff Training Log'!$BX$9:$BX$1008,1)","v":0},{"$f":"COUNTIFS('2. Staff Training Log'!$D$9:$D$1008,'3. Training Progress'!C120,'2. Staff Training Log'!$BY$9:$BY$1008,1)","v":0}]
[null,{"$f":"LOOKUP(2, 1/((COUNTIF($B$22:B120, '2. Staff Training Log'!$D$9:$D$1008)=0)*('2. Staff Training Log'!$D$9:$D$1008<>\"\")), '2. Staff Training Log'!$D$9:$D$1008)","v":{"$error":"#N/A"}},{"$f":"INDEX($B$23:$B$320,MATCH(ROWS($B$23:B121),COUNTIF($B$23:$B$320,\"<=\"&$B$23:$B$320),0))","v":{"$error":"#N/A"}},{"$f":"COUNTIFS('2. Staff Training Log'!$D$9:$D$1008,C121,'2. Staff Training Log'!$BX$9:$BX$1008,1)","v":0},{"$f":"COUNTIFS('2. Staff Training Log'!$D$9:$D$1008,'3. Training Progress'!C121,'2. Staff Training Log'!$BY$9:$BY$1008,1)","v":0}]
[null,{"$f":"LOOKUP(2, 1/((COUNTIF($B$22:B121, '2. Staff Training Log'!$D$9:$D$1008)=0)*('2. Staff Training Log'!$D$9:$D$1008<>\"\")), '2. Staff Training Log'!$D$9:$D$1008)","v":{"$error":"#N/A"}},{"$f":"INDEX($B$23:$B$320,MATCH(ROWS($B$23:B122),COUNTIF($B$23:$B$320,\"<=\"&$B$23:$B$320),0))","v":{"$error":"#N/A"}},{"$f":"COUNTIFS('2. Staff Training Log'!$D$9:$D$1008,C122,'2. Staff Training Log'!$BX$9:$BX$1008,1)","v":0},{"$f":"COUNTIFS('2. Staff Training Log'!$D$9:$D$1008,'3. Training Progress'!C122,'2. Staff Training Log'!$BY$9:$BY$1008,1)","v":0}]
[null,{"$f":"LOOKUP(2, 1/((COUNTIF($B$22:B122, '2. Staff Training Log'!$D$9:$D$1008)=0)*('2. Staff Training Log'!$D$9:$D$1008<>\"\")), '2. Staff Training Log'!$D$9:$D$1008)","v":{"$error":"#N/A"}},{"$f":"INDEX($B$23:$B$320,MATCH(ROWS($B$23:B123),COUNTIF($B$23:$B$320,\"<=\"&$B$23:$B$320),0))","v":{"$error":"#N/A"}},{"$f":"COUNTIFS('2. Staff Training Log'!$D$9:$D$1008,C123,'2. Staff Training Log'!$BX$9:$BX$1008,1)","v":0},{"$f":"COUNTIFS('2. Staff Training Log'!$D$9:$D$1008,'3. Training Progress'!C123,'2. Staff Training Log'!$BY$9:$BY$1008,1)","v":0}]
[null,{"$f":"LOOKUP(2, 1/((COUNTIF($B$22:B123, '2. Staff Training Log'!$D$9:$D$1008)=0)*('2. Staff Training Log'!$D$9:$D$1008<>\"\")), '2. Staff Training Log'!$D$9:$D$1008)","v":{"$error":"#N/A"}},{"$f":"INDEX($B$23:$B$320,MATCH(ROWS($B$23:B124),COUNTIF($B$23:$B$320,\"<=\"&$B$23:$B$320),0))","v":{"$error":"#N/A"}},{"$f":"COUNTIFS('2. Staff Training Log'!$D$9:$D$1008,C124,'2. Staff Training Log'!$BX$9:$BX$1008,1)","v":0},{"$f":"COUNTIFS('2. Staff Training Log'!$D$9:$D$1008,'3. Training Progress'!C124,'2. Staff Training Log'!$BY$9:$BY$1008,1)","v":0}]
[null,{"$f":"LOOKUP(2, 1/((COUNTIF($B$22:B124, '2. Staff Training Log'!$D$9:$D$1008)=0)*('2. Staff Training Log'!$D$9:$D$1008<>\"\")), '2. Staff Training Log'!$D$9:$D$1008)","v":{"$error":"#N/A"}},{"$f":"INDEX($B$23:$B$320,MATCH(ROWS($B$23:B125),COUNTIF($B$23:$B$320,\"<=\"&$B$23:$B$320),0))","v":{"$error":"#N/A"}},{"$f":"COUNTIFS('2. Staff Training Log'!$D$9:$D$1008,C125,'2. Staff Training Log'!$BX$9:$BX$1008,1)","v":0},{"$f":"COUNTIFS('2. Staff Training Log'!$D$9:$D$1008,'3. Training Progress'!C125,'2. Staff Training Log'!$BY$9:$BY$1008,1)","v":0}]
[null,{"$f":"LOOKUP(2, 1/((COUNTIF($B$22:B125, '2. Staff Training Log'!$D$9:$D$1008)=0)*('2. Staff Training Log'!$D$9:$D$1008<>\"\")), '2. Staff Training Log'!$D$9:$D$1008)","v":{"$error":"#N/A"}},{"$f":"INDEX($B$23:$B$320,MATCH(ROWS($B$23:B126),COUNTIF($B$23:$B$320,\"<=\"&$B$23:$B$320),0))","v":{"$error":"#N/A"}},{"$f":"COUNTIFS('2. Staff Training Log'!$D$9:$D$1008,C126,'2. Staff Training Log'!$BX$9:$BX$1008,1)","v":0},{"$f":"COUNTIFS('2. Staff Training Log'!$D$9:$D$1008,'3. Training Progress'!C126,'2. Staff Training Log'!$BY$9:$BY$1008,1)","v":0}]
[null,{"$f":"LOOKUP(2, 1/((COUNTIF($B$22:B126, '2. Staff Training Log'!$D$9:$D$1008)=0)*('2. Staff Training Log'!$D$9:$D$1008<>\"\")), '2. Staff Training Log'!$D$9:$D$1008)","v":{"$error":"#N/A"}},{"$f":"INDEX($B$23:$B$320,MATCH(ROWS($B$23:B127),COUNTIF($B$23:$B$320,\"<=\"&$B$23:$B$320),0))","v":{"$error":"#N/A"}},{"$f":"COUNTIFS('2. Staff Training Log'!$D$9:$D$1008,C127,'2. Staff Training Log'!$BX$9:$BX$1008,1)","v":0},{"$f":"COUNTIFS('2. Staff Training Log'!$D$9:$D$1008,'3. Training Progress'!C127,'2. Staff Training Log'!$BY$9:$BY$1008,1)","v":0}]
[null,{"$f":"LOOKUP(2, 1/((COUNTIF($B$22:B127, '2. Staff Training Log'!$D$9:$D$1008)=0)*('2. Staff Training Log'!$D$9:$D$1008<>\"\")), '2. Staff Training Log'!$D$9:$D$1008)","v":{"$error":"#N/A"}},{"$f":"INDEX($B$23:$B$320,MATCH(ROWS($B$23:B128),COUNTIF($B$23:$B$320,\"<=\"&$B$23:$B$320),0))","v":{"$error":"#N/A"}},{"$f":"COUNTIFS('2. Staff Training Log'!$D$9:$D$1008,C128,'2. Staff Training Log'!$BX$9:$BX$1008,1)","v":0},{"$f":"COUNTIFS('2. Staff Training Log'!$D$9:$D$1008,'3. Training Progress'!C128,'2. Staff Training Log'!$BY$9:$BY$1008,1)","v":0}]
[null,{"$f":"LOOKUP(2, 1/((COUNTIF($B$22:B128, '2. Staff Training Log'!$D$9:$D$1008)=0)*('2. Staff Training Log'!$D$9:$D$1008<>\"\")), '2. Staff Training Log'!$D$9:$D$1008)","v":{"$error":"#N/A"}},{"$f":"INDEX($B$23:$B$320,MATCH(ROWS($B$23:B129),COUNTIF($B$23:$B$320,\"<=\"&$B$23:$B$320),0))","v":{"$error":"#N/A"}},{"$f":"COUNTIFS('2. Staff Training Log'!$D$9:$D$1008,C129,'2. Staff Training Log'!$BX$9:$BX$1008,1)","v":0},{"$f":"COUNTIFS('2. Staff Training Log'!$D$9:$D$1008,'3. Training Progress'!C129,'2. Staff Training Log'!$BY$9:$BY$1008,1)","v":0}]
[null,{"$f":"LOOKUP(2, 1/((COUNTIF($B$22:B129, '2. Staff Training Log'!$D$9:$D$1008)=0)*('2. Staff Training Log'!$D$9:$D$1008<>\"\")), '2. Staff Training Log'!$D$9:$D$1008)","v":{"$error":"#N/A"}},{"$f":"INDEX($B$23:$B$320,MATCH(ROWS($B$23:B130),COUNTIF($B$23:$B$320,\"<=\"&$B$23:$B$320),0))","v":{"$error":"#N/A"}},{"$f":"COUNTIFS('2. Staff Training Log'!$D$9:$D$1008,C130,'2. Staff Training Log'!$BX$9:$BX$1008,1)","v":0},{"$f":"COUNTIFS('2. Staff Training Log'!$D$9:$D$1008,'3. Training Progress'!C130,'2. Staff Training Log'!$BY$9:$BY$1008,1)","v":0}]
[null,{"$f":"LOOKUP(2, 1/((COUNTIF($B$22:B130, '2. Staff Training Log'!$D$9:$D$1008)=0)*('2. Staff Training Log'!$D$9:$D$1008<>\"\")), '2. Staff Training Log'!$D$9:$D$1008)","v":{"$error":"#N/A"}},{"$f":"INDEX($B$23:$B$320,MATCH(ROWS($B$23:B131),COUNTIF($B$23:$B$320,\"<=\"&$B$23:$B$320),0))","v":{"$error":"#N/A"}},{"$f":"COUNTIFS('2. Staff Training Log'!$D$9:$D$1008,C131,'2. Staff Training Log'!$BX$9:$BX$1008,1)","v":0},{"$f":"COUNTIFS('2. Staff Training Log'!$D$9:$D$1008,'3. Training Progress'!C131,'2. Staff Training Log'!$BY$9:$BY$1008,1)","v":0}]
[null,{"$f":"LOOKUP(2, 1/((COUNTIF($B$22:B131, '2. Staff Training Log'!$D$9:$D$1008)=0)*('2. Staff Training Log'!$D$9:$D$1008<>\"\")), '2. Staff Training Log'!$D$9:$D$1008)","v":{"$error":"#N/A"}},{"$f":"INDEX($B$23:$B$320,MATCH(ROWS($B$23:B132),COUNTIF($B$23:$B$320,\"<=\"&$B$23:$B$320),0))","v":{"$error":"#N/A"}},{"$f":"COUNTIFS('2. Staff Training Log'!$D$9:$D$1008,C132,'2. Staff Training Log'!$BX$9:$BX$1008,1)","v":0},{"$f":"COUNTIFS('2. Staff Training Log'!$D$9:$D$1008,'3. Training Progress'!C132,'2. Staff Training Log'!$BY$9:$BY$1008,1)","v":0}]
[null,{"$f":"LOOKUP(2, 1/((COUNTIF($B$22:B132, '2. Staff Training Log'!$D$9:$D$1008)=0)*('2. Staff Training Log'!$D$9:$D$1008<>\"\")), '2. Staff Training Log'!$D$9:$D$1008)","v":{"$error":"#N/A"}},{"$f":"INDEX($B$23:$B$320,MATCH(ROWS($B$23:B133),COUNTIF($B$23:$B$320,\"<=\"&$B$23:$B$320),0))","v":{"$error":"#N/A"}},{"$f":"COUNTIFS('2. Staff Training Log'!$D$9:$D$1008,C133,'2. Staff Training Log'!$BX$9:$BX$1008,1)","v":0},{"$f":"COUNTIFS('2. Staff Training Log'!$D$9:$D$1008,'3. Training Progress'!C133,'2. Staff Training Log'!$BY$9:$BY$1008,1)","v":0}]
[null,{"$f":"LOOKUP(2, 1/((COUNTIF($B$22:B133, '2. Staff Training Log'!$D$9:$D$1008)=0)*('2. Staff Training Log'!$D$9:$D$1008<>\"\")), '2. Staff Training Log'!$D$9:$D$1008)","v":{"$error":"#N/A"}},{"$f":"INDEX($B$23:$B$320,MATCH(ROWS($B$23:B134),COUNTIF($B$23:$B$320,\"<=\"&$B$23:$B$320),0))","v":{"$error":"#N/A"}},{"$f":"COUNTIFS('2. Staff Training Log'!$D$9:$D$1008,C134,'2. Staff Training Log'!$BX$9:$BX$1008,1)","v":0},{"$f":"COUNTIFS('2. Staff Training Log'!$D$9:$D$1008,'3. Training Progress'!C134,'2. Staff Training Log'!$BY$9:$BY$1008,1)","v":0}]
[null,{"$f":"LOOKUP(2, 1/((COUNTIF($B$22:B134, '2. Staff Training Log'!$D$9:$D$1008)=0)*('2. Staff Training Log'!$D$9:$D$1008<>\"\")), '2. Staff Training Log'!$D$9:$D$1008)","v":{"$error":"#N/A"}},{"$f":"INDEX($B$23:$B$320,MATCH(ROWS($B$23:B135),COUNTIF($B$23:$B$320,\"<=\"&$B$23:$B$320),0))","v":{"$error":"#N/A"}},{"$f":"COUNTIFS('2. Staff Training Log'!$D$9:$D$1008,C135,'2. Staff Training Log'!$BX$9:$BX$1008,1)","v":0},{"$f":"COUNTIFS('2. Staff Training Log'!$D$9:$D$1008,'3. Training Progress'!C135,'2. Staff Training Log'!$BY$9:$BY$1008,1)","v":0}]
[null,{"$f":"LOOKUP(2, 1/((COUNTIF($B$22:B135, '2. Staff Training Log'!$D$9:$D$1008)=0)*('2. Staff Training Log'!$D$9:$D$1008<>\"\")), '2. Staff Training Log'!$D$9:$D$1008)","v":{"$error":"#N/A"}},{"$f":"INDEX($B$23:$B$320,MATCH(ROWS($B$23:B136),COUNTIF($B$23:$B$320,\"<=\"&$B$23:$B$320),0))","v":{"$error":"#N/A"}},{"$f":"COUNTIFS('2. Staff Training Log'!$D$9:$D$1008,C136,'2. Staff Training Log'!$BX$9:$BX$1008,1)","v":0},{"$f":"COUNTIFS('2. Staff Training Log'!$D$9:$D$1008,'3. Training Progress'!C136,'2. Staff Training Log'!$BY$9:$BY$1008,1)","v":0}]
[null,{"$f":"LOOKUP(2, 1/((COUNTIF($B$22:B136, '2. Staff Training Log'!$D$9:$D$1008)=0)*('2. Staff Training Log'!$D$9:$D$1008<>\"\")), '2. Staff Training Log'!$D$9:$D$1008)","v":{"$error":"#N/A"}},{"$f":"INDEX($B$23:$B$320,MATCH(ROWS($B$23:B137),COUNTIF($B$23:$B$320,\"<=\"&$B$23:$B$320),0))","v":{"$error":"#N/A"}},{"$f":"COUNTIFS('2. Staff Training Log'!$D$9:$D$1008,C137,'2. Staff Training Log'!$BX$9:$BX$1008,1)","v":0},{"$f":"COUNTIFS('2. Staff Training Log'!$D$9:$D$1008,'3. Training Progress'!C137,'2. Staff Training Log'!$BY$9:$BY$1008,1)","v":0}]
[null,{"$f":"LOOKUP(2, 1/((COUNTIF($B$22:B137, '2. Staff Training Log'!$D$9:$D$1008)=0)*('2. Staff Training Log'!$D$9:$D$1008<>\"\")), '2. Staff Training Log'!$D$9:$D$1008)","v":{"$error":"#N/A"}},{"$f":"INDEX($B$23:$B$320,MATCH(ROWS($B$23:B138),COUNTIF($B$23:$B$320,\"<=\"&$B$23:$B$320),0))","v":{"$error":"#N/A"}},{"$f":"COUNTIFS('2. Staff Training Log'!$D$9:$D$1008,C138,'2. Staff Training Log'!$BX$9:$BX$1008,1)","v":0},{"$f":"COUNTIFS('2. Staff Training Log'!$D$9:$D$1008,'3. Training Progress'!C138,'2. Staff Training Log'!$BY$9:$BY$1008,1)","v":0}]
[null,{"$f":"LOOKUP(2, 1/((COUNTIF($B$22:B138, '2. Staff Training Log'!$D$9:$D$1008)=0)*('2. Staff Training Log'!$D$9:$D$1008<>\"\")), '2. Staff Training Log'!$D$9:$D$1008)","v":{"$error":"#N/A"}},{"$f":"INDEX($B$23:$B$320,MATCH(ROWS($B$23:B139),COUNTIF($B$23:$B$320,\"<=\"&$B$23:$B$320),0))","v":{"$error":"#N/A"}},{"$f":"COUNTIFS('2. Staff Training Log'!$D$9:$D$1008,C139,'2. Staff Training Log'!$BX$9:$BX$1008,1)","v":0},{"$f":"COUNTIFS('2. Staff Training Log'!$D$9:$D$1008,'3. Training Progress'!C139,'2. Staff Training Log'!$BY$9:$BY$1008,1)","v":0}]
[null,{"$f":"LOOKUP(2, 1/((COUNTIF($B$22:B139, '2. Staff Training Log'!$D$9:$D$1008)=0)*('2. Staff Training Log'!$D$9:$D$1008<>\"\")), '2. Staff Training Log'!$D$9:$D$1008)","v":{"$error":"#N/A"}},{"$f":"INDEX($B$23:$B$320,MATCH(ROWS($B$23:B140),COUNTIF($B$23:$B$320,\"<=\"&$B$23:$B$320),0))","v":{"$error":"#N/A"}},{"$f":"COUNTIFS('2. Staff Training Log'!$D$9:$D$1008,C140,'2. Staff Training Log'!$BX$9:$BX$1008,1)","v":0},{"$f":"COUNTIFS('2. Staff Training Log'!$D$9:$D$1008,'3. Training Progress'!C140,'2. Staff Training Log'!$BY$9:$BY$1008,1)","v":0}]
[null,{"$f":"LOOKUP(2, 1/((COUNTIF($B$22:B140, '2. Staff Training Log'!$D$9:$D$1008)=0)*('2. Staff Training Log'!$D$9:$D$1008<>\"\")), '2. Staff Training Log'!$D$9:$D$1008)","v":{"$error":"#N/A"}},{"$f":"INDEX($B$23:$B$320,MATCH(ROWS($B$23:B141),COUNTIF($B$23:$B$320,\"<=\"&$B$23:$B$320),0))","v":{"$error":"#N/A"}},{"$f":"COUNTIFS('2. Staff Training Log'!$D$9:$D$1008,C141,'2. Staff Training Log'!$BX$9:$BX$1008,1)","v":0},{"$f":"COUNTIFS('2. Staff Training Log'!$D$9:$D$1008,'3. Training Progress'!C141,'2. Staff Training Log'!$BY$9:$BY$1008,1)","v":0}]
[null,{"$f":"LOOKUP(2, 1/((COUNTIF($B$22:B141, '2. Staff Training Log'!$D$9:$D$1008)=0)*('2. Staff Training Log'!$D$9:$D$1008<>\"\")), '2. Staff Training Log'!$D$9:$D$1008)","v":{"$error":"#N/A"}},{"$f":"INDEX($B$23:$B$320,MATCH(ROWS($B$23:B142),COUNTIF($B$23:$B$320,\"<=\"&$B$23:$B$320),0))","v":{"$error":"#N/A"}},{"$f":"COUNTIFS('2. Staff Training Log'!$D$9:$D$1008,C142,'2. Staff Training Log'!$BX$9:$BX$1008,1)","v":0},{"$f":"COUNTIFS('2. Staff Training Log'!$D$9:$D$1008,'3. Training Progress'!C142,'2. Staff Training Log'!$BY$9:$BY$1008,1)","v":0}]
[null,{"$f":"LOOKUP(2, 1/((COUNTIF($B$22:B142, '2. Staff Training Log'!$D$9:$D$1008)=0)*('2. Staff Training Log'!$D$9:$D$1008<>\"\")), '2. Staff Training Log'!$D$9:$D$1008)","v":{"$error":"#N/A"}},{"$f":"INDEX($B$23:$B$320,MATCH(ROWS($B$23:B143),COUNTIF($B$23:$B$320,\"<=\"&$B$23:$B$320),0))","v":{"$error":"#N/A"}},{"$f":"COUNTIFS('2. Staff Training Log'!$D$9:$D$1008,C143,'2. Staff Training Log'!$BX$9:$BX$1008,1)","v":0},{"$f":"COUNTIFS('2. Staff Training Log'!$D$9:$D$1008,'3. Training Progress'!C143,'2. Staff Training Log'!$BY$9:$BY$1008,1)","v":0}]
[null,{"$f":"LOOKUP(2, 1/((COUNTIF($B$22:B143, '2. Staff Training Log'!$D$9:$D$1008)=0)*('2. Staff Training Log'!$D$9:$D$1008<>\"\")), '2. Staff Training Log'!$D$9:$D$1008)","v":{"$error":"#N/A"}},{"$f":"INDEX($B$23:$B$320,MATCH(ROWS($B$23:B144),COUNTIF($B$23:$B$320,\"<=\"&$B$23:$B$320),0))","v":{"$error":"#N/A"}},{"$f":"COUNTIFS('2. Staff Training Log'!$D$9:$D$1008,C144,'2. Staff Training Log'!$BX$9:$BX$1008,1)","v":0},{"$f":"COUNTIFS('2. Staff Training Log'!$D$9:$D$1008,'3. Training Progress'!C144,'2. Staff Training Log'!$BY$9:$BY$1008,1)","v":0}]
[null,{"$f":"LOOKUP(2, 1/((COUNTIF($B$22:B144, '2. Staff Training Log'!$D$9:$D$1008)=0)*('2. Staff Training Log'!$D$9:$D$1008<>\"\")), '2. Staff Training Log'!$D$9:$D$1008)","v":{"$error":"#N/A"}},{"$f":"INDEX($B$23:$B$320,MATCH(ROWS($B$23:B145),COUNTIF($B$23:$B$320,\"<=\"&$B$23:$B$320),0))","v":{"$error":"#N/A"}},{"$f":"COUNTIFS('2. Staff Training Log'!$D$9:$D$1008,C145,'2. Staff Training Log'!$BX$9:$BX$1008,1)","v":0},{"$f":"COUNTIFS('2. Staff Training Log'!$D$9:$D$1008,'3. Training Progress'!C145,'2. Staff Training Log'!$BY$9:$BY$1008,1)","v":0}]
[null,{"$f":"LOOKUP(2, 1/((COUNTIF($B$22:B145, '2. Staff Training Log'!$D$9:$D$1008)=0)*('2. Staff Training Log'!$D$9:$D$1008<>\"\")), '2. Staff Training Log'!$D$9:$D$1008)","v":{"$error":"#N/A"}},{"$f":"INDEX($B$23:$B$320,MATCH(ROWS($B$23:B146),COUNTIF($B$23:$B$320,\"<=\"&$B$23:$B$320),0))","v":{"$error":"#N/A"}},{"$f":"COUNTIFS('2. Staff Training Log'!$D$9:$D$1008,C146,'2. Staff Training Log'!$BX$9:$BX$1008,1)","v":0},{"$f":"COUNTIFS('2. Staff Training Log'!$D$9:$D$1008,'3. Training Progress'!C146,'2. Staff Training Log'!$BY$9:$BY$1008,1)","v":0}]
[null,{"$f":"LOOKUP(2, 1/((COUNTIF($B$22:B146, '2. Staff Training Log'!$D$9:$D$1008)=0)*('2. Staff Training Log'!$D$9:$D$1008<>\"\")), '2. Staff Training Log'!$D$9:$D$1008)","v":{"$error":"#N/A"}},{"$f":"INDEX($B$23:$B$320,MATCH(ROWS($B$23:B147),COUNTIF($B$23:$B$320,\"<=\"&$B$23:$B$320),0))","v":{"$error":"#N/A"}},{"$f":"COUNTIFS('2. Staff Training Log'!$D$9:$D$1008,C147,'2. Staff Training Log'!$BX$9:$BX$1008,1)","v":0},{"$f":"COUNTIFS('2. Staff Training Log'!$D$9:$D$1008,'3. Training Progress'!C147,'2. Staff Training Log'!$BY$9:$BY$1008,1)","v":0}]
[null,{"$f":"LOOKUP(2, 1/((COUNTIF($B$22:B147, '2. Staff Training Log'!$D$9:$D$1008)=0)*('2. Staff Training Log'!$D$9:$D$1008<>\"\")), '2. Staff Training Log'!$D$9:$D$1008)","v":{"$error":"#N/A"}},{"$f":"INDEX($B$23:$B$320,MATCH(ROWS($B$23:B148),COUNTIF($B$23:$B$320,\"<=\"&$B$23:$B$320),0))","v":{"$error":"#N/A"}},{"$f":"COUNTIFS('2. Staff Training Log'!$D$9:$D$1008,C148,'2. Staff Training Log'!$BX$9:$BX$1008,1)","v":0},{"$f":"COUNTIFS('2. Staff Training Log'!$D$9:$D$1008,'3. Training Progress'!C148,'2. Staff Training Log'!$BY$9:$BY$1008,1)","v":0}]
[null,{"$f":"LOOKUP(2, 1/((COUNTIF($B$22:B148, '2. Staff Training Log'!$D$9:$D$1008)=0)*('2. Staff Training Log'!$D$9:$D$1008<>\"\")), '2. Staff Training Log'!$D$9:$D$1008)","v":{"$error":"#N/A"}},{"$f":"INDEX($B$23:$B$320,MATCH(ROWS($B$23:B149),COUNTIF($B$23:$B$320,\"<=\"&$B$23:$B$320),0))","v":{"$error":"#N/A"}},{"$f":"COUNTIFS('2. Staff Training Log'!$D$9:$D$1008,C149,'2. Staff Training Log'!$BX$9:$BX$1008,1)","v":0},{"$f":"COUNTIFS('2. Staff Training Log'!$D$9:$D$1008,'3. Training Progress'!C149,'2. Staff Training Log'!$BY$9:$BY$1008,1)","v":0}]
[null,{"$f":"LOOKUP(2, 1/((COUNTIF($B$22:B149, '2. Staff Training Log'!$D$9:$D$1008)=0)*('2. Staff Training Log'!$D$9:$D$1008<>\"\")), '2. Staff Training Log'!$D$9:$D$1008)","v":{"$error":"#N/A"}},{"$f":"INDEX($B$23:$B$320,MATCH(ROWS($B$23:B150),COUNTIF($B$23:$B$320,\"<=\"&$B$23:$B$320),0))","v":{"$error":"#N/A"}},{"$f":"COUNTIFS('2. Staff Training Log'!$D$9:$D$1008,C150,'2. Staff Training Log'!$BX$9:$BX$1008,1)","v":0},{"$f":"COUNTIFS('2. Staff Training Log'!$D$9:$D$1008,'3. Training Progress'!C150,'2. Staff Training Log'!$BY$9:$BY$1008,1)","v":0}]
[null,{"$f":"LOOKUP(2, 1/((COUNTIF($B$22:B150, '2. Staff Training Log'!$D$9:$D$1008)=0)*('2. Staff Training Log'!$D$9:$D$1008<>\"\")), '2. Staff Training Log'!$D$9:$D$1008)","v":{"$error":"#N/A"}},{"$f":"INDEX($B$23:$B$320,MATCH(ROWS($B$23:B151),COUNTIF($B$23:$B$320,\"<=\"&$B$23:$B$320),0))","v":{"$error":"#N/A"}},{"$f":"COUNTIFS('2. Staff Training Log'!$D$9:$D$1008,C151,'2. Staff Training Log'!$BX$9:$BX$1008,1)","v":0},{"$f":"COUNTIFS('2. Staff Training Log'!$D$9:$D$1008,'3. Training Progress'!C151,'2. Staff Training Log'!$BY$9:$BY$1008,1)","v":0}]
[null,{"$f":"LOOKUP(2, 1/((COUNTIF($B$22:B151, '2. Staff Training Log'!$D$9:$D$1008)=0)*('2. Staff Training Log'!$D$9:$D$1008<>\"\")), '2. Staff Training Log'!$D$9:$D$1008)","v":{"$error":"#N/A"}},{"$f":"INDEX($B$23:$B$320,MATCH(ROWS($B$23:B152),COUNTIF($B$23:$B$320,\"<=\"&$B$23:$B$320),0))","v":{"$error":"#N/A"}},{"$f":"COUNTIFS('2. Staff Training Log'!$D$9:$D$1008,C152,'2. Staff Training Log'!$BX$9:$BX$1008,1)","v":0},{"$f":"COUNTIFS('2. Staff Training Log'!$D$9:$D$1008,'3. Training Progress'!C152,'2. Staff Training Log'!$BY$9:$BY$1008,1)","v":0}]
[null,{"$f":"LOOKUP(2, 1/((COUNTIF($B$22:B152, '2. Staff Training Log'!$D$9:$D$1008)=0)*('2. Staff Training Log'!$D$9:$D$1008<>\"\")), '2. Staff Training Log'!$D$9:$D$1008)","v":{"$error":"#N/A"}},{"$f":"INDEX($B$23:$B$320,MATCH(ROWS($B$23:B153),COUNTIF($B$23:$B$320,\"<=\"&$B$23:$B$320),0))","v":{"$error":"#N/A"}},{"$f":"COUNTIFS('2. Staff Training Log'!$D$9:$D$1008,C153,'2. Staff Training Log'!$BX$9:$BX$1008,1)","v":0},{"$f":"COUNTIFS('2. Staff Training Log'!$D$9:$D$1008,'3. Training Progress'!C153,'2. Staff Training Log'!$BY$9:$BY$1008,1)","v":0}]
[null,{"$f":"LOOKUP(2, 1/((COUNTIF($B$22:B153, '2. Staff Training Log'!$D$9:$D$1008)=0)*('2. Staff Training Log'!$D$9:$D$1008<>\"\")), '2. Staff Training Log'!$D$9:$D$1008)","v":{"$error":"#N/A"}},{"$f":"INDEX($B$23:$B$320,MATCH(ROWS($B$23:B154),COUNTIF($B$23:$B$320,\"<=\"&$B$23:$B$320),0))","v":{"$error":"#N/A"}},{"$f":"COUNTIFS('2. Staff Training Log'!$D$9:$D$1008,C154,'2. Staff Training Log'!$BX$9:$BX$1008,1)","v":0},{"$f":"COUNTIFS('2. Staff Training Log'!$D$9:$D$1008,'3. Training Progress'!C154,'2. Staff Training Log'!$BY$9:$BY$1008,1)","v":0}]
[null,{"$f":"LOOKUP(2, 1/((COUNTIF($B$22:B154, '2. Staff Training Log'!$D$9:$D$1008)=0)*('2. Staff Training Log'!$D$9:$D$1008<>\"\")), '2. Staff Training Log'!$D$9:$D$1008)","v":{"$error":"#N/A"}},{"$f":"INDEX($B$23:$B$320,MATCH(ROWS($B$23:B155),COUNTIF($B$23:$B$320,\"<=\"&$B$23:$B$320),0))","v":{"$error":"#N/A"}},{"$f":"COUNTIFS('2. Staff Training Log'!$D$9:$D$1008,C155,'2. Staff Training Log'!$BX$9:$BX$1008,1)","v":0},{"$f":"COUNTIFS('2. Staff Training Log'!$D$9:$D$1008,'3. Training Progress'!C155,'2. Staff Training Log'!$BY$9:$BY$1008,1)","v":0}]
[null,{"$f":"LOOKUP(2, 1/((COUNTIF($B$22:B155, '2. Staff Training Log'!$D$9:$D$1008)=0)*('2. Staff Training Log'!$D$9:$D$1008<>\"\")), '2. Staff Training Log'!$D$9:$D$1008)","v":{"$error":"#N/A"}},{"$f":"INDEX($B$23:$B$320,MATCH(ROWS($B$23:B156),COUNTIF($B$23:$B$320,\"<=\"&$B$23:$B$320),0))","v":{"$error":"#N/A"}},{"$f":"COUNTIFS('2. Staff Training Log'!$D$9:$D$1008,C156,'2. Staff Training Log'!$BX$9:$BX$1008,1)","v":0},{"$f":"COUNTIFS('2. Staff Training Log'!$D$9:$D$1008,'3. Training Progress'!C156,'2. Staff Training Log'!$BY$9:$BY$1008,1)","v":0}]
[null,{"$f":"LOOKUP(2, 1/((COUNTIF($B$22:B156, '2. Staff Training Log'!$D$9:$D$1008)=0)*('2. Staff Training Log'!$D$9:$D$1008<>\"\")), '2. Staff Training Log'!$D$9:$D$1008)","v":{"$error":"#N/A"}},{"$f":"INDEX($B$23:$B$320,MATCH(ROWS($B$23:B157),COUNTIF($B$23:$B$320,\"<=\"&$B$23:$B$320),0))","v":{"$error":"#N/A"}},{"$f":"COUNTIFS('2. Staff Training Log'!$D$9:$D$1008,C157,'2. Staff Training Log'!$BX$9:$BX$1008,1)","v":0},{"$f":"COUNTIFS('2. Staff Training Log'!$D$9:$D$1008,'3. Training Progress'!C157,'2. Staff Training Log'!$BY$9:$BY$1008,1)","v":0}]
[null,{"$f":"LOOKUP(2, 1/((COUNTIF($B$22:B157, '2. Staff Training Log'!$D$9:$D$1008)=0)*('2. Staff Training Log'!$D$9:$D$1008<>\"\")), '2. Staff Training Log'!$D$9:$D$1008)","v":{"$error":"#N/A"}},{"$f":"INDEX($B$23:$B$320,MATCH(ROWS($B$23:B158),COUNTIF($B$23:$B$320,\"<=\"&$B$23:$B$320),0))","v":{"$error":"#N/A"}},{"$f":"COUNTIFS('2. Staff Training Log'!$D$9:$D$1008,C158,'2. Staff Training Log'!$BX$9:$BX$1008,1)","v":0},{"$f":"COUNTIFS('2. Staff Training Log'!$D$9:$D$1008,'3. Training Progress'!C158,'2. Staff Training Log'!$BY$9:$BY$1008,1)","v":0}]
[null,{"$f":"LOOKUP(2, 1/((COUNTIF($B$22:B158, '2. Staff Training Log'!$D$9:$D$1008)=0)*('2. Staff Training Log'!$D$9:$D$1008<>\"\")), '2. Staff Training Log'!$D$9:$D$1008)","v":{"$error":"#N/A"}},{"$f":"INDEX($B$23:$B$320,MATCH(ROWS($B$23:B159),COUNTIF($B$23:$B$320,\"<=\"&$B$23:$B$320),0))","v":{"$error":"#N/A"}},{"$f":"COUNTIFS('2. Staff Training Log'!$D$9:$D$1008,C159,'2. Staff Training Log'!$BX$9:$BX$1008,1)","v":0},{"$f":"COUNTIFS('2. Staff Training Log'!$D$9:$D$1008,'3. Training Progress'!C159,'2. Staff Training Log'!$BY$9:$BY$1008,1)","v":0}]
[null,{"$f":"LOOKUP(2, 1/((COUNTIF($B$22:B159, '2. Staff Training Log'!$D$9:$D$1008)=0)*('2. Staff Training Log'!$D$9:$D$1008<>\"\")), '2. Staff Training Log'!$D$9:$D$1008)","v":{"$error":"#N/A"}},{"$f":"INDEX($B$23:$B$320,MATCH(ROWS($B$23:B160),COUNTIF($B$23:$B$320,\"<=\"&$B$23:$B$320),0))","v":{"$error":"#N/A"}},{"$f":"COUNTIFS('2. Staff Training Log'!$D$9:$D$1008,C160,'2. Staff Training Log'!$BX$9:$BX$1008,1)","v":0},{"$f":"COUNTIFS('2. Staff Training Log'!$D$9:$D$1008,'3. Training Progress'!C160,'2. Staff Training Log'!$BY$9:$BY$1008,1)","v":0}]
[null,{"$f":"LOOKUP(2, 1/((COUNTIF($B$22:B160, '2. Staff Training Log'!$D$9:$D$1008)=0)*('2. Staff Training Log'!$D$9:$D$1008<>\"\")), '2. Staff Training Log'!$D$9:$D$1008)","v":{"$error":"#N/A"}},{"$f":"INDEX($B$23:$B$320,MATCH(ROWS($B$23:B161),COUNTIF($B$23:$B$320,\"<=\"&$B$23:$B$320),0))","v":{"$error":"#N/A"}},{"$f":"COUNTIFS('2. Staff Training Log'!$D$9:$D$1008,C161,'2. Staff Training Log'!$BX$9:$BX$1008,1)","v":0},{"$f":"COUNTIFS('2. Staff Training Log'!$D$9:$D$1008,'3. Training Progress'!C161,'2. Staff Training Log'!$BY$9:$BY$1008,1)","v":0}]
[null,{"$f":"LOOKUP(2, 1/((COUNTIF($B$22:B161, '2. Staff Training Log'!$D$9:$D$1008)=0)*('2. Staff Training Log'!$D$9:$D$1008<>\"\")), '2. Staff Training Log'!$D$9:$D$1008)","v":{"$error":"#N/A"}},{"$f":"INDEX($B$23:$B$320,MATCH(ROWS($B$23:B162),COUNTIF($B$23:$B$320,\"<=\"&$B$23:$B$320),0))","v":{"$error":"#N/A"}},{"$f":"COUNTIFS('2. Staff Training Log'!$D$9:$D$1008,C162,'2. Staff Training Log'!$BX$9:$BX$1008,1)","v":0},{"$f":"COUNTIFS('2. Staff Training Log'!$D$9:$D$1008,'3. Training Progress'!C162,'2. Staff Training Log'!$BY$9:$BY$1008,1)","v":0}]
[null,{"$f":"LOOKUP(2, 1/((COUNTIF($B$22:B162, '2. Staff Training Log'!$D$9:$D$1008)=0)*('2. Staff Training Log'!$D$9:$D$1008<>\"\")), '2. Staff Training Log'!$D$9:$D$1008)","v":{"$error":"#N/A"}},{"$f":"INDEX($B$23:$B$320,MATCH(ROWS($B$23:B163),COUNTIF($B$23:$B$320,\"<=\"&$B$23:$B$320),0))","v":{"$error":"#N/A"}},{"$f":"COUNTIFS('2. Staff Training Log'!$D$9:$D$1008,C163,'2. Staff Training Log'!$BX$9:$BX$1008,1)","v":0},{"$f":"COUNTIFS('2. Staff Training Log'!$D$9:$D$1008,'3. Training Progress'!C163,'2. Staff Training Log'!$BY$9:$BY$1008,1)","v":0}]
[null,{"$f":"LOOKUP(2, 1/((COUNTIF($B$22:B163, '2. Staff Training Log'!$D$9:$D$1008)=0)*('2. Staff Training Log'!$D$9:$D$1008<>\"\")), '2. Staff Training Log'!$D$9:$D$1008)","v":{"$error":"#N/A"}},{"$f":"INDEX($B$23:$B$320,MATCH(ROWS($B$23:B164),COUNTIF($B$23:$B$320,\"<=\"&$B$23:$B$320),0))","v":{"$error":"#N/A"}},{"$f":"COUNTIFS('2. Staff Training Log'!$D$9:$D$1008,C164,'2. Staff Training Log'!$BX$9:$BX$1008,1)","v":0},{"$f":"COUNTIFS('2. Staff Training Log'!$D$9:$D$1008,'3. Training Progress'!C164,'2. Staff Training Log'!$BY$9:$BY$1008,1)","v":0}]
[null,{"$f":"LOOKUP(2, 1/((COUNTIF($B$22:B164, '2. Staff Training Log'!$D$9:$D$1008)=0)*('2. Staff Training Log'!$D$9:$D$1008<>\"\")), '2. Staff Training Log'!$D$9:$D$1008)","v":{"$error":"#N/A"}},{"$f":"INDEX($B$23:$B$320,MATCH(ROWS($B$23:B165),COUNTIF($B$23:$B$320,\"<=\"&$B$23:$B$320),0))","v":{"$error":"#N/A"}},{"$f":"COUNTIFS('2. Staff Training Log'!$D$9:$D$1008,C165,'2. Staff Training Log'!$BX$9:$BX$1008,1)","v":0},{"$f":"COUNTIFS('2. Staff Training Log'!$D$9:$D$1008,'3. Training Progress'!C165,'2. Staff Training Log'!$BY$9:$BY$1008,1)","v":0}]
[null,{"$f":"LOOKUP(2, 1/((COUNTIF($B$22:B165, '2. Staff Training Log'!$D$9:$D$1008)=0)*('2. Staff Training Log'!$D$9:$D$1008<>\"\")), '2. Staff Training Log'!$D$9:$D$1008)","v":{"$error":"#N/A"}},{"$f":"INDEX($B$23:$B$320,MATCH(ROWS($B$23:B166),COUNTIF($B$23:$B$320,\"<=\"&$B$23:$B$320),0))","v":{"$error":"#N/A"}},{"$f":"COUNTIFS('2. Staff Training Log'!$D$9:$D$1008,C166,'2. Staff Training Log'!$BX$9:$BX$1008,1)","v":0},{"$f":"COUNTIFS('2. Staff Training Log'!$D$9:$D$1008,'3. Training Progress'!C166,'2. Staff Training Log'!$BY$9:$BY$1008,1)","v":0}]
[null,{"$f":"LOOKUP(2, 1/((COUNTIF($B$22:B166, '2. Staff Training Log'!$D$9:$D$1008)=0)*('2. Staff Training Log'!$D$9:$D$1008<>\"\")), '2. Staff Training Log'!$D$9:$D$1008)","v":{"$error":"#N/A"}},{"$f":"INDEX($B$23:$B$320,MATCH(ROWS($B$23:B167),COUNTIF($B$23:$B$320,\"<=\"&$B$23:$B$320),0))","v":{"$error":"#N/A"}},{"$f":"COUNTIFS('2. Staff Training Log'!$D$9:$D$1008,C167,'2. Staff Training Log'!$BX$9:$BX$1008,1)","v":0},{"$f":"COUNTIFS('2. Staff Training Log'!$D$9:$D$1008,'3. Training Progress'!C167,'2. Staff Training Log'!$BY$9:$BY$1008,1)","v":0}]
[null,{"$f":"LOOKUP(2, 1/((COUNTIF($B$22:B167, '2. Staff Training Log'!$D$9:$D$1008)=0)*('2. Staff Training Log'!$D$9:$D$1008<>\"\")), '2. Staff Training Log'!$D$9:$D$1008)","v":{"$error":"#N/A"}},{"$f":"INDEX($B$23:$B$320,MATCH(ROWS($B$23:B168),COUNTIF($B$23:$B$320,\"<=\"&$B$23:$B$320),0))","v":{"$error":"#N/A"}},{"$f":"COUNTIFS('2. Staff Training Log'!$D$9:$D$1008,C168,'2. Staff Training Log'!$BX$9:$BX$1008,1)","v":0},{"$f":"COUNTIFS('2. Staff Training Log'!$D$9:$D$1008,'3. Training Progress'!C168,'2. Staff Training Log'!$BY$9:$BY$1008,1)","v":0}]
[null,{"$f":"LOOKUP(2, 1/((COUNTIF($B$22:B168, '2. Staff Training Log'!$D$9:$D$1008)=0)*('2. Staff Training Log'!$D$9:$D$1008<>\"\")), '2. Staff Training Log'!$D$9:$D$1008)","v":{"$error":"#N/A"}},{"$f":"INDEX($B$23:$B$320,MATCH(ROWS($B$23:B169),COUNTIF($B$23:$B$320,\"<=\"&$B$23:$B$320),0))","v":{"$error":"#N/A"}},{"$f":"COUNTIFS('2. Staff Training Log'!$D$9:$D$1008,C169,'2. Staff Training Log'!$BX$9:$BX$1008,1)","v":0},{"$f":"COUNTIFS('2. Staff Training Log'!$D$9:$D$1008,'3. Training Progress'!C169,'2. Staff Training Log'!$BY$9:$BY$1008,1)","v":0}]
[null,{"$f":"LOOKUP(2, 1/((COUNTIF($B$22:B169, '2. Staff Training Log'!$D$9:$D$1008)=0)*('2. Staff Training Log'!$D$9:$D$1008<>\"\")), '2. Staff Training Log'!$D$9:$D$1008)","v":{"$error":"#N/A"}},{"$f":"INDEX($B$23:$B$320,MATCH(ROWS($B$23:B170),COUNTIF($B$23:$B$320,\"<=\"&$B$23:$B$320),0))","v":{"$error":"#N/A"}},{"$f":"COUNTIFS('2. Staff Training Log'!$D$9:$D$1008,C170,'2. Staff Training Log'!$BX$9:$BX$1008,1)","v":0},{"$f":"COUNTIFS('2. Staff Training Log'!$D$9:$D$1008,'3. Training Progress'!C170,'2. Staff Training Log'!$BY$9:$BY$1008,1)","v":0}]
[null,{"$f":"LOOKUP(2, 1/((COUNTIF($B$22:B170, '2. Staff Training Log'!$D$9:$D$1008)=0)*('2. Staff Training Log'!$D$9:$D$1008<>\"\")), '2. Staff Training Log'!$D$9:$D$1008)","v":{"$error":"#N/A"}},{"$f":"INDEX($B$23:$B$320,MATCH(ROWS($B$23:B171),COUNTIF($B$23:$B$320,\"<=\"&$B$23:$B$320),0))","v":{"$error":"#N/A"}},{"$f":"COUNTIFS('2. Staff Training Log'!$D$9:$D$1008,C171,'2. Staff Training Log'!$BX$9:$BX$1008,1)","v":0},{"$f":"COUNTIFS('2. Staff Training Log'!$D$9:$D$1008,'3. Training Progress'!C171,'2. Staff Training Log'!$BY$9:$BY$1008,1)","v":0}]
[null,{"$f":"LOOKUP(2, 1/((COUNTIF($B$22:B171, '2. Staff Training Log'!$D$9:$D$1008)=0)*('2. Staff Training Log'!$D$9:$D$1008<>\"\")), '2. Staff Training Log'!$D$9:$D$1008)","v":{"$error":"#N/A"}},{"$f":"INDEX($B$23:$B$320,MATCH(ROWS($B$23:B172),COUNTIF($B$23:$B$320,\"<=\"&$B$23:$B$320),0))","v":{"$error":"#N/A"}},{"$f":"COUNTIFS('2. Staff Training Log'!$D$9:$D$1008,C172,'2. Staff Training Log'!$BX$9:$BX$1008,1)","v":0},{"$f":"COUNTIFS('2. Staff Training Log'!$D$9:$D$1008,'3. Training Progress'!C172,'2. Staff Training Log'!$BY$9:$BY$1008,1)","v":0}]
[null,{"$f":"LOOKUP(2, 1/((COUNTIF($B$22:B172, '2. Staff Training Log'!$D$9:$D$1008)=0)*('2. Staff Training Log'!$D$9:$D$1008<>\"\")), '2. Staff Training Log'!$D$9:$D$1008)","v":{"$error":"#N/A"}},{"$f":"INDEX($B$23:$B$320,MATCH(ROWS($B$23:B173),COUNTIF($B$23:$B$320,\"<=\"&$B$23:$B$320),0))","v":{"$error":"#N/A"}},{"$f":"COUNTIFS('2. Staff Training Log'!$D$9:$D$1008,C173,'2. Staff Training Log'!$BX$9:$BX$1008,1)","v":0},{"$f":"COUNTIFS('2. Staff Training Log'!$D$9:$D$1008,'3. Training Progress'!C173,'2. Staff Training Log'!$BY$9:$BY$1008,1)","v":0}]
[null,{"$f":"LOOKUP(2, 1/((COUNTIF($B$22:B173, '2. Staff Training Log'!$D$9:$D$1008)=0)*('2. Staff Training Log'!$D$9:$D$1008<>\"\")), '2. Staff Training Log'!$D$9:$D$1008)","v":{"$error":"#N/A"}},{"$f":"INDEX($B$23:$B$320,MATCH(ROWS($B$23:B174),COUNTIF($B$23:$B$320,\"<=\"&$B$23:$B$320),0))","v":{"$error":"#N/A"}},{"$f":"COUNTIFS('2. Staff Training Log'!$D$9:$D$1008,C174,'2. Staff Training Log'!$BX$9:$BX$1008,1)","v":0},{"$f":"COUNTIFS('2. Staff Training Log'!$D$9:$D$1008,'3. Training Progress'!C174,'2. Staff Training Log'!$BY$9:$BY$1008,1)","v":0}]
[null,{"$f":"LOOKUP(2, 1/((COUNTIF($B$22:B174, '2. Staff Training Log'!$D$9:$D$1008)=0)*('2. Staff Training Log'!$D$9:$D$1008<>\"\")), '2. Staff Training Log'!$D$9:$D$1008)","v":{"$error":"#N/A"}},{"$f":"INDEX($B$23:$B$320,MATCH(ROWS($B$23:B175),COUNTIF($B$23:$B$320,\"<=\"&$B$23:$B$320),0))","v":{"$error":"#N/A"}},{"$f":"COUNTIFS('2. Staff Training Log'!$D$9:$D$1008,C175,'2. Staff Training Log'!$BX$9:$BX$1008,1)","v":0},{"$f":"COUNTIFS('2. Staff Training Log'!$D$9:$D$1008,'3. Training Progress'!C175,'2. Staff Training Log'!$BY$9:$BY$1008,1)","v":0}]
[null,{"$f":"LOOKUP(2, 1/((COUNTIF($B$22:B175, '2. Staff Training Log'!$D$9:$D$1008)=0)*('2. Staff Training Log'!$D$9:$D$1008<>\"\")), '2. Staff Training Log'!$D$9:$D$1008)","v":{"$error":"#N/A"}},{"$f":"INDEX($B$23:$B$320,MATCH(ROWS($B$23:B176),COUNTIF($B$23:$B$320,\"<=\"&$B$23:$B$320),0))","v":{"$error":"#N/A"}},{"$f":"COUNTIFS('2. Staff Training Log'!$D$9:$D$1008,C176,'2. Staff Training Log'!$BX$9:$BX$1008,1)","v":0},{"$f":"COUNTIFS('2. Staff Training Log'!$D$9:$D$1008,'3. Training Progress'!C176,'2. Staff Training Log'!$BY$9:$BY$1008,1)","v":0}]
[null,{"$f":"LOOKUP(2, 1/((COUNTIF($B$22:B176, '2. Staff Training Log'!$D$9:$D$1008)=0)*('2. Staff Training Log'!$D$9:$D$1008<>\"\")), '2. Staff Training Log'!$D$9:$D$1008)","v":{"$error":"#N/A"}},{"$f":"INDEX($B$23:$B$320,MATCH(ROWS($B$23:B177),COUNTIF($B$23:$B$320,\"<=\"&$B$23:$B$320),0))","v":{"$error":"#N/A"}},{"$f":"COUNTIFS('2. Staff Training Log'!$D$9:$D$1008,C177,'2. Staff Training Log'!$BX$9:$BX$1008,1)","v":0},{"$f":"COUNTIFS('2. Staff Training Log'!$D$9:$D$1008,'3. Training Progress'!C177,'2. Staff Training Log'!$BY$9:$BY$1008,1)","v":0}]
[null,{"$f":"LOOKUP(2, 1/((COUNTIF($B$22:B177, '2. Staff Training Log'!$D$9:$D$1008)=0)*('2. Staff Training Log'!$D$9:$D$1008<>\"\")), '2. Staff Training Log'!$D$9:$D$1008)","v":{"$error":"#N/A"}},{"$f":"INDEX($B$23:$B$320,MATCH(ROWS($B$23:B178),COUNTIF($B$23:$B$320,\"<=\"&$B$23:$B$320),0))","v":{"$error":"#N/A"}},{"$f":"COUNTIFS('2. Staff Training Log'!$D$9:$D$1008,C178,'2. Staff Training Log'!$BX$9:$BX$1008,1)","v":0},{"$f":"COUNTIFS('2. Staff Training Log'!$D$9:$D$1008,'3. Training Progress'!C178,'2. Staff Training Log'!$BY$9:$BY$1008,1)","v":0}]
[null,{"$f":"LOOKUP(2, 1/((COUNTIF($B$22:B178, '2. Staff Training Log'!$D$9:$D$1008)=0)*('2. Staff Training Log'!$D$9:$D$1008<>\"\")), '2. Staff Training Log'!$D$9:$D$1008)","v":{"$error":"#N/A"}},{"$f":"INDEX($B$23:$B$320,MATCH(ROWS($B$23:B179),COUNTIF($B$23:$B$320,\"<=\"&$B$23:$B$320),0))","v":{"$error":"#N/A"}},{"$f":"COUNTIFS('2. Staff Training Log'!$D$9:$D$1008,C179,'2. Staff Training Log'!$BX$9:$BX$1008,1)","v":0},{"$f":"COUNTIFS('2. Staff Training Log'!$D$9:$D$1008,'3. Training Progress'!C179,'2. Staff Training Log'!$BY$9:$BY$1008,1)","v":0}]
[null,{"$f":"LOOKUP(2, 1/((COUNTIF($B$22:B179, '2. Staff Training Log'!$D$9:$D$1008)=0)*('2. Staff Training Log'!$D$9:$D$1008<>\"\")), '2. Staff Training Log'!$D$9:$D$1008)","v":{"$error":"#N/A"}},{"$f":"INDEX($B$23:$B$320,MATCH(ROWS($B$23:B180),COUNTIF($B$23:$B$320,\"<=\"&$B$23:$B$320),0))","v":{"$error":"#N/A"}},{"$f":"COUNTIFS('2. Staff Training Log'!$D$9:$D$1008,C180,'2. Staff Training Log'!$BX$9:$BX$1008,1)","v":0},{"$f":"COUNTIFS('2. Staff Training Log'!$D$9:$D$1008,'3. Training Progress'!C180,'2. Staff Training Log'!$BY$9:$BY$1008,1)","v":0}]
[null,{"$f":"LOOKUP(2, 1/((COUNTIF($B$22:B180, '2. Staff Training Log'!$D$9:$D$1008)=0)*('2. Staff Training Log'!$D$9:$D$1008<>\"\")), '2. Staff Training Log'!$D$9:$D$1008)","v":{"$error":"#N/A"}},{"$f":"INDEX($B$23:$B$320,MATCH(ROWS($B$23:B181),COUNTIF($B$23:$B$320,\"<=\"&$B$23:$B$320),0))","v":{"$error":"#N/A"}},{"$f":"COUNTIFS('2. Staff Training Log'!$D$9:$D$1008,C181,'2. Staff Training Log'!$BX$9:$BX$1008,1)","v":0},{"$f":"COUNTIFS('2. Staff Training Log'!$D$9:$D$1008,'3. Training Progress'!C181,'2. Staff Training Log'!$BY$9:$BY$1008,1)","v":0}]
[null,{"$f":"LOOKUP(2, 1/((COUNTIF($B$22:B181, '2. Staff Training Log'!$D$9:$D$1008)=0)*('2. Staff Training Log'!$D$9:$D$1008<>\"\")), '2. Staff Training Log'!$D$9:$D$1008)","v":{"$error":"#N/A"}},{"$f":"INDEX($B$23:$B$320,MATCH(ROWS($B$23:B182),COUNTIF($B$23:$B$320,\"<=\"&$B$23:$B$320),0))","v":{"$error":"#N/A"}},{"$f":"COUNTIFS('2. Staff Training Log'!$D$9:$D$1008,C182,'2. Staff Training Log'!$BX$9:$BX$1008,1)","v":0},{"$f":"COUNTIFS('2. Staff Training Log'!$D$9:$D$1008,'3. Training Progress'!C182,'2. Staff Training Log'!$BY$9:$BY$1008,1)","v":0}]
[null,{"$f":"LOOKUP(2, 1/((COUNTIF($B$22:B182, '2. Staff Training Log'!$D$9:$D$1008)=0)*('2. Staff Training Log'!$D$9:$D$1008<>\"\")), '2. Staff Training Log'!$D$9:$D$1008)","v":{"$error":"#N/A"}},{"$f":"INDEX($B$23:$B$320,MATCH(ROWS($B$23:B183),COUNTIF($B$23:$B$320,\"<=\"&$B$23:$B$320),0))","v":{"$error":"#N/A"}},{"$f":"COUNTIFS('2. Staff Training Log'!$D$9:$D$1008,C183,'2. Staff Training Log'!$BX$9:$BX$1008,1)","v":0},{"$f":"COUNTIFS('2. Staff Training Log'!$D$9:$D$1008,'3. Training Progress'!C183,'2. Staff Training Log'!$BY$9:$BY$1008,1)","v":0}]
[null,{"$f":"LOOKUP(2, 1/((COUNTIF($B$22:B183, '2. Staff Training Log'!$D$9:$D$1008)=0)*('2. Staff Training Log'!$D$9:$D$1008<>\"\")), '2. Staff Training Log'!$D$9:$D$1008)","v":{"$error":"#N/A"}},{"$f":"INDEX($B$23:$B$320,MATCH(ROWS($B$23:B184),COUNTIF($B$23:$B$320,\"<=\"&$B$23:$B$320),0))","v":{"$error":"#N/A"}},{"$f":"COUNTIFS('2. Staff Training Log'!$D$9:$D$1008,C184,'2. Staff Training Log'!$BX$9:$BX$1008,1)","v":0},{"$f":"COUNTIFS('2. Staff Training Log'!$D$9:$D$1008,'3. Training Progress'!C184,'2. Staff Training Log'!$BY$9:$BY$1008,1)","v":0}]
[null,{"$f":"LOOKUP(2, 1/((COUNTIF($B$22:B184, '2. Staff Training Log'!$D$9:$D$1008)=0)*('2. Staff Training Log'!$D$9:$D$1008<>\"\")), '2. Staff Training Log'!$D$9:$D$1008)","v":{"$error":"#N/A"}},{"$f":"INDEX($B$23:$B$320,MATCH(ROWS($B$23:B185),COUNTIF($B$23:$B$320,\"<=\"&$B$23:$B$320),0))","v":{"$error":"#N/A"}},{"$f":"COUNTIFS('2. Staff Training Log'!$D$9:$D$1008,C185,'2. Staff Training Log'!$BX$9:$BX$1008,1)","v":0},{"$f":"COUNTIFS('2. Staff Training Log'!$D$9:$D$1008,'3. Training Progress'!C185,'2. Staff Training Log'!$BY$9:$BY$1008,1)","v":0}]
[null,{"$f":"LOOKUP(2, 1/((COUNTIF($B$22:B185, '2. Staff Training Log'!$D$9:$D$1008)=0)*('2. Staff Training Log'!$D$9:$D$1008<>\"\")), '2. Staff Training Log'!$D$9:$D$1008)","v":{"$error":"#N/A"}},{"$f":"INDEX($B$23:$B$320,MATCH(ROWS($B$23:B186),COUNTIF($B$23:$B$320,\"<=\"&$B$23:$B$320),0))","v":{"$error":"#N/A"}},{"$f":"COUNTIFS('2. Staff Training Log'!$D$9:$D$1008,C186,'2. Staff Training Log'!$BX$9:$BX$1008,1)","v":0},{"$f":"COUNTIFS('2. Staff Training Log'!$D$9:$D$1008,'3. Training Progress'!C186,'2. Staff Training Log'!$BY$9:$BY$1008,1)","v":0}]
[null,{"$f":"LOOKUP(2, 1/((COUNTIF($B$22:B186, '2. Staff Training Log'!$D$9:$D$1008)=0)*('2. Staff Training Log'!$D$9:$D$1008<>\"\")), '2. Staff Training Log'!$D$9:$D$1008)","v":{"$error":"#N/A"}},{"$f":"INDEX($B$23:$B$320,MATCH(ROWS($B$23:B187),COUNTIF($B$23:$B$320,\"<=\"&$B$23:$B$320),0))","v":{"$error":"#N/A"}},{"$f":"COUNTIFS('2. Staff Training Log'!$D$9:$D$1008,C187,'2. Staff Training Log'!$BX$9:$BX$1008,1)","v":0},{"$f":"COUNTIFS('2. Staff Training Log'!$D$9:$D$1008,'3. Training Progress'!C187,'2. Staff Training Log'!$BY$9:$BY$1008,1)","v":0}]
[null,{"$f":"LOOKUP(2, 1/((COUNTIF($B$22:B187, '2. Staff Training Log'!$D$9:$D$1008)=0)*('2. Staff Training Log'!$D$9:$D$1008<>\"\")), '2. Staff Training Log'!$D$9:$D$1008)","v":{"$error":"#N/A"}},{"$f":"INDEX($B$23:$B$320,MATCH(ROWS($B$23:B188),COUNTIF($B$23:$B$320,\"<=\"&$B$23:$B$320),0))","v":{"$error":"#N/A"}},{"$f":"COUNTIFS('2. Staff Training Log'!$D$9:$D$1008,C188,'2. Staff Training Log'!$BX$9:$BX$1008,1)","v":0},{"$f":"COUNTIFS('2. Staff Training Log'!$D$9:$D$1008,'3. Training Progress'!C188,'2. Staff Training Log'!$BY$9:$BY$1008,1)","v":0}]
[null,{"$f":"LOOKUP(2, 1/((COUNTIF($B$22:B188, '2. Staff Training Log'!$D$9:$D$1008)=0)*('2. Staff Training Log'!$D$9:$D$1008<>\"\")), '2. Staff Training Log'!$D$9:$D$1008)","v":{"$error":"#N/A"}},{"$f":"INDEX($B$23:$B$320,MATCH(ROWS($B$23:B189),COUNTIF($B$23:$B$320,\"<=\"&$B$23:$B$320),0))","v":{"$error":"#N/A"}},{"$f":"COUNTIFS('2. Staff Training Log'!$D$9:$D$1008,C189,'2. Staff Training Log'!$BX$9:$BX$1008,1)","v":0},{"$f":"COUNTIFS('2. Staff Training Log'!$D$9:$D$1008,'3. Training Progress'!C189,'2. Staff Training Log'!$BY$9:$BY$1008,1)","v":0}]
[null,{"$f":"LOOKUP(2, 1/((COUNTIF($B$22:B189, '2. Staff Training Log'!$D$9:$D$1008)=0)*('2. Staff Training Log'!$D$9:$D$1008<>\"\")), '2. Staff Training Log'!$D$9:$D$1008)","v":{"$error":"#N/A"}},{"$f":"INDEX($B$23:$B$320,MATCH(ROWS($B$23:B190),COUNTIF($B$23:$B$320,\"<=\"&$B$23:$B$320),0))","v":{"$error":"#N/A"}},{"$f":"COUNTIFS('2. Staff Training Log'!$D$9:$D$1008,C190,'2. Staff Training Log'!$BX$9:$BX$1008,1)","v":0},{"$f":"COUNTIFS('2. Staff Training Log'!$D$9:$D$1008,'3. Training Progress'!C190,'2. Staff Training Log'!$BY$9:$BY$1008,1)","v":0}]
[null,{"$f":"LOOKUP(2, 1/((COUNTIF($B$22:B190, '2. Staff Training Log'!$D$9:$D$1008)=0)*('2. Staff Training Log'!$D$9:$D$1008<>\"\")), '2. Staff Training Log'!$D$9:$D$1008)","v":{"$error":"#N/A"}},{"$f":"INDEX($B$23:$B$320,MATCH(ROWS($B$23:B191),COUNTIF($B$23:$B$320,\"<=\"&$B$23:$B$320),0))","v":{"$error":"#N/A"}},{"$f":"COUNTIFS('2. Staff Training Log'!$D$9:$D$1008,C191,'2. Staff Training Log'!$BX$9:$BX$1008,1)","v":0},{"$f":"COUNTIFS('2. Staff Training Log'!$D$9:$D$1008,'3. Training Progress'!C191,'2. Staff Training Log'!$BY$9:$BY$1008,1)","v":0}]
[null,{"$f":"LOOKUP(2, 1/((COUNTIF($B$22:B191, '2. Staff Training Log'!$D$9:$D$1008)=0)*('2. Staff Training Log'!$D$9:$D$1008<>\"\")), '2. Staff Training Log'!$D$9:$D$1008)","v":{"$error":"#N/A"}},{"$f":"INDEX($B$23:$B$320,MATCH(ROWS($B$23:B192),COUNTIF($B$23:$B$320,\"<=\"&$B$23:$B$320),0))","v":{"$error":"#N/A"}},{"$f":"COUNTIFS('2. Staff Training Log'!$D$9:$D$1008,C192,'2. Staff Training Log'!$BX$9:$BX$1008,1)","v":0},{"$f":"COUNTIFS('2. Staff Training Log'!$D$9:$D$1008,'3. Training Progress'!C192,'2. Staff Training Log'!$BY$9:$BY$1008,1)","v":0}]
[null,{"$f":"LOOKUP(2, 1/((COUNTIF($B$22:B192, '2. Staff Training Log'!$D$9:$D$1008)=0)*('2. Staff Training Log'!$D$9:$D$1008<>\"\")), '2. Staff Training Log'!$D$9:$D$1008)","v":{"$error":"#N/A"}},{"$f":"INDEX($B$23:$B$320,MATCH(ROWS($B$23:B193),COUNTIF($B$23:$B$320,\"<=\"&$B$23:$B$320),0))","v":{"$error":"#N/A"}},{"$f":"COUNTIFS('2. Staff Training Log'!$D$9:$D$1008,C193,'2. Staff Training Log'!$BX$9:$BX$1008,1)","v":0},{"$f":"COUNTIFS('2. Staff Training Log'!$D$9:$D$1008,'3. Training Progress'!C193,'2. Staff Training Log'!$BY$9:$BY$1008,1)","v":0}]
[null,{"$f":"LOOKUP(2, 1/((COUNTIF($B$22:B193, '2. Staff Training Log'!$D$9:$D$1008)=0)*('2. Staff Training Log'!$D$9:$D$1008<>\"\")), '2. Staff Training Log'!$D$9:$D$1008)","v":{"$error":"#N/A"}},{"$f":"INDEX($B$23:$B$320,MATCH(ROWS($B$23:B194),COUNTIF($B$23:$B$320,\"<=\"&$B$23:$B$320),0))","v":{"$error":"#N/A"}},{"$f":"COUNTIFS('2. Staff Training Log'!$D$9:$D$1008,C194,'2. Staff Training Log'!$BX$9:$BX$1008,1)","v":0},{"$f":"COUNTIFS('2. Staff Training Log'!$D$9:$D$1008,'3. Training Progress'!C194,'2. Staff Training Log'!$BY$9:$BY$1008,1)","v":0}]
[null,{"$f":"LOOKUP(2, 1/((COUNTIF($B$22:B194, '2. Staff Training Log'!$D$9:$D$1008)=0)*('2. Staff Training Log'!$D$9:$D$1008<>\"\")), '2. Staff Training Log'!$D$9:$D$1008)","v":{"$error":"#N/A"}},{"$f":"INDEX($B$23:$B$320,MATCH(ROWS($B$23:B195),COUNTIF($B$23:$B$320,\"<=\"&$B$23:$B$320),0))","v":{"$error":"#N/A"}},{"$f":"COUNTIFS('2. Staff Training Log'!$D$9:$D$1008,C195,'2. Staff Training Log'!$BX$9:$BX$1008,1)","v":0},{"$f":"COUNTIFS('2. Staff Training Log'!$D$9:$D$1008,'3. Training Progress'!C195,'2. Staff Training Log'!$BY$9:$BY$1008,1)","v":0}]
[null,{"$f":"LOOKUP(2, 1/((COUNTIF($B$22:B195, '2. Staff Training Log'!$D$9:$D$1008)=0)*('2. Staff Training Log'!$D$9:$D$1008<>\"\")), '2. Staff Training Log'!$D$9:$D$1008)","v":{"$error":"#N/A"}},{"$f":"INDEX($B$23:$B$320,MATCH(ROWS($B$23:B196),COUNTIF($B$23:$B$320,\"<=\"&$B$23:$B$320),0))","v":{"$error":"#N/A"}},{"$f":"COUNTIFS('2. Staff Training Log'!$D$9:$D$1008,C196,'2. Staff Training Log'!$BX$9:$BX$1008,1)","v":0},{"$f":"COUNTIFS('2. Staff Training Log'!$D$9:$D$1008,'3. Training Progress'!C196,'2. Staff Training Log'!$BY$9:$BY$1008,1)","v":0}]
[null,{"$f":"LOOKUP(2, 1/((COUNTIF($B$22:B196, '2. Staff Training Log'!$D$9:$D$1008)=0)*('2. Staff Training Log'!$D$9:$D$1008<>\"\")), '2. Staff Training Log'!$D$9:$D$1008)","v":{"$error":"#N/A"}},{"$f":"INDEX($B$23:$B$320,MATCH(ROWS($B$23:B197),COUNTIF($B$23:$B$320,\"<=\"&$B$23:$B$320),0))","v":{"$error":"#N/A"}},{"$f":"COUNTIFS('2. Staff Training Log'!$D$9:$D$1008,C197,'2. Staff Training Log'!$BX$9:$BX$1008,1)","v":0},{"$f":"COUNTIFS('2. Staff Training Log'!$D$9:$D$1008,'3. Training Progress'!C197,'2. Staff Training Log'!$BY$9:$BY$1008,1)","v":0}]
[null,{"$f":"LOOKUP(2, 1/((COUNTIF($B$22:B197, '2. Staff Training Log'!$D$9:$D$1008)=0)*('2. Staff Training Log'!$D$9:$D$1008<>\"\")), '2. Staff Training Log'!$D$9:$D$1008)","v":{"$error":"#N/A"}},{"$f":"INDEX($B$23:$B$320,MATCH(ROWS($B$23:B198),COUNTIF($B$23:$B$320,\"<=\"&$B$23:$B$320),0))","v":{"$error":"#N/A"}},{"$f":"COUNTIFS('2. Staff Training Log'!$D$9:$D$1008,C198,'2. Staff Training Log'!$BX$9:$BX$1008,1)","v":0},{"$f":"COUNTIFS('2. Staff Training Log'!$D$9:$D$1008,'3. Training Progress'!C198,'2. Staff Training Log'!$BY$9:$BY$1008,1)","v":0}]
[null,{"$f":"LOOKUP(2, 1/((COUNTIF($B$22:B198, '2. Staff Training Log'!$D$9:$D$1008)=0)*('2. Staff Training Log'!$D$9:$D$1008<>\"\")), '2. Staff Training Log'!$D$9:$D$1008)","v":{"$error":"#N/A"}},{"$f":"INDEX($B$23:$B$320,MATCH(ROWS($B$23:B199),COUNTIF($B$23:$B$320,\"<=\"&$B$23:$B$320),0))","v":{"$error":"#N/A"}},{"$f":"COUNTIFS('2. Staff Training Log'!$D$9:$D$1008,C199,'2. Staff Training Log'!$BX$9:$BX$1008,1)","v":0},{"$f":"COUNTIFS('2. Staff Training Log'!$D$9:$D$1008,'3. Training Progress'!C199,'2. Staff Training Log'!$BY$9:$BY$1008,1)","v":0}]
[null,{"$f":"LOOKUP(2, 1/((COUNTIF($B$22:B199, '2. Staff Training Log'!$D$9:$D$1008)=0)*('2. Staff Training Log'!$D$9:$D$1008<>\"\")), '2. Staff Training Log'!$D$9:$D$1008)","v":{"$error":"#N/A"}},{"$f":"INDEX($B$23:$B$320,MATCH(ROWS($B$23:B200),COUNTIF($B$23:$B$320,\"<=\"&$B$23:$B$320),0))","v":{"$error":"#N/A"}},{"$f":"COUNTIFS('2. Staff Training Log'!$D$9:$D$1008,C200,'2. Staff Training Log'!$BX$9:$BX$1008,1)","v":0},{"$f":"COUNTIFS('2. Staff Training Log'!$D$9:$D$1008,'3. Training Progress'!C200,'2. Staff Training Log'!$BY$9:$BY$1008,1)","v":0}]
[null,{"$f":"LOOKUP(2, 1/((COUNTIF($B$22:B200, '2. Staff Training Log'!$D$9:$D$1008)=0)*('2. Staff Training Log'!$D$9:$D$1008<>\"\")), '2. Staff Training Log'!$D$9:$D$1008)","v":{"$error":"#N/A"}},{"$f":"INDEX($B$23:$B$320,MATCH(ROWS($B$23:B201),COUNTIF($B$23:$B$320,\"<=\"&$B$23:$B$320),0))","v":{"$error":"#N/A"}},{"$f":"COUNTIFS('2. Staff Training Log'!$D$9:$D$1008,C201,'2. Staff Training Log'!$BX$9:$BX$1008,1)","v":0},{"$f":"COUNTIFS('2. Staff Training Log'!$D$9:$D$1008,'3. Training Progress'!C201,'2. Staff Training Log'!$BY$9:$BY$1008,1)","v":0}]
[null,{"$f":"LOOKUP(2, 1/((COUNTIF($B$22:B201, '2. Staff Training Log'!$D$9:$D$1008)=0)*('2. Staff Training Log'!$D$9:$D$1008<>\"\")), '2. Staff Training Log'!$D$9:$D$1008)","v":{"$error":"#N/A"}},{"$f":"INDEX($B$23:$B$320,MATCH(ROWS($B$23:B202),COUNTIF($B$23:$B$320,\"<=\"&$B$23:$B$320),0))","v":{"$error":"#N/A"}},{"$f":"COUNTIFS('2. Staff Training Log'!$D$9:$D$1008,C202,'2. Staff Training Log'!$BX$9:$BX$1008,1)","v":0},{"$f":"COUNTIFS('2. Staff Training Log'!$D$9:$D$1008,'3. Training Progress'!C202,'2. Staff Training Log'!$BY$9:$BY$1008,1)","v":0}]
[null,{"$f":"LOOKUP(2, 1/((COUNTIF($B$22:B202, '2. Staff Training Log'!$D$9:$D$1008)=0)*('2. Staff Training Log'!$D$9:$D$1008<>\"\")), '2. Staff Training Log'!$D$9:$D$1008)","v":{"$error":"#N/A"}},{"$f":"INDEX($B$23:$B$320,MATCH(ROWS($B$23:B203),COUNTIF($B$23:$B$320,\"<=\"&$B$23:$B$320),0))","v":{"$error":"#N/A"}},{"$f":"COUNTIFS('2. Staff Training Log'!$D$9:$D$1008,C203,'2. Staff Training Log'!$BX$9:$BX$1008,1)","v":0},{"$f":"COUNTIFS('2. Staff Training Log'!$D$9:$D$1008,'3. Training Progress'!C203,'2. Staff Training Log'!$BY$9:$BY$1008,1)","v":0}]
[null,{"$f":"LOOKUP(2, 1/((COUNTIF($B$22:B203, '2. Staff Training Log'!$D$9:$D$1008)=0)*('2. Staff Training Log'!$D$9:$D$1008<>\"\")), '2. Staff Training Log'!$D$9:$D$1008)","v":{"$error":"#N/A"}},{"$f":"INDEX($B$23:$B$320,MATCH(ROWS($B$23:B204),COUNTIF($B$23:$B$320,\"<=\"&$B$23:$B$320),0))","v":{"$error":"#N/A"}},{"$f":"COUNTIFS('2. Staff Training Log'!$D$9:$D$1008,C204,'2. Staff Training Log'!$BX$9:$BX$1008,1)","v":0},{"$f":"COUNTIFS('2. Staff Training Log'!$D$9:$D$1008,'3. Training Progress'!C204,'2. Staff Training Log'!$BY$9:$BY$1008,1)","v":0}]
[null,{"$f":"LOOKUP(2, 1/((COUNTIF($B$22:B204, '2. Staff Training Log'!$D$9:$D$1008)=0)*('2. Staff Training Log'!$D$9:$D$1008<>\"\")), '2. Staff Training Log'!$D$9:$D$1008)","v":{"$error":"#N/A"}},{"$f":"INDEX($B$23:$B$320,MATCH(ROWS($B$23:B205),COUNTIF($B$23:$B$320,\"<=\"&$B$23:$B$320),0))","v":{"$error":"#N/A"}},{"$f":"COUNTIFS('2. Staff Training Log'!$D$9:$D$1008,C205,'2. Staff Training Log'!$BX$9:$BX$1008,1)","v":0},{"$f":"COUNTIFS('2. Staff Training Log'!$D$9:$D$1008,'3. Training Progress'!C205,'2. Staff Training Log'!$BY$9:$BY$1008,1)","v":0}]
[null,{"$f":"LOOKUP(2, 1/((COUNTIF($B$22:B205, '2. Staff Training Log'!$D$9:$D$1008)=0)*('2. Staff Training Log'!$D$9:$D$1008<>\"\")), '2. Staff Training Log'!$D$9:$D$1008)","v":{"$error":"#N/A"}},{"$f":"INDEX($B$23:$B$320,MATCH(ROWS($B$23:B206),COUNTIF($B$23:$B$320,\"<=\"&$B$23:$B$320),0))","v":{"$error":"#N/A"}},{"$f":"COUNTIFS('2. Staff Training Log'!$D$9:$D$1008,C206,'2. Staff Training Log'!$BX$9:$BX$1008,1)","v":0},{"$f":"COUNTIFS('2. Staff Training Log'!$D$9:$D$1008,'3. Training Progress'!C206,'2. Staff Training Log'!$BY$9:$BY$1008,1)","v":0}]
[null,{"$f":"LOOKUP(2, 1/((COUNTIF($B$22:B206, '2. Staff Training Log'!$D$9:$D$1008)=0)*('2. Staff Training Log'!$D$9:$D$1008<>\"\")), '2. Staff Training Log'!$D$9:$D$1008)","v":{"$error":"#N/A"}},{"$f":"INDEX($B$23:$B$320,MATCH(ROWS($B$23:B207),COUNTIF($B$23:$B$320,\"<=\"&$B$23:$B$320),0))","v":{"$error":"#N/A"}},{"$f":"COUNTIFS('2. Staff Training Log'!$D$9:$D$1008,C207,'2. Staff Training Log'!$BX$9:$BX$1008,1)","v":0},{"$f":"COUNTIFS('2. Staff Training Log'!$D$9:$D$1008,'3. Training Progress'!C207,'2. Staff Training Log'!$BY$9:$BY$1008,1)","v":0}]
[null,{"$f":"LOOKUP(2, 1/((COUNTIF($B$22:B207, '2. Staff Training Log'!$D$9:$D$1008)=0)*('2. Staff Training Log'!$D$9:$D$1008<>\"\")), '2. Staff Training Log'!$D$9:$D$1008)","v":{"$error":"#N/A"}},{"$f":"INDEX($B$23:$B$320,MATCH(ROWS($B$23:B208),COUNTIF($B$23:$B$320,\"<=\"&$B$23:$B$320),0))","v":{"$error":"#N/A"}},{"$f":"COUNTIFS('2. Staff Training Log'!$D$9:$D$1008,C208,'2. Staff Training Log'!$BX$9:$BX$1008,1)","v":0},{"$f":"COUNTIFS('2. Staff Training Log'!$D$9:$D$1008,'3. Training Progress'!C208,'2. Staff Training Log'!$BY$9:$BY$1008,1)","v":0}]
[null,{"$f":"LOOKUP(2, 1/((COUNTIF($B$22:B208, '2. Staff Training Log'!$D$9:$D$1008)=0)*('2. Staff Training Log'!$D$9:$D$1008<>\"\")), '2. Staff Training Log'!$D$9:$D$1008)","v":{"$error":"#N/A"}},{"$f":"INDEX($B$23:$B$320,MATCH(ROWS($B$23:B209),COUNTIF($B$23:$B$320,\"<=\"&$B$23:$B$320),0))","v":{"$error":"#N/A"}},{"$f":"COUNTIFS('2. Staff Training Log'!$D$9:$D$1008,C209,'2. Staff Training Log'!$BX$9:$BX$1008,1)","v":0},{"$f":"COUNTIFS('2. Staff Training Log'!$D$9:$D$1008,'3. Training Progress'!C209,'2. Staff Training Log'!$BY$9:$BY$1008,1)","v":0}]
[null,{"$f":"LOOKUP(2, 1/((COUNTIF($B$22:B209, '2. Staff Training Log'!$D$9:$D$1008)=0)*('2. Staff Training Log'!$D$9:$D$1008<>\"\")), '2. Staff Training Log'!$D$9:$D$1008)","v":{"$error":"#N/A"}},{"$f":"INDEX($B$23:$B$320,MATCH(ROWS($B$23:B210),COUNTIF($B$23:$B$320,\"<=\"&$B$23:$B$320),0))","v":{"$error":"#N/A"}},{"$f":"COUNTIFS('2. Staff Training Log'!$D$9:$D$1008,C210,'2. Staff Training Log'!$BX$9:$BX$1008,1)","v":0},{"$f":"COUNTIFS('2. Staff Training Log'!$D$9:$D$1008,'3. Training Progress'!C210,'2. Staff Training Log'!$BY$9:$BY$1008,1)","v":0}]
[null,{"$f":"LOOKUP(2, 1/((COUNTIF($B$22:B210, '2. Staff Training Log'!$D$9:$D$1008)=0)*('2. Staff Training Log'!$D$9:$D$1008<>\"\")), '2. Staff Training Log'!$D$9:$D$1008)","v":{"$error":"#N/A"}},{"$f":"INDEX($B$23:$B$320,MATCH(ROWS($B$23:B211),COUNTIF($B$23:$B$320,\"<=\"&$B$23:$B$320),0))","v":{"$error":"#N/A"}},{"$f":"COUNTIFS('2. Staff Training Log'!$D$9:$D$1008,C211,'2. Staff Training Log'!$BX$9:$BX$1008,1)","v":0},{"$f":"COUNTIFS('2. Staff Training Log'!$D$9:$D$1008,'3. Training Progress'!C211,'2. Staff Training Log'!$BY$9:$BY$1008,1)","v":0}]
[null,{"$f":"LOOKUP(2, 1/((COUNTIF($B$22:B211, '2. Staff Training Log'!$D$9:$D$1008)=0)*('2. Staff Training Log'!$D$9:$D$1008<>\"\")), '2. Staff Training Log'!$D$9:$D$1008)","v":{"$error":"#N/A"}},{"$f":"INDEX($B$23:$B$320,MATCH(ROWS($B$23:B212),COUNTIF($B$23:$B$320,\"<=\"&$B$23:$B$320),0))","v":{"$error":"#N/A"}},{"$f":"COUNTIFS('2. Staff Training Log'!$D$9:$D$1008,C212,'2. Staff Training Log'!$BX$9:$BX$1008,1)","v":0},{"$f":"COUNTIFS('2. Staff Training Log'!$D$9:$D$1008,'3. Training Progress'!C212,'2. Staff Training Log'!$BY$9:$BY$1008,1)","v":0}]
[null,{"$f":"LOOKUP(2, 1/((COUNTIF($B$22:B212, '2. Staff Training Log'!$D$9:$D$1008)=0)*('2. Staff Training Log'!$D$9:$D$1008<>\"\")), '2. Staff Training Log'!$D$9:$D$1008)","v":{"$error":"#N/A"}},{"$f":"INDEX($B$23:$B$320,MATCH(ROWS($B$23:B213),COUNTIF($B$23:$B$320,\"<=\"&$B$23:$B$320),0))","v":{"$error":"#N/A"}},{"$f":"COUNTIFS('2. Staff Training Log'!$D$9:$D$1008,C213,'2. Staff Training Log'!$BX$9:$BX$1008,1)","v":0},{"$f":"COUNTIFS('2. Staff Training Log'!$D$9:$D$1008,'3. Training Progress'!C213,'2. Staff Training Log'!$BY$9:$BY$1008,1)","v":0}]
[null,{"$f":"LOOKUP(2, 1/((COUNTIF($B$22:B213, '2. Staff Training Log'!$D$9:$D$1008)=0)*('2. Staff Training Log'!$D$9:$D$1008<>\"\")), '2. Staff Training Log'!$D$9:$D$1008)","v":{"$error":"#N/A"}},{"$f":"INDEX($B$23:$B$320,MATCH(ROWS($B$23:B214),COUNTIF($B$23:$B$320,\"<=\"&$B$23:$B$320),0))","v":{"$error":"#N/A"}},{"$f":"COUNTIFS('2. Staff Training Log'!$D$9:$D$1008,C214,'2. Staff Training Log'!$BX$9:$BX$1008,1)","v":0},{"$f":"COUNTIFS('2. Staff Training Log'!$D$9:$D$1008,'3. Training Progress'!C214,'2. Staff Training Log'!$BY$9:$BY$1008,1)","v":0}]
[null,{"$f":"LOOKUP(2, 1/((COUNTIF($B$22:B214, '2. Staff Training Log'!$D$9:$D$1008)=0)*('2. Staff Training Log'!$D$9:$D$1008<>\"\")), '2. Staff Training Log'!$D$9:$D$1008)","v":{"$error":"#N/A"}},{"$f":"INDEX($B$23:$B$320,MATCH(ROWS($B$23:B215),COUNTIF($B$23:$B$320,\"<=\"&$B$23:$B$320),0))","v":{"$error":"#N/A"}},{"$f":"COUNTIFS('2. Staff Training Log'!$D$9:$D$1008,C215,'2. Staff Training Log'!$BX$9:$BX$1008,1)","v":0},{"$f":"COUNTIFS('2. Staff Training Log'!$D$9:$D$1008,'3. Training Progress'!C215,'2. Staff Training Log'!$BY$9:$BY$1008,1)","v":0}]
[null,{"$f":"LOOKUP(2, 1/((COUNTIF($B$22:B215, '2. Staff Training Log'!$D$9:$D$1008)=0)*('2. Staff Training Log'!$D$9:$D$1008<>\"\")), '2. Staff Training Log'!$D$9:$D$1008)","v":{"$error":"#N/A"}},{"$f":"INDEX($B$23:$B$320,MATCH(ROWS($B$23:B216),COUNTIF($B$23:$B$320,\"<=\"&$B$23:$B$320),0))","v":{"$error":"#N/A"}},{"$f":"COUNTIFS('2. Staff Training Log'!$D$9:$D$1008,C216,'2. Staff Training Log'!$BX$9:$BX$1008,1)","v":0},{"$f":"COUNTIFS('2. Staff Training Log'!$D$9:$D$1008,'3. Training Progress'!C216,'2. Staff Training Log'!$BY$9:$BY$1008,1)","v":0}]
[null,{"$f":"LOOKUP(2, 1/((COUNTIF($B$22:B216, '2. Staff Training Log'!$D$9:$D$1008)=0)*('2. Staff Training Log'!$D$9:$D$1008<>\"\")), '2. Staff Training Log'!$D$9:$D$1008)","v":{"$error":"#N/A"}},{"$f":"INDEX($B$23:$B$320,MATCH(ROWS($B$23:B217),COUNTIF($B$23:$B$320,\"<=\"&$B$23:$B$320),0))","v":{"$error":"#N/A"}},{"$f":"COUNTIFS('2. Staff Training Log'!$D$9:$D$1008,C217,'2. Staff Training Log'!$BX$9:$BX$1008,1)","v":0},{"$f":"COUNTIFS('2. Staff Training Log'!$D$9:$D$1008,'3. Training Progress'!C217,'2. Staff Training Log'!$BY$9:$BY$1008,1)","v":0}]
[null,{"$f":"LOOKUP(2, 1/((COUNTIF($B$22:B217, '2. Staff Training Log'!$D$9:$D$1008)=0)*('2. Staff Training Log'!$D$9:$D$1008<>\"\")), '2. Staff Training Log'!$D$9:$D$1008)","v":{"$error":"#N/A"}},{"$f":"INDEX($B$23:$B$320,MATCH(ROWS($B$23:B218),COUNTIF($B$23:$B$320,\"<=\"&$B$23:$B$320),0))","v":{"$error":"#N/A"}},{"$f":"COUNTIFS('2. Staff Training Log'!$D$9:$D$1008,C218,'2. Staff Training Log'!$BX$9:$BX$1008,1)","v":0},{"$f":"COUNTIFS('2. Staff Training Log'!$D$9:$D$1008,'3. Training Progress'!C218,'2. Staff Training Log'!$BY$9:$BY$1008,1)","v":0}]
[null,{"$f":"LOOKUP(2, 1/((COUNTIF($B$22:B218, '2. Staff Training Log'!$D$9:$D$1008)=0)*('2. Staff Training Log'!$D$9:$D$1008<>\"\")), '2. Staff Training Log'!$D$9:$D$1008)","v":{"$error":"#N/A"}},{"$f":"INDEX($B$23:$B$320,MATCH(ROWS($B$23:B219),COUNTIF($B$23:$B$320,\"<=\"&$B$23:$B$320),0))","v":{"$error":"#N/A"}},{"$f":"COUNTIFS('2. Staff Training Log'!$D$9:$D$1008,C219,'2. Staff Training Log'!$BX$9:$BX$1008,1)","v":0},{"$f":"COUNTIFS('2. Staff Training Log'!$D$9:$D$1008,'3. Training Progress'!C219,'2. Staff Training Log'!$BY$9:$BY$1008,1)","v":0}]
[null,{"$f":"LOOKUP(2, 1/((COUNTIF($B$22:B219, '2. Staff Training Log'!$D$9:$D$1008)=0)*('2. Staff Training Log'!$D$9:$D$1008<>\"\")), '2. Staff Training Log'!$D$9:$D$1008)","v":{"$error":"#N/A"}},{"$f":"INDEX($B$23:$B$320,MATCH(ROWS($B$23:B220),COUNTIF($B$23:$B$320,\"<=\"&$B$23:$B$320),0))","v":{"$error":"#N/A"}},{"$f":"COUNTIFS('2. Staff Training Log'!$D$9:$D$1008,C220,'2. Staff Training Log'!$BX$9:$BX$1008,1)","v":0},{"$f":"COUNTIFS('2. Staff Training Log'!$D$9:$D$1008,'3. Training Progress'!C220,'2. Staff Training Log'!$BY$9:$BY$1008,1)","v":0}]
[null,{"$f":"LOOKUP(2, 1/((COUNTIF($B$22:B220, '2. Staff Training Log'!$D$9:$D$1008)=0)*('2. Staff Training Log'!$D$9:$D$1008<>\"\")), '2. Staff Training Log'!$D$9:$D$1008)","v":{"$error":"#N/A"}},{"$f":"INDEX($B$23:$B$320,MATCH(ROWS($B$23:B221),COUNTIF($B$23:$B$320,\"<=\"&$B$23:$B$320),0))","v":{"$error":"#N/A"}},{"$f":"COUNTIFS('2. Staff Training Log'!$D$9:$D$1008,C221,'2. Staff Training Log'!$BX$9:$BX$1008,1)","v":0},{"$f":"COUNTIFS('2. Staff Training Log'!$D$9:$D$1008,'3. Training Progress'!C221,'2. Staff Training Log'!$BY$9:$BY$1008,1)","v":0}]
[null,{"$f":"LOOKUP(2, 1/((COUNTIF($B$22:B221, '2. Staff Training Log'!$D$9:$D$1008)=0)*('2. Staff Training Log'!$D$9:$D$1008<>\"\")), '2. Staff Training Log'!$D$9:$D$1008)","v":{"$error":"#N/A"}},{"$f":"INDEX($B$23:$B$320,MATCH(ROWS($B$23:B222),COUNTIF($B$23:$B$320,\"<=\"&$B$23:$B$320),0))","v":{"$error":"#N/A"}},{"$f":"COUNTIFS('2. Staff Training Log'!$D$9:$D$1008,C222,'2. Staff Training Log'!$BX$9:$BX$1008,1)","v":0},{"$f":"COUNTIFS('2. Staff Training Log'!$D$9:$D$1008,'3. Training Progress'!C222,'2. Staff Training Log'!$BY$9:$BY$1008,1)","v":0}]
[null,{"$f":"LOOKUP(2, 1/((COUNTIF($B$22:B222, '2. Staff Training Log'!$D$9:$D$1008)=0)*('2. Staff Training Log'!$D$9:$D$1008<>\"\")), '2. Staff Training Log'!$D$9:$D$1008)","v":{"$error":"#N/A"}},{"$f":"INDEX($B$23:$B$320,MATCH(ROWS($B$23:B223),COUNTIF($B$23:$B$320,\"<=\"&$B$23:$B$320),0))","v":{"$error":"#N/A"}},{"$f":"COUNTIFS('2. Staff Training Log'!$D$9:$D$1008,C223,'2. Staff Training Log'!$BX$9:$BX$1008,1)","v":0},{"$f":"COUNTIFS('2. Staff Training Log'!$D$9:$D$1008,'3. Training Progress'!C223,'2. Staff Training Log'!$BY$9:$BY$1008,1)","v":0}]
[null,{"$f":"LOOKUP(2, 1/((COUNTIF($B$22:B223, '2. Staff Training Log'!$D$9:$D$1008)=0)*('2. Staff Training Log'!$D$9:$D$1008<>\"\")), '2. Staff Training Log'!$D$9:$D$1008)","v":{"$error":"#N/A"}},{"$f":"INDEX($B$23:$B$320,MATCH(ROWS($B$23:B224),COUNTIF($B$23:$B$320,\"<=\"&$B$23:$B$320),0))","v":{"$error":"#N/A"}},{"$f":"COUNTIFS('2. Staff Training Log'!$D$9:$D$1008,C224,'2. Staff Training Log'!$BX$9:$BX$1008,1)","v":0},{"$f":"COUNTIFS('2. Staff Training Log'!$D$9:$D$1008,'3. Training Progress'!C224,'2. Staff Training Log'!$BY$9:$BY$1008,1)","v":0}]
[null,{"$f":"LOOKUP(2, 1/((COUNTIF($B$22:B224, '2. Staff Training Log'!$D$9:$D$1008)=0)*('2. Staff Training Log'!$D$9:$D$1008<>\"\")), '2. Staff Training Log'!$D$9:$D$1008)","v":{"$error":"#N/A"}},{"$f":"INDEX($B$23:$B$320,MATCH(ROWS($B$23:B225),COUNTIF($B$23:$B$320,\"<=\"&$B$23:$B$320),0))","v":{"$error":"#N/A"}},{"$f":"COUNTIFS('2. Staff Training Log'!$D$9:$D$1008,C225,'2. Staff Training Log'!$BX$9:$BX$1008,1)","v":0},{"$f":"COUNTIFS('2. Staff Training Log'!$D$9:$D$1008,'3. Training Progress'!C225,'2. Staff Training Log'!$BY$9:$BY$1008,1)","v":0}]
[null,{"$f":"LOOKUP(2, 1/((COUNTIF($B$22:B225, '2. Staff Training Log'!$D$9:$D$1008)=0)*('2. Staff Training Log'!$D$9:$D$1008<>\"\")), '2. Staff Training Log'!$D$9:$D$1008)","v":{"$error":"#N/A"}},{"$f":"INDEX($B$23:$B$320,MATCH(ROWS($B$23:B226),COUNTIF($B$23:$B$320,\"<=\"&$B$23:$B$320),0))","v":{"$error":"#N/A"}},{"$f":"COUNTIFS('2. Staff Training Log'!$D$9:$D$1008,C226,'2. Staff Training Log'!$BX$9:$BX$1008,1)","v":0},{"$f":"COUNTIFS('2. Staff Training Log'!$D$9:$D$1008,'3. Training Progress'!C226,'2. Staff Training Log'!$BY$9:$BY$1008,1)","v":0}]
[null,{"$f":"LOOKUP(2, 1/((COUNTIF($B$22:B226, '2. Staff Training Log'!$D$9:$D$1008)=0)*('2. Staff Training Log'!$D$9:$D$1008<>\"\")), '2. Staff Training Log'!$D$9:$D$1008)","v":{"$error":"#N/A"}},{"$f":"INDEX($B$23:$B$320,MATCH(ROWS($B$23:B227),COUNTIF($B$23:$B$320,\"<=\"&$B$23:$B$320),0))","v":{"$error":"#N/A"}},{"$f":"COUNTIFS('2. Staff Training Log'!$D$9:$D$1008,C227,'2. Staff Training Log'!$BX$9:$BX$1008,1)","v":0},{"$f":"COUNTIFS('2. Staff Training Log'!$D$9:$D$1008,'3. Training Progress'!C227,'2. Staff Training Log'!$BY$9:$BY$1008,1)","v":0}]
[null,{"$f":"LOOKUP(2, 1/((COUNTIF($B$22:B227, '2. Staff Training Log'!$D$9:$D$1008)=0)*('2. Staff Training Log'!$D$9:$D$1008<>\"\")), '2. Staff Training Log'!$D$9:$D$1008)","v":{"$error":"#N/A"}},{"$f":"INDEX($B$23:$B$320,MATCH(ROWS($B$23:B228),COUNTIF($B$23:$B$320,\"<=\"&$B$23:$B$320),0))","v":{"$error":"#N/A"}},{"$f":"COUNTIFS('2. Staff Training Log'!$D$9:$D$1008,C228,'2. Staff Training Log'!$BX$9:$BX$1008,1)","v":0},{"$f":"COUNTIFS('2. Staff Training Log'!$D$9:$D$1008,'3. Training Progress'!C228,'2. Staff Training Log'!$BY$9:$BY$1008,1)","v":0}]
[null,{"$f":"LOOKUP(2, 1/((COUNTIF($B$22:B228, '2. Staff Training Log'!$D$9:$D$1008)=0)*('2. Staff Training Log'!$D$9:$D$1008<>\"\")), '2. Staff Training Log'!$D$9:$D$1008)","v":{"$error":"#N/A"}},{"$f":"INDEX($B$23:$B$320,MATCH(ROWS($B$23:B229),COUNTIF($B$23:$B$320,\"<=\"&$B$23:$B$320),0))","v":{"$error":"#N/A"}},{"$f":"COUNTIFS('2. Staff Training Log'!$D$9:$D$1008,C229,'2. Staff Training Log'!$BX$9:$BX$1008,1)","v":0},{"$f":"COUNTIFS('2. Staff Training Log'!$D$9:$D$1008,'3. Training Progress'!C229,'2. Staff Training Log'!$BY$9:$BY$1008,1)","v":0}]
[null,{"$f":"LOOKUP(2, 1/((COUNTIF($B$22:B229, '2. Staff Training Log'!$D$9:$D$1008)=0)*('2. Staff Training Log'!$D$9:$D$1008<>\"\")), '2. Staff Training Log'!$D$9:$D$1008)","v":{"$error":"#N/A"}},{"$f":"INDEX($B$23:$B$320,MATCH(ROWS($B$23:B230),COUNTIF($B$23:$B$320,\"<=\"&$B$23:$B$320),0))","v":{"$error":"#N/A"}},{"$f":"COUNTIFS('2. Staff Training Log'!$D$9:$D$1008,C230,'2. Staff Training Log'!$BX$9:$BX$1008,1)","v":0},{"$f":"COUNTIFS('2. Staff Training Log'!$D$9:$D$1008,'3. Training Progress'!C230,'2. Staff Training Log'!$BY$9:$BY$1008,1)","v":0}]
[null,{"$f":"LOOKUP(2, 1/((COUNTIF($B$22:B230, '2. Staff Training Log'!$D$9:$D$1008)=0)*('2. Staff Training Log'!$D$9:$D$1008<>\"\")), '2. Staff Training Log'!$D$9:$D$1008)","v":{"$error":"#N/A"}},{"$f":"INDEX($B$23:$B$320,MATCH(ROWS($B$23:B231),COUNTIF($B$23:$B$320,\"<=\"&$B$23:$B$320),0))","v":{"$error":"#N/A"}},{"$f":"COUNTIFS('2. Staff Training Log'!$D$9:$D$1008,C231,'2. Staff Training Log'!$BX$9:$BX$1008,1)","v":0},{"$f":"COUNTIFS('2. Staff Training Log'!$D$9:$D$1008,'3. Training Progress'!C231,'2. Staff Training Log'!$BY$9:$BY$1008,1)","v":0}]
[null,{"$f":"LOOKUP(2, 1/((COUNTIF($B$22:B231, '2. Staff Training Log'!$D$9:$D$1008)=0)*('2. Staff Training Log'!$D$9:$D$1008<>\"\")), '2. Staff Training Log'!$D$9:$D$1008)","v":{"$error":"#N/A"}},{"$f":"INDEX($B$23:$B$320,MATCH(ROWS($B$23:B232),COUNTIF($B$23:$B$320,\"<=\"&$B$23:$B$320),0))","v":{"$error":"#N/A"}},{"$f":"COUNTIFS('2. Staff Training Log'!$D$9:$D$1008,C232,'2. Staff Training Log'!$BX$9:$BX$1008,1)","v":0},{"$f":"COUNTIFS('2. Staff Training Log'!$D$9:$D$1008,'3. Training Progress'!C232,'2. Staff Training Log'!$BY$9:$BY$1008,1)","v":0}]
[null,{"$f":"LOOKUP(2, 1/((COUNTIF($B$22:B232, '2. Staff Training Log'!$D$9:$D$1008)=0)*('2. Staff Training Log'!$D$9:$D$1008<>\"\")), '2. Staff Training Log'!$D$9:$D$1008)","v":{"$error":"#N/A"}},{"$f":"INDEX($B$23:$B$320,MATCH(ROWS($B$23:B233),COUNTIF($B$23:$B$320,\"<=\"&$B$23:$B$320),0))","v":{"$error":"#N/A"}},{"$f":"COUNTIFS('2. Staff Training Log'!$D$9:$D$1008,C233,'2. Staff Training Log'!$BX$9:$BX$1008,1)","v":0},{"$f":"COUNTIFS('2. Staff Training Log'!$D$9:$D$1008,'3. Training Progress'!C233,'2. Staff Training Log'!$BY$9:$BY$1008,1)","v":0}]
[null,{"$f":"LOOKUP(2, 1/((COUNTIF($B$22:B233, '2. Staff Training Log'!$D$9:$D$1008)=0)*('2. Staff Training Log'!$D$9:$D$1008<>\"\")), '2. Staff Training Log'!$D$9:$D$1008)","v":{"$error":"#N/A"}},{"$f":"INDEX($B$23:$B$320,MATCH(ROWS($B$23:B234),COUNTIF($B$23:$B$320,\"<=\"&$B$23:$B$320),0))","v":{"$error":"#N/A"}},{"$f":"COUNTIFS('2. Staff Training Log'!$D$9:$D$1008,C234,'2. Staff Training Log'!$BX$9:$BX$1008,1)","v":0},{"$f":"COUNTIFS('2. Staff Training Log'!$D$9:$D$1008,'3. Training Progress'!C234,'2. Staff Training Log'!$BY$9:$BY$1008,1)","v":0}]
[null,{"$f":"LOOKUP(2, 1/((COUNTIF($B$22:B234, '2. Staff Training Log'!$D$9:$D$1008)=0)*('2. Staff Training Log'!$D$9:$D$1008<>\"\")), '2. Staff Training Log'!$D$9:$D$1008)","v":{"$error":"#N/A"}},{"$f":"INDEX($B$23:$B$320,MATCH(ROWS($B$23:B235),COUNTIF($B$23:$B$320,\"<=\"&$B$23:$B$320),0))","v":{"$error":"#N/A"}},{"$f":"COUNTIFS('2. Staff Training Log'!$D$9:$D$1008,C235,'2. Staff Training Log'!$BX$9:$BX$1008,1)","v":0},{"$f":"COUNTIFS('2. Staff Training Log'!$D$9:$D$1008,'3. Training Progress'!C235,'2. Staff Training Log'!$BY$9:$BY$1008,1)","v":0}]
[null,{"$f":"LOOKUP(2, 1/((COUNTIF($B$22:B235, '2. Staff Training Log'!$D$9:$D$1008)=0)*('2. Staff Training Log'!$D$9:$D$1008<>\"\")), '2. Staff Training Log'!$D$9:$D$1008)","v":{"$error":"#N/A"}},{"$f":"INDEX($B$23:$B$320,MATCH(ROWS($B$23:B236),COUNTIF($B$23:$B$320,\"<=\"&$B$23:$B$320),0))","v":{"$error":"#N/A"}},{"$f":"COUNTIFS('2. Staff Training Log'!$D$9:$D$1008,C236,'2. Staff Training Log'!$BX$9:$BX$1008,1)","v":0},{"$f":"COUNTIFS('2. Staff Training Log'!$D$9:$D$1008,'3. Training Progress'!C236,'2. Staff Training Log'!$BY$9:$BY$1008,1)","v":0}]
[null,{"$f":"LOOKUP(2, 1/((COUNTIF($B$22:B236, '2. Staff Training Log'!$D$9:$D$1008)=0)*('2. Staff Training Log'!$D$9:$D$1008<>\"\")), '2. Staff Training Log'!$D$9:$D$1008)","v":{"$error":"#N/A"}},{"$f":"INDEX($B$23:$B$320,MATCH(ROWS($B$23:B237),COUNTIF($B$23:$B$320,\"<=\"&$B$23:$B$320),0))","v":{"$error":"#N/A"}},{"$f":"COUNTIFS('2. Staff Training Log'!$D$9:$D$1008,C237,'2. Staff Training Log'!$BX$9:$BX$1008,1)","v":0},{"$f":"COUNTIFS('2. Staff Training Log'!$D$9:$D$1008,'3. Training Progress'!C237,'2. Staff Training Log'!$BY$9:$BY$1008,1)","v":0}]
[null,{"$f":"LOOKUP(2, 1/((COUNTIF($B$22:B237, '2. Staff Training Log'!$D$9:$D$1008)=0)*('2. Staff Training Log'!$D$9:$D$1008<>\"\")), '2. Staff Training Log'!$D$9:$D$1008)","v":{"$error":"#N/A"}},{"$f":"INDEX($B$23:$B$320,MATCH(ROWS($B$23:B238),COUNTIF($B$23:$B$320,\"<=\"&$B$23:$B$320),0))","v":{"$error":"#N/A"}},{"$f":"COUNTIFS('2. Staff Training Log'!$D$9:$D$1008,C238,'2. Staff Training Log'!$BX$9:$BX$1008,1)","v":0},{"$f":"COUNTIFS('2. Staff Training Log'!$D$9:$D$1008,'3. Training Progress'!C238,'2. Staff Training Log'!$BY$9:$BY$1008,1)","v":0}]
[null,{"$f":"LOOKUP(2, 1/((COUNTIF($B$22:B238, '2. Staff Training Log'!$D$9:$D$1008)=0)*('2. Staff Training Log'!$D$9:$D$1008<>\"\")), '2. Staff Training Log'!$D$9:$D$1008)","v":{"$error":"#N/A"}},{"$f":"INDEX($B$23:$B$320,MATCH(ROWS($B$23:B239),COUNTIF($B$23:$B$320,\"<=\"&$B$23:$B$320),0))","v":{"$error":"#N/A"}},{"$f":"COUNTIFS('2. Staff Training Log'!$D$9:$D$1008,C239,'2. Staff Training Log'!$BX$9:$BX$1008,1)","v":0},{"$f":"COUNTIFS('2. Staff Training Log'!$D$9:$D$1008,'3. Training Progress'!C239,'2. Staff Training Log'!$BY$9:$BY$1008,1)","v":0}]
[null,{"$f":"LOOKUP(2, 1/((COUNTIF($B$22:B239, '2. Staff Training Log'!$D$9:$D$1008)=0)*('2. Staff Training Log'!$D$9:$D$1008<>\"\")), '2. Staff Training Log'!$D$9:$D$1008)","v":{"$error":"#N/A"}},{"$f":"INDEX($B$23:$B$320,MATCH(ROWS($B$23:B240),COUNTIF($B$23:$B$320,\"<=\"&$B$23:$B$320),0))","v":{"$error":"#N/A"}},{"$f":"COUNTIFS('2. Staff Training Log'!$D$9:$D$1008,C240,'2. Staff Training Log'!$BX$9:$BX$1008,1)","v":0},{"$f":"COUNTIFS('2. Staff Training Log'!$D$9:$D$1008,'3. Training Progress'!C240,'2. Staff Training Log'!$BY$9:$BY$1008,1)","v":0}]
[null,{"$f":"LOOKUP(2, 1/((COUNTIF($B$22:B240, '2. Staff Training Log'!$D$9:$D$1008)=0)*('2. Staff Training Log'!$D$9:$D$1008<>\"\")), '2. Staff Training Log'!$D$9:$D$1008)","v":{"$error":"#N/A"}},{"$f":"INDEX($B$23:$B$320,MATCH(ROWS($B$23:B241),COUNTIF($B$23:$B$320,\"<=\"&$B$23:$B$320),0))","v":{"$error":"#N/A"}},{"$f":"COUNTIFS('2. Staff Training Log'!$D$9:$D$1008,C241,'2. Staff Training Log'!$BX$9:$BX$1008,1)","v":0},{"$f":"COUNTIFS('2. Staff Training Log'!$D$9:$D$1008,'3. Training Progress'!C241,'2. Staff Training Log'!$BY$9:$BY$1008,1)","v":0}]
[null,{"$f":"LOOKUP(2, 1/((COUNTIF($B$22:B241, '2. Staff Training Log'!$D$9:$D$1008)=0)*('2. Staff Training Log'!$D$9:$D$1008<>\"\")), '2. Staff Training Log'!$D$9:$D$1008)","v":{"$error":"#N/A"}},{"$f":"INDEX($B$23:$B$320,MATCH(ROWS($B$23:B242),COUNTIF($B$23:$B$320,\"<=\"&$B$23:$B$320),0))","v":{"$error":"#N/A"}},{"$f":"COUNTIFS('2. Staff Training Log'!$D$9:$D$1008,C242,'2. Staff Training Log'!$BX$9:$BX$1008,1)","v":0},{"$f":"COUNTIFS('2. Staff Training Log'!$D$9:$D$1008,'3. Training Progress'!C242,'2. Staff Training Log'!$BY$9:$BY$1008,1)","v":0}]
[null,{"$f":"LOOKUP(2, 1/((COUNTIF($B$22:B242, '2. Staff Training Log'!$D$9:$D$1008)=0)*('2. Staff Training Log'!$D$9:$D$1008<>\"\")), '2. Staff Training Log'!$D$9:$D$1008)","v":{"$error":"#N/A"}},{"$f":"INDEX($B$23:$B$320,MATCH(ROWS($B$23:B243),COUNTIF($B$23:$B$320,\"<=\"&$B$23:$B$320),0))","v":{"$error":"#N/A"}},{"$f":"COUNTIFS('2. Staff Training Log'!$D$9:$D$1008,C243,'2. Staff Training Log'!$BX$9:$BX$1008,1)","v":0},{"$f":"COUNTIFS('2. Staff Training Log'!$D$9:$D$1008,'3. Training Progress'!C243,'2. Staff Training Log'!$BY$9:$BY$1008,1)","v":0}]
[null,{"$f":"LOOKUP(2, 1/((COUNTIF($B$22:B243, '2. Staff Training Log'!$D$9:$D$1008)=0)*('2. Staff Training Log'!$D$9:$D$1008<>\"\")), '2. Staff Training Log'!$D$9:$D$1008)","v":{"$error":"#N/A"}},{"$f":"INDEX($B$23:$B$320,MATCH(ROWS($B$23:B244),COUNTIF($B$23:$B$320,\"<=\"&$B$23:$B$320),0))","v":{"$error":"#N/A"}},{"$f":"COUNTIFS('2. Staff Training Log'!$D$9:$D$1008,C244,'2. Staff Training Log'!$BX$9:$BX$1008,1)","v":0},{"$f":"COUNTIFS('2. Staff Training Log'!$D$9:$D$1008,'3. Training Progress'!C244,'2. Staff Training Log'!$BY$9:$BY$1008,1)","v":0}]
[null,{"$f":"LOOKUP(2, 1/((COUNTIF($B$22:B244, '2. Staff Training Log'!$D$9:$D$1008)=0)*('2. Staff Training Log'!$D$9:$D$1008<>\"\")), '2. Staff Training Log'!$D$9:$D$1008)","v":{"$error":"#N/A"}},{"$f":"INDEX($B$23:$B$320,MATCH(ROWS($B$23:B245),COUNTIF($B$23:$B$320,\"<=\"&$B$23:$B$320),0))","v":{"$error":"#N/A"}},{"$f":"COUNTIFS('2. Staff Training Log'!$D$9:$D$1008,C245,'2. Staff Training Log'!$BX$9:$BX$1008,1)","v":0},{"$f":"COUNTIFS('2. Staff Training Log'!$D$9:$D$1008,'3. Training Progress'!C245,'2. Staff Training Log'!$BY$9:$BY$1008,1)","v":0}]
[null,{"$f":"LOOKUP(2, 1/((COUNTIF($B$22:B245, '2. Staff Training Log'!$D$9:$D$1008)=0)*('2. Staff Training Log'!$D$9:$D$1008<>\"\")), '2. Staff Training Log'!$D$9:$D$1008)","v":{"$error":"#N/A"}},{"$f":"INDEX($B$23:$B$320,MATCH(ROWS($B$23:B246),COUNTIF($B$23:$B$320,\"<=\"&$B$23:$B$320),0))","v":{"$error":"#N/A"}},{"$f":"COUNTIFS('2. Staff Training Log'!$D$9:$D$1008,C246,'2. Staff Training Log'!$BX$9:$BX$1008,1)","v":0},{"$f":"COUNTIFS('2. Staff Training Log'!$D$9:$D$1008,'3. Training Progress'!C246,'2. Staff Training Log'!$BY$9:$BY$1008,1)","v":0}]
[null,{"$f":"LOOKUP(2, 1/((COUNTIF($B$22:B246, '2. Staff Training Log'!$D$9:$D$1008)=0)*('2. Staff Training Log'!$D$9:$D$1008<>\"\")), '2. Staff Training Log'!$D$9:$D$1008)","v":{"$error":"#N/A"}},{"$f":"INDEX($B$23:$B$320,MATCH(ROWS($B$23:B247),COUNTIF($B$23:$B$320,\"<=\"&$B$23:$B$320),0))","v":{"$error":"#N/A"}},{"$f":"COUNTIFS('2. Staff Training Log'!$D$9:$D$1008,C247,'2. Staff Training Log'!$BX$9:$BX$1008,1)","v":0},{"$f":"COUNTIFS('2. Staff Training Log'!$D$9:$D$1008,'3. Training Progress'!C247,'2. Staff Training Log'!$BY$9:$BY$1008,1)","v":0}]
[null,{"$f":"LOOKUP(2, 1/((COUNTIF($B$22:B247, '2. Staff Training Log'!$D$9:$D$1008)=0)*('2. Staff Training Log'!$D$9:$D$1008<>\"\")), '2. Staff Training Log'!$D$9:$D$1008)","v":{"$error":"#N/A"}},{"$f":"INDEX($B$23:$B$320,MATCH(ROWS($B$23:B248),COUNTIF($B$23:$B$320,\"<=\"&$B$23:$B$320),0))","v":{"$error":"#N/A"}},{"$f":"COUNTIFS('2. Staff Training Log'!$D$9:$D$1008,C248,'2. Staff Training Log'!$BX$9:$BX$1008,1)","v":0},{"$f":"COUNTIFS('2. Staff Training Log'!$D$9:$D$1008,'3. Training Progress'!C248,'2. Staff Training Log'!$BY$9:$BY$1008,1)","v":0}]
[null,{"$f":"LOOKUP(2, 1/((COUNTIF($B$22:B248, '2. Staff Training Log'!$D$9:$D$1008)=0)*('2. Staff Training Log'!$D$9:$D$1008<>\"\")), '2. Staff Training Log'!$D$9:$D$1008)","v":{"$error":"#N/A"}},{"$f":"INDEX($B$23:$B$320,MATCH(ROWS($B$23:B249),COUNTIF($B$23:$B$320,\"<=\"&$B$23:$B$320),0))","v":{"$error":"#N/A"}},{"$f":"COUNTIFS('2. Staff Training Log'!$D$9:$D$1008,C249,'2. Staff Training Log'!$BX$9:$BX$1008,1)","v":0},{"$f":"COUNTIFS('2. Staff Training Log'!$D$9:$D$1008,'3. Training Progress'!C249,'2. Staff Training Log'!$BY$9:$BY$1008,1)","v":0}]
[null,{"$f":"LOOKUP(2, 1/((COUNTIF($B$22:B249, '2. Staff Training Log'!$D$9:$D$1008)=0)*('2. Staff Training Log'!$D$9:$D$1008<>\"\")), '2. Staff Training Log'!$D$9:$D$1008)","v":{"$error":"#N/A"}},{"$f":"INDEX($B$23:$B$320,MATCH(ROWS($B$23:B250),COUNTIF($B$23:$B$320,\"<=\"&$B$23:$B$320),0))","v":{"$error":"#N/A"}},{"$f":"COUNTIFS('2. Staff Training Log'!$D$9:$D$1008,C250,'2. Staff Training Log'!$BX$9:$BX$1008,1)","v":0},{"$f":"COUNTIFS('2. Staff Training Log'!$D$9:$D$1008,'3. Training Progress'!C250,'2. Staff Training Log'!$BY$9:$BY$1008,1)","v":0}]
[null,{"$f":"LOOKUP(2, 1/((COUNTIF($B$22:B250, '2. Staff Training Log'!$D$9:$D$1008)=0)*('2. Staff Training Log'!$D$9:$D$1008<>\"\")), '2. Staff Training Log'!$D$9:$D$1008)","v":{"$error":"#N/A"}},{"$f":"INDEX($B$23:$B$320,MATCH(ROWS($B$23:B251),COUNTIF($B$23:$B$320,\"<=\"&$B$23:$B$320),0))","v":{"$error":"#N/A"}},{"$f":"COUNTIFS('2. Staff Training Log'!$D$9:$D$1008,C251,'2. Staff Training Log'!$BX$9:$BX$1008,1)","v":0},{"$f":"COUNTIFS('2. Staff Training Log'!$D$9:$D$1008,'3. Training Progress'!C251,'2. Staff Training Log'!$BY$9:$BY$1008,1)","v":0}]
[null,{"$f":"LOOKUP(2, 1/((COUNTIF($B$22:B251, '2. Staff Training Log'!$D$9:$D$1008)=0)*('2. Staff Training Log'!$D$9:$D$1008<>\"\")), '2. Staff Training Log'!$D$9:$D$1008)","v":{"$error":"#N/A"}},{"$f":"INDEX($B$23:$B$320,MATCH(ROWS($B$23:B252),COUNTIF($B$23:$B$320,\"<=\"&$B$23:$B$320),0))","v":{"$error":"#N/A"}},{"$f":"COUNTIFS('2. Staff Training Log'!$D$9:$D$1008,C252,'2. Staff Training Log'!$BX$9:$BX$1008,1)","v":0},{"$f":"COUNTIFS('2. Staff Training Log'!$D$9:$D$1008,'3. Training Progress'!C252,'2. Staff Training Log'!$BY$9:$BY$1008,1)","v":0}]
[null,{"$f":"LOOKUP(2, 1/((COUNTIF($B$22:B252, '2. Staff Training Log'!$D$9:$D$1008)=0)*('2. Staff Training Log'!$D$9:$D$1008<>\"\")), '2. Staff Training Log'!$D$9:$D$1008)","v":{"$error":"#N/A"}},{"$f":"INDEX($B$23:$B$320,MATCH(ROWS($B$23:B253),COUNTIF($B$23:$B$320,\"<=\"&$B$23:$B$320),0))","v":{"$error":"#N/A"}},{"$f":"COUNTIFS('2. Staff Training Log'!$D$9:$D$1008,C253,'2. Staff Training Log'!$BX$9:$BX$1008,1)","v":0},{"$f":"COUNTIFS('2. Staff Training Log'!$D$9:$D$1008,'3. Training Progress'!C253,'2. Staff Training Log'!$BY$9:$BY$1008,1)","v":0}]
[null,{"$f":"LOOKUP(2, 1/((COUNTIF($B$22:B253, '2. Staff Training Log'!$D$9:$D$1008)=0)*('2. Staff Training Log'!$D$9:$D$1008<>\"\")), '2. Staff Training Log'!$D$9:$D$1008)","v":{"$error":"#N/A"}},{"$f":"INDEX($B$23:$B$320,MATCH(ROWS($B$23:B254),COUNTIF($B$23:$B$320,\"<=\"&$B$23:$B$320),0))","v":{"$error":"#N/A"}},{"$f":"COUNTIFS('2. Staff Training Log'!$D$9:$D$1008,C254,'2. Staff Training Log'!$BX$9:$BX$1008,1)","v":0},{"$f":"COUNTIFS('2. Staff Training Log'!$D$9:$D$1008,'3. Training Progress'!C254,'2. Staff Training Log'!$BY$9:$BY$1008,1)","v":0}]
[null,{"$f":"LOOKUP(2, 1/((COUNTIF($B$22:B254, '2. Staff Training Log'!$D$9:$D$1008)=0)*('2. Staff Training Log'!$D$9:$D$1008<>\"\")), '2. Staff Training Log'!$D$9:$D$1008)","v":{"$error":"#N/A"}},{"$f":"INDEX($B$23:$B$320,MATCH(ROWS($B$23:B255),COUNTIF($B$23:$B$320,\"<=\"&$B$23:$B$320),0))","v":{"$error":"#N/A"}},{"$f":"COUNTIFS('2. Staff Training Log'!$D$9:$D$1008,C255,'2. Staff Training Log'!$BX$9:$BX$1008,1)","v":0},{"$f":"COUNTIFS('2. Staff Training Log'!$D$9:$D$1008,'3. Training Progress'!C255,'2. Staff Training Log'!$BY$9:$BY$1008,1)","v":0}]
[null,{"$f":"LOOKUP(2, 1/((COUNTIF($B$22:B255, '2. Staff Training Log'!$D$9:$D$1008)=0)*('2. Staff Training Log'!$D$9:$D$1008<>\"\")), '2. Staff Training Log'!$D$9:$D$1008)","v":{"$error":"#N/A"}},{"$f":"INDEX($B$23:$B$320,MATCH(ROWS($B$23:B256),COUNTIF($B$23:$B$320,\"<=\"&$B$23:$B$320),0))","v":{"$error":"#N/A"}},{"$f":"COUNTIFS('2. Staff Training Log'!$D$9:$D$1008,C256,'2. Staff Training Log'!$BX$9:$BX$1008,1)","v":0},{"$f":"COUNTIFS('2. Staff Training Log'!$D$9:$D$1008,'3. Training Progress'!C256,'2. Staff Training Log'!$BY$9:$BY$1008,1)","v":0}]
[null,{"$f":"LOOKUP(2, 1/((COUNTIF($B$22:B256, '2. Staff Training Log'!$D$9:$D$1008)=0)*('2. Staff Training Log'!$D$9:$D$1008<>\"\")), '2. Staff Training Log'!$D$9:$D$1008)","v":{"$error":"#N/A"}},{"$f":"INDEX($B$23:$B$320,MATCH(ROWS($B$23:B257),COUNTIF($B$23:$B$320,\"<=\"&$B$23:$B$320),0))","v":{"$error":"#N/A"}},{"$f":"COUNTIFS('2. Staff Training Log'!$D$9:$D$1008,C257,'2. Staff Training Log'!$BX$9:$BX$1008,1)","v":0},{"$f":"COUNTIFS('2. Staff Training Log'!$D$9:$D$1008,'3. Training Progress'!C257,'2. Staff Training Log'!$BY$9:$BY$1008,1)","v":0}]
[null,{"$f":"LOOKUP(2, 1/((COUNTIF($B$22:B257, '2. Staff Training Log'!$D$9:$D$1008)=0)*('2. Staff Training Log'!$D$9:$D$1008<>\"\")), '2. Staff Training Log'!$D$9:$D$1008)","v":{"$error":"#N/A"}},{"$f":"INDEX($B$23:$B$320,MATCH(ROWS($B$23:B258),COUNTIF($B$23:$B$320,\"<=\"&$B$23:$B$320),0))","v":{"$error":"#N/A"}},{"$f":"COUNTIFS('2. Staff Training Log'!$D$9:$D$1008,C258,'2. Staff Training Log'!$BX$9:$BX$1008,1)","v":0},{"$f":"COUNTIFS('2. Staff Training Log'!$D$9:$D$1008,'3. Training Progress'!C258,'2. Staff Training Log'!$BY$9:$BY$1008,1)","v":0}]
[null,{"$f":"LOOKUP(2, 1/((COUNTIF($B$22:B258, '2. Staff Training Log'!$D$9:$D$1008)=0)*('2. Staff Training Log'!$D$9:$D$1008<>\"\")), '2. Staff Training Log'!$D$9:$D$1008)","v":{"$error":"#N/A"}},{"$f":"INDEX($B$23:$B$320,MATCH(ROWS($B$23:B259),COUNTIF($B$23:$B$320,\"<=\"&$B$23:$B$320),0))","v":{"$error":"#N/A"}},{"$f":"COUNTIFS('2. Staff Training Log'!$D$9:$D$1008,C259,'2. Staff Training Log'!$BX$9:$BX$1008,1)","v":0},{"$f":"COUNTIFS('2. Staff Training Log'!$D$9:$D$1008,'3. Training Progress'!C259,'2. Staff Training Log'!$BY$9:$BY$1008,1)","v":0}]
[null,{"$f":"LOOKUP(2, 1/((COUNTIF($B$22:B259, '2. Staff Training Log'!$D$9:$D$1008)=0)*('2. Staff Training Log'!$D$9:$D$1008<>\"\")), '2. Staff Training Log'!$D$9:$D$1008)","v":{"$error":"#N/A"}},{"$f":"INDEX($B$23:$B$320,MATCH(ROWS($B$23:B260),COUNTIF($B$23:$B$320,\"<=\"&$B$23:$B$320),0))","v":{"$error":"#N/A"}},{"$f":"COUNTIFS('2. Staff Training Log'!$D$9:$D$1008,C260,'2. Staff Training Log'!$BX$9:$BX$1008,1)","v":0},{"$f":"COUNTIFS('2. Staff Training Log'!$D$9:$D$1008,'3. Training Progress'!C260,'2. Staff Training Log'!$BY$9:$BY$1008,1)","v":0}]
[null,{"$f":"LOOKUP(2, 1/((COUNTIF($B$22:B260, '2. Staff Training Log'!$D$9:$D$1008)=0)*('2. Staff Training Log'!$D$9:$D$1008<>\"\")), '2. Staff Training Log'!$D$9:$D$1008)","v":{"$error":"#N/A"}},{"$f":"INDEX($B$23:$B$320,MATCH(ROWS($B$23:B261),COUNTIF($B$23:$B$320,\"<=\"&$B$23:$B$320),0))","v":{"$error":"#N/A"}},{"$f":"COUNTIFS('2. Staff Training Log'!$D$9:$D$1008,C261,'2. Staff Training Log'!$BX$9:$BX$1008,1)","v":0},{"$f":"COUNTIFS('2. Staff Training Log'!$D$9:$D$1008,'3. Training Progress'!C261,'2. Staff Training Log'!$BY$9:$BY$1008,1)","v":0}]
[null,{"$f":"LOOKUP(2, 1/((COUNTIF($B$22:B261, '2. Staff Training Log'!$D$9:$D$1008)=0)*('2. Staff Training Log'!$D$9:$D$1008<>\"\")), '2. Staff Training Log'!$D$9:$D$1008)","v":{"$error":"#N/A"}},{"$f":"INDEX($B$23:$B$320,MATCH(ROWS($B$23:B262),COUNTIF($B$23:$B$320,\"<=\"&$B$23:$B$320),0))","v":{"$error":"#N/A"}},{"$f":"COUNTIFS('2. Staff Training Log'!$D$9:$D$1008,C262,'2. Staff Training Log'!$BX$9:$BX$1008,1)","v":0},{"$f":"COUNTIFS('2. Staff Training Log'!$D$9:$D$1008,'3. Training Progress'!C262,'2. Staff Training Log'!$BY$9:$BY$1008,1)","v":0}]
[null,{"$f":"LOOKUP(2, 1/((COUNTIF($B$22:B262, '2. Staff Training Log'!$D$9:$D$1008)=0)*('2. Staff Training Log'!$D$9:$D$1008<>\"\")), '2. Staff Training Log'!$D$9:$D$1008)","v":{"$error":"#N/A"}},{"$f":"INDEX($B$23:$B$320,MATCH(ROWS($B$23:B263),COUNTIF($B$23:$B$320,\"<=\"&$B$23:$B$320),0))","v":{"$error":"#N/A"}},{"$f":"COUNTIFS('2. Staff Training Log'!$D$9:$D$1008,C263,'2. Staff Training Log'!$BX$9:$BX$1008,1)","v":0},{"$f":"COUNTIFS('2. Staff Training Log'!$D$9:$D$1008,'3. Training Progress'!C263,'2. Staff Training Log'!$BY$9:$BY$1008,1)","v":0}]
[null,{"$f":"LOOKUP(2, 1/((COUNTIF($B$22:B263, '2. Staff Training Log'!$D$9:$D$1008)=0)*('2. Staff Training Log'!$D$9:$D$1008<>\"\")), '2. Staff Training Log'!$D$9:$D$1008)","v":{"$error":"#N/A"}},{"$f":"INDEX($B$23:$B$320,MATCH(ROWS($B$23:B264),COUNTIF($B$23:$B$320,\"<=\"&$B$23:$B$320),0))","v":{"$error":"#N/A"}},{"$f":"COUNTIFS('2. Staff Training Log'!$D$9:$D$1008,C264,'2. Staff Training Log'!$BX$9:$BX$1008,1)","v":0},{"$f":"COUNTIFS('2. Staff Training Log'!$D$9:$D$1008,'3. Training Progress'!C264,'2. Staff Training Log'!$BY$9:$BY$1008,1)","v":0}]
[null,{"$f":"LOOKUP(2, 1/((COUNTIF($B$22:B264, '2. Staff Training Log'!$D$9:$D$1008)=0)*('2. Staff Training Log'!$D$9:$D$1008<>\"\")), '2. Staff Training Log'!$D$9:$D$1008)","v":{"$error":"#N/A"}},{"$f":"INDEX($B$23:$B$320,MATCH(ROWS($B$23:B265),COUNTIF($B$23:$B$320,\"<=\"&$B$23:$B$320),0))","v":{"$error":"#N/A"}},{"$f":"COUNTIFS('2. Staff Training Log'!$D$9:$D$1008,C265,'2. Staff Training Log'!$BX$9:$BX$1008,1)","v":0},{"$f":"COUNTIFS('2. Staff Training Log'!$D$9:$D$1008,'3. Training Progress'!C265,'2. Staff Training Log'!$BY$9:$BY$1008,1)","v":0}]
[null,{"$f":"LOOKUP(2, 1/((COUNTIF($B$22:B265, '2. Staff Training Log'!$D$9:$D$1008)=0)*('2. Staff Training Log'!$D$9:$D$1008<>\"\")), '2. Staff Training Log'!$D$9:$D$1008)","v":{"$error":"#N/A"}},{"$f":"INDEX($B$23:$B$320,MATCH(ROWS($B$23:B266),COUNTIF($B$23:$B$320,\"<=\"&$B$23:$B$320),0))","v":{"$error":"#N/A"}},{"$f":"COUNTIFS('2. Staff Training Log'!$D$9:$D$1008,C266,'2. Staff Training Log'!$BX$9:$BX$1008,1)","v":0},{"$f":"COUNTIFS('2. Staff Training Log'!$D$9:$D$1008,'3. Training Progress'!C266,'2. Staff Training Log'!$BY$9:$BY$1008,1)","v":0}]
[null,{"$f":"LOOKUP(2, 1/((COUNTIF($B$22:B266, '2. Staff Training Log'!$D$9:$D$1008)=0)*('2. Staff Training Log'!$D$9:$D$1008<>\"\")), '2. Staff Training Log'!$D$9:$D$1008)","v":{"$error":"#N/A"}},{"$f":"INDEX($B$23:$B$320,MATCH(ROWS($B$23:B267),COUNTIF($B$23:$B$320,\"<=\"&$B$23:$B$320),0))","v":{"$error":"#N/A"}},{"$f":"COUNTIFS('2. Staff Training Log'!$D$9:$D$1008,C267,'2. Staff Training Log'!$BX$9:$BX$1008,1)","v":0},{"$f":"COUNTIFS('2. Staff Training Log'!$D$9:$D$1008,'3. Training Progress'!C267,'2. Staff Training Log'!$BY$9:$BY$1008,1)","v":0}]
[null,{"$f":"LOOKUP(2, 1/((COUNTIF($B$22:B267, '2. Staff Training Log'!$D$9:$D$1008)=0)*('2. Staff Training Log'!$D$9:$D$1008<>\"\")), '2. Staff Training Log'!$D$9:$D$1008)","v":{"$error":"#N/A"}},{"$f":"INDEX($B$23:$B$320,MATCH(ROWS($B$23:B268),COUNTIF($B$23:$B$320,\"<=\"&$B$23:$B$320),0))","v":{"$error":"#N/A"}},{"$f":"COUNTIFS('2. Staff Training Log'!$D$9:$D$1008,C268,'2. Staff Training Log'!$BX$9:$BX$1008,1)","v":0},{"$f":"COUNTIFS('2. Staff Training Log'!$D$9:$D$1008,'3. Training Progress'!C268,'2. Staff Training Log'!$BY$9:$BY$1008,1)","v":0}]
[null,{"$f":"LOOKUP(2, 1/((COUNTIF($B$22:B268, '2. Staff Training Log'!$D$9:$D$1008)=0)*('2. Staff Training Log'!$D$9:$D$1008<>\"\")), '2. Staff Training Log'!$D$9:$D$1008)","v":{"$error":"#N/A"}},{"$f":"INDEX($B$23:$B$320,MATCH(ROWS($B$23:B269),COUNTIF($B$23:$B$320,\"<=\"&$B$23:$B$320),0))","v":{"$error":"#N/A"}},{"$f":"COUNTIFS('2. Staff Training Log'!$D$9:$D$1008,C269,'2. Staff Training Log'!$BX$9:$BX$1008,1)","v":0},{"$f":"COUNTIFS('2. Staff Training Log'!$D$9:$D$1008,'3. Training Progress'!C269,'2. Staff Training Log'!$BY$9:$BY$1008,1)","v":0}]
[null,{"$f":"LOOKUP(2, 1/((COUNTIF($B$22:B269, '2. Staff Training Log'!$D$9:$D$1008)=0)*('2. Staff Training Log'!$D$9:$D$1008<>\"\")), '2. Staff Training Log'!$D$9:$D$1008)","v":{"$error":"#N/A"}},{"$f":"INDEX($B$23:$B$320,MATCH(ROWS($B$23:B270),COUNTIF($B$23:$B$320,\"<=\"&$B$23:$B$320),0))","v":{"$error":"#N/A"}},{"$f":"COUNTIFS('2. Staff Training Log'!$D$9:$D$1008,C270,'2. Staff Training Log'!$BX$9:$BX$1008,1)","v":0},{"$f":"COUNTIFS('2. Staff Training Log'!$D$9:$D$1008,'3. Training Progress'!C270,'2. Staff Training Log'!$BY$9:$BY$1008,1)","v":0}]
[null,{"$f":"LOOKUP(2, 1/((COUNTIF($B$22:B270, '2. Staff Training Log'!$D$9:$D$1008)=0)*('2. Staff Training Log'!$D$9:$D$1008<>\"\")), '2. Staff Training Log'!$D$9:$D$1008)","v":{"$error":"#N/A"}},{"$f":"INDEX($B$23:$B$320,MATCH(ROWS($B$23:B271),COUNTIF($B$23:$B$320,\"<=\"&$B$23:$B$320),0))","v":{"$error":"#N/A"}},{"$f":"COUNTIFS('2. Staff Training Log'!$D$9:$D$1008,C271,'2. Staff Training Log'!$BX$9:$BX$1008,1)","v":0},{"$f":"COUNTIFS('2. Staff Training Log'!$D$9:$D$1008,'3. Training Progress'!C271,'2. Staff Training Log'!$BY$9:$BY$1008,1)","v":0}]
[null,{"$f":"LOOKUP(2, 1/((COUNTIF($B$22:B271, '2. Staff Training Log'!$D$9:$D$1008)=0)*('2. Staff Training Log'!$D$9:$D$1008<>\"\")), '2. Staff Training Log'!$D$9:$D$1008)","v":{"$error":"#N/A"}},{"$f":"INDEX($B$23:$B$320,MATCH(ROWS($B$23:B272),COUNTIF($B$23:$B$320,\"<=\"&$B$23:$B$320),0))","v":{"$error":"#N/A"}},{"$f":"COUNTIFS('2. Staff Training Log'!$D$9:$D$1008,C272,'2. Staff Training Log'!$BX$9:$BX$1008,1)","v":0},{"$f":"COUNTIFS('2. Staff Training Log'!$D$9:$D$1008,'3. Training Progress'!C272,'2. Staff Training Log'!$BY$9:$BY$1008,1)","v":0}]
[null,{"$f":"LOOKUP(2, 1/((COUNTIF($B$22:B272, '2. Staff Training Log'!$D$9:$D$1008)=0)*('2. Staff Training Log'!$D$9:$D$1008<>\"\")), '2. Staff Training Log'!$D$9:$D$1008)","v":{"$error":"#N/A"}},{"$f":"INDEX($B$23:$B$320,MATCH(ROWS($B$23:B273),COUNTIF($B$23:$B$320,\"<=\"&$B$23:$B$320),0))","v":{"$error":"#N/A"}},{"$f":"COUNTIFS('2. Staff Training Log'!$D$9:$D$1008,C273,'2. Staff Training Log'!$BX$9:$BX$1008,1)","v":0},{"$f":"COUNTIFS('2. Staff Training Log'!$D$9:$D$1008,'3. Training Progress'!C273,'2. Staff Training Log'!$BY$9:$BY$1008,1)","v":0}]
[null,{"$f":"LOOKUP(2, 1/((COUNTIF($B$22:B273, '2. Staff Training Log'!$D$9:$D$1008)=0)*('2. Staff Training Log'!$D$9:$D$1008<>\"\")), '2. Staff Training Log'!$D$9:$D$1008)","v":{"$error":"#N/A"}},{"$f":"INDEX($B$23:$B$320,MATCH(ROWS($B$23:B274),COUNTIF($B$23:$B$320,\"<=\"&$B$23:$B$320),0))","v":{"$error":"#N/A"}},{"$f":"COUNTIFS('2. Staff Training Log'!$D$9:$D$1008,C274,'2. Staff Training Log'!$BX$9:$BX$1008,1)","v":0},{"$f":"COUNTIFS('2. Staff Training Log'!$D$9:$D$1008,'3. Training Progress'!C274,'2. Staff Training Log'!$BY$9:$BY$1008,1)","v":0}]
[null,{"$f":"LOOKUP(2, 1/((COUNTIF($B$22:B274, '2. Staff Training Log'!$D$9:$D$1008)=0)*('2. Staff Training Log'!$D$9:$D$1008<>\"\")), '2. Staff Training Log'!$D$9:$D$1008)","v":{"$error":"#N/A"}},{"$f":"INDEX($B$23:$B$320,MATCH(ROWS($B$23:B275),COUNTIF($B$23:$B$320,\"<=\"&$B$23:$B$320),0))","v":{"$error":"#N/A"}},{"$f":"COUNTIFS('2. Staff Training Log'!$D$9:$D$1008,C275,'2. Staff Training Log'!$BX$9:$BX$1008,1)","v":0},{"$f":"COUNTIFS('2. Staff Training Log'!$D$9:$D$1008,'3. Training Progress'!C275,'2. Staff Training Log'!$BY$9:$BY$1008,1)","v":0}]
[null,{"$f":"LOOKUP(2, 1/((COUNTIF($B$22:B275, '2. Staff Training Log'!$D$9:$D$1008)=0)*('2. Staff Training Log'!$D$9:$D$1008<>\"\")), '2. Staff Training Log'!$D$9:$D$1008)","v":{"$error":"#N/A"}},{"$f":"INDEX($B$23:$B$320,MATCH(ROWS($B$23:B276),COUNTIF($B$23:$B$320,\"<=\"&$B$23:$B$320),0))","v":{"$error":"#N/A"}},{"$f":"COUNTIFS('2. Staff Training Log'!$D$9:$D$1008,C276,'2. Staff Training Log'!$BX$9:$BX$1008,1)","v":0},{"$f":"COUNTIFS('2. Staff Training Log'!$D$9:$D$1008,'3. Training Progress'!C276,'2. Staff Training Log'!$BY$9:$BY$1008,1)","v":0}]
[null,{"$f":"LOOKUP(2, 1/((COUNTIF($B$22:B276, '2. Staff Training Log'!$D$9:$D$1008)=0)*('2. Staff Training Log'!$D$9:$D$1008<>\"\")), '2. Staff Training Log'!$D$9:$D$1008)","v":{"$error":"#N/A"}},{"$f":"INDEX($B$23:$B$320,MATCH(ROWS($B$23:B277),COUNTIF($B$23:$B$320,\"<=\"&$B$23:$B$320),0))","v":{"$error":"#N/A"}},{"$f":"COUNTIFS('2. Staff Training Log'!$D$9:$D$1008,C277,'2. Staff Training Log'!$BX$9:$BX$1008,1)","v":0},{"$f":"COUNTIFS('2. Staff Training Log'!$D$9:$D$1008,'3. Training Progress'!C277,'2. Staff Training Log'!$BY$9:$BY$1008,1)","v":0}]
[null,{"$f":"LOOKUP(2, 1/((COUNTIF($B$22:B277, '2. Staff Training Log'!$D$9:$D$1008)=0)*('2. Staff Training Log'!$D$9:$D$1008<>\"\")), '2. Staff Training Log'!$D$9:$D$1008)","v":{"$error":"#N/A"}},{"$f":"INDEX($B$23:$B$320,MATCH(ROWS($B$23:B278),COUNTIF($B$23:$B$320,\"<=\"&$B$23:$B$320),0))","v":{"$error":"#N/A"}},{"$f":"COUNTIFS('2. Staff Training Log'!$D$9:$D$1008,C278,'2. Staff Training Log'!$BX$9:$BX$1008,1)","v":0},{"$f":"COUNTIFS('2. Staff Training Log'!$D$9:$D$1008,'3. Training Progress'!C278,'2. Staff Training Log'!$BY$9:$BY$1008,1)","v":0}]
[null,{"$f":"LOOKUP(2, 1/((COUNTIF($B$22:B278, '2. Staff Training Log'!$D$9:$D$1008)=0)*('2. Staff Training Log'!$D$9:$D$1008<>\"\")), '2. Staff Training Log'!$D$9:$D$1008)","v":{"$error":"#N/A"}},{"$f":"INDEX($B$23:$B$320,MATCH(ROWS($B$23:B279),COUNTIF($B$23:$B$320,\"<=\"&$B$23:$B$320),0))","v":{"$error":"#N/A"}},{"$f":"COUNTIFS('2. Staff Training Log'!$D$9:$D$1008,C279,'2. Staff Training Log'!$BX$9:$BX$1008,1)","v":0},{"$f":"COUNTIFS('2. Staff Training Log'!$D$9:$D$1008,'3. Training Progress'!C279,'2. Staff Training Log'!$BY$9:$BY$1008,1)","v":0}]
[null,{"$f":"LOOKUP(2, 1/((COUNTIF($B$22:B279, '2. Staff Training Log'!$D$9:$D$1008)=0)*('2. Staff Training Log'!$D$9:$D$1008<>\"\")), '2. Staff Training Log'!$D$9:$D$1008)","v":{"$error":"#N/A"}},{"$f":"INDEX($B$23:$B$320,MATCH(ROWS($B$23:B280),COUNTIF($B$23:$B$320,\"<=\"&$B$23:$B$320),0))","v":{"$error":"#N/A"}},{"$f":"COUNTIFS('2. Staff Training Log'!$D$9:$D$1008,C280,'2. Staff Training Log'!$BX$9:$BX$1008,1)","v":0},{"$f":"COUNTIFS('2. Staff Training Log'!$D$9:$D$1008,'3. Training Progress'!C280,'2. Staff Training Log'!$BY$9:$BY$1008,1)","v":0}]
[null,{"$f":"LOOKUP(2, 1/((COUNTIF($B$22:B280, '2. Staff Training Log'!$D$9:$D$1008)=0)*('2. Staff Training Log'!$D$9:$D$1008<>\"\")), '2. Staff Training Log'!$D$9:$D$1008)","v":{"$error":"#N/A"}},{"$f":"INDEX($B$23:$B$320,MATCH(ROWS($B$23:B281),COUNTIF($B$23:$B$320,\"<=\"&$B$23:$B$320),0))","v":{"$error":"#N/A"}},{"$f":"COUNTIFS('2. Staff Training Log'!$D$9:$D$1008,C281,'2. Staff Training Log'!$BX$9:$BX$1008,1)","v":0},{"$f":"COUNTIFS('2. Staff Training Log'!$D$9:$D$1008,'3. Training Progress'!C281,'2. Staff Training Log'!$BY$9:$BY$1008,1)","v":0}]
[null,{"$f":"LOOKUP(2, 1/((COUNTIF($B$22:B281, '2. Staff Training Log'!$D$9:$D$1008)=0)*('2. Staff Training Log'!$D$9:$D$1008<>\"\")), '2. Staff Training Log'!$D$9:$D$1008)","v":{"$error":"#N/A"}},{"$f":"INDEX($B$23:$B$320,MATCH(ROWS($B$23:B282),COUNTIF($B$23:$B$320,\"<=\"&$B$23:$B$320),0))","v":{"$error":"#N/A"}},{"$f":"COUNTIFS('2. Staff Training Log'!$D$9:$D$1008,C282,'2. Staff Training Log'!$BX$9:$BX$1008,1)","v":0},{"$f":"COUNTIFS('2. Staff Training Log'!$D$9:$D$1008,'3. Training Progress'!C282,'2. Staff Training Log'!$BY$9:$BY$1008,1)","v":0}]
[null,{"$f":"LOOKUP(2, 1/((COUNTIF($B$22:B282, '2. Staff Training Log'!$D$9:$D$1008)=0)*('2. Staff Training Log'!$D$9:$D$1008<>\"\")), '2. Staff Training Log'!$D$9:$D$1008)","v":{"$error":"#N/A"}},{"$f":"INDEX($B$23:$B$320,MATCH(ROWS($B$23:B283),COUNTIF($B$23:$B$320,\"<=\"&$B$23:$B$320),0))","v":{"$error":"#N/A"}},{"$f":"COUNTIFS('2. Staff Training Log'!$D$9:$D$1008,C283,'2. Staff Training Log'!$BX$9:$BX$1008,1)","v":0},{"$f":"COUNTIFS('2. Staff Training Log'!$D$9:$D$1008,'3. Training Progress'!C283,'2. Staff Training Log'!$BY$9:$BY$1008,1)","v":0}]
[null,{"$f":"LOOKUP(2, 1/((COUNTIF($B$22:B283, '2. Staff Training Log'!$D$9:$D$1008)=0)*('2. Staff Training Log'!$D$9:$D$1008<>\"\")), '2. Staff Training Log'!$D$9:$D$1008)","v":{"$error":"#N/A"}},{"$f":"INDEX($B$23:$B$320,MATCH(ROWS($B$23:B284),COUNTIF($B$23:$B$320,\"<=\"&$B$23:$B$320),0))","v":{"$error":"#N/A"}},{"$f":"COUNTIFS('2. Staff Training Log'!$D$9:$D$1008,C284,'2. Staff Training Log'!$BX$9:$BX$1008,1)","v":0},{"$f":"COUNTIFS('2. Staff Training Log'!$D$9:$D$1008,'3. Training Progress'!C284,'2. Staff Training Log'!$BY$9:$BY$1008,1)","v":0}]
[null,{"$f":"LOOKUP(2, 1/((COUNTIF($B$22:B284, '2. Staff Training Log'!$D$9:$D$1008)=0)*('2. Staff Training Log'!$D$9:$D$1008<>\"\")), '2. Staff Training Log'!$D$9:$D$1008)","v":{"$error":"#N/A"}},{"$f":"INDEX($B$23:$B$320,MATCH(ROWS($B$23:B285),COUNTIF($B$23:$B$320,\"<=\"&$B$23:$B$320),0))","v":{"$error":"#N/A"}},{"$f":"COUNTIFS('2. Staff Training Log'!$D$9:$D$1008,C285,'2. Staff Training Log'!$BX$9:$BX$1008,1)","v":0},{"$f":"COUNTIFS('2. Staff Training Log'!$D$9:$D$1008,'3. Training Progress'!C285,'2. Staff Training Log'!$BY$9:$BY$1008,1)","v":0}]
[null,{"$f":"LOOKUP(2, 1/((COUNTIF($B$22:B285, '2. Staff Training Log'!$D$9:$D$1008)=0)*('2. Staff Training Log'!$D$9:$D$1008<>\"\")), '2. Staff Training Log'!$D$9:$D$1008)","v":{"$error":"#N/A"}},{"$f":"INDEX($B$23:$B$320,MATCH(ROWS($B$23:B286),COUNTIF($B$23:$B$320,\"<=\"&$B$23:$B$320),0))","v":{"$error":"#N/A"}},{"$f":"COUNTIFS('2. Staff Training Log'!$D$9:$D$1008,C286,'2. Staff Training Log'!$BX$9:$BX$1008,1)","v":0},{"$f":"COUNTIFS('2. Staff Training Log'!$D$9:$D$1008,'3. Training Progress'!C286,'2. Staff Training Log'!$BY$9:$BY$1008,1)","v":0}]
[null,{"$f":"LOOKUP(2, 1/((COUNTIF($B$22:B286, '2. Staff Training Log'!$D$9:$D$1008)=0)*('2. Staff Training Log'!$D$9:$D$1008<>\"\")), '2. Staff Training Log'!$D$9:$D$1008)","v":{"$error":"#N/A"}},{"$f":"INDEX($B$23:$B$320,MATCH(ROWS($B$23:B287),COUNTIF($B$23:$B$320,\"<=\"&$B$23:$B$320),0))","v":{"$error":"#N/A"}},{"$f":"COUNTIFS('2. Staff Training Log'!$D$9:$D$1008,C287,'2. Staff Training Log'!$BX$9:$BX$1008,1)","v":0},{"$f":"COUNTIFS('2. Staff Training Log'!$D$9:$D$1008,'3. Training Progress'!C287,'2. Staff Training Log'!$BY$9:$BY$1008,1)","v":0}]
[null,{"$f":"LOOKUP(2, 1/((COUNTIF($B$22:B287, '2. Staff Training Log'!$D$9:$D$1008)=0)*('2. Staff Training Log'!$D$9:$D$1008<>\"\")), '2. Staff Training Log'!$D$9:$D$1008)","v":{"$error":"#N/A"}},{"$f":"INDEX($B$23:$B$320,MATCH(ROWS($B$23:B288),COUNTIF($B$23:$B$320,\"<=\"&$B$23:$B$320),0))","v":{"$error":"#N/A"}},{"$f":"COUNTIFS('2. Staff Training Log'!$D$9:$D$1008,C288,'2. Staff Training Log'!$BX$9:$BX$1008,1)","v":0},{"$f":"COUNTIFS('2. Staff Training Log'!$D$9:$D$1008,'3. Training Progress'!C288,'2. Staff Training Log'!$BY$9:$BY$1008,1)","v":0}]
[null,{"$f":"LOOKUP(2, 1/((COUNTIF($B$22:B288, '2. Staff Training Log'!$D$9:$D$1008)=0)*('2. Staff Training Log'!$D$9:$D$1008<>\"\")), '2. Staff Training Log'!$D$9:$D$1008)","v":{"$error":"#N/A"}},{"$f":"INDEX($B$23:$B$320,MATCH(ROWS($B$23:B289),COUNTIF($B$23:$B$320,\"<=\"&$B$23:$B$320),0))","v":{"$error":"#N/A"}},{"$f":"COUNTIFS('2. Staff Training Log'!$D$9:$D$1008,C289,'2. Staff Training Log'!$BX$9:$BX$1008,1)","v":0},{"$f":"COUNTIFS('2. Staff Training Log'!$D$9:$D$1008,'3. Training Progress'!C289,'2. Staff Training Log'!$BY$9:$BY$1008,1)","v":0}]
[null,{"$f":"LOOKUP(2, 1/((COUNTIF($B$22:B289, '2. Staff Training Log'!$D$9:$D$1008)=0)*('2. Staff Training Log'!$D$9:$D$1008<>\"\")), '2. Staff Training Log'!$D$9:$D$1008)","v":{"$error":"#N/A"}},{"$f":"INDEX($B$23:$B$320,MATCH(ROWS($B$23:B290),COUNTIF($B$23:$B$320,\"<=\"&$B$23:$B$320),0))","v":{"$error":"#N/A"}},{"$f":"COUNTIFS('2. Staff Training Log'!$D$9:$D$1008,C290,'2. Staff Training Log'!$BX$9:$BX$1008,1)","v":0},{"$f":"COUNTIFS('2. Staff Training Log'!$D$9:$D$1008,'3. Training Progress'!C290,'2. Staff Training Log'!$BY$9:$BY$1008,1)","v":0}]
[null,{"$f":"LOOKUP(2, 1/((COUNTIF($B$22:B290, '2. Staff Training Log'!$D$9:$D$1008)=0)*('2. Staff Training Log'!$D$9:$D$1008<>\"\")), '2. Staff Training Log'!$D$9:$D$1008)","v":{"$error":"#N/A"}},{"$f":"INDEX($B$23:$B$320,MATCH(ROWS($B$23:B291),COUNTIF($B$23:$B$320,\"<=\"&$B$23:$B$320),0))","v":{"$error":"#N/A"}},{"$f":"COUNTIFS('2. Staff Training Log'!$D$9:$D$1008,C291,'2. Staff Training Log'!$BX$9:$BX$1008,1)","v":0},{"$f":"COUNTIFS('2. Staff Training Log'!$D$9:$D$1008,'3. Training Progress'!C291,'2. Staff Training Log'!$BY$9:$BY$1008,1)","v":0}]
[null,{"$f":"LOOKUP(2, 1/((COUNTIF($B$22:B291, '2. Staff Training Log'!$D$9:$D$1008)=0)*('2. Staff Training Log'!$D$9:$D$1008<>\"\")), '2. Staff Training Log'!$D$9:$D$1008)","v":{"$error":"#N/A"}},{"$f":"INDEX($B$23:$B$320,MATCH(ROWS($B$23:B292),COUNTIF($B$23:$B$320,\"<=\"&$B$23:$B$320),0))","v":{"$error":"#N/A"}},{"$f":"COUNTIFS('2. Staff Training Log'!$D$9:$D$1008,C292,'2. Staff Training Log'!$BX$9:$BX$1008,1)","v":0},{"$f":"COUNTIFS('2. Staff Training Log'!$D$9:$D$1008,'3. Training Progress'!C292,'2. Staff Training Log'!$BY$9:$BY$1008,1)","v":0}]
[null,{"$f":"LOOKUP(2, 1/((COUNTIF($B$22:B292, '2. Staff Training Log'!$D$9:$D$1008)=0)*('2. Staff Training Log'!$D$9:$D$1008<>\"\")), '2. Staff Training Log'!$D$9:$D$1008)","v":{"$error":"#N/A"}},{"$f":"INDEX($B$23:$B$320,MATCH(ROWS($B$23:B293),COUNTIF($B$23:$B$320,\"<=\"&$B$23:$B$320),0))","v":{"$error":"#N/A"}},{"$f":"COUNTIFS('2. Staff Training Log'!$D$9:$D$1008,C293,'2. Staff Training Log'!$BX$9:$BX$1008,1)","v":0},{"$f":"COUNTIFS('2. Staff Training Log'!$D$9:$D$1008,'3. Training Progress'!C293,'2. Staff Training Log'!$BY$9:$BY$1008,1)","v":0}]
[null,{"$f":"LOOKUP(2, 1/((COUNTIF($B$22:B293, '2. Staff Training Log'!$D$9:$D$1008)=0)*('2. Staff Training Log'!$D$9:$D$1008<>\"\")), '2. Staff Training Log'!$D$9:$D$1008)","v":{"$error":"#N/A"}},{"$f":"INDEX($B$23:$B$320,MATCH(ROWS($B$23:B294),COUNTIF($B$23:$B$320,\"<=\"&$B$23:$B$320),0))","v":{"$error":"#N/A"}},{"$f":"COUNTIFS('2. Staff Training Log'!$D$9:$D$1008,C294,'2. Staff Training Log'!$BX$9:$BX$1008,1)","v":0},{"$f":"COUNTIFS('2. Staff Training Log'!$D$9:$D$1008,'3. Training Progress'!C294,'2. Staff Training Log'!$BY$9:$BY$1008,1)","v":0}]
[null,{"$f":"LOOKUP(2, 1/((COUNTIF($B$22:B294, '2. Staff Training Log'!$D$9:$D$1008)=0)*('2. Staff Training Log'!$D$9:$D$1008<>\"\")), '2. Staff Training Log'!$D$9:$D$1008)","v":{"$error":"#N/A"}},{"$f":"INDEX($B$23:$B$320,MATCH(ROWS($B$23:B295),COUNTIF($B$23:$B$320,\"<=\"&$B$23:$B$320),0))","v":{"$error":"#N/A"}},{"$f":"COUNTIFS('2. Staff Training Log'!$D$9:$D$1008,C295,'2. Staff Training Log'!$BX$9:$BX$1008,1)","v":0},{"$f":"COUNTIFS('2. Staff Training Log'!$D$9:$D$1008,'3. Training Progress'!C295,'2. Staff Training Log'!$BY$9:$BY$1008,1)","v":0}]
[null,{"$f":"LOOKUP(2, 1/((COUNTIF($B$22:B295, '2. Staff Training Log'!$D$9:$D$1008)=0)*('2. Staff Training Log'!$D$9:$D$1008<>\"\")), '2. Staff Training Log'!$D$9:$D$1008)","v":{"$error":"#N/A"}},{"$f":"INDEX($B$23:$B$320,MATCH(ROWS($B$23:B296),COUNTIF($B$23:$B$320,\"<=\"&$B$23:$B$320),0))","v":{"$error":"#N/A"}},{"$f":"COUNTIFS('2. Staff Training Log'!$D$9:$D$1008,C296,'2. Staff Training Log'!$BX$9:$BX$1008,1)","v":0},{"$f":"COUNTIFS('2. Staff Training Log'!$D$9:$D$1008,'3. Training Progress'!C296,'2. Staff Training Log'!$BY$9:$BY$1008,1)","v":0}]
[null,{"$f":"LOOKUP(2, 1/((COUNTIF($B$22:B296, '2. Staff Training Log'!$D$9:$D$1008)=0)*('2. Staff Training Log'!$D$9:$D$1008<>\"\")), '2. Staff Training Log'!$D$9:$D$1008)","v":{"$error":"#N/A"}},{"$f":"INDEX($B$23:$B$320,MATCH(ROWS($B$23:B297),COUNTIF($B$23:$B$320,\"<=\"&$B$23:$B$320),0))","v":{"$error":"#N/A"}},{"$f":"COUNTIFS('2. Staff Training Log'!$D$9:$D$1008,C297,'2. Staff Training Log'!$BX$9:$BX$1008,1)","v":0},{"$f":"COUNTIFS('2. Staff Training Log'!$D$9:$D$1008,'3. Training Progress'!C297,'2. Staff Training Log'!$BY$9:$BY$1008,1)","v":0}]
[null,{"$f":"LOOKUP(2, 1/((COUNTIF($B$22:B297, '2. Staff Training Log'!$D$9:$D$1008)=0)*('2. Staff Training Log'!$D$9:$D$1008<>\"\")), '2. Staff Training Log'!$D$9:$D$1008)","v":{"$error":"#N/A"}},{"$f":"INDEX($B$23:$B$320,MATCH(ROWS($B$23:B298),COUNTIF($B$23:$B$320,\"<=\"&$B$23:$B$320),0))","v":{"$error":"#N/A"}},{"$f":"COUNTIFS('2. Staff Training Log'!$D$9:$D$1008,C298,'2. Staff Training Log'!$BX$9:$BX$1008,1)","v":0},{"$f":"COUNTIFS('2. Staff Training Log'!$D$9:$D$1008,'3. Training Progress'!C298,'2. Staff Training Log'!$BY$9:$BY$1008,1)","v":0}]
[null,{"$f":"LOOKUP(2, 1/((COUNTIF($B$22:B298, '2. Staff Training Log'!$D$9:$D$1008)=0)*('2. Staff Training Log'!$D$9:$D$1008<>\"\")), '2. Staff Training Log'!$D$9:$D$1008)","v":{"$error":"#N/A"}},{"$f":"INDEX($B$23:$B$320,MATCH(ROWS($B$23:B299),COUNTIF($B$23:$B$320,\"<=\"&$B$23:$B$320),0))","v":{"$error":"#N/A"}},{"$f":"COUNTIFS('2. Staff Training Log'!$D$9:$D$1008,C299,'2. Staff Training Log'!$BX$9:$BX$1008,1)","v":0},{"$f":"COUNTIFS('2. Staff Training Log'!$D$9:$D$1008,'3. Training Progress'!C299,'2. Staff Training Log'!$BY$9:$BY$1008,1)","v":0}]
[null,{"$f":"LOOKUP(2, 1/((COUNTIF($B$22:B299, '2. Staff Training Log'!$D$9:$D$1008)=0)*('2. Staff Training Log'!$D$9:$D$1008<>\"\")), '2. Staff Training Log'!$D$9:$D$1008)","v":{"$error":"#N/A"}},{"$f":"INDEX($B$23:$B$320,MATCH(ROWS($B$23:B300),COUNTIF($B$23:$B$320,\"<=\"&$B$23:$B$320),0))","v":{"$error":"#N/A"}},{"$f":"COUNTIFS('2. Staff Training Log'!$D$9:$D$1008,C300,'2. Staff Training Log'!$BX$9:$BX$1008,1)","v":0},{"$f":"COUNTIFS('2. Staff Training Log'!$D$9:$D$1008,'3. Training Progress'!C300,'2. Staff Training Log'!$BY$9:$BY$1008,1)","v":0}]
[null,{"$f":"LOOKUP(2, 1/((COUNTIF($B$22:B300, '2. Staff Training Log'!$D$9:$D$1008)=0)*('2. Staff Training Log'!$D$9:$D$1008<>\"\")), '2. Staff Training Log'!$D$9:$D$1008)","v":{"$error":"#N/A"}},{"$f":"INDEX($B$23:$B$320,MATCH(ROWS($B$23:B301),COUNTIF($B$23:$B$320,\"<=\"&$B$23:$B$320),0))","v":{"$error":"#N/A"}},{"$f":"COUNTIFS('2. Staff Training Log'!$D$9:$D$1008,C301,'2. Staff Training Log'!$BX$9:$BX$1008,1)","v":0},{"$f":"COUNTIFS('2. Staff Training Log'!$D$9:$D$1008,'3. Training Progress'!C301,'2. Staff Training Log'!$BY$9:$BY$1008,1)","v":0}]
[null,{"$f":"LOOKUP(2, 1/((COUNTIF($B$22:B301, '2. Staff Training Log'!$D$9:$D$1008)=0)*('2. Staff Training Log'!$D$9:$D$1008<>\"\")), '2. Staff Training Log'!$D$9:$D$1008)","v":{"$error":"#N/A"}},{"$f":"INDEX($B$23:$B$320,MATCH(ROWS($B$23:B302),COUNTIF($B$23:$B$320,\"<=\"&$B$23:$B$320),0))","v":{"$error":"#N/A"}},{"$f":"COUNTIFS('2. Staff Training Log'!$D$9:$D$1008,C302,'2. Staff Training Log'!$BX$9:$BX$1008,1)","v":0},{"$f":"COUNTIFS('2. Staff Training Log'!$D$9:$D$1008,'3. Training Progress'!C302,'2. Staff Training Log'!$BY$9:$BY$1008,1)","v":0}]
[null,{"$f":"LOOKUP(2, 1/((COUNTIF($B$22:B302, '2. Staff Training Log'!$D$9:$D$1008)=0)*('2. Staff Training Log'!$D$9:$D$1008<>\"\")), '2. Staff Training Log'!$D$9:$D$1008)","v":{"$error":"#N/A"}},{"$f":"INDEX($B$23:$B$320,MATCH(ROWS($B$23:B303),COUNTIF($B$23:$B$320,\"<=\"&$B$23:$B$320),0))","v":{"$error":"#N/A"}},{"$f":"COUNTIFS('2. Staff Training Log'!$D$9:$D$1008,C303,'2. Staff Training Log'!$BX$9:$BX$1008,1)","v":0},{"$f":"COUNTIFS('2. Staff Training Log'!$D$9:$D$1008,'3. Training Progress'!C303,'2. Staff Training Log'!$BY$9:$BY$1008,1)","v":0}]
[null,{"$f":"LOOKUP(2, 1/((COUNTIF($B$22:B303, '2. Staff Training Log'!$D$9:$D$1008)=0)*('2. Staff Training Log'!$D$9:$D$1008<>\"\")), '2. Staff Training Log'!$D$9:$D$1008)","v":{"$error":"#N/A"}},{"$f":"INDEX($B$23:$B$320,MATCH(ROWS($B$23:B304),COUNTIF($B$23:$B$320,\"<=\"&$B$23:$B$320),0))","v":{"$error":"#N/A"}},{"$f":"COUNTIFS('2. Staff Training Log'!$D$9:$D$1008,C304,'2. Staff Training Log'!$BX$9:$BX$1008,1)","v":0},{"$f":"COUNTIFS('2. Staff Training Log'!$D$9:$D$1008,'3. Training Progress'!C304,'2. Staff Training Log'!$BY$9:$BY$1008,1)","v":0}]
[null,{"$f":"LOOKUP(2, 1/((COUNTIF($B$22:B304, '2. Staff Training Log'!$D$9:$D$1008)=0)*('2. Staff Training Log'!$D$9:$D$1008<>\"\")), '2. Staff Training Log'!$D$9:$D$1008)","v":{"$error":"#N/A"}},{"$f":"INDEX($B$23:$B$320,MATCH(ROWS($B$23:B305),COUNTIF($B$23:$B$320,\"<=\"&$B$23:$B$320),0))","v":{"$error":"#N/A"}},{"$f":"COUNTIFS('2. Staff Training Log'!$D$9:$D$1008,C305,'2. Staff Training Log'!$BX$9:$BX$1008,1)","v":0},{"$f":"COUNTIFS('2. Staff Training Log'!$D$9:$D$1008,'3. Training Progress'!C305,'2. Staff Training Log'!$BY$9:$BY$1008,1)","v":0}]
[null,{"$f":"LOOKUP(2, 1/((COUNTIF($B$22:B305, '2. Staff Training Log'!$D$9:$D$1008)=0)*('2. Staff Training Log'!$D$9:$D$1008<>\"\")), '2. Staff Training Log'!$D$9:$D$1008)","v":{"$error":"#N/A"}},{"$f":"INDEX($B$23:$B$320,MATCH(ROWS($B$23:B306),COUNTIF($B$23:$B$320,\"<=\"&$B$23:$B$320),0))","v":{"$error":"#N/A"}},{"$f":"COUNTIFS('2. Staff Training Log'!$D$9:$D$1008,C306,'2. Staff Training Log'!$BX$9:$BX$1008,1)","v":0},{"$f":"COUNTIFS('2. Staff Training Log'!$D$9:$D$1008,'3. Training Progress'!C306,'2. Staff Training Log'!$BY$9:$BY$1008,1)","v":0}]
[null,{"$f":"LOOKUP(2, 1/((COUNTIF($B$22:B306, '2. Staff Training Log'!$D$9:$D$1008)=0)*('2. Staff Training Log'!$D$9:$D$1008<>\"\")), '2. Staff Training Log'!$D$9:$D$1008)","v":{"$error":"#N/A"}},{"$f":"INDEX($B$23:$B$320,MATCH(ROWS($B$23:B307),COUNTIF($B$23:$B$320,\"<=\"&$B$23:$B$320),0))","v":{"$error":"#N/A"}},{"$f":"COUNTIFS('2. Staff Training Log'!$D$9:$D$1008,C307,'2. Staff Training Log'!$BX$9:$BX$1008,1)","v":0},{"$f":"COUNTIFS('2. Staff Training Log'!$D$9:$D$1008,'3. Training Progress'!C307,'2. Staff Training Log'!$BY$9:$BY$1008,1)","v":0}]
[null,{"$f":"LOOKUP(2, 1/((COUNTIF($B$22:B307, '2. Staff Training Log'!$D$9:$D$1008)=0)*('2. Staff Training Log'!$D$9:$D$1008<>\"\")), '2. Staff Training Log'!$D$9:$D$1008)","v":{"$error":"#N/A"}},{"$f":"INDEX($B$23:$B$320,MATCH(ROWS($B$23:B308),COUNTIF($B$23:$B$320,\"<=\"&$B$23:$B$320),0))","v":{"$error":"#N/A"}},{"$f":"COUNTIFS('2. Staff Training Log'!$D$9:$D$1008,C308,'2. Staff Training Log'!$BX$9:$BX$1008,1)","v":0},{"$f":"COUNTIFS('2. Staff Training Log'!$D$9:$D$1008,'3. Training Progress'!C308,'2. Staff Training Log'!$BY$9:$BY$1008,1)","v":0}]
[null,{"$f":"LOOKUP(2, 1/((COUNTIF($B$22:B308, '2. Staff Training Log'!$D$9:$D$1008)=0)*('2. Staff Training Log'!$D$9:$D$1008<>\"\")), '2. Staff Training Log'!$D$9:$D$1008)","v":{"$error":"#N/A"}},{"$f":"INDEX($B$23:$B$320,MATCH(ROWS($B$23:B309),COUNTIF($B$23:$B$320,\"<=\"&$B$23:$B$320),0))","v":{"$error":"#N/A"}},{"$f":"COUNTIFS('2. Staff Training Log'!$D$9:$D$1008,C309,'2. Staff Training Log'!$BX$9:$BX$1008,1)","v":0},{"$f":"COUNTIFS('2. Staff Training Log'!$D$9:$D$1008,'3. Training Progress'!C309,'2. Staff Training Log'!$BY$9:$BY$1008,1)","v":0}]
[null,{"$f":"LOOKUP(2, 1/((COUNTIF($B$22:B309, '2. Staff Training Log'!$D$9:$D$1008)=0)*('2. Staff Training Log'!$D$9:$D$1008<>\"\")), '2. Staff Training Log'!$D$9:$D$1008)","v":{"$error":"#N/A"}},{"$f":"INDEX($B$23:$B$320,MATCH(ROWS($B$23:B310),COUNTIF($B$23:$B$320,\"<=\"&$B$23:$B$320),0))","v":{"$error":"#N/A"}},{"$f":"COUNTIFS('2. Staff Training Log'!$D$9:$D$1008,C310,'2. Staff Training Log'!$BX$9:$BX$1008,1)","v":0},{"$f":"COUNTIFS('2. Staff Training Log'!$D$9:$D$1008,'3. Training Progress'!C310,'2. Staff Training Log'!$BY$9:$BY$1008,1)","v":0}]
[null,{"$f":"LOOKUP(2, 1/((COUNTIF($B$22:B310, '2. Staff Training Log'!$D$9:$D$1008)=0)*('2. Staff Training Log'!$D$9:$D$1008<>\"\")), '2. Staff Training Log'!$D$9:$D$1008)","v":{"$error":"#N/A"}},{"$f":"INDEX($B$23:$B$320,MATCH(ROWS($B$23:B311),COUNTIF($B$23:$B$320,\"<=\"&$B$23:$B$320),0))","v":{"$error":"#N/A"}},{"$f":"COUNTIFS('2. Staff Training Log'!$D$9:$D$1008,C311,'2. Staff Training Log'!$BX$9:$BX$1008,1)","v":0},{"$f":"COUNTIFS('2. Staff Training Log'!$D$9:$D$1008,'3. Training Progress'!C311,'2. Staff Training Log'!$BY$9:$BY$1008,1)","v":0}]
[null,{"$f":"LOOKUP(2, 1/((COUNTIF($B$22:B311, '2. Staff Training Log'!$D$9:$D$1008)=0)*('2. Staff Training Log'!$D$9:$D$1008<>\"\")), '2. Staff Training Log'!$D$9:$D$1008)","v":{"$error":"#N/A"}},{"$f":"INDEX($B$23:$B$320,MATCH(ROWS($B$23:B312),COUNTIF($B$23:$B$320,\"<=\"&$B$23:$B$320),0))","v":{"$error":"#N/A"}},{"$f":"COUNTIFS('2. Staff Training Log'!$D$9:$D$1008,C312,'2. Staff Training Log'!$BX$9:$BX$1008,1)","v":0},{"$f":"COUNTIFS('2. Staff Training Log'!$D$9:$D$1008,'3. Training Progress'!C312,'2. Staff Training Log'!$BY$9:$BY$1008,1)","v":0}]
[null,{"$f":"LOOKUP(2, 1/((COUNTIF($B$22:B312, '2. Staff Training Log'!$D$9:$D$1008)=0)*('2. Staff Training Log'!$D$9:$D$1008<>\"\")), '2. Staff Training Log'!$D$9:$D$1008)","v":{"$error":"#N/A"}},{"$f":"INDEX($B$23:$B$320,MATCH(ROWS($B$23:B313),COUNTIF($B$23:$B$320,\"<=\"&$B$23:$B$320),0))","v":{"$error":"#N/A"}},{"$f":"COUNTIFS('2. Staff Training Log'!$D$9:$D$1008,C313,'2. Staff Training Log'!$BX$9:$BX$1008,1)","v":0},{"$f":"COUNTIFS('2. Staff Training Log'!$D$9:$D$1008,'3. Training Progress'!C313,'2. Staff Training Log'!$BY$9:$BY$1008,1)","v":0}]
[null,{"$f":"LOOKUP(2, 1/((COUNTIF($B$22:B313, '2. Staff Training Log'!$D$9:$D$1008)=0)*('2. Staff Training Log'!$D$9:$D$1008<>\"\")), '2. Staff Training Log'!$D$9:$D$1008)","v":{"$error":"#N/A"}},{"$f":"INDEX($B$23:$B$320,MATCH(ROWS($B$23:B314),COUNTIF($B$23:$B$320,\"<=\"&$B$23:$B$320),0))","v":{"$error":"#N/A"}},{"$f":"COUNTIFS('2. Staff Training Log'!$D$9:$D$1008,C314,'2. Staff Training Log'!$BX$9:$BX$1008,1)","v":0},{"$f":"COUNTIFS('2. Staff Training Log'!$D$9:$D$1008,'3. Training Progress'!C314,'2. Staff Training Log'!$BY$9:$BY$1008,1)","v":0}]
[null,{"$f":"LOOKUP(2, 1/((COUNTIF($B$22:B314, '2. Staff Training Log'!$D$9:$D$1008)=0)*('2. Staff Training Log'!$D$9:$D$1008<>\"\")), '2. Staff Training Log'!$D$9:$D$1008)","v":{"$error":"#N/A"}},{"$f":"INDEX($B$23:$B$320,MATCH(ROWS($B$23:B315),COUNTIF($B$23:$B$320,\"<=\"&$B$23:$B$320),0))","v":{"$error":"#N/A"}},{"$f":"COUNTIFS('2. Staff Training Log'!$D$9:$D$1008,C315,'2. Staff Training Log'!$BX$9:$BX$1008,1)","v":0},{"$f":"COUNTIFS('2. Staff Training Log'!$D$9:$D$1008,'3. Training Progress'!C315,'2. Staff Training Log'!$BY$9:$BY$1008,1)","v":0}]
[null,{"$f":"LOOKUP(2, 1/((COUNTIF($B$22:B315, '2. Staff Training Log'!$D$9:$D$1008)=0)*('2. Staff Training Log'!$D$9:$D$1008<>\"\")), '2. Staff Training Log'!$D$9:$D$1008)","v":{"$error":"#N/A"}},{"$f":"INDEX($B$23:$B$320,MATCH(ROWS($B$23:B316),COUNTIF($B$23:$B$320,\"<=\"&$B$23:$B$320),0))","v":{"$error":"#N/A"}},{"$f":"COUNTIFS('2. Staff Training Log'!$D$9:$D$1008,C316,'2. Staff Training Log'!$BX$9:$BX$1008,1)","v":0},{"$f":"COUNTIFS('2. Staff Training Log'!$D$9:$D$1008,'3. Training Progress'!C316,'2. Staff Training Log'!$BY$9:$BY$1008,1)","v":0}]
[null,{"$f":"LOOKUP(2, 1/((COUNTIF($B$22:B316, '2. Staff Training Log'!$D$9:$D$1008)=0)*('2. Staff Training Log'!$D$9:$D$1008<>\"\")), '2. Staff Training Log'!$D$9:$D$1008)","v":{"$error":"#N/A"}},{"$f":"INDEX($B$23:$B$320,MATCH(ROWS($B$23:B317),COUNTIF($B$23:$B$320,\"<=\"&$B$23:$B$320),0))","v":{"$error":"#N/A"}},{"$f":"COUNTIFS('2. Staff Training Log'!$D$9:$D$1008,C317,'2. Staff Training Log'!$BX$9:$BX$1008,1)","v":0},{"$f":"COUNTIFS('2. Staff Training Log'!$D$9:$D$1008,'3. Training Progress'!C317,'2. Staff Training Log'!$BY$9:$BY$1008,1)","v":0}]
[null,{"$f":"LOOKUP(2, 1/((COUNTIF($B$22:B317, '2. Staff Training Log'!$D$9:$D$1008)=0)*('2. Staff Training Log'!$D$9:$D$1008<>\"\")), '2. Staff Training Log'!$D$9:$D$1008)","v":{"$error":"#N/A"}},{"$f":"INDEX($B$23:$B$320,MATCH(ROWS($B$23:B318),COUNTIF($B$23:$B$320,\"<=\"&$B$23:$B$320),0))","v":{"$error":"#N/A"}},{"$f":"COUNTIFS('2. Staff Training Log'!$D$9:$D$1008,C318,'2. Staff Training Log'!$BX$9:$BX$1008,1)","v":0},{"$f":"COUNTIFS('2. Staff Training Log'!$D$9:$D$1008,'3. Training Progress'!C318,'2. Staff Training Log'!$BY$9:$BY$1008,1)","v":0}]
[null,{"$f":"LOOKUP(2, 1/((COUNTIF($B$22:B318, '2. Staff Training Log'!$D$9:$D$1008)=0)*('2. Staff Training Log'!$D$9:$D$1008<>\"\")), '2. Staff Training Log'!$D$9:$D$1008)","v":{"$error":"#N/A"}},{"$f":"INDEX($B$23:$B$320,MATCH(ROWS($B$23:B319),COUNTIF($B$23:$B$320,\"<=\"&$B$23:$B$320),0))","v":{"$error":"#N/A"}},{"$f":"COUNTIFS('2. Staff Training Log'!$D$9:$D$1008,C319,'2. Staff Training Log'!$BX$9:$BX$1008,1)","v":0},{"$f":"COUNTIFS('2. Staff Training Log'!$D$9:$D$1008,'3. Training Progress'!C319,'2. Staff Training Log'!$BY$9:$BY$1008,1)","v":0}]
[null,{"$f":"LOOKUP(2, 1/((COUNTIF($B$22:B319, '2. Staff Training Log'!$D$9:$D$1008)=0)*('2. Staff Training Log'!$D$9:$D$1008<>\"\")), '2. Staff Training Log'!$D$9:$D$1008)","v":{"$error":"#N/A"}},{"$f":"INDEX($B$23:$B$320,MATCH(ROWS($B$23:B320),COUNTIF($B$23:$B$320,\"<=\"&$B$23:$B$320),0))","v":{"$error":"#N/A"}},{"$f":"COUNTIFS('2. Staff Training Log'!$D$9:$D$1008,C320,'2. Staff Training Log'!$BX$9:$BX$1008,1)","v":0},{"$f":"COUNTIFS('2. Staff Training Log'!$D$9:$D$1008,'3. Training Progress'!C320,'2. Staff Training Log'!$BY$9:$BY$1008,1)","v":0}]

{"sheet":"4. FAQs","index":3,"n_rows":67,"n_cols":5,"rows_kept":67,"cut":false,"hidden":false,"merged":[[1,1,1,16],[66,4,66,15]]}
[]
[null,"Frequently Asked Questions"]
[]
[null,"WHAT SHOULD I DO WHEN …"]
[]
[null,"1.","The number of staff on my staff list (tab \"2. Staff Training Log\") does not match the numbers or percentages on my charts and tables (tab \"3. Training Progress\")?"]
[]
[]
[null,null,null,"Solution:","Go to tab \"2. Staff Training Log.\""]
[null,null,null,null,"Make sure dates for each staff member have been entered into columns E - J."]
[null,null,null,null,"Ensure all the dates are in the correct format (mm/dd/yyyy)."]
[null,null,null,null,"Inspect each date to make sure the dates are correct and there are no missing or extra numbers inserted into them (i.e., 20119, 2109). "]
[null,null,null,null,"If you do not have a date then leave the cell blank (do not add \"na\")."]
[]
[]
[]
[null,"2.","Staff member has not been removed even though I've added a removal date and a reason for removal in columns M - N on tab \"2. Staff Training Log\"?"]
[]
[]
[null,null,null,"Solution:","Go to tab \"2. Staff Training Log\"."]
[null,null,null,null,"Check that all the dates are in the correct format (mm/dd/yyyy)."]
[null,null,null,null,"Inspect each date to make sure the dates are correct and there are no missing or extra numbers inserted into them (i.e., 20119, 2109). "]
[null,null,null,null,"If you do not have a date then leave the cell blank (do not add \"na\")."]
[]
[]
[]
[]
[null,"3.","I have staff that I know will be leaving next week but I can't add the date for next week?"]
[]
[]
[null,null,null,"Solution:","Future dates cannot be entered for staff removal. Add the appropriate dates once the staff member has left."]
[]
[]
[]
[null,"4.","I know the upcoming completion dates for competencies but when I add them to the list they won't show on the charts?"]
[]
[]
[null,null,null,"Solution:","Future dates will not register on the charts or tables. Add the appropriate dates once the staff member has been trained."]
[]
[]
[]
[null,"5.","My individual competency graphs are populating, but my overall % trained is not. "]
[]
[]
[null,null,null,"Solution:","Go to tab \"2. Staff Training Log\"."]
[null,null,null,null,"Check that completion dates have been entered into column J, \"Date Completed All 5-Hours of Skills Competency Training\"."]
[null,null,null,null,"Ensure all the dates are in the correct format (mm/dd/yyyy)."]
[null,null,null,null,"Inspect each date to make sure the dates are correct and there are no missing or extra numbers inserted into them (i.e., 20119, 2109). "]
[null,null,null,null,"If you do not have a date then leave the cell blank (do not add \"na\")."]
[]
[]
[]
[null,"6.","I can't get my staff names in order when adding a new staff member. "]
[]
[]
[null,null,null,"Solution:","Go to tab \"2. Staff Training Log\"."]
[null,null,null,null,"To sort by last name, go to column B, \"Last Name\". Click on the gray drop-down arrow."]
[null,null,null,null,"In the box that pops up, select 'sort A to Z' and then 'ok'."]
[null,null,null,null,"The staff should now be sorted alphabetically from A to Z."]
[null,null,null,null,"You can sort by any column by following the above steps."]
[]
[]
[]
[null,"7.","The spreadsheet is asking me for a password."]
[]
[]
[null,null,null,"Solution:","The spreadsheets are password protected due to hidden formulas that make the calculations work and prevent errors or modifications from being made that may affect the functionality of the tool. You will only ever need to enter data into columns B-N on tab \"2. Staff Training Log.\"  If you would like to modify the tool, you may unprotect the sheet using the password, empower (all lower case). Please note, however, that ongoing support for any modifications made to the tool is not available."]